{"text_format":"1","workbook":"xlsx","n_sheets":11,"sheets":["Klassifizierung","Hinweise","Globale Attribute","bauteilspez. Attribute","OKS-AKS","RBK-Nutzungscodes","Hintergrund","Tabelle1","Tabelle3","Katalog - Allgemeine Attribute","Katalog - spez. Attribute"],"not_rendered":{"charts":0,"images":5,"macros":1,"external_links":2,"defined_names":36,"comments":1,"pivot_tables":0},"unopened":[],"bounds":{"document_bytes":16777216,"sheet_cells":100000,"rows_first":2000,"rows_last":500,"rows_between":2000,"halvings":0,"cell_chars":16384,"cell_head_chars":4096},"cells_cut":0,"cells_raw":0,"read":"whole","date_system":"1900"}

{"sheet":"Klassifizierung","index":0,"n_rows":577,"n_cols":23,"rows_kept":577,"cut":false,"hidden":true,"merged":[[1,13,1,20],[1,21,1,22],[199,9,209,9],[0,0,0,12],[1,0,1,1],[1,2,1,3],[1,4,1,5],[1,6,1,8],[1,10,1,12]]}
["Normen und Klassifizierung"]
["DIN276 2008 ",null,"DIN 276 2018",null,"CAFM Connect",null,"Eigenschaften",null,null,"Anmerkungen","IfcElement classification ",null,null,"LOD LPH HOAI",null,null,null,null,null,null,null,"Autorenschaft"]
["Nummer","Bezeichnung","Nummer","Bezeichnung","Bauteiltyp-Code","Bauteiltyp","betrieb.\nRelevanz","AKS","keine Modelierung","Kommentare","2x3 (English)","4 (English)","4 (Deutsch)",2,3,4,5,6,7,8,9,"Autor","Modell"]
[" ",null,null,null,"custom - 001","Raum",null,null,null,null,"IfcSpace","IfcSpace","Raum",200,200,200,200,200,200,200,200,"ARC"]
[null,null,null,null,"custom - 002","Geschoss",null,null,null,null,"IfcBuildingStorey","IfcBuildingStorey","Geschoss",200,200,200,200,200,200,200,200,"ARC"]
[null,null,null,null,"custom - 003","Gebäude",null,null,null,null,"IfcBuidling","IfcBuidling","Gebäude",200,200,200,200,200,200,200,200,"ARC"]
[300,"Bauwerk – Baukonstruktion",300,null,300,"Bauwerk – Baukonstruktionen"]
[310,"Baugrube",310,"Baugrube/Erdbau"]
[311,"Baugrubenherstellung",311,"Herstellung"]
[312,"Baugrubenerschließung",312,"Umschließung"]
[313,"Wasserhaltung",313,"Wasserhaltung"]
[319,"Baugrube, Sonstiges",319,"Sonstiges zur KG 310"]
[320,"Gründung",320,"Gründung, Unterbau"]
[321,"Baugrundverbesserung",321,"Baugrundverbesserung",null,null,null,null,null,null,null,null,null,"-",200,200]
[322,"Flachgründungen",322,"Flachgründungen und Bodenplatten",null,null,null,null,null,null,"IfcFooting","IfcFooting","Flachgründung","-",200,200,null,null,null,null,null,"ARC"]
[323,"Tiefgründungen",323,"Tiefgründungen",null,null,null,null,null,null,"IfcPile","IfcPile","Tiefgründung","-",200,200,null,null,null,null,null,"TWP"]
[324,"Unterböden und Bodenplatten",324,"Gründungsbeläge ",null,null,null,null,null,null,"IfcSlab","IfcSlab","Bodenplatte",200,200,200,null,null,null,null,null,"TWP"]
[325,"Bodenbeläge",325,"Abdichtungen und Bekleidungen",null,null,null,null,null,null,"IfcCoveringType/FLOORING","IfcCoveringType/FLOORING","Bodenbelag","-",200,200,null,null,null,null,null,"TWP"]
[325,"Bodenbeläge",325,"Abdichtungen und Bekleidungen",null,null,null,null,null,null,null,null,"Bodenbelag",null,null,null,null,null,null,null,null,"ARC"]
[325,"Bodenbeläge",325,"Abdichtungen und Bekleidungen",null,null,null,null,null,null,null,null,"Bodenbelag",null,null,null,null,null,null,null,null,"ARC"]
[325,"Bodenbeläge",325,"Abdichtungen und Bekleidungen",null,null,null,null,null,null,null,null,"Bodenbelag",null,null,null,null,null,null,null,null,"ARC"]
[325,"Bodenbeläge",325,"Abdichtungen und Bekleidungen"]
[325,"Bodenbeläge",325,"Abdichtungen und Bekleidungen"]
[326,"Bauwerksabdichtungen",326,"Dränagen",null,null,null,null,null,null,"IfcDistributionFlowElement","IfcPipeSegment","Rohr","-","-","-",200,null,null,null,null,"ARC"]
[327,"Drainagen"]
[329,"Gründungen, Sonstiges",329,"Sonstiges zur KG 320"]
[330,"Außenwände",330,"Außenwände/Vertikale - Baukonstruktionen, außen","330","Außenwände, -türen, -tore und -fenster"]
[331,"Tragende Außenwände",331,"Tragende Außenwände",331,"Tragende Außenwände",null,null,null,null,"IfcWall","IfcWall","Wand",200,200,200,300,null,null,null,null,"TWP"]
[331,"Tragende Außenwände",331,"Tragende Außenwände","331.10","Brandwände (tragend, außen)",null,null,null,null,"IfcWall","IfcWall","Wand",200,200,200,300,null,null,null,null,"TWP"]
[332,"Nichttragende Außenwände",332,"Nichttragende Außenwände","332","Nichttragende Außenwände",null,null,null,null,"IfcWall","IfcWall","Wand",200,200,200,300,null,null,null,null,"ARC"]
[333,"Außenstützen",333,"Außenstützen","333","Außenstützen",null,null,null,null,"IfcColumn","IfcColumn","Stütze / Pfeiler",200,200,200,300,null,null,null,null,"TWP"]
[334,"Außentüren und ‐fenster",334,"Außenwandöffnungen","334","Außentüren, -tore und -fenster",null,null,null,null,null,null,null,null,null,null,null,null,null,null,null,"ARC"]
[334,"Außentüren und ‐fenster",334,"Außenwandöffnungen","334.10","Außentür","x","x",null,"mit Antrieb, oder Bradschutzanf.","IfcDoor","IfcDoor","Tür",200,200,200,300,null,null,null,null,"ARC"]
[334,"Außentüren und ‐fenster",334,"Außenwandöffnungen","334.20","Tor außen","x","x",null,"mit Antrieb, oder Bradschutzanf.","IfcDoor","IfcDoor","Tür",200,200,200,300,null,null,null,null,"ARC"]
[334,"Außentüren und ‐fenster",334,"Außenwandöffnungen","334.30","Fenster außen","x","x",null,"mit Antrieb, oder Bradschutzanf.","IfcWindow","IfcWindow","Fenster",200,200,200,300,null,null,null,null,"ARC"]
[335,"Außenwandbekleidungen außen",335,"Außenwandbekleidungen außen","335","Außenwandbekleidungen (außen)",null,null,null,null,"IfcWall","IfcWall","Wand","-",200,200,300,null,null,null,null,"ARC"]
[336,"Außenwandbekleidungen innen",336,"Außenwandbekleidungen innen","336","Außenwandbekleidungen (innen)",null,null,null,null,"IfcWall","IfcWall","Wand","-",200,200,300,null,null,null,null,"ARC"]
[337,"Elementierte Außenwände ",337,"Elementierte Außenwandkonstruktionen","337","Elementierte Außenwände",null,null,null,null,"IfcWall","IfcWallElementedCase","Wand elementiert","-",200,200,300,null,null,null,null,"ARC"]
[338,"Sonnenschutz ",338,"Lichtschutz zur KG 330","338","Sonnenschutz","x","x",null,"mit Antrieb","IfcBuildingElementProxy","IfcShadingDevice","Sonnenschutz festeingebaut","-",200,200,300,null,null,null,null,"ARC"]
[339,"Außenwände, Sonstiges ",339,"Sonstiges zur KG 330","339","Außenwände, sonstiges",null,null,null,"projektspezifisch abzustimmen","IfcBuildingElementProxy","IfcBuildingElementProxy","Bauteil - beliebig",null,null,null,null,null,null,null,null,"ARC"]
[339,"Außenwände, Sonstiges ",339,"Sonstiges zur KG 330","339.10","Umwehrungen nach außen",null,null,null,null,"IfcRailing","IfcRailing","Geländer","-",200,200,300,null,null,null,null,"ARC"]
[339,"Außenwände, Sonstiges ",339,"Sonstiges zur KG 330","339.20","Kellerlichtschächte mit Gitterrosten",null,null,null,"projektspezifisch abzustimmen","IfcBuildingElementProxy","IfcBuildingElementProxy","Bauteil - beliebig",null,null,null,null,null,null,null,null,"ARC"]
[339,"Außenwände, Sonstiges ",339,"Sonstiges zur KG 330","339.90","Sonstige Elemente an Außenwänden","x","x",null,"projektspezifisch abzustimmen","IfcBuildingElementProxy","IfcBuildingElementProxy","Bauteil - beliebig",null,null,null,null,null,null,null,null,"ARC"]
[339,"Außenwände, Sonstiges ",339,"Sonstiges zur KG 330","339.91","Rankgerüste (außen)",null,null,null,"projektspezifisch abzustimmen","IfcBuildingElementProxy","IfcBuildingElementProxy","Bauteil - beliebig",null,null,null,null,null,null,null,null,"ARC"]
[340,"Innenwände ",340,"Innenwände/Vertikale - Baukonstruktionen, innen","340","Innenwände, -türen, -tore und -fenster"]
[341,"Tragende Innenwände ",341,"Tragende Innenwände ","341","Tragende Innenwände",null,null,null,null,"IfcWall","IfcWall","Wand",200,200,200,300,null,null,null,null,"TWP"]
[342,"Nichttragende Innenwände ",342,"Nichttragende Innenwände ","342","Nichttragende Innenwände",null,null,null,null,"IfcWall","IfcWall","Wand",200,200,200,300,null,null,null,null,"ARC"]
[343,"Innenstützen ",343,"Innenstützen ","343","Innenstützen",null,null,null,null,"IfcColumn","IfcColumn","Stütze / Pfeiler",200,200,200,300,null,null,null,null,"TWP"]
[344,"Innentüren und ‐fenster ",344,"Innenwandöffnungen","344","Innentüren, -tore und -fenster",null,null,null,null,null,null,null,null,null,null,null,null,null,null,null,"ARC"]
[null,null,null,"Innenwandöffnungen","344.10","Innentür","x","x",null,"mit Antrieb, oder Bradschutzanf.","IfcDoor","IfcDoor","Tür",200,200,200,300,null,null,null,null,"ARC"]
[null,null,null,"Innenwandöffnungen","344.20","Tor innen","x","x",null,"mit Antrieb, oder Bradschutzanf.","IfcDoor","IfcDoor","Türtyp - Tor",200,200,200,300,null,null,null,null,"ARC"]
[null,null,null,"Innenwandöffnungen","344.30","Fenster innen","x","x",null,"mit Antrieb, oder Bradschutzanf.","IfcWindow","IfcWindow","Fenster",200,200,200,300,null,null,null,null,"ARC"]
[345,"Innenwandbekleidungen ",345,"Innenwandbekleidungen ","345","Innenwandbekleidungen",null,null,null,null,"IfcWall","IfcWall","Wand","-",200,200,300,null,null,null,null,"ARC"]
[346,"Elementierte Innenwände ",346,"Elementierte Innenwandkonstruktionen","346","Elementierte Innenwände",null,null,null,null,"IfcWall","IfcWallElementedCase","Wand elementiert","-",200,200,300,null,null,null,null,"ARC"]
[null,null,347,"Lichtschutz zur KG 340","338","Sonnenschutz","x","x",null,"mit Antrieb","IfcBuildingElementProxy","IfcShadingDevice","Sonnenschutz festeingebaut","-",200,200,300,null,null,null,null,"ARC"]
[349,"Innenwände, Sonstiges ",349,"Sonstiges zur KG 340","349","Innenwände, sonstiges","x",null,null,null,null,null,null,200,200,200,300,null,null,null,null,"ARC"]
[null,null,null,"Sonstiges zur KG 340","349.10","Umwehrungen innen",null,null,null,null,"IfcRailing","IfcRailing","Geländer","-",200,200,300,null,null,null,null,"ARC"]
[null,null,null,"Sonstiges zur KG 340","349.11","Geländer an Wänden",null,null,null,null,"IfcRailing","IfcRailing","Geländer","-",200,200,300,null,null,null,null,"ARC"]
[350,"Decken ",350,"Decken/Horizontale Baukonstruktionen","350","Decken"]
[351,"Deckenkonstruktion ",351,"Deckenkonstruktionen","351","Deckenkonstruktionen",null,null,null,null,"IfcSlab","IfcSlab","Geschossdecke",200,200,200,300,null,null,null,null,"TWP"]
[351,"Deckenkonstruktionen",351,"Deckenkonstruktionen",null,null,null,null,null,null,"IfcSlab","IfcSlab","Geschossdecke",null,null,null,null,null,null,null,null,"TWP"]
[351,"Deckenkonstruktionen",351,"Deckenkonstruktionen",null,null,null,null,null,null,"IfcSlab","IfcSlab","Geschossdecke",null,null,null,null,null,null,null,null,"TWP"]
[351,"Deckenkonstruktionen",351,"Deckenkonstruktionen",null,null,null,null,null,null,"IfcSlab","IfcSlab","Geschossdecke",null,null,null,null,null,null,null,null,"TWP"]
[351,"Deckenkonstruktionen",351,"Deckenkonstruktionen",null,null,null,null,null,null,"IfcSlab","IfcSlab","Geschossdecke",null,null,null,null,null,null,null,null,"TWP"]
[351,"Deckenkonstruktionen",351,"Deckenkonstruktionen",null,null,null,null,null,null,"IfcSlab","IfcSlab","Geschossdecke",null,null,null,null,null,null,null,null,"TWP"]
[351,"Deckenkonstruktionen",351,"Deckenkonstruktionen"]
[351,"Deckenkonstruktionen",351,"Deckenkonstruktionen","351.10","Treppen",null,null,null,null,"IfcStair","IfcStair","Treppe",200,200,200,300,null,null,null,null,"TWP"]
[351,"Deckenkonstruktionen",351,"Deckenkonstruktionen",null,null,null,null,null,null,"IfcStair","IfcStair","Treppe",null,null,null,null,null,null,null,null,"TWP"]
[351,"Deckenkonstruktionen",351,"Deckenkonstruktionen",null,null,null,null,null,null,"IfcStair","IfcStair","Treppe",null,null,null,null,null,null,null,null,"TWP"]
[352,"Deckenbeläge ",352,"Deckenöffnungen"]
[353,"Deckenbekleidungen ",353,"Deckenbeläge","352","Deckenbeläge / Bodenbeläge",null,null,null,null,"IfcCoveringType/FLOORING","IfcCoveringType/FLOORING","Bekleidung Typ - Bodenbeläge","-",200,200,300,null,null,null,null,"ARC"]
[null,null,354,"Deckenbekleidungen","353","Deckenbekleidungen",null,null,null,null,"IfcCoveringType/CEILING","IfcCoveringType/CEILING","Bekleidung Typ - Deckenbekkleidung","-",200,200,300,null,null,null,null,"ARC"]
[359,"Decken, Sonstiges ",359,"Sonstiges zur KG 350",null,null,null,null,null,null,null,null,null,null,null,null,null,null,null,null,null,"ARC"]
[360," Dächer ",360,"Dächer","360","Dächer"]
[361,"Dachkonstruktionen ",361,"Dachkonstruktionen ","361","Dachkonstruktionen","x",null,null,null,"IfcSlab","IfcSlab","Geschossdecke",200,200,200,300,null,null,null,null,"ARC"]
[362,"Dachfenster, Dachöffnungen ",362,"Dachöffnungen","362","Dachfenster, Dachöffnungen","x","x",null,"mit Antrieb, oder Bradschutzanf.","IfcWindow","IfcWindow","Fenster",200,200,200,300,null,null,null,null,"ARC"]
[363,"Dachbeläge ",363,"Dachbeläge ","363","Dachbeläge","x",null,null,null,"IfcCoveringType/ROOFING","IfcCoveringType/ROOFING","Bekleidung Typ - Dachbeläge","-",200,200,300,null,null,null,null,"ARC"]
[364,"Dachbekleidungen ",364,"Dachbekleidungen ","364","Dachbekleidungen",null,null,null,null,"IfcCoveringType/CEILING","IfcCoveringType/CEILING","Bekleidung Typ - Deckenbekkleidung","-",200,200,300,null,null,null,null,"ARC"]
[369,"Dächer, Sonstiges ",369,"Sonstiges zur KG 360","369","Dächer, sonstiges",null,null,null,null,null,null,null,null,null,null,null,null,null,null,null,"ARC"]
[369,"Dächer, Sonstiges ",369,"Sonstiges zur KG 360","369.10","Geländer an Dächern","x",null,null,null,"IfcRailing","IfcRailing","Geländer","-",200,200,300,null,null,null,null,"ARC"]
[369,"Dächer, Sonstiges ",369,"Sonstiges zur KG 360","369.20","Anschlagpunkte zur Absturzsicherung (Sekuranten)","x","x",null,null,"IfcBuildingElementProxy","IfcBuildingElementProxy","Bauteil - beliebig",null,null,null,null,null,null,null,null,"ARC"]
[370,"Baukonstruktive Einbauten ",370,"Infrastrukturanlagen"]
[371,"Allgemeine Einbauten ",371,"Anlagen für den Straßenverkehr"]
[372,"Besondere Einbauten ",372,"Anlagen für den Schienenverkehr"]
[379,"Baukonstruktive Einbauten, Sonstiges ",379,"Sonstiges zur KG 370"]
[380,"Grundkonstruktionen ",380,"Baukonstruktive Einbauten"]
[null,null,381,"Allgemeine Einbauten",null,null,null,null,null,null,"IfcFurnishingElement ","IfcFurnishingElement","Ausstattung / Möbel",null,null,null,null,null,null,null,null,"ARC"]
[null,null,382,"Besondere Einbauten",null,null,null,null,null,null,"IfcFurnishingElement ","IfcFurnishingElement","Ausstattung / Möbel",null,null,null,null,null,null,null,null,"ARC"]
[390,"Sonstige Maßnahmen für Baukonstruktionen ",390,"Sonstige Maßnahmen für Baukonstruktionen ","390","Sonstige baukonstruktive Elemente"]
[null,null,391,"Baustelleneinrichtung","391","Bauliche Brandschutzelemente",null,null,null,"projektspezifisch abzustimmen","IfcBuildingElementProxy","IfcBuildingElementProxy","Bauteil - beliebig","-",200,200,300,null,null,null,null,"ARC"]
[null,null,null,"Baustelleneinrichtung","391.10","Brandabschottungen","x","x",null,"projektspezifisch abzustimmen","IfcBuildingElementProxy","IfcBuildingElementProxy","Bauteil - beliebig","-","-","-",300,null,null,null,null,"ARC"]
[400,"400 ‐ Bauwerk – Technische Anlagen",400,"Bauwerk – Technische Anlagen",400,"Bauwerk – Technische Anlagen"]
[410,"Abwasser‐, Wasser‐, Gasanlagen ",410,"Abwasser‐, Wasser‐, Gasanlagen ","410","Abwasser-, Wasser-, Gasanlagen",null,null,null,null,null,null,null,null,null,null,null,null,null,null,null,"TGA-SA"]
[411,"Abwasseranlagen ",411,"Abwasseranlagen ","411","Abwasseranlagen",null,null,null,null,null,null,null,null,null,null,null,null,null,null,null,"TGA-SA"]
[411,"Abwasseranlagen ",411,"Abwasseranlagen ","411.10","Rohrleitungen",null,null,null,null,"IfcDistributionFlowElement","IfcPipeSegment","Rohr",200,200,200,300,null,null,null,null,"TGA-SA"]
[411,"Abwasseranlagen ",411,"Abwasseranlagen ","411.20","Abläufe","x",null,null,null,"IfcFlowTerminal ","IfcWasteTerminal","Ablauf","-",200,200,300,null,null,null,null,"TGA-SA"]
[411,"Abwasseranlagen ",411,"Abwasseranlagen ","411.30","Absperreinrichtungen und Rückstauverschlüsse","x",null,null,null,"IfcFlowController ","IfcValve","Ventil","-",200,200,300,null,null,null,null,"TGA-SA"]
[411,"Abwasseranlagen ",411,"Abwasseranlagen ","411.40","Pumpen / Hebeanlagen","x","x",null,null,"IfcFlowMovingDevice ","IfcPump","Pumpe","-",200,200,300,null,null,null,null,"TGA-SA"]
[411,"Abwasseranlagen ",411,"Abwasseranlagen ","411.60","Abscheideranlagen","x","x",null,null,"IfcFlowTreatmentDevice ","IfcInterceptor","Abscheider","-",200,200,300,null,null,null,null,"TGA-SA"]
[411,"Abwasseranlagen ",411,"Abwasseranlagen ","411.70","Neutralisierungsanlagen","x","x",null,null,"IfcDistributionFlowElement","IfcDistributionFlowElement","Komponente der TGA","-",200,200,300,null,null,null,null,"TGA-SA"]
[411,"Abwasseranlagen ",411,"Abwasseranlagen ","411.80","Kontroll-, Reinigungs- und Sammelschächte","x",null,null,null,"IfcDistributionChamberElement","IfcDistributionChamberElement","Schacht / Graben / Revisionsschacht","-","-","-",300,null,null,null,null,"TGA-SA"]
[412,"Wasseranlagen ",412,"Wasseranlagen ","412","Wasseranlagen",null,null,null,null,null,null,null,null,null,null,null,null,null,null,null,"TGA-SA"]
[412,"Wasseranlagen ",412,"Wasseranlagen ","412.10","Trinkwasserversorgungsanlagen","x","x",null,null,null,null,null,null,null,null,null,null,null,null,null,"TGA-SA"]
[412,"Wasseranlagen ",412,"Wasseranlagen ","412.11","Rohrleitungen",null,null,null,null,"IfcDistributionFlowElement","IfcPipeSegment","Rohr",200,200,200,300,null,null,null,null,"TGA-SA"]
[412,"Wasseranlagen ",412,"Wasseranlagen ","412.12","Armaturen","x",null,null,null,"IfcFlowTerminal ","IfcValve","Ventil","-",200,200,300,null,null,null,null,"TGA-SA"]
[412,"Wasseranlagen ",412,"Wasseranlagen ","412.13","Druckerhöhungsanlage","x","x",null,null,"IfcFlowMovingDevice ","IfcPump","Pumpe","-",200,200,300,null,null,null,null,"TGA-SA"]
[412,"Wasseranlagen ",412,"Wasseranlagen ","412.14","Pumpen","x","x",null,null,"IfcFlowMovingDevice ","IfcPump","Pumpe","-",200,200,300,null,null,null,null,"TGA-SA"]
[412,"Wasseranlagen ",412,"Wasseranlagen ","412.15","Mess- und Zähleinrichtungen","x","x",null,null,"IfcFlowController ","IfcFlowMeter","Zähler","-",200,200,300,null,null,null,null,"TGA-SA"]
[412,"Wasseranlagen ",412,"Wasseranlagen ","412.16","Filter","x",null,null,null,"IfcFlowTreatmentDevice ","IfcFilter","Filter","-",200,200,300,null,null,null,null,"TGA-SA"]
[412,"Wasseranlagen ",412,"Wasseranlagen ","412.20","Sanitäre Einrichtungsgegenstände",null,null,null,null,null,null,null,null,null,null,null,null,null,null,null,"TGA-SA"]
[412,"Wasseranlagen ",412,"Wasseranlagen ","412.21","Armaturen","x",null,"x",null,"IfcFlowTerminal ","IfcValve","Ventil","-",200,200,300,null,null,null,null,"TGA-SA"]
[412,"Wasseranlagen ",412,"Wasseranlagen ","412.22","Einrichtungsgegenstände",null,null,"x",null,"IfcFurnishingElement","IfcSanitaryTerminal","Sanitäreinrichtung","-",200,200,300,null,null,null,null,"TGA-SA"]
[412,"Wasseranlagen ",412,"Wasseranlagen ","412.23","Spülkästen",null,null,"x",null,"IfcFlowStorageDevice","IfcSanitaryTerminal","Sanitäreinrichtung",null,null,null,null,null,null,null,null,"TGA-SA"]
[412,"Wasseranlagen ",412,"Wasseranlagen ","412.24","Druckspüler",null,null,"x",null,"IfcFlowTerminal ","IfcSanitaryTerminal","Sanitäreinrichtung",null,null,null,null,null,null,null,null,"TGA-SA"]
[412,"Wasseranlagen ",412,"Wasseranlagen ","412.30","Dezentrale Trinkwasser-Erwärmungsanlagen","x","x",null,null,"IfcDistributionElement","IfcDistributionFlowElement","Komponente der TGA","-",200,200,300,null,null,null,null,"TGA-SA"]
[412,"Wasseranlagen ",412,"Wasseranlagen ","412.40","Trinkwasser- Aufbereitungsanlagen","x","x",null,null,"IfcDistributionFlowElement","IfcDistributionFlowElement","Komponente der TGA","-",200,200,300,null,null,null,null,"TGA-SA"]
[412,"Wasseranlagen ",412,"Wasseranlagen ","412.60","Nichttrinkwasseranlagen",null,null,null,null,"IfcDistributionFlowElement","IfcDistributionFlowElement","Komponente der TGA","-",200,200,300,null,null,null,null,"TGA-SA"]
[412,"Wasseranlagen ",412,"Wasseranlagen ","412.61","Rohrleitungen",null,null,null,null,"IfcDistributionFlowElement","IfcPipeSegment","Rohr","-",200,200,300,null,null,null,null,"TGA-SA"]
[412,"Wasseranlagen ",412,"Wasseranlagen ","412.62","Armaturen",null,null,null,null,"IfcFlowTerminal ","IfcValve","Ventil","-",200,200,300,null,null,null,null,"TGA-SA"]
[412,"Wasseranlagen ",412,"Wasseranlagen ","412.64","Brunnenwasserversorgung","x","x",null,null,"IfcDistributionFlowElement","IfcDistributionFlowElement","Komponente der TGA","-",200,200,300,null,null,null,null,"TGA-SA"]
[412,"Wasseranlagen ",412,"Wasseranlagen ","412.65","Zierbrunnen","x","x",null,null,"IfcDistributionFlowElement","IfcDistributionFlowElement","Komponente der TGA","-",200,200,300,null,null,null,null,"TGA-SA"]
[412,"Wasseranlagen ",412,"Wasseranlagen ","412.70","Regenwassernutzungsanlagen",null,null,null,null,"IfcDistributionFlowElement","IfcDistributionFlowElement","Komponente der TGA","-",200,200,300,null,null,null,null,"TGA-SA"]
[412,"Wasseranlagen ",412,"Wasseranlagen ","412.80","Trinkwasser-Hausanschluss","x","x",null,null,"IfcDistributionFlowElement","IfcDistributionFlowElement","Komponente der TGA","-",200,200,300,null,null,null,null,"TGA-SA"]
[413,"Gasanlagen ",413,"Gasanlagen ","413","Gasanlagen",null,null,null,null,null,null,null,null,null,null,null,null,null,null,null,"TGA-SA"]
[413,"Gasanlagen ",413,"Gasanlagen ","413.10","Rohrleitungen",null,null,null,null,"IfcDistributionFlowElement","IfcPipeSegment","Rohr",200,200,200,300,null,null,null,null,"TGA-SA"]
[413,"Gasanlagen ",413,"Gasanlagen ","413.20","Armaturen","x",null,null,null,"IfcFlowTerminal ","IfcValve","Ventil","-",200,200,300,null,null,null,null,"TGA-SA"]
[413,"Gasanlagen ",413,"Gasanlagen ","413.30","Flüssiggastanks","x","x",null,null,"IfcFlowStorageDevice ","IfcTank","Tank","-",200,200,300,null,null,null,null,"TGA-SA"]
[414,"Feuerlöschungen "]
[419,"Abwasser‐, Wasser‐, Gasanlagen, Sonstiges ",419,"Installationsblöcke, Sanitärzellen (technischer Anteil)","419","Abwasser-, Wasser-, Gasanlagen, sonstiges",null,null,null,null,null,null,null,null,null,null,null,null,null,null,null,"TGA-SA"]
[419,"Abwasser‐, Wasser‐, Gasanlagen, Sonstiges ",419,"Installationsblöcke, Sanitärzellen (technischer Anteil)","419.70","Hygienische Einrichtungen"]
[419,"Abwasser‐, Wasser‐, Gasanlagen, Sonstiges ",419,"Installationsblöcke, Sanitärzellen (technischer Anteil)","419.71","Rohrleitungen",null,null,null,null,"IfcDistributionFlowElement","IfcPipeSegment","Rohr","-",200,200,300,null,null,null,null,"TGA-SA"]
[419,"Abwasser‐, Wasser‐, Gasanlagen, Sonstiges ",419,"Installationsblöcke, Sanitärzellen (technischer Anteil)","419.72","Absperr-, Entleerungs- und Entnahmearmaturen","x",null,null,null,"IfcFlowController ","IfcValve","Ventil","-",200,200,300,null,null,null,null,"TGA-SA"]
[419,"Abwasser‐, Wasser‐, Gasanlagen, Sonstiges ",419,"Installationsblöcke, Sanitärzellen (technischer Anteil)","419.73","Zentraleinheiten einschließlich Pumpe","x","x",null,null,"IfcDistributionFlowElement","IfcDistributionFlowElement","Komponente der TGA","-",200,200,300,null,null,null,null,"TGA-SA"]
[419,"Abwasser‐, Wasser‐, Gasanlagen, Sonstiges ",419,"Installationsblöcke, Sanitärzellen (technischer Anteil)","419.74","Desinfektionsanlagen","x","x",null,null,"IfcDistributionFlowElement","IfcDistributionFlowElement","Komponente der TGA","-",200,200,300,null,null,null,null,"TGA-SA"]
[419,"Abwasser‐, Wasser‐, Gasanlagen, Sonstiges ",419,"Installationsblöcke, Sanitärzellen (technischer Anteil)","419.80","MSR-Technik und Antriebselemente",null,null,null,null,"IfcDistributionFlowElement","IfcDistributionFlowElement","Komponente der TGA","-",200,200,300,null,null,null,null,"TGA-SA"]
[419,"Abwasser‐, Wasser‐, Gasanlagen, Sonstiges ",419,"Installationsblöcke, Sanitärzellen (technischer Anteil)","419.81","MSR-Technik","x","x",null,null,"IfcDistributionElement","IfcElectricDistributionBoard","Elektrischer Verteilungsregler",null,null,null,null,null,null,null,null,"TGA-SA"]
[419,"Abwasser‐, Wasser‐, Gasanlagen, Sonstiges ",419,"Installationsblöcke, Sanitärzellen (technischer Anteil)","419.82","Elektromotoren","x","x",null,null,"IfcEnergyConversionDevice","IfcElectricMotor","Elektromotor",null,null,null,null,null,null,null,null,"TGA-SA"]
[419,"Abwasser‐, Wasser‐, Gasanlagen, Sonstiges ",419,"Installationsblöcke, Sanitärzellen (technischer Anteil)","419.83","Riementriebe","x",null,null,null,"IfcDistributionElement","IfcMotorConnection","Motoranschluss",null,null,null,null,null,null,null,null,"TGA-SA"]
[419,"Abwasser‐, Wasser‐, Gasanlagen, Sonstiges ",419,"Installationsblöcke, Sanitärzellen (technischer Anteil)","419.84","Antriebskupplungen","x",null,null,null,"IfcDistributionElement","IfcMotorConnection","Motoranschluss",null,null,null,null,null,null,null,null,"TGA-SA"]
[419,"Abwasser‐, Wasser‐, Gasanlagen, Sonstiges ",419,"Installationsblöcke, Sanitärzellen (technischer Anteil)","419.85","Kettentriebe","x",null,null,null,"IfcDistributionElement","IfcMotorConnection","Motoranschluss",null,null,null,null,null,null,null,null,"TGA-SA"]
[419,"Abwasser‐, Wasser‐, Gasanlagen, Sonstiges ",419,"Installationsblöcke, Sanitärzellen (technischer Anteil)","419.86","Getriebe","x",null,null,null,"IfcDistributionElement","IfcMotorConnection","Motoranschluss",null,null,null,null,null,null,null,null,"TGA-SA"]
[419,"Abwasser‐, Wasser‐, Gasanlagen, Sonstiges ",419,"Installationsblöcke, Sanitärzellen (technischer Anteil)","419.90","Elektrische/elektronische Steuereinrichtungen",null,null,null,null,"IfcDistributionFlowElement","IfcDistributionFlowElement","Komponente der TGA","-",200,200,300,null,null,null,null,"TGA-SA"]
[419,"Abwasser‐, Wasser‐, Gasanlagen, Sonstiges ",419,"Installationsblöcke, Sanitärzellen (technischer Anteil)","419.91","Näherungselektronik","x",null,"x",null,"IfcDistributionFlowElement","IfcDistributionFlowElement","Komponente der TGA",null,null,null,null,null,null,null,null,"TGA-SA"]
[419,"Abwasser‐, Wasser‐, Gasanlagen, Sonstiges ",419,"Installationsblöcke, Sanitärzellen (technischer Anteil)","419.92","Lichtschranken","x",null,"x",null,"IfcDistributionFlowElement","IfcDistributionFlowElement","Komponente der TGA",null,null,null,null,null,null,null,null,"TGA-SA"]
[419,"Abwasser‐, Wasser‐, Gasanlagen, Sonstiges ",419,"Installationsblöcke, Sanitärzellen (technischer Anteil)","419.93","Alarm- und Störmeldeeinrichtungen","x",null,"x",null,"IfcAlarmType","IfcAlarm","Alarm",null,null,null,null,null,null,null,null,"TGA-SA"]
[419,"Abwasser‐, Wasser‐, Gasanlagen, Sonstiges ",419,"Installationsblöcke, Sanitärzellen (technischer Anteil)","419.94","Druckschalter","x",null,"x",null,"IfcFlowController ","IfcSwitchingDevice","Schalter",null,null,null,null,null,null,null,null,"TGA-SA"]
[420,"Wärmeversorgungsanlagen ",420,"Wärmeversorgungsanlagen ","420","Wärmeversorgungsanlagen",null,null,null,null,null,null,null,null,null,null,null,null,null,null,null,"TGA-HZ"]
[null,null,null,null,"420.00","Gemeinsame Bauteile Wärmeversorgungsanlagen",null,null,null,null,null,null,null,null,null,null,null,null,null,null,null,"TGA-HZ"]
[null,null,null,null,"420.00.01","Rohre in Heizungsanlagen",null,null,null,null,null,null,null,null,null,null,null,null,null,null,null,"TGA-HZ"]
[null,null,null,null,"420.00.02","Formstücke",null,null,null,null,null,null,null,null,null,null,null,null,null,null,null,"TGA-HZ"]
[421,"Wärmeerzeugungsanlagen ",421,"Wärmeerzeugungsanlagen ","421","Wärmeerzeugungsanlagen",null,null,null,null,null,null,null,null,null,null,null,null,null,null,null,"TGA-HZ"]
[421,"Wärmeerzeugungsanlagen ",421,"Wärmeerzeugungsanlagen ","421.10","Wärmeerzeuger",null,null,null,null,null,null,null,null,null,null,null,null,null,null,null,"TGA-HZ"]
[421,"Wärmeerzeugungsanlagen ",421,"Wärmeerzeugungsanlagen ","421.11","Wasserkessel","x","x",null,null,"IfcEnergyConversionDevice","IfcBoiler/WATER","Heizkessel - Typ - Wasser","-",200,200,300,null,null,null,null,"TGA-HZ"]
[421,"Wärmeerzeugungsanlagen ",421,"Wärmeerzeugungsanlagen ","421.12","Dampfkessel","x","x",null,null,"IfcEnergyConversionDevice","IfcBoiler/STEAM","Heizkessel - Typ - Dampf","-",200,200,300,null,null,null,null,"TGA-HZ"]
[421,"Wärmeerzeugungsanlagen ",421,"Wärmeerzeugungsanlagen ","421.13","Wärmepumpen","x","x",null,null,"IfcDistributionFlowElement","IfcDistributionFlowElement","Komponente der TGA","-",200,200,300,null,null,null,null,"TGA-HZ"]
[421,"Wärmeerzeugungsanlagen ",421,"Wärmeerzeugungsanlagen ","421.14","Solarkollektoren","x","x",null,null,"IfcDistributionFlowElement","IfcDistributionFlowElement","Komponente der TGA","-",200,200,300,null,null,null,null,"TGA-HZ"]
[421,"Wärmeerzeugungsanlagen ",421,"Wärmeerzeugungsanlagen ","421.15","Blockheizkraftwerke (BHKW) (wärmegeführt)","x","x",null,null,"IfcDistributionFlowElement","IfcDistributionFlowElement","Komponente der TGA","-",200,200,300,null,null,null,null,"TGA-HZ"]
[421,"Wärmeerzeugungsanlagen ",421,"Wärmeerzeugungsanlagen ","421.16","Brennstoffzellenheizgeräte","x","x",null,null,"IfcDistributionElement","IfcBoiler","Heizkessel","-",200,200,300,null,null,null,null,"TGA-HZ"]
[421,"Wärmeerzeugungsanlagen ",421,"Wärmeerzeugungsanlagen ","421.17","Elektroheizungen","x","x",null,null,"IfcEnergyConversionDevice","IfcCoil/ELECTRICHEATINGCOIL","Heizkörper","-",200,200,300,null,null,null,null,"TGA-HZ"]
[421,"Wärmeerzeugungsanlagen ",421,"Wärmeerzeugungsanlagen ","421.18","Wärmeübertrager","x","x",null,null,"IfcDistributionElement","IfcHeatExchanger","Wärmetauscher","-",200,200,300,null,null,null,null,"TGA-HZ"]
[421,"Wärmeerzeugungsanlagen ",421,"Wärmeerzeugungsanlagen ","421.19","Fernwärmeübergabestation","x","x",null,null,"IfcDistributionElement","IfcHeatExchanger","Wärmetauscher","-",200,200,300,null,null,null,null,"TGA-HZ"]
[421,"Wärmeerzeugungsanlagen ",421,"Wärmeerzeugungsanlagen ","421.20","Bestandteile des Verteilungsnetzes",null,null,null,"Rohre als IfcPipeSegment ab LPH2","IfcDistributionFlowElement","IfcDistributionFlowElement","Komponente der TGA",200,200,200,300,null,null,null,null,"TGA-HZ"]
[421,"Wärmeerzeugungsanlagen ",421,"Wärmeerzeugungsanlagen ","421.21","Ausdehnungsgefäße","x","x",null,null,"IfcFlowStorageDevice ","IfcTank/EXPANSION","Tank - Typ","-",200,200,300,null,null,null,null,"TGA-HZ"]
[421,"Wärmeerzeugungsanlagen ",421,"Wärmeerzeugungsanlagen ","421.22","Druckerhöhungsanlage/ Druckhaltung","x","x",null,null,"IfcFlowMovingDevice ","IfcPump","Pumpe","-",200,200,300,null,null,null,null,"TGA-HZ"]
[421,"Wärmeerzeugungsanlagen ",421,"Wärmeerzeugungsanlagen ","421.23","Minimal- und Maximaldruckbegrenzer","x","x",null,null,"IfcDistributionFlowElement","IfcDistributionFlowElement","Komponente der TGA","-",200,200,300,null,null,null,null,"TGA-HZ"]
[421,"Wärmeerzeugungsanlagen ",421,"Wärmeerzeugungsanlagen ","421.24","Heizungsverteiler","x","x",null,null,"IfcFlowSegment","IfcFlowSegment","Verteiler","-",200,200,300,null,null,null,null,"TGA-HZ"]
[421,"Wärmeerzeugungsanlagen ",421,"Wärmeerzeugungsanlagen ","421.30","Feuerungsanlagen"]
[421,"Wärmeerzeugungsanlagen ",421,"Wärmeerzeugungsanlagen ","421.31","Brenner","x","x",null,"bei 421.30 zusammengefasst","IfcEnergyConversionDevice","IfcBurner","Brenner",null,null,null,null,null,null,null,null,"TGA-HZ"]
[421,"Wärmeerzeugungsanlagen ",421,"Wärmeerzeugungsanlagen ","421.36","Direkte Strahlungsheizung","x","x",null,"bei 421.30 zusammengefasst"]
[421,"Wärmeerzeugungsanlagen ",421,"Wärmeerzeugungsanlagen ","421.40","Abgasanlagen"]
[421,"Wärmeerzeugungsanlagen ",421,"Wärmeerzeugungsanlagen ","421.41","Abgasleitungen","x",null,null,null,"IfcDistributionFlowElement","IfcDistributionFlowElement","Komponente der TGA",null,null,null,null,null,null,null,null,"TGA-HZ"]
[421,"Wärmeerzeugungsanlagen ",421,"Wärmeerzeugungsanlagen ","421.42","Schalldämpfer","x","x",null,null,"IfcDistributionFlowElement","IfcDistributionFlowElement","Komponente der TGA",null,null,null,null,null,null,null,null,"TGA-HZ"]
[421,"Wärmeerzeugungsanlagen ",421,"Wärmeerzeugungsanlagen ","421.43","Abgaswärmetauscher","x","x",null,null,"IfcEnergyConversionDevice","IfcHeatExchanger","Wärmetauscher",null,null,null,null,null,null,null,null,"TGA-HZ"]
[421,"Wärmeerzeugungsanlagen ",421,"Wärmeerzeugungsanlagen ","421.44","Abgasklappen, Zugbegrenzer","x","x",null,null,"IfcFlowController ","IfcDamper","Regelklappe",null,null,null,null,null,null,null,null,"TGA-HZ"]
[421,"Wärmeerzeugungsanlagen ",421,"Wärmeerzeugungsanlagen ","421.45","Abgasventilatoren","x","x",null,null,"IfcFlowMovingDevice ","IfcFan","Ventilator",null,null,null,null,null,null,null,null,"TGA-HZ"]
[421,"Wärmeerzeugungsanlagen ",421,"Wärmeerzeugungsanlagen ","421.46","Schornsteine","x","x","x",null,"IfcBuildingElement","IfcChimney","Schornstein",null,null,null,null,null,null,null,null,"TGA-HZ"]
[421,"Wärmeerzeugungsanlagen ",421,"Wärmeerzeugungsanlagen ","421.47","Entwässerungseinrichtungen","x","x",null,null,"IfcDistributionElement","IfcWasteTerminal","Ablauf / Abscheider",null,null,null,null,null,null,null,null,"TGA-HZ"]
[421,"Wärmeerzeugungsanlagen ",421,"Wärmeerzeugungsanlagen ","421.48","Abgasmesseinrichtungen","x","x",null,null,"IfcDistributionControlElement","IfcFlowInstrument","Messinstrument",null,null,null,null,null,null,null,null,"TGA-HZ"]
[421,"Wärmeerzeugungsanlagen ",421,"Wärmeerzeugungsanlagen ","421.50","Zentrale Wassererwärmungsanlagen","x","x",null,null,"IfcDistributionFlowElement","IfcDistributionFlowElement","Komponente der TGA","-",200,200,300,null,null,null,null,"TGA-HZ"]
[421,"Wärmeerzeugungsanlagen ",421,"Wärmeerzeugungsanlagen ","421.60","Schaltschrank, Regelanlage, Leittechnik, Druckluft","x","x",null,null,"IfcDistributionElement","IfcElectricDistributionBoard","Elektrischer Verteilungsregler","-",200,200,300,null,null,null,null,"TGA-HZ"]
[421,"Wärmeerzeugungsanlagen ",421,"Wärmeerzeugungsanlagen ","421.70","Antriebselemente",null,null,null,null,"IfcDistributionFlowElement","IfcDistributionFlowElement","Komponente der TGA","-",200,200,300,null,null,null,null,"TGA-HZ"]
[421,"Wärmeerzeugungsanlagen ",421,"Wärmeerzeugungsanlagen ","421.71","Elektromotoren","x",null,null,"--","IfcEnergyConversionDevice","IfcElectricMotor","Elektromotor",null,null,null,null,null,null,null,null,"TGA-HZ"]
[421,"Wärmeerzeugungsanlagen ",421,"Wärmeerzeugungsanlagen ","421.72","Riementriebe","x",null,null,"Unterteilung","IfcDistributionElement","IfcMotorConnection/BELTDRIVE","Motoranschluss",null,null,null,null,null,null,null,null,"TGA-HZ"]
[421,"Wärmeerzeugungsanlagen ",421,"Wärmeerzeugungsanlagen ","421.73","Antriebskupplungen","x",null,null,"wird nicht ","IfcDistributionElement","IfcMotorConnection/COUPLING","Motoranschluss",null,null,null,null,null,null,null,null,"TGA-HZ"]
[421,"Wärmeerzeugungsanlagen ",421,"Wärmeerzeugungsanlagen ","421.74","Kettentriebe","x",null,null,"benötigt","IfcDistributionElement","IfcMotorConnection","Motoranschluss",null,null,null,null,null,null,null,null,"TGA-HZ"]
[421,"Wärmeerzeugungsanlagen ",421,"Wärmeerzeugungsanlagen ","421.75","Getriebe","x",null,null,"--","IfcDistributionElement","IfcMotorConnection","Motoranschluss",null,null,null,null,null,null,null,null,"TGA-HZ"]
[421,"Wärmeerzeugungsanlagen ",421,"Wärmeerzeugungsanlagen ","421.90","Heizölläger","x","x",null,null,"IfcFlowStorageDevice","IfcTank","Tank","-",200,200,300,null,null,null,null,"TGA-HZ"]
[422,"Wärmeverteilnetze ",422,"Wärmeverteilnetze ","422","Wärmeverteilnetze",null,null,null,null,null,null,null,null,null,null,null,null,null,null,null,"TGA-HZ"]
[422,"Wärmeverteilnetze ",422,"Wärmeverteilnetze ","422.80","Rohrnetz","x",null,null,null,"IfcDistributionFlowElement","IfcPipeSegment","Rohr",null,null,null,null,null,null,null,null,"TGA-HZ"]
[422,"Wärmeverteilnetze ",422,"Wärmeverteilnetze ","422.81","Pumpen","x","x",null,null,"IfcFlowMovingDevice ","IfcPump","Pumpe","-",200,200,300,null,null,null,null,"TGA-HZ"]
[422,"Wärmeverteilnetze ",422,"Wärmeverteilnetze ","422.82","Armaturen","x",null,null,"statisch (ohne)/ Regelarmatur (mit)","IfcFlowTerminal ","IfcValve","Ventil","-",200,200,300,null,null,null,null,"TGA-HZ"]
[422,"Wärmeverteilnetze ",422,"Wärmeverteilnetze ","422.83","Schmutzfänger","x","x",null,null,"IfcFlowTreatmentDevice ","IfcFilter/WATERFILTER","Filter - Typ","-",200,200,300,null,null,null,null,"TGA-HZ"]
[422,"Wärmeverteilnetze ",422,"Wärmeverteilnetze ","422.84","Rohrleitungen","x",null,null,null,"IfcDistributionFlowElement","IfcPipeSegment","Rohr",200,200,200,300,null,null,null,null,"TGA-HZ"]
[423,"Raumheizflächen ",423,"Raumheizflächen ","423","Raumheizflächen",null,null,null,null,null,null,null,null,null,null,null,null,null,null,null,"TGA-HZ"]
[423,"Raumheizflächen ",423,"Raumheizflächen ","423.16","Mess- und Zähleinrichtungen","x","x",null,null,"IfcDistributionControlElement","IfcFlowMeter/WATERMETER","Zähler - Typ - Wasserzähler","-",200,200,300,null,null,null,null,"TGA-HZ"]
[423,"Raumheizflächen ",423,"Raumheizflächen ","423.17","Heizkörper","x",null,null,null,"IfcFlowTerminal ","IfcSpaceHeater","Heizkörper","-",200,200,300,null,null,null,null,"TGA-HZ"]
[423,"Raumheizflächen ",423,"Raumheizflächen ","423.18","Flächenheizung","x",null,null,null,"IfcDistributionFlowElement","IfcCoil","Heiz-Kühlelemente","-",200,200,300,null,null,null,null,"TGA-HZ"]
[429,"Wärmeversorgungsanlagen, Sonstiges ",429,"Wärmeerzeugungsanlagen ","429","Wärmeversorgungsanlagen, sonstiges",null,null,"(x)","keine Modellierung von Fühlern, Sensoren etc.","IfcDistributionFlowElement","IfcDistributionFlowElement","Komponente der TGA","-",200,200,300,null,null,null,null,"TGA-HZ"]
[430,"Lufttechnische Anlagen ",430,"Raumlufttechnische Anlagen","430","Lufttechnische Anlagen"]
[430,"Lufttechnische Anlagen ",430,"Raumlufttechnische Anlagen","430.10","Ventilatoren","x",null,"(x)","Komponenten im Kanalnetz werden modelliert","IfcFlowMovingDevice ","IfcFan","Ventilator","-",200,200,300,null,null,null,null,"TGA-LÜ"]
[430,"Lufttechnische Anlagen ",430,"Raumlufttechnische Anlagen","430.20","Wärmetauscher","x","x","(x)",null,"IfcEnergyConversionDevice","IfcHeatExchanger","Wärmetauscher","-",200,200,300,null,null,null,null,"TGA-LÜ"]
[430,"Lufttechnische Anlagen ",430,"Raumlufttechnische Anlagen","430.21","Wärmerückgewinnung WRG","x","x",null,null,"IfcEnergyConversionDevice","IfcAirToAirHeatRecovery","Wärmerückgewinner",null,null,null,null,null,null,null,null,"TGA-LÜ"]
[430,"Lufttechnische Anlagen ",430,"Raumlufttechnische Anlagen","430.22","Elektro-Lufterwärmer","x","x",null,null,"IfcDistributionFlowElement","IfcCoil/ELECTRICHEATINGCOIL","Heiz-Kühlelemente - Typ",null,null,null,null,null,null,null,null,"TGA-LÜ"]
[430,"Lufttechnische Anlagen ",430,"Raumlufttechnische Anlagen","430.23","Luftkühler (Luft/Flüssigkeit)","x","x",null,null,"IfcDistributionFlowElement","IfcCoil/WATERCOOLINGCOIL","Heiz-Kühlelemente - Typ",null,null,null,null,null,null,null,null,"TGA-LÜ"]
[430,"Lufttechnische Anlagen ",430,"Raumlufttechnische Anlagen","430.24","Verdampfer (Luft/Kältemittel)","x","x",null,null,"IfcDistributionFlowElement","IfcEvaporator","Verdampfer",null,null,null,null,null,null,null,null,"TGA-LÜ"]
[430,"Lufttechnische Anlagen ",430,"Raumlufttechnische Anlagen","430.25","Kreuzstrom-Wärmetauscher","x","x",null,null,"IfcDistributionFlowElement","IfcAirToAirHeatRecovery","Wärmerückgewinner",null,null,null,null,null,null,null,null,"TGA-LÜ"]
[430,"Lufttechnische Anlagen ",430,"Raumlufttechnische Anlagen","430.26","Rotations-Wärmeübertrager","x","x",null,null,"IfcDistributionFlowElement","IfcAirToAirHeatRecovery/ROTARYWHEEL","Wärmerückgewinner - Typ",null,null,null,null,null,null,null,null,"TGA-LÜ"]
[430,"Lufttechnische Anlagen ",430,"Raumlufttechnische Anlagen","430.27","Lufterhitzer (Luft/Flüssigkeit)","x","x",null,null,"IfcDistributionFlowElement","IfcCoil/WATERHEATINGCOIL","Heiz-Kühlelemente - Typ",null,null,null,null,null,null,null,null,"TGA-LÜ"]
[430,"Lufttechnische Anlagen ",430,"Raumlufttechnische Anlagen","430.30","Luftfilter","x","x","(x)",null,"IfcFlowTreatmentDevice","IfcFilter","Filter","-",200,200,300,null,null,null,null,"TGA-LÜ"]
[430,"Lufttechnische Anlagen ",430,"Raumlufttechnische Anlagen","430.40","Luftbe- und -entfeuchter","x","x","(x)",null,"IfcDistributionFlowElement","IfcDistributionFlowElement","Komponente der TGA","-",200,200,300,null,null,null,null,"TGA-LÜ"]
[430,"Lufttechnische Anlagen ",430,"Raumlufttechnische Anlagen","430.41","Luftbefeuchter (Medium: Wasser)","x","x",null,"--","IfcDistributionFlowElement","IfcHumidifier","Befeuchter",null,null,null,null,null,null,null,null,"TGA-LÜ"]
[430,"Lufttechnische Anlagen ",430,"Raumlufttechnische Anlagen","430.42","Tropfenabscheider / Gleichrichter","x","x",null,"Unterteilung","IfcDistributionFlowElement","IfcDistributionFlowElement","Komponente der TGA",null,null,null,null,null,null,null,null,"TGA-LÜ"]
[430,"Lufttechnische Anlagen ",430,"Raumlufttechnische Anlagen","430.43","Luftbefeuchter (Medium: Dampf; mit eigenem Dampfer","x","x",null,"wird nicht ","IfcDistributionFlowElement","IfcHumidifier","Befeuchter",null,null,null,null,null,null,null,null,"TGA-LÜ"]
[430,"Lufttechnische Anlagen ",430,"Raumlufttechnische Anlagen","430.44","Luftbefeuchter (Medium: Dampf; ohne eigenen Dampfe","x","x",null,"benötigt","IfcDistributionFlowElement","IfcHumidifier","Befeuchter",null,null,null,null,null,null,null,null,"TGA-LÜ"]
[430,"Lufttechnische Anlagen ",430,"Raumlufttechnische Anlagen","430.45","Ultraschall-, Zerstäubungs- und Hybridbefeuchter","x","x",null,null,"IfcDistributionFlowElement","IfcHumidifier","Befeuchter",null,null,null,null,null,null,null,null,"TGA-LÜ"]
[430,"Lufttechnische Anlagen ",430,"Raumlufttechnische Anlagen","430.46","Dampferzeuger","x","x",null,null,"IfcDistributionFlowElement","IfcCoil/STEAMHEATINGCOIL","Heiz-Kühlelemente - Typ",null,null,null,null,null,null,null,null,"TGA-LÜ"]
[430,"Lufttechnische Anlagen ",430,"Raumlufttechnische Anlagen","430.47","Entfeuchter","x","x",null,"--","IfcDistributionFlowElement","IfcUnitaryEquipment/DEHUMIDIFIER","einbaufertie Anlage - Typ",null,null,null,null,null,null,null,null,"TGA-LÜ"]
[430,"Lufttechnische Anlagen ",430,"Raumlufttechnische Anlagen","430.50","Bauelemente des Luftleitungssystems",null,null,null,null,"IfcDistributionFlowElement","IfcDistributionFlowElement","Komponente der TGA",null,null,null,null,null,null,null,null,"TGA-LÜ"]
[430,"Lufttechnische Anlagen ",430,"Raumlufttechnische Anlagen","430.51","Wetterschutzgitter","x",null,null,null,"IfcDistributionFlowElement","IfcAirTerminal","Luftauslass","-",200,200,300,null,null,null,null,"TGA-LÜ"]
[430,"Lufttechnische Anlagen ",430,"Raumlufttechnische Anlagen","430.52","Gitter und Verteiler","x",null,null,null,"IfcDistributionFlowElement","IfcAirTerminal","Luftauslass","-",200,200,300,null,null,null,null,"TGA-LÜ"]
[430,"Lufttechnische Anlagen ",430,"Raumlufttechnische Anlagen","430.53","Brandschutzklappen (BSK)","x","x",null,null,"IfcFlowController ","IfcDamper","Regelklappe","-",200,200,300,null,null,null,null,"TGA-LÜ"]
[430,"Lufttechnische Anlagen ",430,"Raumlufttechnische Anlagen","430.54","Klappen (außer Brandschutzklappen)","x","x",null,null,"IfcFlowController ","IfcDamper","Regelklappe","-",200,200,300,null,null,null,null,"TGA-LÜ"]
[430,"Lufttechnische Anlagen ",430,"Raumlufttechnische Anlagen","430.55","Luftleitungen und Kammern","x",null,null,null,"IfcDistributionFlowElement","IfcDuctSegment","Kanal","-",200,200,300,null,null,null,null,"TGA-LÜ"]
[430,"Lufttechnische Anlagen ",430,"Raumlufttechnische Anlagen","430.56","Volumenstrom- und Mischregler","x","x",null,null,"IfcFlowController ","IfcAirTerminalBox","Volumenstromregler","-",200,200,300,null,null,null,null,"TGA-LÜ"]
[430,"Lufttechnische Anlagen ",430,"Raumlufttechnische Anlagen","430.57","Absperr- und Abgleichelemente","x","x",null,null,"IfcFlowController ","IfcDamper","Regelklappe","-",200,200,300,null,null,null,null,"TGA-LÜ"]
[430,"Lufttechnische Anlagen ",430,"Raumlufttechnische Anlagen","430.58","Induktionsgeräte und vergleichbare Nachbehandlungs","x","x",null,null,"IfcDistributionFlowElement","IfcDistributionFlowElement","Komponente der TGA","-",200,200,300,null,null,null,null,"TGA-LÜ"]
[430,"Lufttechnische Anlagen ",430,"Raumlufttechnische Anlagen","430.60","Schaltschrank, Regelanlage, Leittechnik, Druckluft","x","x",null,null,"IfcFlowController ","IfcElectricDistributionBoard","elektrischer Verteilungsregler","-",200,200,300,null,null,null,null,"TGA-LÜ"]
[430,"Lufttechnische Anlagen ",430,"Raumlufttechnische Anlagen","430.70","Antriebselemente","x","x",null,null,"IfcDistributionFlowElement","IfcDistributionFlowElement","Komponente der TGA","-",200,200,300,null,null,null,null,"TGA-LÜ"]
[430,"Lufttechnische Anlagen ",430,"Raumlufttechnische Anlagen","430.71","Elektromotoren","x",null,null,"--","IfcEnergyConversionDevice","IfcElectricMotor","Elektromotor",null,null,null,null,null,null,null,null,"TGA-LÜ"]
[430,"Lufttechnische Anlagen ",430,"Raumlufttechnische Anlagen","430.72","Riementriebe","x",null,null,"Unterteilung","IfcDistributionElement","IfcMotorConnection","Motoranschluss",null,null,null,null,null,null,null,null,"TGA-LÜ"]
[430,"Lufttechnische Anlagen ",430,"Raumlufttechnische Anlagen","430.73","Antriebskupplungen","x",null,null,"wird nicht ","IfcDistributionElement","IfcMotorConnection","Motoranschluss",null,null,null,null,null,null,null,null,"TGA-LÜ"]
[430,"Lufttechnische Anlagen ",430,"Raumlufttechnische Anlagen","430.74","Kettentriebe","x",null,null,"benötigt","IfcDistributionElement","IfcMotorConnection","Motoranschluss",null,null,null,null,null,null,null,null,"TGA-LÜ"]
[430,"Lufttechnische Anlagen ",430,"Raumlufttechnische Anlagen","430.75","Getriebe","x",null,null,"--","IfcDistributionElement","IfcMotorConnection","Motoranschluss",null,null,null,null,null,null,null,null,"TGA-LÜ"]
[431,"Lüftungsanlagen ",431,"Lüftungsanlagen ","431","Lüftungsanlagen",null,null,null,null,null,null,null,null,null,null,null,null,null,null,null,"TGA-LÜ"]
[431,"Lüftungsanlagen ",431,"Lüftungsanlagen ","431.20","Lüftungsanlagen für Feuerstätten","x","x",null,null,"IfcDistributionElement","IfcUnitaryEquipment/AIRHANDLER","einbaufertie Anlage - Typ","-",200,200,300,null,null,null,null,"TGA-LÜ"]
[431,"Lüftungsanlagen ",431,"Lüftungsanlagen ","431.40","Lufterhitzer, Tür- und Torluftschleier","x","x",null,null,"IfcDistributionElement","IfcUnitaryEquipment/AIRHANDLER","einbaufertie Anlage - Typ","-",200,200,300,null,null,null,null,"TGA-LÜ"]
[431,"Lüftungsanlagen ",431,"Lüftungsanlagen ","431.50","Sonderabluftanlagen","x","x",null,null,"IfcDistributionElement","IfcUnitaryEquipment/AIRHANDLER","einbaufertie Anlage - Typ","-",200,200,300,null,null,null,null,"TGA-LÜ"]
[431,"Lüftungsanlagen ",431,"Lüftungsanlagen ","431.60","Jet-Ventilatoren","x","x",null,null,"IfcFlowMovingDevice ","IfcUnitaryEquipment/AIRHANDLER","einbaufertie Anlage - Typ","-",200,200,300,null,null,null,null,"TGA-LÜ"]
[431,"Lüftungsanlagen ",431,"Lüftungsanlagen ","431.80","Rauchschutz-Druckanlagen (RDA)","x","x",null,null,"IfcDistributionElement","IfcUnitaryEquipment/AIRHANDLER","einbaufertie Anlage - Typ","-",200,200,300,null,null,null,null,"TGA-LÜ"]
[431,"Lüftungsanlagen ",431,"Lüftungsanlagen ","431.90","Maschinelle Rauch- und Wärmeabzugsanlagen (MRA, RW","x","x",null,null,"IfcDistributionElement","IfcUnitaryEquipment/AIRHANDLER","einbaufertie Anlage - Typ","-",200,200,300,null,null,null,null,"TGA-LÜ"]
[432,"Teilklimaanlagen ",432,"Teilklimaanlagen ",null,null,null,null,null,null,null,null,null,null,null,null,null,null,null,null,null,"TGA-LÜ"]
[433,"Klimaanlagen ",433,"Klimaanlagen ",null,null,null,null,null,null,null,null,null,null,null,null,null,null,null,null,null,"TGA-LÜ"]
[434,"Kälteanlagen ",434,"Kälteanlagen ","434","Kälteanlagen",null,null,null,null,null,null,null,null,null,null,null,null,null,null,null,"TGA-LÜ"]
[434,"Kälteanlagen ",434,"Kälteanlagen ","434.10","Verdichter/ Kältemaschine","x","x",null,null,"IfcDistributionElement","IfcChiller","Kältemaschine","-",200,200,300,null,null,null,null,"TGA-LÜ"]
[434,"Kälteanlagen ",434,"Kälteanlagen ","434.20","Wärmeübertrager","x","x",null,null,"IfcDistributionFlowElement","IfcHeatExchanger","Wärmetauscher","-",200,200,300,null,null,null,null,"TGA-LÜ"]
[434,"Kälteanlagen ",434,"Kälteanlagen ","434.30","Anlagenteile (Primär)",null,null,null,null,"IfcDistributionFlowElement","IfcDistributionFlowElement","Komponente der TGA",null,null,null,null,null,null,null,null,"TGA-LÜ"]
[434,"Kälteanlagen ",434,"Kälteanlagen ","434.31","Pumpen","x","x",null,null,"IfcFlowMovingDevice ","IfcPump","Pumpe","-",200,200,300,null,null,null,null,"TGA-LÜ"]
[434,"Kälteanlagen ",434,"Kälteanlagen ","434.32","Armaturen","x",null,null,"statisch/Regelarmatur?","IfcFlowTerminal ","IfcValve","Ventil","-",200,200,300,null,null,null,null,"TGA-LÜ"]
[434,"Kälteanlagen ",434,"Kälteanlagen ","434.33","MSR- und Sicherheitseinrichtung","x",null,null,null,"IfcFlowController ","IfcElectricDistributionBoard","elektrischer Verteilungsregler","-",200,200,300,null,null,null,null,"TGA-LÜ"]
[434,"Kälteanlagen ",434,"Kälteanlagen ","434.34","Mess- und Anzeigegeräte","x","x","(x)","keine Modellierung von Fühlern, Sensoren etc.","IfcFlowController ","IfcFlowInstrument","Messinstrument","-",200,200,300,null,null,null,null,"TGA-LÜ"]
[434,"Kälteanlagen ",434,"Kälteanlagen ","434.35","Druckhaltung","x","x",null,null,"IfcFlowMovingDevice ","IfcPump","Pumpe","-",200,200,300,null,null,null,null,"TGA-LÜ"]
[434,"Kälteanlagen ",434,"Kälteanlagen ","434.36","Rohrleitungen","x",null,null,null,"IfcDistributionFlowElement","IfcPipeSegment","Rohr",200,200,200,300,null,null,null,null,"TGA-LÜ"]
[434,"Kälteanlagen ",434,"Kälteanlagen ","434.40","Rückkühlanlagen","x","x",null,null,"IfcDistributionFlowElement","IfcDistributionFlowElement","Komponente der TGA","-",200,200,300,null,null,null,null,"TGA-LÜ"]
[434,"Kälteanlagen ",434,"Kälteanlagen ","434.60","Antriebselemente","x","x",null,null,"IfcDistributionFlowElement","IfcDistributionFlowElement","Komponente der TGA","-",200,200,300,null,null,null,null,"TGA-LÜ"]
[434,"Kälteanlagen ",434,"Kälteanlagen ","434.61","Elektromotoren","x",null,null,"--","IfcEnergyConversionDevice","IfcElectricMotor","Elektromotor",null,null,null,null,null,null,null,null,"TGA-LÜ"]
[434,"Kälteanlagen ",434,"Kälteanlagen ","434.62","Riementriebe","x",null,null,"Unterteilung","IfcDistributionElement","IfcMotorConnection/BELTDRIVE","Motoranschluss",null,null,null,null,null,null,null,null,"TGA-LÜ"]
[434,"Kälteanlagen ",434,"Kälteanlagen ","434.63","Antriebskupplungen","x",null,null,"wird nicht benötigt","IfcDistributionElement","IfcMotorConnection/COUPLING","Motoranschluss",null,null,null,null,null,null,null,null,"TGA-LÜ"]
[434,"Kälteanlagen ",434,"Kälteanlagen ","434.64","Getriebe","x",null,null,"--","IfcDistributionElement","IfcMotorConnection","Motoranschluss",null,null,null,null,null,null,null,null,"TGA-LÜ"]
[434,"Kälteanlagen ",434,"Kälteanlagen ","434.70","Rohrnetz (Sekundär)",null,null,null,null,"IfcDistributionFlowElement","IfcPipeSegment","Rohr",null,null,null,null,null,null,null,null,"TGA-LÜ"]
[434,"Kälteanlagen ",434,"Kälteanlagen ","434.71","Pumpen","x","x",null,null,"IfcFlowMovingDevice ","IfcPump","Pumpe","-",200,200,300,null,null,null,null,"TGA-LÜ"]
[434,"Kälteanlagen ",434,"Kälteanlagen ","434.72","Armaturen","x",null,null,"statisch/Regelarmatur?","IfcFlowTerminal ","IfcValve","Ventil","-",200,200,300,null,null,null,null,"TGA-LÜ"]
[434,"Kälteanlagen ",434,"Kälteanlagen ","434.73","Schmutzfänger","x","x",null,null,"IfcFlowTreatmentDevice ","IfcFilter","Filter","-",200,200,300,null,null,null,null,"TGA-LÜ"]
[434,"Kälteanlagen ",434,"Kälteanlagen ","434.74","Rohrleitungen","x",null,null,null,"IfcDistributionFlowElement","IfcPipeSegment","Rohr",200,200,200,300,null,null,null,null,"TGA-LÜ"]
[434,"Kälteanlagen ",434,"Kälteanlagen ","434.75","Ausdehnungsgefäße","x","x",null,null,"IfcFlowStorageDevice","IfcTank/EXPANSION","Tank - Typ","-",200,200,300,null,null,null,null,"TGA-LÜ"]
[434,"Kälteanlagen ",434,"Kälteanlagen ","434.76","Kälteverteiler","x",null,null,null,"IfcFlowMovingDevice ","IfcFlowSegment","Verteiler","-",200,200,300,null,null,null,null,"TGA-LÜ"]
[434,"Kälteanlagen ",434,"Kälteanlagen ","434.79","Raumkühlflächen","x",null,null,null,"IfcDistributionFlowElement","IfcDistributionFlowElement","Komponente der TGA","-",200,200,300,null,null,null,null,"TGA-LÜ"]
[434,"Kälteanlagen ",434,"Kälteanlagen ","434.80","Absorber","x","x",null,null,"IfcDistributionFlowElement","IfcDistributionFlowElement","Komponente der TGA","-",200,200,300,null,null,null,null,"TGA-LÜ"]
[434,"Kälteanlagen ",434,"Kälteanlagen ","434.90","Elektrische Einrichtungen",null,"   ",null,null,"IfcDistributionFlowElement","IfcDistributionFlowElement","Komponente der TGA","-",200,200,300,null,null,null,null,"TGA-LÜ"]
[434,"Kälteanlagen ",434,"Kälteanlagen ","434.91","Schalt- und Steuerschränke","x","x",null,null,"IfcDistributionFlowElement","IfcDistributionFlowElement","Komponente der TGA",null,null,null,null,null,null,null,null,"TGA-LÜ"]
[434,"Kälteanlagen ",434,"Kälteanlagen ","434.92","Sicherheitseinrichtungen","x","x",null,null,"IfcFlowController ","IfcValve","Ventil",null,null,null,null,null,null,null,null,"TGA-LÜ"]
[434,"Kälteanlagen ",434,"Kälteanlagen ","438","Dezentrale Kleinkälteanlagen",null,null,null,null,"IfcDistributionElement","IfcUnitaryEquipment/AIRCONDITIONINGUNIT","einbaufertie Anlage - Typ","-",200,200,300,null,null,null,null,"TGA-LÜ"]
[434,"Kälteanlagen ",434,"Kälteanlagen ","438.10","Splitgeräte","x","x",null,null,"IfcDistributionElement","IfcUnitaryEquipment/SPLITSYSTEM","einbaufertie Anlage - Typ",null,null,null,null,null,null,null,null,"TGA-LÜ"]
[439,"Lufttechnische Anlagen, Sonstige ",439,"Sonstiges zur KG 430","439","Lufttechnische Anlagen, sonstiges",null,null,null,null,"IfcDistributionFlowElement","IfcDistributionFlowElement","Komponente der TGA","-",200,200,300,null,null,null,null,"TGA-LÜ"]
[440,"Starkstromanlagen ",440,"Elektrische Anlagen ","440","Starkstromanlagen",null,null,null,null,"IfcDistributionFlowElement","IfcDistributionSystem","haustechnische Anlage",null,null,null,null,null,null,null,null,"TGA-EL"]
[440,"Starkstromanlagen ",440,"Elektrische Anlagen ",440,"Elektrotechnische Verteilung "]
[441,"Hoch‐ und Mittespannungsanlagen ",441,"Hoch‐ und Mittespannungsanlagen ","441","Hoch- und Mittelspannungsanlagen",null,null,null,null,"IfcDistributionFlowElement","IfcDistributionFlowElement","Komponente der TGA",null,null,null,null,null,null,null,null,"TGA-EL"]
[441,"Hoch‐ und Mittespannungsanlagen ",441,"Hoch‐ und Mittespannungsanlagen ","441.10","Hoch- und Mittelspannungsschaltanlagen","x","x",null,null,"IfcDistributionFlowElement","IfcDistributionFlowElement","Komponente der TGA","-",200,200,300,null,null,null,null,"TGA-EL"]
[441,"Hoch‐ und Mittespannungsanlagen ",441,"Hoch‐ und Mittespannungsanlagen ","441.20","Transformatorenstationen","x","x",null,null,"IfcDistributionFlowElement","IfcTransformer","Transformator","-",200,200,300,null,null,null,null,"TGA-EL"]
[442,"Eigenstromversorgungsanlagen ",442,"Eigenstromversorgungsanlagen ","442","Eigenstromversorgungsanlagen",null,null,null,null,null,null,null,null,null,null,null,null,null,null,null,"TGA-EL"]
[442,"Eigenstromversorgungsanlagen ",442,"Eigenstromversorgungsanlagen ","442.10","Sicherheitsstromversorgungsanlagen",null,null,null,null,"IfcDistributionFlowElement","IfcDistributionFlowElement","Komponente der TGA",null,null,null,null,null,null,null,null,"TGA-EL"]
[442,"Eigenstromversorgungsanlagen ",442,"Eigenstromversorgungsanlagen ","442.11","Dieselmotorische Netzersatzanlagen (NEA)","x","x",null,null,"IfcDistributionElement","IfcEngine/INTERNALCOMPUSTION","Motor - Typ","-",200,200,300,null,null,null,null,"TGA-EL"]
[442,"Eigenstromversorgungsanlagen ",442,"Eigenstromversorgungsanlagen ","442.12","Zentrale Batterie- / Akkumulatorenanlagen","x","x",null,null,"IfcDistributionElement","IfcElectricFlowStorageDevice/BATTERY","Speicher - Typ",null,null,null,null,null,null,null,null,"TGA-EL"]
[442,"Eigenstromversorgungsanlagen ",442,"Eigenstromversorgungsanlagen ","442.13","Schwungmassenanlagen","x","x",null,null,"IfcDistributionElement","IfcElectricGenerator","Elektrogenerator",null,null,null,null,null,null,null,null,"TGA-EL"]
[442,"Eigenstromversorgungsanlagen ",442,"Eigenstromversorgungsanlagen ","442.20","Wasserkraftanlagen","x","x",null,null,"IfcDistributionElement","IfcElectricGenerator","Elektrogenerator","-",200,200,300,null,null,null,null,"TGA-EL"]
[442,"Eigenstromversorgungsanlagen ",442,"Eigenstromversorgungsanlagen ","442.30","Windkraftanlagen","x","x",null,null,"IfcDistributionElement","IfcElectricGenerator","Elektrogenerator","-",200,200,300,null,null,null,null,"TGA-EL"]
[442,"Eigenstromversorgungsanlagen ",442,"Eigenstromversorgungsanlagen ","442.40","Photovoltaikanlagen","x","x",null,null,"IfcDistributionElement","IfcSolarDevice","Solargerät","-",200,200,300,null,null,null,null,"TGA-EL"]
[442,"Eigenstromversorgungsanlagen ",442,"Eigenstromversorgungsanlagen ","442.50","Brennstoffzellenanlagen (stromgeführt)","x","x",null,null,"IfcDistributionElement","IfcElectricGenerator","Elektrogenerator","-",200,200,300,null,null,null,null,"TGA-EL"]
[442,"Eigenstromversorgungsanlagen ",442,"Eigenstromversorgungsanlagen ","442.60","Blockheizkraftwerke (BHKW) (stromgeführt)","x","x",null,null,"IfcDistributionElement","IfcElectricGenerator/CHP","Elektrogenerator - Typ","-",200,200,300,null,null,null,null,"TGA-EL"]
[442,"Eigenstromversorgungsanlagen ",442,"Eigenstromversorgungsanlagen ","442.70","Gasturbinenanlagen (stromgeführt)","x","x",null,null,"IfcDistributionElement","IfcElectricGenerator","Elektrogenerator","-",200,200,300,null,null,null,null,"TGA-EL"]
[442,"Eigenstromversorgungsanlagen ",442,"Eigenstromversorgungsanlagen ","442.90","Sonstige Eigenstromversorgungsanlagen","x","x",null,null,"IfcDistributionElement","IfcElectricGenerator","Elektrogenerator","-",200,200,300,null,null,null,null,"TGA-EL"]
[443,"Niederspannungsschaltanlagen ",443,"Niederspannungsschaltanlagen ","443","Niederspannungsschaltanlagen",null,null,null,null,"IfcDistributionFlowElement","IfcDistributionFlowElement","Komponente der TGA",null,null,null,null,null,null,null,null,"TGA-EL"]
[443,"Niederspannungsschaltanlagen ",443,"Niederspannungsschaltanlagen ","443.10","Niederspannungshauptverteiler","x","x",null,null,"IfcDistributionFlowElement","IfcDistributionFlowElement","Komponente der TGA","-",200,200,300,null,null,null,null,"TGA-EL"]
[443,"Niederspannungsschaltanlagen ",443,"Niederspannungsschaltanlagen ","443.11","Zähler","x","x",null,"Verteiler nicht gleich Zähler?","IfcFlowController ","IfcFlowMeter/ENERGYMETER","Zähler",null,null,null,null,null,null,null,null,"TGA-EL"]
[443,"Niederspannungsschaltanlagen ",443,"Niederspannungsschaltanlagen ","443.20","Blindstromkompensationsanlagen","x","x",null,null,"IfcDistributionFlowElement","IfcDistributionFlowElement","Komponente der TGA","-",200,200,300,null,null,null,null,"TGA-EL"]
[443,"Niederspannungsschaltanlagen ",443,"Niederspannungsschaltanlagen ","443.30","Gleichstromversorgungsschränke","x","x",null,null,"IfcDistributionFlowElement","IfcDistributionFlowElement","Komponente der TGA","-",200,200,300,null,null,null,null,"TGA-EL"]
[444,"Niederspannungsinstallationsanlagen ",444,"Niederspannungsinstallationsanlagen ","444","Niederspannungsinstallationsanlagen",null,null,null,null,"IfcDistributionFlowElement","IfcDistributionFlowElement","Komponente der TGA","-",200,200,300,null,null,null,null,"TGA-EL"]
[444,"Niederspannungsinstallationsanlagen ",444,"Niederspannungsinstallationsanlagen ","444.10","Unter-/ Schaltverteiler","x","x",null,null,"IfcDistributionFlowElement","IfcElectricDistributionBoard","elektrischer Verteilungsregler","-",200,200,300,null,null,null,null,"TGA-EL"]
[444,"Niederspannungsinstallationsanlagen ",444,"Niederspannungsinstallationsanlagen ","444.11","Zähler","x","x",null,"Verteiler nicht gleich Zähler?","IfcFlowController ","IfcFlowMeter/ENERGYMETER","Zähler - Typ",null,null,null,null,null,null,null,null,"TGA-EL"]
[445,"Beleuchtungsanlagen ",445,"Beleuchtungsanlagen ","445","Beleuchtungsanlagen",null,null,null,null,null,null,null,null,null,null,null,null,null,null,null,"TGA-EL"]
[445,"Beleuchtungsanlagen ",445,"Beleuchtungsanlagen ","445.10","Allgemeinbeleuchtung","x",null,null,null,"IfcFlowTerminal","IfcLightFixture","Leuchte","-",200,200,300,null,null,null,null,"TGA-EL"]
[445,"Beleuchtungsanlagen ",445,"Beleuchtungsanlagen ","445.20","Sicherheitsbeleuchtung","x","x",null,null,"IfcFlowTerminal","IfcLightFixture/SECURITYLIGHTING","Leuchte - Typ","-",200,200,300,null,null,null,null,"TGA-EL"]
[445,"Beleuchtungsanlagen ",445,"Beleuchtungsanlagen ","445.30","Laseranlagen","x","x",null,null,"IfcDistributionFlowElement","IfcDistributionSystem","haustechnische Anlage","-",200,200,300,null,null,null,null,"TGA-EL"]
[null,null,null,null,null,"Leuchtwerbung","x","x"]
[446,"Blitzschutz‐ und Erdungsanlagen ",446,"Blitzschutz‐ und Erdungsanlagen ","446","Blitzschutz- und Erdungsanlagen","x","x",null,null,null,null,null,"-",200,200,300,null,null,null,null,"TGA-EL"]
[449,"Starkstromanlagen, Sonstiges ",449,"Sonstiges zur KG 440","449","Starkstromanlagen, sonstiges",null,null,null,null,null,null,null,"-",200,200,300,null,null,null,null,"TGA-EL"]
[450,"Fernmelde‐ und informationstechnische Anlagen ",450,"Kommunikations-, sicherheits- und informationstechnische  Anlagen","450","Fernmelde- und informationstechnische Anlagen",null,null,null,null,"IfcFlowTerminal","IfcCommunicationsAppliance","Kommunikationsgerät",null,null,null,null,null,null,null,null,"TGA-EL"]
[451,"Telekommunikationsanlagen ",451,"Telekommunikationsanlagen ","451","Telekommunikationsanlagen",null,null,null,null,"IfcFlowTerminal","IfcCommunicationsAppliance","Kommunikationsgerät",null,200,200,300,null,null,null,null,"TGA-EL"]
[451,"Telekommunikationsanlagen ",451,"Telekommunikationsanlagen ","451.10","Zentrale","x","x",null,null,"IfcFlowTerminal","IfcCommunicationsAppliance","Kommunikationsgerät",null,null,null,null,null,null,null,null,"TGA-EL"]
[452,"Such‐ und Signalanlagen ",452,"Such‐ und Signalanlagen ","452","Such- und Signalanlagen",null,null,null,null,"IfcDistributionFlowElement","IfcDistributionSystem","haustechnische Anlage",null,200,200,300,null,null,null,null,"TGA-EL"]
[452,"Such‐ und Signalanlagen ",452,"Such‐ und Signalanlagen ","452.20","Endgeräte","x","x",null,null,"IfcFlowTerminal","IfcAudioVisualAppliance","audiovisuelles Gerät",null,null,null,null,null,null,null,null,"TGA-EL"]
[453,"Zeitdienstanlagen ",453,"Zeitdienstanlagen ","453","Zeitdienstanlagen",null,null,null,null,"IfcFlowController","IfcElectricTimeControl","elektrische Zeitsteuerung",null,200,200,300,null,null,null,null,"TGA-EL"]
[453,"Zeitdienstanlagen ",453,"Zeitdienstanlagen ","453.10","Zentrale","x","x",null,null,"IfcFlowController","IfcElectricTimeControl","elektrische Zeitsteuerung",null,null,null,null,null,null,null,null,"TGA-EL"]
[453,"Zeitdienstanlagen ",453,"Zeitdienstanlagen ","453.20","Terminal","x","x",null,null,"IfcFlowController","IfcElectricTimeControl","elektrische Zeitsteuerung",null,null,null,null,null,null,null,null,"TGA-EL"]
[453,"Zeitdienstanlagen ",453,"Zeitdienstanlagen ","453.30","Uhrenanlagen","x",null,null,null,"IfcFlowController","IfcElectricTimeControl","elektrische Zeitsteuerung",null,null,null,null,null,null,null,null,"TGA-EL"]
[454,"Elektroakustische Anlagen",454,"Elektroakustische Anlagen","454","Elektroakustische Anlagen (ELA)","x","x",null,null,null,null,null,null,200,200,300,null,null,null,null,"TGA-EL"]
[455,"Fernseh‐ und Antennenanlagen ",455,"Audiovisuelle Medien- und Antennenanlagen","455","Fernseh- und Antennenanlagen",null,null,null,null,"IfcFlowTerminal","IfcCommunicationsAppliance","Kommunikationsgerät",null,200,200,300,null,null,null,null,"TGA-EL"]
[455,"Fernseh‐ und Antennenanlagen ",455,"Audiovisuelle Medien- und Antennenanlagen","455.10","Fernsehanlagen",null,null,null,null,"IfcFlowTerminal","IfcCommunicationsAppliance","Kommunikationsgerät",null,null,null,null,null,null,null,null,"TGA-EL"]
[455,"Fernseh‐ und Antennenanlagen ",455,"Audiovisuelle Medien- und Antennenanlagen","455.11","Zentrale","x","x",null,null,"IfcFlowTerminal","IfcCommunicationsAppliance","Kommunikationsgerät",null,null,null,null,null,null,null,null,"TGA-EL"]
[455,"Fernseh‐ und Antennenanlagen ",455,"Audiovisuelle Medien- und Antennenanlagen","455.12","Endgeräte","x","x",null,null,"IfcFlowTerminal","IfcCommunicationsAppliance","Kommunikationsgerät",null,null,null,null,null,null,null,null,"TGA-EL"]
[455,"Fernseh‐ und Antennenanlagen ",455,"Audiovisuelle Medien- und Antennenanlagen","455.20","Antennenanlagen (auf Gebäuden)","x","x",null,null,"IfcDistributionFlowElement","IfcDistributionFlowElement","Komponente der TGA",null,null,null,null,null,null,null,null,"TGA-EL"]
[456,"Gefahrmelde‐ und Alarmanlagen ",456,"Gefahrmelde‐ und Alarmanlagen ","456","Gefahrenmelde- und Alarmanlagen",null,null,null,null,"IfcDistributionFlowElement","IfcDistributionFlowElement","Komponente der TGA",null,200,200,300,null,null,null,null,"TGA-EL"]
[456,"Gefahrmelde‐ und Alarmanlagen ",456,"Gefahrmelde‐ und Alarmanlagen ","456.10","Brandmeldeanlagen","x","x",null,null,"IfcAlarmType","IfcAlarm","Alarm",null,null,null,null,null,null,null,null,"TGA-EL"]
[456,"Gefahrmelde‐ und Alarmanlagen ",456,"Gefahrmelde‐ und Alarmanlagen ","456.20","CO-Warnanlagen","x","x",null,null,"IfcAlarmType","IfcAlarm","Alarm",null,null,null,null,null,null,null,null,"TGA-EL"]
[456,"Gefahrmelde‐ und Alarmanlagen ",456,"Gefahrmelde‐ und Alarmanlagen ","456.30","Gaswarnanlagen","x","x",null,null,"IfcAlarmType","IfcAlarm","Alarm",null,null,null,null,null,null,null,null,"TGA-EL"]
[456,"Gefahrmelde‐ und Alarmanlagen ",456,"Gefahrmelde‐ und Alarmanlagen ","456.40","Einbruch- und Überfallmeldeanlagen","x","x",null,null,"IfcAlarmType","IfcAlarm","Alarm",null,null,null,null,null,null,null,null,"TGA-EL"]
[456,"Gefahrmelde‐ und Alarmanlagen ",456,"Gefahrmelde‐ und Alarmanlagen ","456.50","Videoüberwachungsanlagen","x","x",null,null,"IfcAlarmType","IfcAlarm","Alarm",null,null,null,null,null,null,null,null,"TGA-EL"]
[456,"Gefahrmelde‐ und Alarmanlagen ",456,"Gefahrmelde‐ und Alarmanlagen ","456.60","BOS-Anlagen","x","x"]
[456,"Gefahrmelde‐ und Alarmanlagen ",456,"Gefahrmelde‐ und Alarmanlagen ","456.70","Notrufanlagen","x","x",null,null,"IfcAlarmType","IfcAlarm","Alarm",null,null,null,null,null,null,null,null,"TGA-EL"]
[456,"Gefahrmelde‐ und Alarmanlagen ",456,"Gefahrmelde‐ und Alarmanlagen ","456.80","Rauchwarnmelder","x","x",null,null,"IfcAlarmType","IfcAlarm","Alarm",null,null,null,null,null,null,null,null,"TGA-EL"]
[457,"Übertragungsnetze ",457,"Datenübertragungsnetze","457","Übertragungsnetze",null,null,null,null,null,null,null,null,200,200,300,null,null,null,null,"TGA-EL"]
[458,"Zutrittskontrollanlagen",458,"Verkehrsbeeinflussungsanlagen","458","Zutrittskontrollanlagen","x","x",null,null,"IfcDistributionFlowElement","IfcDistributionSystem","haustechnische Anlage",null,200,200,300,null,null,null,null,"TGA-EL"]
[459,"Fernmelde‐ und informationstechnische Anlagen, Sonstiges ",459,"Sonstiges zur KG 450","459","Fernmelde- und informationstechnische Anlagen, sonstiges",null,null,null,null,"IfcFlowTerminal","IfcCommunicationsAppliance","Kommunikationsgerät",null,200,200,300,null,null,null,null,"TGA-EL"]
[460,"Förderanlagen ",460,"Förderanlagen ",460,"Förderanlagen"]
[461,"Aufzugsanlagen ",461,"Aufzugsanlagen ","461","Aufzugsanlage",null,"x",null,null,"IfcTransportElement/ELEVATOR","IfcTransportElement/ELEVATOR","Beförderungsgerät - Typ",null,200,200,300,null,null,null,null,"TGA-AP"]
[461,"Aufzugsanlagen ",461,"Aufzugsanlagen ","461.01","Antrieb","x",null,null,"--","IfcTransportElement","IfcTransportElement","Beförderungsgerät",null,null,null,null,null,null,null,null,"TGA-AP"]
[461,"Aufzugsanlagen ",461,"Aufzugsanlagen ","461.02","Steuerung","x",null,null,"Unterteilung","IfcTransportElement","IfcTransportElement","Beförderungsgerät",null,null,null,null,null,null,null,null,"TGA-AP"]
[461,"Aufzugsanlagen ",461,"Aufzugsanlagen ","461.03","Regelung","x",null,null,"wird nicht benötigt","IfcTransportElement","IfcTransportElement","Beförderungsgerät",null,null,null,null,null,null,null,null,"TGA-AP"]
[461,"Aufzugsanlagen ",461,"Aufzugsanlagen ","461.04","Geschwindigkeitsbegrenzer","x",null,null,null,"IfcTransportElement","IfcTransportElement","Beförderungsgerät",null,null,null,null,null,null,null,null,"TGA-AP"]
[461,"Aufzugsanlagen ",461,"Aufzugsanlagen ","461.05","Fahrkorb","x",null,null,null,"IfcTransportElement","IfcTransportElement","Beförderungsgerät",null,null,null,null,null,null,null,null,"TGA-AP"]
[461,"Aufzugsanlagen ",461,"Aufzugsanlagen ","461.06","Fahrkorbtür","x",null,null,null,"IfcTransportElement","IfcTransportElement","Beförderungsgerät",null,null,null,null,null,null,null,null,"TGA-AP"]
[461,"Aufzugsanlagen ",461,"Aufzugsanlagen ","461.07","Absturzsicherung","x",null,null,null,"IfcTransportElement","IfcTransportElement","Beförderungsgerät",null,null,null,null,null,null,null,null,"TGA-AP"]
[461,"Aufzugsanlagen ",461,"Aufzugsanlagen ","461.08","Schachttüren","x",null,null,null,"IfcTransportElement","IfcTransportElement","Beförderungsgerät",null,null,null,null,null,null,null,null,"TGA-AP"]
[461,"Aufzugsanlagen ",461,"Aufzugsanlagen ","461.09","Notrufsystem","x",null,null,"--","IfcTransportElement","IfcTransportElement","Beförderungsgerät",null,null,null,null,null,null,null,null,"TGA-AP"]
[462,"Fahrtreppen, Fahrsteige ",462,"Fahrtreppen, Fahrsteige ","462","Fahrtreppen, Fahrsteige","x","x",null,null,"IfcTransportElement","IfcTransportElement","Beförderungsgerät",null,200,200,300,null,null,null,null,"TGA"]
[463,"Befahranlagen ",463,"Befahranlagen ","463","Befahranlagen","x","x",null,null,"IfcTransportElement","IfcTransportElement","Beförderungsgerät",null,200,200,300,null,null,null,null,"TGA"]
[464,"Transportanlagen ",464,"Transportanlagen ","464","Transportanlagen","x","x",null,null,"IfcTransportElement","IfcTransportElement","Beförderungsgerät",null,200,200,300,null,null,null,null,"TGA"]
[464,"Transportanlagen - Rohrpost",464,"Transportanlagen ","464","Transportanlagen","x","x",null,null,"IfcTransportElement","IfcTransportElement","Beförderungsgerät",null,200,200,300,null,null,null,null,"TGA"]
[465,"Krananlagen ",465,"Krananlagen ","465","Krananlagen","x","x",null,null,"IfcTransportElement/CRANEWAY","IfcTransportElement/CRANEWAY","Beförderungsgerät - Typ",null,200,200,300,null,null,null,null,"TGA"]
[null,null,466,"Hydraulikanlagen","466","Lifter","x","x",null,null,"IfcTransportElement","IfcTransportElement",null,null,200,200,300,null,null,null,null,"TGA"]
[469,"Förderanlagen, Sonstiges ",469,"Sonstiges zur KG 460 ","469","Förderanlagen, sonstiges",null,null,null,null,"IfcTransportElement","IfcTransportElement","Beförderungsgerät",null,200,200,300,null,null,null,null,"TGA"]
[469,"Förderanlagen, Sonstiges ",469,"Sonstiges zur KG 460 ","469.10","Hebebühnen","x","x",null,null,"IfcTransportElement/LIFTINGGEAR","IfcTransportElement/LIFTINGGEAR","Beförderungsgerät - Typ",null,null,null,null,null,null,null,null,"TGA"]
[469,"Förderanlagen, Sonstiges ",469,"Sonstiges zur KG 460 ","469.20","Mehrfachparker","x","x",null,null,"IfcTransportElement/LIFTINGGEAR","IfcTransportElement/LIFTINGGEAR","Beförderungsgerät - Typ",null,null,null,null,null,null,null,null,"TGA"]
[470,"Nutzerspezifische Anlagen ",470,"Nutzerspezifische und verfahrenstechnische Anlagen","470","Nutzungsspezifische Anlagen"]
[471,"Küchentechnische Anlagen ",471,"Küchentechnische Anlagen ","471","Küchentechnische Anlagen",null,null,null,null,null,null,null,null,200,200,300,null,null,null,null,"KPL"]
[471,"Küchentechnische Anlagen ",471,"Küchentechnische Anlagen ","471.10","Getränkeschankanlagen","x","x",null,null,"IfcDistributionFlowElement","IfcDistributionFlowElement","Komponente der TGA",null,null,null,null,null,null,null,null,"KPL"]
[471,"Küchentechnische Anlagen ",471,"Küchentechnische Anlagen ","471.11","Getränke-/Grundstoffbehälter","x","x","x",null,"IfcFlowStorageDevice","IfcTank","Tank",null,null,null,null,null,null,null,null,"KPL"]
[471,"Küchentechnische Anlagen ",471,"Küchentechnische Anlagen ","471.12","Druckgasflaschen für Getränkeschankanlagen","x","x","x",null,"IfcFlowStorageDevice","IfcTank/USERDEFINED","Tank",null,null,null,null,null,null,null,null,"KPL"]
[471,"Küchentechnische Anlagen ",471,"Küchentechnische Anlagen ","471.81","Geschirrspülmaschinen","x","x",null,null,"IfcElectricApplianceType","IfcElectricAppliance/DISHWASHER","elektrisches Gerät - Typ",null,null,null,null,null,null,null,null,"KPL"]
[471,"Küchentechnische Anlagen ",471,"Küchentechnische Anlagen ","471.82","Kühlraum","x",null,null,null,"IfcDistributionFlowElement","IfcDistributionFlowElement","Komponente der TGA",null,null,null,null,null,null,null,null,"KPL"]
[471,"Küchentechnische Anlagen ",471,"Küchentechnische Anlagen ","471.83","Kühlschränke","x",null,null,null,"IfcElectricApplianceType","IfcElectricAppliance/REFRIGERATOR","elektrisches Gerät - Typ",null,null,null,null,null,null,null,null,"KPL"]
[471,"Küchentechnische Anlagen ",471,"Küchentechnische Anlagen ","471.84","Kochgeräte","x",null,"x",null,"IfcDistributionFlowElement","IfcDistributionFlowElement","Komponente der TGA",null,null,null,null,null,null,null,null,"KPL"]
[471,"Küchentechnische Anlagen ",471,"Küchentechnische Anlagen ","471.85","Kaffeeautomat","x",null,"x",null,"IfcDistributionFlowElement","IfcDistributionFlowElement","Komponente der TGA",null,null,null,null,null,null,null,null,"KPL"]
[472,"Wäscherei‐ und Reinigungsanlagen ",472,"Wäscherei‐, Reinigungs- und badetechnische Anlagen","472","Wäscherei- und Reinigungsanlagen",null,null,null,null,null,null,null,null,200,200,300]
[472,"Wäscherei‐ und Reinigungsanlagen ",472,"Wäscherei‐, Reinigungs- und badetechnische Anlagen","472.10","Zentralstaubsauganlagen","x",null,null,null,"IfcDistributionFlowElement","IfcDistributionFlowElement","Komponente der TGA"]
[472,"Wäscherei‐ und Reinigungsanlagen ",472,"Wäscherei‐, Reinigungs- und badetechnische Anlagen","472.20","Waschmaschine","x",null,null,null,"IfcElectricApplianceType","IfcElectricAppliance/WASHINGMACHINE","elektrisches Gerät - Typ",null,null,null,null,null,null,null,null,"TGA-SA"]
[473,"Medienversorgungsanlagen ",473,"Medienversorgungsanlagen, Medizin- und labortechnische Anlagen","473","Medienversorgungsanlagen",null,null,null,null,"IfcDistributionFlowElement","IfcDistributionFlowElement","Komponente der TGA"]
[473,"Medienversorgungsanlagen ",473,"Medienversorgungsanlagen, Medizin- und labortechnische Anlagen","473.10","Druckluftversorgungsanlagen",null,null,null,null,"IfcDistributionFlowElement","IfcDistributionFlowElement","Komponente der TGA",null,200,200,300,null,null,null,null,"TGA-SA"]
[473,"Medienversorgungsanlagen ",473,"Medienversorgungsanlagen, Medizin- und labortechnische Anlagen","473.11","Drucklufterzeuger","x","x",null,null,"IfcFlowMovingDevice","IfcCompressor","Kompressor",null,200,200,300,null,null,null,null,"TGA-SA"]
[473,"Medienversorgungsanlagen ",473,"Medienversorgungsanlagen, Medizin- und labortechnische Anlagen","473.12","Druckluftbehälter","x","x",null,null,"IfcFlowStorageDevice","IfcTank","Tank",null,200,200,300,null,null,null,null,"TGA-SA"]
[473,"Medienversorgungsanlagen ",473,"Medienversorgungsanlagen, Medizin- und labortechnische Anlagen","473.13","Druckluftaufbereitung und -verteilung","x","x",null,"Aufbereitung ja / Rohrnetz nein","IfcDistributionFlowElement","IfcDistributionFlowElement","Komponente der TGA",null,200,200,300,null,null,null,null,"TGA-SA"]
[473,"Medienversorgungsanlagen ",473,"Medienversorgungsanlagen, Medizin- und labortechnische Anlagen","473.20","Versorgungsanlagen für technische Gase","x","x",null,null,"IfcDistributionFlowElement","IfcDistributionFlowElement","Komponente der TGA",null,200,200,300,null,null,null,null,"TGA-SA"]
[473,"Medienversorgungsanlagen ",473,"Medienversorgungsanlagen, Medizin- und labortechnische Anlagen","473.30","Sauerstoffversorgungsanlage","x","x",null,null,"IfcDistributionElement","IfcMedicalDevice/OXYGENPLANT","medizinisches Gerät - Typ",null,200,200,300,null,null,null,null,"TGA-SA"]
[473,"Medienversorgungsanlagen ",473,"Medienversorgungsanlagen, Medizin- und labortechnische Anlagen","474","Medizin- und labortechnische Anlagen",null,null,null,null,"IfcDistributionElement","IfcMedicalDevice","medizinisches Gerät",null,200,200,300,null,null,null,null,"MTK"]
[474,"Medizin- und labortechnische Anlagen",474,"Feuerlöschanlagen","475","Feuerlöschanlagen",null,null,null,null,"IfcFlowTerminal","IfcFireSuppressionTerminal","Feuerlöscheinrichtung",null,null,null,null,null,null,null,null,"TGA"]
[null,null,475,"Feuerlöschanlagen","475.10","Wasser-Löschanlagen","x","x",null,null,"IfcFlowTerminal","IfcFireSuppressionTerminal","Feuerlöscheinrichtung",null,200,200,300,null,null,null,null,"TGA"]
[null,null,476,"Feuerlöschanlagen","475.20","Gas-Löschanlagen","x",null,null,null,"IfcFlowTerminal","IfcFireSuppressionTerminal","Feuerlöscheinrichtung",null,200,200,300,null,null,null,null,"TGA"]
[null,null,477,"Feuerlöschanlagen","475.30","Sonstige Löschanlagen","x","x",null,null,"IfcFlowTerminal","IfcFireSuppressionTerminal","Feuerlöscheinrichtung",null,200,200,300,null,null,null,null,"TGA"]
[null,null,478,"Feuerlöschanlagen","475.40","Feuerlöscher","x","x","x",null,"IfcFlowTerminal","IfcFireSuppressionTerminal","Feuerlöscheinrichtung",null,200,200,300,null,null,null,null,"TGA"]
[null,null,479,"Feuerlöschanlagen","475.50","Hydrantenanlagen","x","x",null,null,"IfcFlowTerminal","IfcFireSuppressionTerminal/FIREHYDRANT","Feuerlöscheinrichtung - Typ",null,200,200,300,null,null,null,null,"TGA"]
[null,null,480,"Feuerlöschanlagen","475.60","Löschdecken","x",null,"x",null,"IfcFlowTerminal","IfcFireSuppressionTerminal","Feuerlöscheinrichtung",null,200,200,300,null,null,null,null,"TGA"]
[475,"Feuerlöschanlagen",475,"Prozesswärme-, kälte- und -luftanlagen","477","Prozesswärme-, kälte- und -luftanlagen",null,null,null,null,"IfcDistributionFlowElement","IfcDistributionFlowElement","Komponente der TGA",null,200,200,300,null,null,null,null,"TGA-LÜ"]
[476,"Badetechnische Anlagen ",476,"Weitere nutzungsspezifische Anlagen","476","Badetechnische Anlagen",null,null,null,null,null,null,null,null,200,200,300,null,null,null,null,"TGA-SA"]
[476,"Badetechnische Anlagen ",476,"Weitere nutzungsspezifische Anlagen","476.10","Aufbereitungs- / Desinfektionsanlagen","x","x",null,null,"IfcDistributionFlowElement","IfcDistributionFlowElement","Komponente der TGA",null,null,null,null,null,null,null,null,"TGA-SA"]
[476,"Badetechnische Anlagen ",476,"Weitere nutzungsspezifische Anlagen","476.20","Wasserspeicher / Ausgleichsbehälter","x","x",null,null,"IfcFlowStorageDevice","IfcTank","Tank",null,null,null,null,null,null,null,null,"TGA-SA"]
[476,"Badetechnische Anlagen ",476,"Weitere nutzungsspezifische Anlagen","476.30","Badetechnische Einbauten",null,null,null,null,"IfcDistributionFlowElement","IfcDistributionFlowElement","Komponente der TGA",null,null,null,null,null,null,null,null,"TGA-SA"]
[476,"Badetechnische Anlagen ",476,"Weitere nutzungsspezifische Anlagen","476.31","Hubbadewannen","x","x",null,null,"IfcFlowTerminal","IfcSanitaryTerminal/BATH","Sanitäreinrichtung - Typ",null,null,null,null,null,null,null,null,"TGA-SA"]
[476,"Badetechnische Anlagen ",476,"Weitere nutzungsspezifische Anlagen","476.32","Steckbeckenspüler","x","x",null,null,"IfcFlowTerminal","IfcSanitaryTerminal/SINK","Sanitäreinrichtung - Typ",null,null,null,null,null,null,null,null,"TGA-SA"]
[476,"Badetechnische Anlagen ",476,"Weitere nutzungsspezifische Anlagen","476.40","Filteranlagen","x","x",null,null,"IfcFlowTreatmentDevice ","IfcFilter","Filter",null,null,null,null,null,null,null,null,"TGA-SA"]
[476,"Badetechnische Anlagen ",476,"Weitere nutzungsspezifische Anlagen","476.50","Gegenstrom-Schwimmanlage",null,null,null,null,"IfcDistributionFlowElement","IfcDistributionFlowElement","Komponente der TGA",null,null,null,null,null,null,null,null,"TGA-SA"]
[477,"Kälteanlagen ",477,"Verfahrenstechnische Anlagen, Wasser, Abwasser und Gase","477","Prozesswärme-, kälte- und -luftanlagen",null,null,null,null,"IfcDistributionFlowElement","IfcDistributionFlowElement","Komponente der TGA",null,200,200,300,null,null,null,null,"TGA-LÜ"]
[478,"Entsorgungsanlagen ",478,"Verfahrenstechnische Anlagen, Feststoffe, Wertstoffe und Abfälle","478","Entsorgungsanlagen","x","x",null,null,"IfcDistributionFlowElement","IfcDistributionFlowElement","Komponente der TGA",null,200,200,300,null,null,null,null,"TGA"]
[479,"Nutzungsspezifische Anlagen, Sonstiges ",479,"Sonstiges zur KG 470","479","Nutzungsspezifische Anlagen, sonstiges",null,null,null,null,"IfcDistributionFlowElement","IfcDistributionFlowElement","Komponente der TGA",null,200,200,300,null,null,null,null,"TGA"]
[480,"Gebäudeautomation ",480,"Gebäude- und Anlagenautomation",480,"Gebäudeautomation"]
[481,"Automationssysteme ",481,"Automationseinrichtungen","481","Automationssysteme",null,null,null,null,"IfcDistributionFlowElement","IfcDistributionFlowElement","Komponente der TGA",null,null,null,null,null,null,null,null,"TGA-EL"]
[481,"Automationssysteme ",481,"Automationseinrichtungen","481.10","Feldgeräte","x","x",null,null,"IfcDistributionControlElement","IfcActuator","Aktor",null,200,200,300,null,null,null,null,"TGA-EL"]
[481,"Automationssysteme ",481,"Automationseinrichtungen","481.20","Regler","x",null,null,null,"IfcDistributionControlElement","IfcController","Regler",null,200,200,300,null,null,null,null,"TGA-EL"]
[482,"Leistungsteile ",482,"Schaltschränke, Automationsschwerpunkte","482","Schaltschränke","x","x",null,null,"IfcDistributionControlElement","IfcElectricDistributionBoard","elektrischer Verteilungsregler",null,200,200,300,null,null,null,null,"TGA-EL"]
[483,"Zentrale Einrichtungen ",483,"Automationsmanagement","483","Management- und Bedieneinrichtungen",null,null,null,null,"IfcDistributionFlowElement","IfcDistributionFlowElement","Komponente der TGA",null,200,200,300,null,null,null,null,"TGA-EL"]
[483,"Zentrale Einrichtungen ",483,"Automationsmanagement","483.10","Zentraleinheit (Rechner)","x","x",null,null,"IfcDistributionElement","IfcCommunicationsAppliance","Kommunikationsgerät",null,null,null,null,null,null,null,null,"TGA-EL"]
[483,"Zentrale Einrichtungen ",483,"Automationsmanagement","483.20","Peripheriegeräte","x","x",null,null,"IfcDistributionElement","IfcCommunicationsAppliance","Kommunikationsgerät",null,null,null,null,null,null,null,null,"TGA-EL"]
[483,"Zentrale Einrichtungen ",483,"Automationsmanagement","483.21","Eingabegeräte",null,null,null,null,"IfcDistributionElement","IfcCommunicationsAppliance","Kommunikationsgerät",null,null,null,null,null,null,null,null,"TGA-EL"]
[483,"Zentrale Einrichtungen ",483,"Automationsmanagement","483.22","Ausgabe- und Anzeigegeräte",null,null,null,null,"IfcDistributionElement","IfcCommunicationsAppliance","Kommunikationsgerät",null,null,null,null,null,null,null,null,"TGA-EL"]
[483,"Zentrale Einrichtungen ",483,"Automationsmanagement","483.23","Externe Speicher",null,null,null,null,"IfcDistributionElement","IfcCommunicationsAppliance","Kommunikationsgerät",null,null,null,null,null,null,null,null,"TGA-EL"]
[483,"Zentrale Einrichtungen ",483,"Automationsmanagement","483.30","Unterzentralen","x",null,null,null,"IfcDistributionElement","IfcElectricDistributionBoard","elektrischer Verteilungsregler",null,null,null,null,null,null,null,null,"TGA-EL"]
[483,"Zentrale Einrichtungen ",483,"Automationsmanagement","483.40","Software",null,null,null,null,"IfcDistributionFlowElement","IfcDistributionFlowElement","Komponente der TGA",null,null,null,null,null,null,null,null,"TGA-EL"]
[null,null,483,"Automationsmanagement","484","Raumautomationssysteme","x","x",null,null,"IfcDistributionFlowElement","IfcDistributionFlowElement","Komponente der TGA",null,200,200,300,null,null,null,null,"TGA-EL"]
[null,null,485,"Datenübertragungsnetze","485","Übertragungsnetze",null,null,null,null,"IfcDistributionFlowElement","IfcDistributionFlowElement","Komponente der TGA",null,200,200,300,null,null,null,null,"TGA-EL"]
[489,"Gebäudeautomation, Sonstiges ",489,"Sonstiges zur KG 480","489","Gebäudeautomation, sonstiges",null,null,null,null,"IfcDistributionFlowElement","IfcDistributionFlowElement","Komponente der TGA",null,200,200,300,null,null,null,null,"TGA-EL"]
[490,"Sonstige Maßnahmen für technische Anlagen ",490,"Sonstige Maßnahmen für technische Anlagen "]
[500,"Aussenanlagen",500,"Aussenanlagen und Freiflächen","500","Aussenanlagen"]
[510,"Geländeflächen",510,"Erdbau","510","Geländeflächen",null,null,null,null,"IfcBuildingElementProxy","IfcBuildingElementProxy","Bauteil - beliebig"]
[511,"Oberbodenarbeiten ",511,"Herstellung","511","Oberboden",null,null,null,null,"IfcBuildingElementProxy","IfcBuildingElementProxy","Bauteil - beliebig"]
[512,"Bodenarbeiten ",512,"Umschließung","512","Boden",null,null,null,null,"IfcBuildingElementProxy","IfcBuildingElementProxy","Bauteil - beliebig"]
[519,"Geländeflächen, sonstiges",519,"Sonstiges KG 510","519","Geländeflächen, sonstiges",null,null,null,null,"IfcBuildingElementProxy","IfcBuildingElementProxy","Bauteil - beliebig"]
[520,"Befestigte Flächen",520,"Gründung, Unterbau"]
[521,"Wege ",521,"Baugrundverbesserung"]
[522,"Straßen ",522,"Gründungen und Bodenplatten"]
[523,"Plätze, Höfe ",523,"Gründungsbeläge"]
[524,"Stellplätze ",524,"Abdichtung und Bekleidung"]
[525,"Sportplatzfiächen ",525,"Dränagen"]
[526,"Spielplatzfiächen"]
[527,"Gleisanlagen"]
[529,"Befestigte Flächen, sonstiges",529,"Sonstiges zur KG 520"]
[530,"Baukonstruktionen in Außenanlagen",530,"Oberbau, Deckschichten","520","Befestigte Flächen"]
[531,"Einfriedungen ",531,"Wege","521","Wege",null,null,null,null,"IfcBuildingElementProxy","IfcBuildingElementProxy","Bauteil - beliebig",null,null,null,null,null,null,null,null,"LPL"]
[532,"Schutzkonstruktionen ",532,"Straßen","522","Straßen",null,null,null,null,"IfcBuildingElementProxy","IfcBuildingElementProxy","Bauteil - beliebig",null,null,null,null,null,null,null,null,"LPL"]
[533,"Mauern, Wände ",533,"Plätze, Höfe, Terassen","523","Plätze, Höfe",null,null,null,null,"IfcBuildingElementProxy","IfcBuildingElementProxy","Bauteil - beliebig",null,null,null,null,null,null,null,null,"LPL"]
[534,"Rampen, Treppen, Tribünen ",534,"Stellplätze","524","Stellplätze",null,null,null,null,"IfcBuildingElementProxy","IfcBuildingElementProxy","Bauteil - beliebig",null,null,null,null,null,null,null,null,"LPL"]
[535,"Überdachungen ",535,"Sportplatzflächen","525","Sportplatzflächen",null,null,null,null,"IfcBuildingElementProxy","IfcBuildingElementProxy","Bauteil - beliebig",null,null,null,null,null,null,null,null,"LPL"]
[536,"Brücken, Stege ",536,"Spielplatzflächen","526","Spielplatzflächen",null,null,null,null,"IfcBuildingElementProxy","IfcBuildingElementProxy","Bauteil - beliebig",null,null,null,null,null,null,null,null,"LPL"]
[null,null,536,"Spielplatzflächen","526.10","Spielplatzgeräte",null,null,null,null,"IfcBuildingElementProxy","IfcBuildingElementProxy","Bauteil - beliebig",null,null,null,null,null,null,null,null,"LPL"]
[537,"Kanal- und Schachtbauanlagen ",537,"Gleisanlagen","527","Gleisanlagen",null,null,null,null,"IfcBuildingElementProxy","IfcBuildingElementProxy","Bauteil - beliebig"]
[538,"Wasserbauliche Anlagen ",538,"Flugplatzflächen","528","Nutzungsspezifisch befestigte Flächen",null,null,null,null,"IfcBuildingElementProxy","IfcBuildingElementProxy","Bauteil - beliebig"]
[null,null,538,"Flugplatzflächen","528.10","Flächen für die Feuerwehr",null,null,null,null,"IfcBuildingElementProxy","IfcBuildingElementProxy","Bauteil - beliebig",null,null,null,null,null,null,null,null,"LPL"]
[null,null,538,"Flugplatzflächen","528.20","Bahnsteige",null,null,null,null,"IfcBuildingElementProxy","IfcBuildingElementProxy","Bauteil - beliebig"]
[null,null,538,"Flugplatzflächen","528.30","Flugbetriebsflächen",null,null,null,null,"IfcBuildingElementProxy","IfcBuildingElementProxy","Bauteil - beliebig"]
[539,"Baukonstruktionen in Außenanlagen, sonstiges",539,"Sonstiges zur KG 530","529","Befestigte Flächen, sonstiges",null,null,null,null,"IfcBuildingElementProxy","IfcBuildingElementProxy","Bauteil - beliebig"]
[540,"Technische Anlagen in Außenanlagen ",540,"Baukonstruktionen","530","Baukonstruktionen in Außenanlagen"]
[541,"Abwasseranlagen ",541,"Einfriedungen","531","Einfriedungen",null,null,null,null,"IfcBuildingElementProxy","IfcBuildingElementProxy","Bauteil - beliebig"]
[null,null,541,"Einfriedungen","531.10","Mauern, Zäune",null,null,null,null,"IfcBuildingElementProxy","IfcBuildingElementProxy","Bauteil - beliebig"]
[null,null,541,"Einfriedungen","531.20","Türen in Einfriedung",null,null,null,null,"IfcDoor","IfcDoor","Tür"]
[null,null,541,"Einfriedungen","531.25","Tore in Einfriedung",null,null,null,null,"IfcDoor","IfcDoor","Tür"]
[null,null,541,"Einfriedungen","531.30","Schrankenanlagen",null,null,null,null,"IfcBuildingElementProxy","IfcBuildingElementProxy","Bauteil - beliebig"]
[null,null,541,"Einfriedungen","531.40","Wegesperren",null,null,null,null,"IfcBuildingElementProxy","IfcBuildingElementProxy","Bauteil - beliebig"]
[542,"Wasseranlagen ",542,"Schutzkonstruktionen","532","Schutzkonstruktionen",null,null,null,null,"IfcBuildingElementProxy","IfcBuildingElementProxy","Bauteil - beliebig"]
[543,"Gasanlagen ",543,"Wandkonstruktionen","533","Mauern, Wände",null,null,null,null,"IfcBuildingElementProxy","IfcBuildingElementProxy","Bauteil - beliebig"]
[544,"Wärmeversorgungsanlagen",544,"Rampen, Treppen, Tribünen","534","Rampen, Treppen, Tribünen",null,null,null,null,"IfcBuildingElementProxy","IfcBuildingElementProxy","Bauteil - beliebig"]
[545,"Lufttechnische Anlagen ",545,"Überdachungen","535","Überdachungen",null,null,null,null,"IfcBuildingElementProxy","IfcBuildingElementProxy","Bauteil - beliebig"]
[546,"Starkstromanlagen ",546,"Stege","536","Brücken, Stege",null,null,null,null,"IfcBuildingElementProxy","IfcBuildingElementProxy","Bauteil - beliebig"]
[547,"Fernmelde- und informationstechnische Anlagen ",547,"Kanal- und Schachtkonstruktionen","537","Kanal- und Schachtbauanlagen",null,null,null,null,"IfcBuildingElementProxy","IfcBuildingElementProxy","Bauteil - beliebig"]
[null,null,547,"Kanal- und Schachtkonstruktionen","537.10","Kanalisationsleitungen, Abwasserleitungen","x",null,null,null,"IfcDistributionFlowElement","IfcPipeSegment","Rohr"]
[null,null,547,"Kanal- und Schachtkonstruktionen","537.11","Mischwasserleitungen","x",null,null,null,"IfcDistributionFlowElement","IfcPipeSegment","Rohr"]
[null,null,547,"Kanal- und Schachtkonstruktionen","537.12","Schmutzwasserleitungen","x",null,null,null,"IfcDistributionFlowElement","IfcPipeSegment","Rohr"]
[null,null,547,"Kanal- und Schachtkonstruktionen","537.13","Regenwasserleitungen","x",null,null,null,"IfcDistributionFlowElement","IfcPipeSegment","Rohr"]
[null,null,547,"Kanal- und Schachtkonstruktionen","537.20","Kanalisationsschächte","x",null,null,null,"IfcDistributionChamberElement","IfcDistributionChamberElement","Schacht / Graben / Revisionsschacht"]
[548,"Nutzungsspezifische Anlagen ",548,"Wasserbecken","538","Wasserbauliche Anlagen",null,null,null,null,"IfcBuildingElementProxy","IfcBuildingElementProxy","Bauteil - beliebig"]
[548,"Nutzungsspezifische Anlagen ",548,"Wasserbecken","538.20","Löschwasser-Rückhaltebecken","x",null,null,null,"IfcBuildingElementProxy","IfcBuildingElementProxy","Bauteil - beliebig"]
[548,"Nutzungsspezifische Anlagen ",548,"Wasserbecken","538.40","Brunnen","x","x",null,null,"IfcBuildingElementProxy","IfcBuildingElementProxy","Bauteil - beliebig"]
[548,"Nutzungsspezifische Anlagen ",548,"Wasserbecken","538.41","Zierbrunnen","x","x",null,null,"IfcBuildingElementProxy","IfcBuildingElementProxy","Bauteil - beliebig"]
[549,"Technische Anlagen in Außenanlagen, sonstiges",549,"Sonstiges zur KG 540","539","Baukonstruktionen in Außenanlagen, sonstiges",null,null,null,null,"IfcBuildingElementProxy","IfcBuildingElementProxy","Bauteil - beliebig"]
[null,null,549,"Sonstiges zur KG 540","539.10","Freistehende Schornsteine",null,null,null,null,"IfcBuildingElement","IfcChimney","Schornstein"]
[null,null,549,"Sonstiges zur KG 540","539.11","Freistehende Mauerwerksschornsteine",null,null,null,null,"IfcBuildingElement","IfcChimney","Schornstein"]
[null,null,549,"Sonstiges zur KG 540","539.12","Freistehende Stahlschornsteine",null,null,null,null,"IfcBuildingElement","IfcChimney","Schornstein"]
[550,"Einbauten in Außenanlagen",550,"Technische Anlagen","540","Technische Anlagen in Außenanlagen"]
[551,"Allgemeine Einbauten ",551,"Abwasseranlagen","541","Abwasseranlagen, Grundstücksentwässerungsanlagen",null,null,null,null,"IfcBuildingElementProxy","IfcBuildingElementProxy","Bauteil - beliebig"]
[null,null,551,"Abwasseranlagen","541.10","Kleinkläranlagen","x","x",null,null,"IfcBuildingElementProxy","IfcBuildingElementProxy","Bauteil - beliebig"]
[null,null,551,"Abwasseranlagen","541.20","Sammelgruben","x",null,null,null,"IfcBuildingElementProxy","IfcBuildingElementProxy","Bauteil - beliebig"]
[null,null,551,"Abwasseranlagen","541.60","Abscheideranlagen",null,null,null,null,"IfcFlowTreatmentDevice ","IfcInterceptor","Abscheider"]
[null,null,551,"Abwasseranlagen","541.61","Abscheideranlagen für Leichtflüssigkeiten","x","x",null,null,"IfcFlowTreatmentDevice ","IfcInterceptor","Abscheider"]
[null,null,551,"Abwasseranlagen","541.62","Abscheideranlagen für Fette","x","x",null,null,"IfcFlowTreatmentDevice ","IfcInterceptor/GREASE","Abscheider - Typ"]
[null,null,551,"Abwasseranlagen","541.63","Abscheideranlagen für Stärke","x","x",null,null,"IfcFlowTreatmentDevice ","IfcInterceptor","Abscheider"]
[null,null,551,"Abwasseranlagen","541.64","Sand- und Schlammfänge","x","x",null,null,"IfcFlowTreatmentDevice ","IfcInterceptor","Abscheider"]
[552,"Besondere Einbauten ",552,"Wasseranlagen","542","Wasseranlagen","x","x",null,null,"IfcBuildingElementProxy","IfcBuildingElementProxy","Bauteil - beliebig"]
[null,null,553,"Anlagen für Gase und Flüssigkeiten","543","Gasanlagen",null,null,null,null,"IfcBuildingElementProxy","IfcBuildingElementProxy","Bauteil - beliebig"]
[null,null,553,"Anlagen für Gase und Flüssigkeiten","543.20","Flüssiggasanlagen","x","x",null,null,"IfcBuildingElementProxy","IfcBuildingElementProxy","Bauteil - beliebig"]
[null,null,553,"Anlagen für Gase und Flüssigkeiten","543.21","Flüssiggastanks","x","x",null,null,"IfcFlowStorageDevice","IfcTank","Tank"]
[null,null,554,"Wärmeversorgungsanlagen","544","Wärmeversorgungsanlagen",null,null,null,null,"IfcBuildingElementProxy","IfcBuildingElementProxy","Bauteil - beliebig"]
[null,null,555,"Raumlufttechnische Anlagen","545","Lufttechnische Anlagen",null,null,null,null,"IfcBuildingElementProxy","IfcBuildingElementProxy","Bauteil - beliebig"]
[null,null,556,"Elektrische Anlagen","546","Starkstromanlagen",null,null,null,null,"IfcBuildingElementProxy","IfcBuildingElementProxy","Bauteil - beliebig"]
[null,null,556,"Elektrische Anlagen","546.50","Außenbeleuchtungsanlagen","x","x",null,null,"IfcBuildingElementProxy","IfcBuildingElementProxy","Bauteil - beliebig"]
[null,null,557,"Kommunikations-, sicherheits- und informationstechnische Anlagen, Automation","547","Fernmelde- und informationstechnische Anlagen",null,null,null,null,"IfcBuildingElementProxy","IfcBuildingElementProxy","Bauteil - beliebig"]
[null,null,557,"Kommunikations-, sicherheits- und informationstechnische Anlagen, Automation","547.10","Antennenanlagen","x","x",null,null,"IfcBuildingElementProxy","IfcBuildingElementProxy","Bauteil - beliebig"]
[null,null,557,"Kommunikations-, sicherheits- und informationstechnische Anlagen, Automation","547.11","Antennenanlagen (bis 10 m Höhe)","x","x",null,null,"IfcBuildingElementProxy","IfcBuildingElementProxy","Bauteil - beliebig"]
[null,null,557,"Kommunikations-, sicherheits- und informationstechnische Anlagen, Automation","547.12","Antennenanlagen (über 10 m Höhe)","x","x",null,null,"IfcBuildingElementProxy","IfcBuildingElementProxy","Bauteil - beliebig"]
[null,null,557,"Kommunikations-, sicherheits- und informationstechnische Anlagen, Automation","547.20","Verkehrssignalanlagen","x","x",null,null,"IfcBuildingElementProxy","IfcBuildingElementProxy","Bauteil - beliebig"]
[null,null,558,"Nutzungsspezifische Anlagen","548","Nutzungsspezifische Anlagen",null,null,null,null,"IfcBuildingElementProxy","IfcBuildingElementProxy","Bauteil - beliebig"]
[null,null,558,"Nutzungsspezifische Anlagen","548.10","Medienversorgungsanlagen","x","x",null,null,"IfcBuildingElementProxy","IfcBuildingElementProxy","Bauteil - beliebig"]
[null,null,558,"Nutzungsspezifische Anlagen","548.20","Tankläger","x","x",null,null,"IfcFlowStorageDevice","IfcTank","Tank"]
[null,null,558,"Nutzungsspezifische Anlagen","548.21","Tankläger < 10.000 l","x","x",null,null,"IfcFlowStorageDevice","IfcTank","Tank"]
[null,null,558,"Nutzungsspezifische Anlagen","548.22","Tankläger > 10.000 l","x","x",null,null,"IfcFlowStorageDevice","IfcTank","Tank"]
[null,null,558,"Nutzungsspezifische Anlagen","548.30","Tankstellenanlagen","x","x",null,null,"IfcBuildingElementProxy","IfcBuildingElementProxy","Bauteil - beliebig"]
[null,null,558,"Nutzungsspezifische Anlagen","548.40","Flugfeldbetankungsanlagen","x","x",null,null,"IfcBuildingElementProxy","IfcBuildingElementProxy","Bauteil - beliebig"]
[559,"Einbauten In Außenanlagen, sonstiges",559,"Sonstiges zur KG 550","549","Technische Anlagen in Außenanlagen, sonstiges",null,null,null,null,"IfcBuildingElementProxy","IfcBuildingElementProxy","Bauteil - beliebig"]
[560,"Wasserflächen ",560,"Einbauten in Außenanlagen und Freiflächen","550","Einbauten in Außenanlagen"]
[561,"Abdlchtungen ",561,"Allgemeine Einbauten ","551","Allgemeine Einbauten",null,null,null,null,"IfcBuildingElementProxy","IfcBuildingElementProxy","Bauteil - beliebig",null,null,null,null,null,null,null,null,"LPL"]
[null,null,561,"Allgemeine Einbauten ","551.20","Fahrradständer","x","x",null,null,"IfcBuildingElementProxy","IfcBuildingElementProxy","Bauteil - beliebig",null,null,null,null,null,null,null,null,"LPL"]
[562,"Bepfianzungen",562,"Besondere Einbauten ","552","Besondere Einbauten",null,null,null,null,"IfcBuildingElementProxy","IfcBuildingElementProxy","Bauteil - beliebig",null,null,null,null,null,null,null,null,"LPL"]
[569,"Wasserflächen, sonstiges",569,"Sonstiges zur KG 560","559","Einbauten in Außenanlagen, sonstiges",null,null,null,null,"IfcBuildingElementProxy","IfcBuildingElementProxy","Bauteil - beliebig",null,null,null,null,null,null,null,null,"LPL"]
[570,"Pflanz- und Saatflächen",570,"Vegetationsflächen","570","Pflanz- und Saatflächen",null,null,null,null,null,null,null,null,null,null,null,null,null,null,null,"LPL"]
[571,"Oberbodenarbeiten ",571,"Vegetationstechnische Bodenbearbeitung","571","Oberbodenarbeiten",null,null,null,null,"IfcBuildingElementProxy","IfcBuildingElementProxy","Bauteil - beliebig",null,null,null,null,null,null,null,null,"LPL"]
[null,null,571,"Vegetationstechnische Bodenbearbeitung","572","Vegetationstechnische Bodenbearbeitung"]
[572,"Vegetationstechnische Bodenbearbeitung",572,"Sicherungsbauweisen ","573","Sicherungsbauweisen",null,null,null,null,"IfcBuildingElementProxy","IfcBuildingElementProxy","Bauteil - beliebig",null,null,null,null,null,null,null,null,"LPL"]
[573,"Sicherungsbauweisen ",573,"Pflanzflächen","574","Pflanzen",null,null,null,null,"IfcBuildingElementProxy","IfcBuildingElementProxy","Bauteil - beliebig",null,null,null,null,null,null,null,null,"LPL"]
[574,"Pflanzen ",573,"Pflanzflächen","574.10","Bäume","x",null,null,null,"IfcBuildingElementProxy","IfcBuildingElementProxy","Bauteil - beliebig",null,null,null,null,null,null,null,null,"LPL"]
[574,"Pflanzen ",573,"Pflanzflächen","574.20","Büsche, Sträucher","x",null,null,null,"IfcBuildingElementProxy","IfcBuildingElementProxy","Bauteil - beliebig",null,null,null,null,null,null,null,null,"LPL"]
[575,"Rasen und Ansaaten ",574,"Rasen- und Saatflächen","575","Rasen und Ansaaten",null,null,null,null,"IfcBuildingElementProxy","IfcBuildingElementProxy","Bauteil - beliebig",null,null,null,null,null,null,null,null,"LPL"]
[576,"Begrünung unterbauter Flächen ",null,null,"576","Begrünung unterbauter Flächen",null,null,null,null,"IfcBuildingElementProxy","IfcBuildingElementProxy","Bauteil - beliebig",null,null,null,null,null,null,null,null,"LPL"]
[579,"Pflanz- und Saatflächen, sonstiges",579,"Sonstiges zur KG 580","579","Pflanz- und Saatflächen, sonstiges",null,null,null,null,"IfcBuildingElementProxy","IfcBuildingElementProxy","Bauteil - beliebig",null,null,null,null,null,null,null,null,"LPL"]
[null,null,580,"Wasserflächen","560","Wasserflächen"]
[null,null,582,"Abdichtungen","561","Abdichtungen"]
[null,null,583,"Bepflanzungen","562","Bepflanzungen"]
[null,null,589,"Sonstiges zur KG 580","569","Wasserflächen, sonstiges"]
[590,"Sonstige Außenanlagen ",590,"Sonstige Maßnahmen für Außenanlagen und Freiflächen"]
[591,"Baustelleneinrichtung ",591,"Baustelleneinrichtung "]
[592,"Gerüste",592,"Gerüste"]
[593,"Sicherungsmaßnahmen ",593,"Sicherungsmaßnahmen "]
[594,"Abbruchmaßnahmen ",594,"Abbruchmaßnahmen "]
[595,"Instandsetzungen ",595,"Instandsetzungen "]
[596,"Materialentsorgung ",596,"Materialentsorgung "]
[597,"Zusätzliche Maßnahmen ",597,"Zusätzliche Maßnahmen "]
[598,"Provisorische Außenanlagen ",598,"Provisorische Außenanlagen und Freiflächen"]
[599,"Sonstige Maßnahmen für Außenanlagen, sonstiges",599,"Sonstiges zur KG 590","590","Sonstige Außenanlagen",null,null,null,null,"IfcBuildingElementProxy","IfcBuildingElementProxy","Bauteil - beliebig"]
[600,"Ausstattung und Kunstwerke ",600,"Ausstattung und Kunstwerke ","600","Ausstattung"]
[610,"Ausstattung",610,"Allgemeine Ausstattung ","610","Ausstattung"]
[611,"Allgemeine Ausstattung ",null,null,"611","Möbel/Inventar",null,null,null,null,"IfcFurnishingElement ","IfcFurnishingElement","Ausstattung / Möbel",null,null,null,null,null,null,null,null,"ARC-MP"]
[611,"Allgemeine Ausstattung ",null,null,"611.10","Unterbringungsmöbel",null,null,null,null,"IfcFurnishingElement ","IfcFurnishingElement","Ausstattung / Möbel",null,null,null,null,null,null,null,null,"ARC-MP"]
[611,"Allgemeine Ausstattung ",null,null,"611.20","Tische",null,null,null,null,"IfcFurnishingElement ","IfcFurnishingElement","Ausstattung / Möbel",null,null,null,null,null,null,null,null,"ARC-MP"]
[611,"Allgemeine Ausstattung ",null,null,"611.30","Stühle",null,null,null,null,"IfcFurnishingElement ","IfcFurnishingElement","Ausstattung / Möbel",null,null,null,null,null,null,null,null,"ARC-MP"]
[611,"Allgemeine Ausstattung ",null,null,"611.40","Gartengeräte",null,null,null,null,"IfcBuildingElementProxy","IfcBuildingElementProxy","Bauteil - beliebig"]
[611,"Allgemeine Ausstattung ",null,null,"611.41","Rasenmäher",null,null,null,null,"IfcBuildingElementProxy","IfcBuildingElementProxy","Bauteil - beliebig"]
[611,"Allgemeine Ausstattung ",null,null,"611.42","Gartengeräte",null,null,null,null,"IfcBuildingElementProxy","IfcBuildingElementProxy","Bauteil - beliebig"]
[612,"Besondere Ausstattung ",null,null,"612","Elektrische Geräte",null,null,null,null,"IfcBuildingElementProxy","IfcBuildingElementProxy","Bauteil - beliebig"]
[612,"Besondere Ausstattung ",null,null,"612.21","Steh- und Tischlampen",null,null,null,null,"IfcBuildingElementProxy","IfcBuildingElementProxy","Bauteil - beliebig"]
[612,"Besondere Ausstattung ",null,null,"612.22","Steh- und Tischventilatoren",null,null,null,null,"IfcBuildingElementProxy","IfcBuildingElementProxy","Bauteil - beliebig"]
[612,"Besondere Ausstattung ",null,null,"612.29","Elektrische Verlängerungs- und Geräteanschlussleit",null,null,null,null,"IfcBuildingElementProxy","IfcBuildingElementProxy","Bauteil - beliebig"]
[null,null,null,null,"613","EDV-Ausstattung",null,null,null,null,"IfcDistributionElement","IfcCommunicationsAppliance","Kommunikationsgerät"]
[null,null,null,null,"613.10","PCs, Server",null,null,null,null,"IfcDistributionElement","IfcCommunicationsAppliance","Kommunikationsgerät"]
[null,null,null,null,"613.20","Bildschirme, Monitore, Displays, Sichtgeräte, Beam",null,null,null,null,"IfcDistributionElement","IfcCommunicationsAppliance","Kommunikationsgerät"]
[null,null,null,null,"613.30","Tastaturen, Tableaus, Eingabe-, Bediengeräte",null,null,null,null,"IfcDistributionElement","IfcCommunicationsAppliance","Kommunikationsgerät"]
[null,null,null,null,"613.40","Drucker, Plotter, Ausgabegeräte",null,null,null,null,"IfcDistributionElement","IfcCommunicationsAppliance","Kommunikationsgerät"]
[null,null,null,null,"614","Werkstattausrüstung",null,null,null,null,"IfcBuildingElementProxy","IfcBuildingElementProxy","Bauteil - beliebig"]
[null,null,null,null,"614.10","Mechanische Handwerkzeuge",null,null,null,null,"IfcBuildingElementProxy","IfcBuildingElementProxy","Bauteil - beliebig"]
[null,null,null,null,"614.20","Elektrische Handwerkzeuge",null,null,null,null,"IfcBuildingElementProxy","IfcBuildingElementProxy","Bauteil - beliebig"]
[null,null,null,null,"614.30","Elektrische Messgeräte",null,null,null,null,"IfcBuildingElementProxy","IfcBuildingElementProxy","Bauteil - beliebig"]
[null,null,null,null,"614.40","Ortsfeste Werkzeugmaschinen",null,null,null,null,"IfcBuildingElementProxy","IfcBuildingElementProxy","Bauteil - beliebig"]
[null,null,null,null,"614.50","Schweißgeräte",null,null,null,null,"IfcBuildingElementProxy","IfcBuildingElementProxy","Bauteil - beliebig"]
[null,null,null,null,"614.60","Flüssiggasflaschen",null,null,null,null,"IfcBuildingElementProxy","IfcBuildingElementProxy","Bauteil - beliebig"]
[null,null,null,null,"615","Arbeits- und Hubarbeitsbühnen",null,null,null,null,"IfcBuildingElementProxy","IfcBuildingElementProxy","Bauteil - beliebig"]
[null,null,null,null,"615.10","Fahrbare Hubarbeitsbühnen",null,null,null,null,"IfcBuildingElementProxy","IfcBuildingElementProxy","Bauteil - beliebig"]
[null,null,null,null,"615.20","Fahrbare Arbeitsbühnen",null,null,null,null,"IfcBuildingElementProxy","IfcBuildingElementProxy","Bauteil - beliebig"]
[null,null,null,null,"616","Winden, Hub- und Zuggeräte",null,null,null,null,"IfcBuildingElementProxy","IfcBuildingElementProxy","Bauteil - beliebig"]
[null,null,null,null,"617","Leitern und Tritte",null,null,null,null,"IfcBuildingElementProxy","IfcBuildingElementProxy","Bauteil - beliebig"]
[null,null,null,null,"618","Personenaufnahmemittel, nicht stationäre",null,null,null,null,"IfcBuildingElementProxy","IfcBuildingElementProxy","Bauteil - beliebig"]
[619,"Ausstattung, sonstiges",null,null,"619","Ausstattung, sonstiges",null,null,null,null,"IfcBuildingElementProxy","IfcBuildingElementProxy","Bauteil - beliebig"]
[619,"Ausstattung, sonstiges",null,null,"619.10","Sicherheits- und Gesundheitsschutzkennzeichnung",null,null,null,null,"IfcBuildingElementProxy","IfcBuildingElementProxy","Bauteil - beliebig"]
[619,"Ausstattung, sonstiges",null,null,"619.11","Flucht- und Rettungspläne",null,null,null,null,"IfcBuildingElementProxy","IfcBuildingElementProxy","Bauteil - beliebig"]
[619,"Ausstattung, sonstiges",null,null,"619.12","Alarmpläne",null,null,null,null,"IfcBuildingElementProxy","IfcBuildingElementProxy","Bauteil - beliebig"]
[619,"Ausstattung, sonstiges",null,null,"619.13","Feuerwehrpläne",null,null,null,null,"IfcBuildingElementProxy","IfcBuildingElementProxy","Bauteil - beliebig"]
[619,"Ausstattung, sonstiges",null,null,"619.30","Persönliche Schutzausrüstung",null,null,null,null,"IfcBuildingElementProxy","IfcBuildingElementProxy","Bauteil - beliebig"]
[619,"Ausstattung, sonstiges",null,null,"619.40","Einrichtungen zur Ersten Hilfe",null,null,null,null,"IfcBuildingElementProxy","IfcBuildingElementProxy","Bauteil - beliebig"]
[619,"Ausstattung, sonstiges",null,null,"619.42","Rettungsgeräte, Rettungstransportmittel",null,null,null,null,"IfcBuildingElementProxy","IfcBuildingElementProxy","Bauteil - beliebig"]
[619,"Ausstattung, sonstiges",null,null,"619.50","Schulausstattung",null,null,null,null,"IfcBuildingElementProxy","IfcBuildingElementProxy","Bauteil - beliebig"]
[619,"Ausstattung, sonstiges",null,null,"619.51","Schulische Geräte (ortsfeste elektrische)",null,null,null,null,"IfcBuildingElementProxy","IfcBuildingElementProxy","Bauteil - beliebig"]
[619,"Ausstattung, sonstiges",null,null,"619.52","Schulische Geräte (ortsveränderliche elektrische)",null,null,null,null,"IfcBuildingElementProxy","IfcBuildingElementProxy","Bauteil - beliebig"]
[619,"Ausstattung, sonstiges",null,null,"619.53","Schultafeln",null,null,null,null,"IfcBuildingElementProxy","IfcBuildingElementProxy","Bauteil - beliebig"]
[619,"Ausstattung, sonstiges",null,null,"619.60","Turngeräte, Sportgeräte",null,null,null,null,"IfcBuildingElementProxy","IfcBuildingElementProxy","Bauteil - beliebig"]
[619,"Ausstattung, sonstiges",null,null,"619.70","Ausstattungen und Geräte für die Feuerwehr",null,null,null,null,"IfcBuildingElementProxy","IfcBuildingElementProxy","Bauteil - beliebig"]
[620,"Kunstwerke",620,"Besondere Ausstattung","620","Kunstwerke",null,null,null,null,"IfcBuildingElementProxy","IfcBuildingElementProxy","Bauteil - beliebig",null,null,null,null,null,null,null,null,"ARC"]
[621,"Kunstobjekte ",null,null,"621","Kunstobjekte",null,null,null,null,"IfcBuildingElementProxy","IfcBuildingElementProxy","Bauteil - beliebig",null,null,null,null,null,null,null,null,"ARC"]
[622,"Künstlerisch gestaltete Bauteile des Bauwerks ",null,null,"622","Künstlerisch gestaltete Bauteile des Bauwerks",null,null,null,null,"IfcBuildingElementProxy","IfcBuildingElementProxy","Bauteil - beliebig",null,null,null,null,null,null,null,null,"ARC"]
[623,"Künstlerisch gestaltete Bauteile der Außenanlagen",null,null,"623","Künstlerisch gestaltete Bauteile der Außenanlagen",null,null,null,null,"IfcBuildingElementProxy","IfcBuildingElementProxy","Bauteil - beliebig",null,null,null,null,null,null,null,null,"LPL"]
[629,"Kunstwerke, sonstiges",null,null,"629","Kunstwerke, sonstiges",null,null,null,null,"IfcBuildingElementProxy","IfcBuildingElementProxy","Bauteil - beliebig"]
[null,null,630,"Informationstechnische Ausstattung","630","Stoffe und Materialien",null,null,null,null,"IfcBuildingElementProxy","IfcBuildingElementProxy","Bauteil - beliebig"]
[null,null,null,null,"631","Gefahrstoffe",null,null,null,null,"IfcBuildingElementProxy","IfcBuildingElementProxy","Bauteil - beliebig"]
[null,null,null,null,"632","Abfallstoffe",null,null,null,null,"IfcBuildingElementProxy","IfcBuildingElementProxy","Bauteil - beliebig"]
[null,null,null,null,"633","Brennstoffe",null,null,null,null,"IfcBuildingElementProxy","IfcBuildingElementProxy","Bauteil - beliebig"]
[null,null,null,null,"634","Wassergefährdende Stoffe",null,null,null,null,"IfcBuildingElementProxy","IfcBuildingElementProxy","Bauteil - beliebig"]

{"sheet":"Hinweise","index":1,"n_rows":13,"n_cols":8,"rows_kept":13,"cut":false,"hidden":false,"merged":[[12,0,12,7],[1,2,1,6],[2,2,2,6],[3,2,3,6],[4,2,4,6],[5,2,5,6],[6,2,6,6],[7,2,7,6],[8,2,8,6],[9,2,9,6]]}
["Änderungsverzeichnis"]
["Version","Datum","Änderungen",null,null,null,null,"Autor"]
["1.0","2021-12-16","Veröffentlichung",null,null,null,null,"BLB NRW"]
[]
[]
[]
[]
[]
[]
[]
[]
["Hinweise"]
["Die Parameterliste ist für die Planung, Ausführung und Dokumentation gültig. Für die Gebäude die der BLB NRW selbst betreibt und bewirtschaftet ist die Equipmentstruktur des BLB NRW bis einschließlich der LPH 8 einzuhalten. Der Reiter \"OKS-AKS\" bezieht sich ebenfalls auf die Projekte, die vom BLB NRW selbst betrieben und bewirtschaftet werden. Des Weiteren ist der Reiter \"RBK-Nutzungscodes\" für alle Projekte relevant.\n\nDie Parameterliste definiert in Tabellenform, welche Modellinhalte mit welcher Spezifikation bzw. Informationsanforderung in welcher Form zu welchem Zeitpunkt durch eine bestimmte Rolle zur Verfügung gestellt werden. Dabei wird bei den Registerkarten unterschieden zwischen:\n\n     - Globalen Attributen = gültig für alle Elemente des Projekts, und\n     - bauteilspezifischen Attributen = gesonderte Anforderungen je nach Bauteil, z.B. hat eine Pumpe andere bauteilspezifische Attribute als ein Fenster\n\nDiese globalen und bauteilspezifischen Attribulte werden leistungsphasenbezogen projektspezifische vom BLB NRW vorgegeben.\n\nDabei erfolgt die primäre Gliederung der Elemente nach der DIN 276, wo die Tiefe der Kostengruppen zur weiteren Unterscheidung nicht ausreicht, wird bis zur 5.ten Stelle nach Vorgabe von CAFM-Connect unterschieden."]

{"sheet":"Globale Attribute","index":2,"n_rows":19,"n_cols":12,"rows_kept":19,"cut":false,"hidden":false,"merged":[[0,1,0,4],[0,5,0,7],[0,8,0,9]]}
[null,"IfcKlasse / Property",null,null,null,"Datenerfassung",null,null,"Information",null,"Verfügbarkeit","LOIN"]
["Attribute","2x3 English","PSet Version 2x3","4 English","PSet Version 4","IFC Datentyp","Einheit","Beispiel","Autor","Quelle","ab LPH","Nr."]
["Alle Base Quantities",null,"Qto_nBaseQuantities",null,"Base Quantities",null,"-","IFCTyp-abhängige Menge: Länge, Breite, Fläche usw.","Planer","Modell",2,{"$f":"VLOOKUP(K3,LOI_LPH[],2,TRUE)","v":100}]
["Bauteiltyp","Reference","Pset_nCommon","Reference","Pset_WindowCommon","IfcText","-","Name des Bauteils","Planer","Modell",2,{"$f":"VLOOKUP(K4,LOI_LPH[],2,TRUE)","v":100}]
["AKS*",null,"Projektabhängig",null,"Pset_DoorCustom","IfcText","-",null,"Planer","Modell",5,{"$f":"VLOOKUP(K5,LOI_LPH[],2,TRUE)","v":300}]
["Baujahr","ProductionYear","Pset_ManufacturerTypeInformation","ProductionYear","Pset_ManufacturerTypeInformation","IfcLabel","Jahr","20xx","Planer","Modell",8,{"$f":"VLOOKUP(K6,LOI_LPH[],2,TRUE)","v":500}]
["Hersteller","Manufacturer","Pset_ManufacturerTypeInformation","Manufacturer","Pset_ManufacturerTypeInformation","IfcLabel","-","Musterfirma","Planer","Modell",8,{"$f":"VLOOKUP(K7,LOI_LPH[],2,TRUE)","v":500}]
["Lieferant*",null,"Projektabhängig",null,"Pset_DoorCustom","IfcLabel","-","Musterfirma","Planer","Modell",8,{"$f":"VLOOKUP(K8,LOI_LPH[],2,TRUE)","v":500}]
["Modellnummer*","SerialNumber","Pset_ManufacturerOccurrence","SerialNumber","Pset_ManufacturerOccurence","IfcIdentifier","-",123456789,"Planer","Modell",8,{"$f":"VLOOKUP(K9,LOI_LPH[],2,TRUE)","v":500}]
["Inbetriebnahme",null,"Projektabhängig",null,"Pset_DoorCustom","IfcDate","Datum","xx.xx.20xx","Planer","Modell",8,{"$f":"VLOOKUP(K10,LOI_LPH[],2,TRUE)","v":500}]
["Gewährleistungsbeginn","WarrantyStartDate","Pset_Warranty","WarrantyStartDate","Pset_Warranty","IfcDate","Datum","xx.xx.20xx","Planer","Modell",8,{"$f":"VLOOKUP(K11,LOI_LPH[],2,TRUE)","v":500}]
["Gewährleistungsende","WarrantyEndDate","Pset_Warranty","WarrantyEndDate","Pset_Warranty","IfcDate","Datum","xx.xx.20xx","Planer","Modell",8,{"$f":"VLOOKUP(K12,LOI_LPH[],2,TRUE)","v":500}]
["Lebensdauer","ExpectedServiceLife","Pset_EnvironmentalImpactIndicators",null,"Pset_DoorCustom","IfcTimeMeasure","Jahr","20xx","Planer","Modell",8,{"$f":"VLOOKUP(K13,LOI_LPH[],2,TRUE)","v":500}]
["Wartungsfirma*",null,"Projektabhängig",null,"Pset_DoorCustom","IfcPerson","-","FM AG","AUSF","Modell",8,{"$f":"VLOOKUP(K14,LOI_LPH[],2,TRUE)","v":500}]
["Wartungszyklus*",null,"Projektabhängig",null,"Pset_DoorCustom","IfcTimeMeasure",null,"In Jahren oder sonst. Zeiteinheit","AUSF","Modell",8,{"$f":"VLOOKUP(K15,LOI_LPH[],2,TRUE)","v":500}]
["Beschreibung",null,"Projektabhängig",null,"Pset_DoorCustom","IfcText","-","Freitext, bei Bedarf","Planer","Modell",3,{"$f":"VLOOKUP(K16,LOI_LPH[],2,TRUE)","v":200}]
["Kostengruppe_DIN276",null,"Projektabhängig",null,"Pset_WallCustom","IfcText","-","Gliederung bis 3.Ebene: z.B 330,331,332,411,412,413","Planer","Modell",2,{"$f":"VLOOKUP(K17,LOI_LPH[],2,TRUE)","v":100}]
["Bauteilkatalog_Nr.",null,"Projektabhängig",null,"Pset_WallCustom","IfcText","-",null,"Planer","Modell",3,{"$f":"VLOOKUP(K18,LOI_LPH[],2,TRUE)","v":200}]
["*Angaben wie AKS, Modellnummer, Lieferant, Wartung etc. entfallen bei nicht wartungsrelevanten Bauteilen (Konstruktion, Gelände etc.)",null,null,null,null,null,null,null,null,null,5]

{"sheet":"bauteilspez. Attribute","index":3,"n_rows":1364,"n_cols":18,"rows_kept":1364,"cut":false,"hidden":false,"merged":[[0,0,0,1],[0,2,0,5],[0,10,0,12]]}
["DIN 276 (2018)",null,"CAFM-Connect",null,null,null,null,null,null,null,"Datenerfassung",null,null,"Autor","Verfügbarkeit","LOI"]
["KG DIN276","Bezeichnung","Nr.","Im Projekt vorhanden","In 3D vorhanden","Bauteiltyp/Attribute","Ifc-Klasse/Property 2x3 English","PSet Name 2x3","4 English","PSet Version 4","IFC Datentyp","Einheit","Beispiel","Abk.","ab LPH","Nr."]
[0,"Raumelemente",0,null,null,"Raumelemente","-","-","-","-","-","-","-","-","-",{"$f":"VLOOKUP(O3,LOI_LPH[],2,TRUE)","v":"-"}]
[0,"Raum",0,"Ja","Ja","Raum","IfcSpace","-","IfcSpace","-","-","-","-","ARC",2,{"$f":"VLOOKUP(O4,LOI_LPH[],2,TRUE)","v":100}]
[0,"Raum",0,null,null,"Name","Reference","Pset_SpaceCommon","Reference","Pset_SpaceCommon","IfcText","-","Text","ARC",2,{"$f":"VLOOKUP(O5,LOI_LPH[],2,TRUE)","v":100}]
[0,"Raum",0,null,null,"Nummer",null,"(TBD)",null,"(TBD)","IfcText","-","Text","ARC",2,{"$f":"VLOOKUP(O6,LOI_LPH[],2,TRUE)","v":100}]
[0,"Raum",0,null,null,"Nutzungscode",null,"(TBD)",null,"(TBD)","IfcText","-","Text","ARC",2,{"$f":"VLOOKUP(O7,LOI_LPH[],2,TRUE)","v":100}]
[0,"Raum",0,null,null,"Fläche","NetPlannedArea","Pset_SpaceCommon","NetPlannedArea","Pset_SpaceCommon","IfcAreaMeasure","-","Zahl","ARC",2,{"$f":"VLOOKUP(O8,LOI_LPH[],2,TRUE)","v":100}]
[0,"Raum",0,null,null,"Raum_Nutzlast",null,"(TBD)",null,"(TBD)","Real","kN/m²","Zahl","ARC",3,{"$f":"VLOOKUP(O9,LOI_LPH[],2,TRUE)","v":200}]
[0,"Raum",0,null,null,"Barrierefrei","HandicapAccessible","Pset_SpaceCommon","HandicapAccessible","Pset_SpaceCommon","IfcBoolean",null,"ja|nein","ARC",3,{"$f":"VLOOKUP(O10,LOI_LPH[],2,TRUE)","v":200}]
[0,"Raum",0,null,null,"Behindertengerecht",null,"(TBD)",null,"(TBD)","IfcBoolean",null,"ja|nein","ARC",3,{"$f":"VLOOKUP(O11,LOI_LPH[],2,TRUE)","v":200}]
[0,"Raum",0,null,null,"Lichte Höhe","FinishCeilingHeight\t","Qto_SpaceBaseQuantities","FinishCeilingHeight\t","Qto_SpaceBaseQuantities","\tIfcLengthMeasure","m2","Zahl","ARC",3,{"$f":"VLOOKUP(O12,LOI_LPH[],2,TRUE)","v":200}]
[0,"Raum",0,null,null,"öffentlich zugänglich","PubliclyAccessible","Pset_SpaceCommon","PubliclyAccessible","Pset_SpaceCommon","IfcBoolean","-","ja|nein","ARC",3,{"$f":"VLOOKUP(O13,LOI_LPH[],2,TRUE)","v":200}]
[0,"Raum",0,null,null,"Max. Personenanzahl","OccupancyNumberPeak","Pset_SpaceOccupancyRequirements","OccupancyNumberPeak","Pset_SpaceOccupancyRequirements","IfcCountMeasure","-","Zahl","ARC",3,{"$f":"VLOOKUP(O14,LOI_LPH[],2,TRUE)","v":200}]
[0,"Raum",0,null,null,"Raum_Schallschutzanforderungen",null,"(TBD)",null,"(TBD)","Real","dB","dB-Zahl","ARC",3,{"$f":"VLOOKUP(O15,LOI_LPH[],2,TRUE)","v":200}]
[0,"Raum",0,null,null,"Boden_Belag","FloorCovering","Pset_SpaceCoveringRequirements","FloorCovering","Pset_SpaceCoveringRequirements","IfcText","-","Stahlbeton|PVC|XPS|Estrich|Kies|Fliesen|Sonstiges","ARC",3,{"$f":"VLOOKUP(O16,LOI_LPH[],2,TRUE)","v":200}]
[0,"Raum",0,null,null,"Boden_Aufbau",null,"(TBD)",null,"(TBD)","IfcText","-","Text","ARC",3,{"$f":"VLOOKUP(O17,LOI_LPH[],2,TRUE)","v":200}]
[0,"Raum",0,null,null,"Boden_Nutzlast",null,"(TBD)",null,"(TBD)","Real","kN/m²","Zahl","ARC",3,{"$f":"VLOOKUP(O18,LOI_LPH[],2,TRUE)","v":200}]
[0,"Raum",0,null,null,"Boden_Rutschfestigkeit",null,"(TBD)",null,"(TBD)","IfcText","-","R9, R10 etc. wenn relevant","ARC",3,{"$f":"VLOOKUP(O19,LOI_LPH[],2,TRUE)","v":200}]
[300,"Bauwerk - Baukonstruktionen",300,null,null,"Bauwerk - Baukonstruktionen","-","-","-","-","-","-","-","-","-",{"$f":"VLOOKUP(O20,LOI_LPH[],2,TRUE)","v":"-"}]
[300,"Durchbrüche",300,"Ja","Ja","Durchbrüche","ifcOpening","-","-","-","-","-","-","TGA",3,{"$f":"VLOOKUP(O21,LOI_LPH[],2,TRUE)","v":200}]
[300,"Wanddurchbruch",300,null,null,"Höhe ab OKRD",null,"(TBD)",null,null,"Real","-","Zahl","TGA",3,{"$f":"VLOOKUP(O22,LOI_LPH[],2,TRUE)","v":200}]
[322,"Flachgründungen",322,"Ja","Ja","Flachgründungen und Bodenplatten","-","-","-","-","-","-","-","-","-",{"$f":"VLOOKUP(O23,LOI_LPH[],2,TRUE)","v":"-"}]
[322,"Einzelfundamente","322.10",null,null,"Einzelfundamente","IfcFooting","-","IfcDoor","-","-","-","-","ARC/TWP",3,{"$f":"VLOOKUP(O24,LOI_LPH[],2,TRUE)","v":200}]
[322,"Streifenfundamente","322.20",null,null,"Streifenfundamente","IfcFooting","-","IfcDoor","-","-","-","-","ARC/TWP",3,{"$f":"VLOOKUP(O25,LOI_LPH[],2,TRUE)","v":200}]
[322,"Plattenfundamente","322.30",null,null,"Plattenfundamente","IfcFooting","-","IfcDoor","-","-","-","-","ARC/TWP",3,{"$f":"VLOOKUP(O26,LOI_LPH[],2,TRUE)","v":200}]
[323,"Tiefgründungen",323,"Ja","Ja","Tiefgründungen","IfcPile","-","-","-","-","-","-","ARC/TWP",3,{"$f":"VLOOKUP(O27,LOI_LPH[],2,TRUE)","v":200}]
[331,"Tragende Außenwände",331,"Ja","Ja","Tragende Außenwände","IfcWall","-","IfcWall","-","-","-","-","ARC/TWP",2,{"$f":"VLOOKUP(O28,LOI_LPH[],2,TRUE)","v":100}]
[331,"Tragende Außenwände",331,null,null,"Schallschutzklasse","AcousticRating","Pset_WallCommon","AcousticRating","Pset_WallCommon","IfcLabel",null,null,"ARC",3,{"$f":"VLOOKUP(O29,LOI_LPH[],2,TRUE)","v":200}]
[331,"Tragende Außenwände",331,null,null,"Feuerwiderstandsklasse","FireRating","Pset_WallCommon","FireRating","Pset_WallCommon","IfcLabel",null,"nach DIN EN 13501-2","ARC",3,{"$f":"VLOOKUP(O30,LOI_LPH[],2,TRUE)","v":200}]
[331,"Tragende Außenwände",331,null,null,"Aussenbauteil","IsExternal","Pset_WallCommon","IsExternal","Pset_WallCommon","IfcBoolean"," -","ja | nein","ARC/TWP",2,{"$f":"VLOOKUP(O31,LOI_LPH[],2,TRUE)","v":100}]
[331,"Tragende Außenwände",331,null,null,"statisch_tragend","LoadBearing","Pset_WallCommon","LoadBearing","Pset_WallCommon","IfcBoolean"," -","ja | nein","ARC/TWP",2,{"$f":"VLOOKUP(O32,LOI_LPH[],2,TRUE)","v":100}]
[334,"Außentüren und ‐fenster",334,"Ja","Ja","Außentüren, -tore und -fenster","-","-","-","-","-","-","-","ARC",3,{"$f":"VLOOKUP(O33,LOI_LPH[],2,TRUE)","v":200}]
[334,"Außentüren und ‐fenster","334.10",null,null,"Außentür","IfcDoor","-","IfcDoor","-","-","-","-","ARC",3,{"$f":"VLOOKUP(O34,LOI_LPH[],2,TRUE)","v":200}]
[334,"Außentüren und ‐fenster","334.10",null,null,"Antrieb","HasDrive","Pset_DoorCommon","HasDrive","Pset_DoorCommon","IfcBoolean"," -","ja | nein","ARC",5,{"$f":"VLOOKUP(O35,LOI_LPH[],2,TRUE)","v":300}]
[334,"Außentüren und ‐fenster","334.10",null,null,"Steuerung",null,"(TBD)",null,"(TBD)","IfcLabel"," -","zentral | dezentral","ARC",5,{"$f":"VLOOKUP(O36,LOI_LPH[],2,TRUE)","v":300}]
[334,"Außentüren und ‐fenster","334.10",null,null,"Anzahl Flügel",null,"(TBD)",null,"(TBD)","IfcCountMeasure","Stück","Zahl","ARC",5,{"$f":"VLOOKUP(O37,LOI_LPH[],2,TRUE)","v":300}]
[334,"Außentüren und ‐fenster","334.10",null,null,"Anzahl Gehflügel",null,"(TBD)",null,"(TBD)","IfcCountMeasure","Stück","Zahl","ARC",5,{"$f":"VLOOKUP(O38,LOI_LPH[],2,TRUE)","v":300}]
[334,"Außentüren und ‐fenster","334.10",null,null,"Feststellanlage",null,"(TBD)",null,"(TBD)","IfcLabel"," -","nein | manuell | elektrisch","ARC",5,{"$f":"VLOOKUP(O39,LOI_LPH[],2,TRUE)","v":300}]
[334,"Außentüren und ‐fenster","334.10",null,null,"Öffnungsart",null,"(TBD)",null,"(TBD)","IfcLabel"," -","Drehtür | Falttür | Hebedrehtür | Hebeschiebetür | Pendeltür | Schiebetür | Karusselltür","ARC",5,{"$f":"VLOOKUP(O40,LOI_LPH[],2,TRUE)","v":300}]
[334,"Außentüren und ‐fenster","334.10",null,null,"Selbstschließend","SelfClosing","Pset_DoorCommon","SelfClosing","Pset_DoorCommon","IfcBoolean"," -","ja | nein","ARC",5,{"$f":"VLOOKUP(O41,LOI_LPH[],2,TRUE)","v":300}]
[334,"Außentüren und ‐fenster","334.10",null,null,"Notausgangsverschluss",null,"(TBD)",null,"(TBD)","IfcBoolean"," -","ja | nein","ARC",5,{"$f":"VLOOKUP(O42,LOI_LPH[],2,TRUE)","v":300}]
[334,"Außentüren und ‐fenster","334.10",null,null,"Feuerwiderstandsklasse","FireRating","Pset_DoorCommon","FireRating","Pset_DoorCommon","IfcLabel"," -","T 30-1 | T 30-2 | T 90-1 | T 90-2","ARC",3,{"$f":"VLOOKUP(O43,LOI_LPH[],2,TRUE)","v":200}]
[334,"Außentüren und ‐fenster","334.10",null,null,"U-Wert","ThermalTransmittance","Pset_DoorCommon","ThermalTransmittance","Pset_DoorCommon","Real","W/(m²·K)","Zahl, bezogen auf das ganze Bauteil","ARC",3,{"$f":"VLOOKUP(O44,LOI_LPH[],2,TRUE)","v":200}]
[334,"Außentüren und ‐fenster","334.10",null,null,"Aussenbauteil","IsExternal","Pset_DoorCommon","IsExternal","Pset_DoorCommon","IfcBoolean"," -","ja | nein","ARC",3,{"$f":"VLOOKUP(O45,LOI_LPH[],2,TRUE)","v":200}]
[334,"Außentüren und ‐fenster","334.10",null,null,"Sicherheitsklasse","SecurityRating","Pset_DoorCommon","SecurityRating","Pset_DoorCommon","IfcText"," -","ohne besondere Schutzanforderung | Brandschutztür | Rauchschutztür | Schallschutztür | Brand-Rauchschutztür","ARC",5,{"$f":"VLOOKUP(O46,LOI_LPH[],2,TRUE)","v":300}]
[334,"Außentüren und ‐fenster","334.10",null,null,"Notausgang","FireExit","Pset_DoorCommon","FireExit","Pset_DoorCommon","IfcBoolean"," -","ja | nein","ARC",5,{"$f":"VLOOKUP(O47,LOI_LPH[],2,TRUE)","v":300}]
[334,"Außentüren und ‐fenster","334.10",null,null,"Rauchschutz","SmokeStop","Pset_DoorCommon","SmokeStop","Pset_DoorCommon","IfcBoolean"," -","ja | nein","ARC",5,{"$f":"VLOOKUP(O48,LOI_LPH[],2,TRUE)","v":300}]
[334,"Außentüren und ‐fenster","334.10",null,null,"Beanspruchungsgruppe","\tDurabilityRating","Pset_DoorCommon","\tDurabilityRating","Pset_DoorCommon","IfcText"," -","II","ARC",5,{"$f":"VLOOKUP(O49,LOI_LPH[],2,TRUE)","v":300}]
[334,"Außentüren und ‐fenster","334.10",null,null,"Luftdurchlässigkeit",null,"(TBD)",null,"(TBD)","IfcBoolean"," -","ja | nein","ARC",5,{"$f":"VLOOKUP(O50,LOI_LPH[],2,TRUE)","v":300}]
[334,"Außentüren und ‐fenster","334.10",null,null,"Hersteller Antrieb",null,"(TBD)",null,"(TBD)","IfcLabel"," -","Freitext","ARC",8,{"$f":"VLOOKUP(O51,LOI_LPH[],2,TRUE)","v":500}]
[334,"Außentüren und ‐fenster","334.10",null,null,"Material Türblatt",null,"(TBD)",null,"(TBD)","IfcText"," -","Kunststoff | Holz | Aluminium | Sonstiges","ARC",5,{"$f":"VLOOKUP(O52,LOI_LPH[],2,TRUE)","v":300}]
[334,"Außentüren und ‐fenster","334.10",null,null,"Material Zarge",null,"(TBD)",null,"(TBD)","IfcText"," -","Kunststoff | Holz | Aluminium | Sonstiges","ARC",5,{"$f":"VLOOKUP(O53,LOI_LPH[],2,TRUE)","v":300}]
[334,"Außentüren und ‐fenster","334.20",null,null,"Tor außen","IfcDoor","-","IfcDoor","-","-","-","-","ARC",3,{"$f":"VLOOKUP(O54,LOI_LPH[],2,TRUE)","v":200}]
[334,"Außentüren und ‐fenster","334.20",null,null,"Antrieb","HasDrive","Pset_DoorCommon","HasDrive","Pset_DoorCommon","IfcLabel"," - ","elektrisch | mechanisch","ARC",5,{"$f":"VLOOKUP(O55,LOI_LPH[],2,TRUE)","v":300}]
[334,"Außentüren und ‐fenster","334.20",null,null,"Anzahl Flügel",null,"(TBD)",null,"(TBD)","IfcCountMeasure","Stück","einflügelig | 2-flügelig | mehrflüglig","ARC",5,{"$f":"VLOOKUP(O56,LOI_LPH[],2,TRUE)","v":300}]
[334,"Außentüren und ‐fenster","334.20",null,null,"Anzahl Gehflügel",null,"(TBD)",null,"(TBD)","IfcCountMeasure","Stück","einflügelig | 2-flügelig | mehrflüglig","ARC",5,{"$f":"VLOOKUP(O57,LOI_LPH[],2,TRUE)","v":300}]
[334,"Außentüren und ‐fenster","334.20",null,null,"Feststellanlage",null,"(TBD)",null,"(TBD)","IfcLabel"," -","nein | manuell | elektrisch","ARC",5,{"$f":"VLOOKUP(O58,LOI_LPH[],2,TRUE)","v":300}]
[334,"Außentüren und ‐fenster","334.20",null,null,"Notausgangsverschluss",null,"(TBD)",null,"(TBD)","IfcBoolean"," -","ja | nein","ARC",5,{"$f":"VLOOKUP(O59,LOI_LPH[],2,TRUE)","v":300}]
[334,"Außentüren und ‐fenster","334.20",null,null,"Feuerwiderstandsklasse","FireRating","Pset_DoorCommon","FireRating","Pset_DoorCommon","IfcLabel"," -","T 30-1 | T 30-2 | T 90-1 | T 90-2","ARC",3,{"$f":"VLOOKUP(O60,LOI_LPH[],2,TRUE)","v":200}]
[334,"Außentüren und ‐fenster","334.20",null,null,"U-Wert","ThermalTransmittance","Pset_DoorCommon","ThermalTransmittance","Pset_DoorCommon","Real","W/(m²·K)","Zahl","ARC",3,{"$f":"VLOOKUP(O61,LOI_LPH[],2,TRUE)","v":200}]
[334,"Außentüren und ‐fenster","334.20",null,null,"Aussenbauteil","IsExternal","Pset_DoorCommon","IsExternal","Pset_DoorCommon","IfcBoolean"," -","ja | nein","ARC",3,{"$f":"VLOOKUP(O62,LOI_LPH[],2,TRUE)","v":200}]
[334,"Außentüren und ‐fenster","334.20",null,null,"Schutzanforderung",null,"(TBD)",null,"(TBD)","IfcText"," -","ohne besondere Schutzanforderung | Brandschutztür | Rauchschutztür | Schallschutztür | Brand-Rauchschutztür","ARC",5,{"$f":"VLOOKUP(O63,LOI_LPH[],2,TRUE)","v":300}]
[334,"Außentüren und ‐fenster","334.20",null,null,"Notausgang","FireExit","Pset_DoorCommon","FireExit","Pset_DoorCommon","IfcBoolean"," -","ja | nein","ARC",5,{"$f":"VLOOKUP(O64,LOI_LPH[],2,TRUE)","v":300}]
[334,"Außentüren und ‐fenster","334.20",null,null,"Material Türblatt",null,"(TBD)",null,"(TBD)","IfcText"," -","Kunststoff | Holz | Aluminium | Sonstiges","ARC",5,{"$f":"VLOOKUP(O65,LOI_LPH[],2,TRUE)","v":300}]
[334,"Außentüren und ‐fenster","334.20",null,null,"Material Zarge",null,"(TBD)",null,"(TBD)","IfcText"," -","Kunststoff | Holz | Aluminium | Sonstiges","ARC",5,{"$f":"VLOOKUP(O66,LOI_LPH[],2,TRUE)","v":300}]
[334,"Außentüren und ‐fenster","334.20",null,null,"Hersteller Antrieb",null,"(TBD)",null,"(TBD)","IfcLabel"," -","Freitext","ARC",8,{"$f":"VLOOKUP(O67,LOI_LPH[],2,TRUE)","v":500}]
[334,"Außentüren und ‐fenster","334.30",null,null,"Fenster außen","IfcWindow","-","IfcWindow","-","-","-","-","ARC",3,{"$f":"VLOOKUP(O68,LOI_LPH[],2,TRUE)","v":200}]
[334,"Außentüren und ‐fenster","334.30",null,null,"Antrieb","HasDrive","Pset_WindowCommon","HasDrive","Pset_WindowCommon","IfcBoolean"," -","elektrisch | mechanisch","ARC",5,{"$f":"VLOOKUP(O69,LOI_LPH[],2,TRUE)","v":300}]
[334,"Außentüren und ‐fenster","334.30",null,null,"Steuerung",null,"(TBD)",null,null,"IfcLabel"," -","zentral | dezentral","ARC",5,{"$f":"VLOOKUP(O70,LOI_LPH[],2,TRUE)","v":300}]
[334,"Außentüren und ‐fenster","334.30",null,null,"Anzahl Flügel",null,"(TBD)",null,null,"IfcCountMeasure","Stück","einflügelig | 2-flügelig | mehrflüglig","ARC",5,{"$f":"VLOOKUP(O71,LOI_LPH[],2,TRUE)","v":300}]
[334,"Außentüren und ‐fenster","334.30",null,null,"Feststellanlage",null,"(TBD)",null,null,"IfcLabel"," -","nein | manuell | elektrisch","ARC",5,{"$f":"VLOOKUP(O72,LOI_LPH[],2,TRUE)","v":300}]
[334,"Außentüren und ‐fenster","334.30",null,null,"Öffnungsart",null,"(TBD)",null,null,"IfcLabel"," -","vertikal | horizontal","ARC",5,{"$f":"VLOOKUP(O73,LOI_LPH[],2,TRUE)","v":300}]
[334,"Außentüren und ‐fenster","334.30",null,null,"Feuerwiderstandsklasse","FireRating","Pset_WindowCommon","FireRating","Pset_WindowCommon","IfcLabel"," -","T 30-1 | T 30-2 | T 90-1 | T 90-2","ARC",3,{"$f":"VLOOKUP(O74,LOI_LPH[],2,TRUE)","v":200}]
[334,"Außentüren und ‐fenster","334.30",null,null,"Schallschutzklasse","AcousticRating","Pset_WindowCommon","AcousticRating","Pset_WindowCommon","IfcText",null,null,"ARC",3,{"$f":"VLOOKUP(O75,LOI_LPH[],2,TRUE)","v":200}]
[334,"Außentüren und ‐fenster","334.30",null,null,"U-Wert","ThermalTransmittance","Pset_WindowCommon","ThermalTransmittance","Pset_WindowCommon","Real","W/(m²·K)","Zahl","ARC",3,{"$f":"VLOOKUP(O76,LOI_LPH[],2,TRUE)","v":200}]
[334,"Außentüren und ‐fenster","334.30",null,null,"Aussenbauteil","IsExternal","Pset_WindowCommon","IsExternal","Pset_WindowCommon","IfcBoolean"," -","ja | nein","ARC",3,{"$f":"VLOOKUP(O77,LOI_LPH[],2,TRUE)","v":200}]
[334,"Außentüren und ‐fenster","334.30",null,null,"Fluchtweg","FireExit","Pset_WindowCommon","FireExit","Pset_WindowCommon","IfcBoolean"," -","ja | nein","ARC",3,{"$f":"VLOOKUP(O78,LOI_LPH[],2,TRUE)","v":200}]
[334,"Außentüren und ‐fenster","334.30",null,null,"Rauchschutz","SmokeStop","Pset_WindowCommon","SmokeStop","Pset_WindowCommon","IfcText",null,null,"ARC",3,{"$f":"VLOOKUP(O79,LOI_LPH[],2,TRUE)","v":200}]
[334,"Außentüren und ‐fenster","334.30",null,null,"Sicherheitsklasse","SecurityRating","Pset_WindowCommon","SecurityRating","Pset_WindowCommon","IfcText",null,null,"ARC",3,{"$f":"VLOOKUP(O80,LOI_LPH[],2,TRUE)","v":200}]
[334,"Außentüren und ‐fenster","334.30",null,null,"Schließrichtung",null,"(TBD)",null,null,"IfcText"," -","innen | aussen","ARC",5,{"$f":"VLOOKUP(O81,LOI_LPH[],2,TRUE)","v":300}]
[334,"Außentüren und ‐fenster","334.30",null,null,"Material Rahmen",null,"(TBD)",null,null,"IfcLabel"," -","Kunststoff | Holz | Aluminium | Sonstiges","ARC",5,{"$f":"VLOOKUP(O82,LOI_LPH[],2,TRUE)","v":300}]
[334,"Außentüren und ‐fenster","334.30",null,null,"Glasfläche",null,"(TBD)","GlazingAreaFraction","Pset_DoorCommon","Real","m2","Zahl","ARC",5,{"$f":"VLOOKUP(O83,LOI_LPH[],2,TRUE)","v":300}]
[334,"Außentüren und ‐fenster","334.30",null,null,"Hersteller Antrieb",null,"(TBD)","Manufacturer","Pset_ManufacturerTypeInformation","IfcLabel"," -","Freitext","ARC",8,{"$f":"VLOOKUP(O84,LOI_LPH[],2,TRUE)","v":500}]
[337,"Elementierte Außenwände",337,"Nein","Nein","Elementierte Außenwände","IfcCurtainWall","-","IfcShadingDevice","-","-","-","-","ARC/TWP",2,{"$f":"VLOOKUP(O85,LOI_LPH[],2,TRUE)","v":100}]
[337,"Elementierte Außenwände",337,null,null,"Attribute analog 331 Tragende Außenwände",null,null,null,null,null,null,null,"ARC/TWP",2,{"$f":"VLOOKUP(O86,LOI_LPH[],2,TRUE)","v":100}]
[338,"Sonnenschutz",338,"Ja","Ja","Sonnenschutz","IfcBuildingElementProxy","-","IfcShadingDevice","-","-","-","-","ARC",3,{"$f":"VLOOKUP(O87,LOI_LPH[],2,TRUE)","v":200}]
[338,"Lichtschutz zur KG 330",338,null,null,"Bauart",null,"(TBD)",null,null,"IfcText"," -","Rollläden | Markisen | Jalousien","ARC",5,{"$f":"VLOOKUP(O88,LOI_LPH[],2,TRUE)","v":300}]
[338,"Lichtschutz zur KG 330",338,null,null,"Anzahl Antriebe",null,"(TBD)",null,null,"Real","Stück","Zahl","ARC",5,{"$f":"VLOOKUP(O89,LOI_LPH[],2,TRUE)","v":300}]
[338,"Lichtschutz zur KG 330",338,null,null,"Hersteller Antrieb",null,"(TBD)","Manufacturer","Pset_ManufacturerTypeInformation","IfcLabel"," -","Freitext","ARC",8,{"$f":"VLOOKUP(O90,LOI_LPH[],2,TRUE)","v":500}]
[338,"Lichtschutz zur KG 330",338,null,null,"Antrieb",null,"(TBD)","HasDrive","Pset_DoorCommon","IfcLabel"," -","elektrisch | mechanisch","ARC",5,{"$f":"VLOOKUP(O91,LOI_LPH[],2,TRUE)","v":300}]
[338,"Lichtschutz zur KG 330",338,null,null,"Steuerung",null,"(TBD)",null,null,"IfcLabel"," -","zentral | dezentral","ARC",5,{"$f":"VLOOKUP(O92,LOI_LPH[],2,TRUE)","v":300}]
[338,"Lichtschutz zur KG 330",338,null,null,"Fläche",null,"(TBD)",null,null,"Real","m2","Zahl","ARC",5,{"$f":"VLOOKUP(O93,LOI_LPH[],2,TRUE)","v":300}]
[339,"Außenwände, Sonstiges ",339,null,null,"Sonstige Elemente an Außenwänden","IfcBuildingElementProxy","-","IfcBuildingElementProxy","-","-","-","-","ARC/TWP",3,{"$f":"VLOOKUP(O94,LOI_LPH[],2,TRUE)","v":200}]
[339,"Außenwände, Sonstiges ","339.10",null,null,"Umwehrungen außen","IfcRailing","-","IfcRailing","-","-","-","-","ARC",3,{"$f":"VLOOKUP(O95,LOI_LPH[],2,TRUE)","v":200}]
[339,"Außenwände, Sonstiges ","339.20",null,null,"\tKellerlichtschächte mit Gitterrosten","IfcBuildingElementProxy","-","IfcBuildingElementProxy","-","-","-","-","ARC",3,{"$f":"VLOOKUP(O96,LOI_LPH[],2,TRUE)","v":200}]
[339,"Außenwände, Sonstiges ","339.90",null,null,"Sonstige Elemente an Außenwänden","IfcBuildingElementProxy","-","IfcBuildingElementProxy","-","-","-","-","ARC/TWP",3,{"$f":"VLOOKUP(O97,LOI_LPH[],2,TRUE)","v":200}]
[339,"Außenwände, Sonstiges ","339.91",null,null,"Rankgerüste (außen)","IfcWall","-","IfcBuildingElementProxy","-","-","-","-","ARC",3,{"$f":"VLOOKUP(O98,LOI_LPH[],2,TRUE)","v":200}]
[339,"Außenwände, Sonstiges ","339.92",null,null,"Material",null,"IfcMaterial",null,"IfcMaterial","IfcText"," -",null,"ARC",5,{"$f":"VLOOKUP(O99,LOI_LPH[],2,TRUE)","v":300}]
[339,"Außenwände, Sonstiges ","339.92",null,null,"Geländerhöhe","Height","Pset_RailingCommon","Height","Pset_RailingCommon","Real","cm","Zahl","ARC",5,{"$f":"VLOOKUP(O100,LOI_LPH[],2,TRUE)","v":300}]
[339,"Außenwände, Sonstiges ","339.92",null,null,"Aussenbauteil","IsExternal","Pset_RailingCommon","IsExternal","Pset_RailingCommon","IfcBoolean"," -","ja | nein","ARC",3,{"$f":"VLOOKUP(O101,LOI_LPH[],2,TRUE)","v":200}]
[341,"Tragende Innenwände ",341,"Ja","Ja","Tragende Innenwände","IfcWall","-","IfcWall","-","-","-","-","ARC/TWP",2,{"$f":"VLOOKUP(O102,LOI_LPH[],2,TRUE)","v":100}]
[341,"Tragende Innenwände",341,null,null,"Attribute analog 331 Tragende Außenwände",null,null,null,null,null,null,null,"ARC/TWP",2,{"$f":"VLOOKUP(O103,LOI_LPH[],2,TRUE)","v":100}]
[342,"Nichttragende Innenwände ",342,"Ja","Ja","Nichttragende Innenwände","IfcWall","-","IfcWall","-","-","-","-","ARC",2,{"$f":"VLOOKUP(O104,LOI_LPH[],2,TRUE)","v":100}]
[342,"Nichttragende Innenwände",342,null,null,"Attribute analog 331 Tragende Außenwände",null,null,null,null,null,null,null,"ARC/TWP",2,{"$f":"VLOOKUP(O105,LOI_LPH[],2,TRUE)","v":100}]
[343,"Innenstützen ",343,"Ja","Ja","Innenstützen","IfcColumn","-","IfcColumn","-","-","-","-","ARC/TWP",2,{"$f":"VLOOKUP(O106,LOI_LPH[],2,TRUE)","v":100}]
[343,"Innenstützen ",343,null,null,"statisch_tragend","LoadBearing","Pset_ColumnCommon","LoadBearing","Pset_ColumnCommon","IfcBoolean"," -","ja | nein","ARC/TWP",2,{"$f":"VLOOKUP(O107,LOI_LPH[],2,TRUE)","v":100}]
[343,"Innenstützen ",343,null,null,"Aussenbauteil","IsExternal","Pset_ColumnCommon","IsExternal","Pset_ColumnCommon","IfcBoolean"," -","ja | nein","ARC/TWP",2,{"$f":"VLOOKUP(O108,LOI_LPH[],2,TRUE)","v":100}]
[343,"Innenstützen ",343,null,null,"Feuerwiderstandsklasse","FireRating","Pset_ColumnCommon","FireRating","Pset_ColumnCommon","IfcLabel"," -",null,"ARC",3,{"$f":"VLOOKUP(O109,LOI_LPH[],2,TRUE)","v":200}]
[344,"Innentüren und ‐fenster ",344,"Ja","Ja","Innentüren, -tore und -fenster","-","-","-","-","-","-","-","ARC",3,{"$f":"VLOOKUP(O110,LOI_LPH[],2,TRUE)","v":200}]
[344,"Innentüren und ‐fenster ","344.10","Ja","Ja","Innentür","IfcDoor","-","IfcDoor","-","-","-","-","ARC",3,{"$f":"VLOOKUP(O111,LOI_LPH[],2,TRUE)","v":200}]
[344,"Innentüren und ‐fenster ","344.10",null,null,"Attribute analog 334.10 Außentür ",null,null,null,null,null,null,null,"ARC",3,{"$f":"VLOOKUP(O112,LOI_LPH[],2,TRUE)","v":200}]
[344,"Innentüren und ‐fenster ","344.20","Ja","Ja","Tor innen","IfcDoor","-","IfcDoor","-","-","-","-","ARC",3,{"$f":"VLOOKUP(O113,LOI_LPH[],2,TRUE)","v":200}]
[344,"Innentüren und ‐fenster ","344.20",null,null,"Attribute analog 334.20 Tor außen",null,null,null,null,null,null,null,"ARC",3,{"$f":"VLOOKUP(O114,LOI_LPH[],2,TRUE)","v":200}]
[344,"Innentüren und ‐fenster ","344.30","Ja","Ja","Fenster innen","IfcWindow","-","IfcWindow","-","-","-","-","ARC",3,{"$f":"VLOOKUP(O115,LOI_LPH[],2,TRUE)","v":200}]
[344,"Innentüren und ‐fenster ","344.30",null,null,"Attribute analog 334.30 Fenster außen",null,null,null,null,null,null,null,"ARC",3,{"$f":"VLOOKUP(O116,LOI_LPH[],2,TRUE)","v":200}]
[345,"Innenwandbekleidungen ",345,"Ja","Ja","Innenwandbekleidungen","IfcCovering","-","IfcWall","-","-","-","-","ARC",3,{"$f":"VLOOKUP(O117,LOI_LPH[],2,TRUE)","v":200}]
[345,"Innenwandbekleidungen ",345,null,null,"Aussenbauteil","IsExternal","Pset_CoveringCommon","IsExternal","Pset_CoveringCommon","IfcBoolean"," -","ja | nein","ARC",3,{"$f":"VLOOKUP(O118,LOI_LPH[],2,TRUE)","v":200}]
[345,"Innenwandbekleidungen ",345,null,null,"Feuerwiderstandsklasse","FireRating","Pset_CoveringCommon","FireRating","Pset_CoveringCommon","IfcLabel"," -","nach DIN EN 13501-2","ARC",3,{"$f":"VLOOKUP(O119,LOI_LPH[],2,TRUE)","v":200}]
[345,"Innenwandbekleidungen ",345,null,null,"Schallschutzklasse","AcousticRating","Pset_CoveringCommon","AcousticRating","Pset_CoveringCommon","IfcText","-",null,"ARC",3,{"$f":"VLOOKUP(O120,LOI_LPH[],2,TRUE)","v":200}]
[345,"Innenwandbekleidungen ",345,null,null,"Material","Material","Pset_CoveringCommon",null,"IfcMaterial","IfcText"," -","Glas | Holz | Verbundstoff | Sonstiges","ARC",5,{"$f":"VLOOKUP(O121,LOI_LPH[],2,TRUE)","v":300}]
[346,"Elementierte Innenwände ",346,"Nein","Nein","Elementierte Innenwände","IfcWall","-","IfcWallElementedCase","-","-","-","-","ARC/TWP",2,{"$f":"VLOOKUP(O122,LOI_LPH[],2,TRUE)","v":100}]
[346,"Elementierte Innenwände ",346,null,null,"statisch_tragend","LoadBearing","Pset_WallCommon","LoadBearing","Pset_WallCommon","IfcBoolean"," -","ja | nein","ARC/TWP",2,{"$f":"VLOOKUP(O123,LOI_LPH[],2,TRUE)","v":100}]
[346,"Elementierte Innenwände ",346,null,null,"Aussenbauteil","IsExternal","Pset_WallCommon","IsExternal","Pset_WallCommon","IfcBoolean"," -","ja | nein","ARC/TWP",2,{"$f":"VLOOKUP(O124,LOI_LPH[],2,TRUE)","v":100}]
[346,"Elementierte Innenwände ",346,null,null,"Neigung","Slope","Pset_WallCommon","Slope","Pset_WallCommon","Real","°","Zahl","ARC/TWP",2,{"$f":"VLOOKUP(O125,LOI_LPH[],2,TRUE)","v":100}]
[346,"Elementierte Innenwände ",346,null,null,"Feuerwiderstandsklasse","FireRating","Pset_WallCommon","FireRating","Pset_WallCommon","IfcLabel","-",null,"ARC",3,{"$f":"VLOOKUP(O126,LOI_LPH[],2,TRUE)","v":200}]
[346,"Elementierte Innenwände ",346,null,null,"Schallschutzklasse","AcousticRating","Pset_WallCommon","AcousticRating","Pset_WallCommon","IfcText","-",null,"ARC",3,{"$f":"VLOOKUP(O127,LOI_LPH[],2,TRUE)","v":200}]
[346,"Elementierte Innenwände ",346,null,null,"Material",null,"IfcMaterial",null,"IfcMaterial","IfcText"," -","Glas | Holz | Verbundstoff | Sonstiges","ARC",5,{"$f":"VLOOKUP(O128,LOI_LPH[],2,TRUE)","v":300}]
[346,"Elementierte Innenwände ",346,null,null,"Oberfläche",null,"(TBD)",null,"(TBD)","IfcText"," -","glatt | strukturiert","ARC",5,{"$f":"VLOOKUP(O129,LOI_LPH[],2,TRUE)","v":300}]
[347,"Lichtschutz",348,"Ja","Ja","Sonnenschutz","IfcBuildingElementProxy","-","IfcShadingDevice","-","-","-","-","ARC",3,{"$f":"VLOOKUP(O130,LOI_LPH[],2,TRUE)","v":200}]
[347,"Lichtschutz zur KG 340",348,null,null,"Attribute analog 338 Sonnenschutz",null,null,null,null,null,null,null,"ARC",3,{"$f":"VLOOKUP(O131,LOI_LPH[],2,TRUE)","v":200}]
[349,"Sonstiges zur KG 340",349,"Nein","Nein","Innenwände, sonstiges","-","-",null,"-","-","-","-","ARC",3,{"$f":"VLOOKUP(O132,LOI_LPH[],2,TRUE)","v":200}]
[349,"Sonstiges zur KG 340","349.10",null,null,"Umwehrungen innen","IfcRailing","-","IfcRailing","-","-","-","-","ARC",3,{"$f":"VLOOKUP(O133,LOI_LPH[],2,TRUE)","v":200}]
[349,"Sonstiges zur KG 340","349.10",null,null,"Material",null,"IfcMaterial",null,"IfcMaterial","IfcText"," -",null,"ARC",5,{"$f":"VLOOKUP(O134,LOI_LPH[],2,TRUE)","v":300}]
[349,"Sonstiges zur KG 340","349.10",null,null,"Geländerhöhe","Height","Pset_RailingCommon","Height","Pset_RailingCommon","Real","cm","Zahl","ARC",5,{"$f":"VLOOKUP(O135,LOI_LPH[],2,TRUE)","v":300}]
[349,"Sonstiges zur KG 340","349.10",null,null,"Aussenbauteil","IsExternal","Pset_RailingCommon","IsExternal","Pset_RailingCommon","IfcBoolean"," -","ja | nein","ARC",3,{"$f":"VLOOKUP(O136,LOI_LPH[],2,TRUE)","v":200}]
[349,"Sonstiges zur KG 340","349.11",null,null,"Geländer an Wänden","IfcRailing","-","IfcRailing","-","-","-","-","ARC",5,{"$f":"VLOOKUP(O137,LOI_LPH[],2,TRUE)","v":300}]
[349,"Geländer an Wänden","349.11",null,null,"Aussenbauteil","IsExternal","Pset_RailingCommon","IsExternal","Pset_RailingCommon","IfcBoolean"," -","ja | nein","ARC",5,{"$f":"VLOOKUP(O138,LOI_LPH[],2,TRUE)","v":300}]
[350,"Decken",350,"Ja","Ja","Decken","-","-","-","-","-","-","-","-","-",{"$f":"VLOOKUP(O139,LOI_LPH[],2,TRUE)","v":"-"}]
[351,"Decken",351,"Ja","Ja","Deckenkonstruktionen","IfcSlab","-","IfcSlab","-","-","-","-","ARC/TWP",2,{"$f":"VLOOKUP(O140,LOI_LPH[],2,TRUE)","v":100}]
[351,"Decken",351,null,null,"statisch_tragend","LoadBearing","Pset_SlabCommon","LoadBearing","Pset_SlabCommon","IfcBoolean"," -","ja | nein","ARC/TWP",2,{"$f":"VLOOKUP(O141,LOI_LPH[],2,TRUE)","v":100}]
[351,"Decken",351,null,null,"Aussenbauteil","IsExternal","Pset_SlabCommon","IsExternal","Pset_SlabCommon","IfcBoolean"," -","ja | nein","ARC/TWP",2,{"$f":"VLOOKUP(O142,LOI_LPH[],2,TRUE)","v":100}]
[351,"Decken",351,null,null,"Neigung","PitchAngle","Pset_SlabCommon","PitchAngle","Pset_SlabCommon","Real","°","Zahl","ARC/TWP",2,{"$f":"VLOOKUP(O143,LOI_LPH[],2,TRUE)","v":100}]
[351,"Decken",351,null,null,"Feuerwiderstandsklasse","FireRating","Pset_SlabCommon","FireRating","Pset_DoorCommon","IfcLabel"," -",null,"ARC",3,{"$f":"VLOOKUP(O144,LOI_LPH[],2,TRUE)","v":200}]
[351,"Decken",351,null,null,"Schallschutzklasse","AcousticRating","Pset_SlabCommon","AcousticRating","Pset_WallCommon","IfcText",null,null,"ARC",3,{"$f":"VLOOKUP(O145,LOI_LPH[],2,TRUE)","v":200}]
[351,"Decken","351.10","Ja","Ja","Treppen","IfcStair","-","IfcStair","-","-","-","-","ARC/TWP",2,{"$f":"VLOOKUP(O146,LOI_LPH[],2,TRUE)","v":100}]
[351,"Decken","351.10",null,null,"Steigungsanzahl","NumberOfRiser","Pset_StairCommon","NumberOfRiser","Pset_StairCommon","Real",null,"Zahl","ARC/TWP",2,{"$f":"VLOOKUP(O147,LOI_LPH[],2,TRUE)","v":100}]
[351,"Decken","351.10",null,null,"Steigungshöhe","RiserHeight","Pset_StairCommon","RiserHeight","Pset_StairCommon","Real",null,"Zahl","ARC/TWP",2,{"$f":"VLOOKUP(O148,LOI_LPH[],2,TRUE)","v":100}]
[351,"Decken","351.10",null,null,"Aussenbauteil","IsExternal","Pset_StairCommon","IsExternal","Pset_StairCommon","IfcBoolean"," -","ja | nein","ARC/TWP",2,{"$f":"VLOOKUP(O149,LOI_LPH[],2,TRUE)","v":100}]
[351,"Decken","351.10",null,null,"Feuerwiderstandsklasse","FireRating","Pset_StairCommon","FireRating","Pset_StairCommon","IfcLabel"," -",null,"ARC",3,{"$f":"VLOOKUP(O150,LOI_LPH[],2,TRUE)","v":200}]
[351,"Decken","351.10",null,null,"Fluchtweg","FireExit","Pset_StairCommon","FireExit","Pset_StairCommon","IfcBoolean"," -","ja | nein","ARC",3,{"$f":"VLOOKUP(O151,LOI_LPH[],2,TRUE)","v":200}]
[351,"Decken","351.10",null,null,"erf. Durchgangshöhe","RequiredHeadroom","Pset_StairCommon","RequiredHeadroom","Pset_StairCommon","Real",null,"Zahl","ARC",3,{"$f":"VLOOKUP(O152,LOI_LPH[],2,TRUE)","v":200}]
[351,"Decken","351.10",null,null,"Rutschfest","HasNonSkidSurface","Pset_StairCommon","HasNonSkidSurface","Pset_StairCommon","Real",null,"Zahl","ARC",3,{"$f":"VLOOKUP(O153,LOI_LPH[],2,TRUE)","v":200}]
[351,"Decken","351.10",null,null,"Anzahl der Auftritte","NumberOfTreads","Pset_StairCommon","NumberOfTreads","Pset_StairCommon","Real",null,"Zahl","ARC/TWP",2,{"$f":"VLOOKUP(O154,LOI_LPH[],2,TRUE)","v":100}]
[351,"Decken","351.10",null,null,"Auftrittsbreite","TreadLength","Pset_StairCommon","NumberOfTreads","Pset_StairCommon","Real",null,"Zahl","ARC/TWP",3,{"$f":"VLOOKUP(O155,LOI_LPH[],2,TRUE)","v":200}]
[351,"Decken","351.20","Ja","Ja","Rampen","IfcRamp","-","IfcStair","-","-","-","-","ARC/TWP",2,{"$f":"VLOOKUP(O156,LOI_LPH[],2,TRUE)","v":100}]
[351,"Decken","351.20",null,null,"Neigung",null,"(TBD)",null,"(TBD)","Real","°","Zahl","ARC/TWP",3,{"$f":"VLOOKUP(O157,LOI_LPH[],2,TRUE)","v":200}]
[351,"Decken","351.20",null,null,"Aussenbauteil","IsExternal","Pset_RampCommon","IsExternal","Pset_RampCommon","IfcBoolean"," -","ja | nein","ARC/TWP",2,{"$f":"VLOOKUP(O158,LOI_LPH[],2,TRUE)","v":100}]
[351,"Decken","351.20",null,null,"Feuerwiderstandsklasse","FireRating","Pset_RampCommon","FireRating","Pset_RampCommon","IfcLabel"," -",null,"ARC/TWP",3,{"$f":"VLOOKUP(O159,LOI_LPH[],2,TRUE)","v":200}]
[351,"Decken","351.20",null,null,"Fluchtweg","FireExit","Pset_RampCommon","FireExit","Pset_RampCommon","IfcBoolean"," -","ja | nein","ARC",3,{"$f":"VLOOKUP(O160,LOI_LPH[],2,TRUE)","v":200}]
[351,"Decken","351.20",null,null,"Behindertengerecht","HandicapAccessible","Pset_RampCommon","HandicapAccessible","Pset_RampCommon","IfcBoolean"," -","ja | nein","ARC",3,{"$f":"VLOOKUP(O161,LOI_LPH[],2,TRUE)","v":200}]
[351,"Decken","351.20",null,null,"erf. Neigung","RequiredSlope","Pset_RampCommon","RequiredSlope","Pset_RampCommon","Real","°","Zahl","ARC/TWP",2,{"$f":"VLOOKUP(O162,LOI_LPH[],2,TRUE)","v":100}]
[351,"Decken","351.20",null,null,"Rutschfestigkeitsklasse","HasNonSkidSurface","Pset_RampCommon","HasNonSkidSurface","Pset_RampCommon","Real",null,"Zahl","ARC/TWP",3,{"$f":"VLOOKUP(O163,LOI_LPH[],2,TRUE)","v":200}]
[351,"Decken","351.30","Ja","Ja","Unterzug/Überzug/Träger","IfcBeam","-","IfcStair","-","-","-","-","ARC/TWP",2,{"$f":"VLOOKUP(O164,LOI_LPH[],2,TRUE)","v":100}]
[351,"Decken","351.30",null,null,"Neigung","Slope","Pset_BeamCommon",null,null,"Real","°","Zahl","TWP",3,{"$f":"VLOOKUP(O165,LOI_LPH[],2,TRUE)","v":200}]
[351,"Decken","351.30",null,null,"Aussenbauteil","IsExternal","Pset_BeamCommon","IsExternal","Pset_BeamCommon","IfcBoolean"," -","ja | nein","ARC/TWP",2,{"$f":"VLOOKUP(O166,LOI_LPH[],2,TRUE)","v":100}]
[351,"Decken","351.30",null,null,"Feuerwiderstandsklasse","FireRating","Pset_BeamCommon","FireRating","Pset_BeamCommon","IfcLabel"," -",null,"ARC",3,{"$f":"VLOOKUP(O167,LOI_LPH[],2,TRUE)","v":200}]
[351,"Decken","351.30",null,null,"Spannweite","Span","Pset_BeamCommon","Span","Pset_BeamCommon","Real","mm","Zahl","ARC/TWP",2,{"$f":"VLOOKUP(O168,LOI_LPH[],2,TRUE)","v":100}]
[352,"Deckenbekleidungen ",352,"Ja","Ja","Deckenbeläge / Bodenbeläge","IfcCoveringType/FLOORING","-","IfcCoveringType/FLOORING","-","-","-","-","ARC",3,{"$f":"VLOOKUP(O169,LOI_LPH[],2,TRUE)","v":200}]
[352,"Deckenbekleidungen",352,"Ja","Ja","Deckenbekleidungen","IfcCoveringType/CEILING","-","IfcCoveringType/CEILING","-","-","-","-","ARC",3,{"$f":"VLOOKUP(O170,LOI_LPH[],2,TRUE)","v":200}]
[352,"Deckenbeckleidungen",352,null,null,"Aussenbauteil","IsExternal","Pset_CoveringCommon","IsExternal","Pset_CoveringCommon","IfcBoolean"," -","ja | nein","ARC",3,{"$f":"VLOOKUP(O171,LOI_LPH[],2,TRUE)","v":200}]
[352,"Deckenbeckleidungen",352,null,null,"Neigung",null,"(TBD)",null,"(TBD)","Real","°","Zahl","ARC",3,{"$f":"VLOOKUP(O172,LOI_LPH[],2,TRUE)","v":200}]
[352,"Deckenbeckleidungen",352,null,null,"Feuerwiderstandsklasse","FireRating","Pset_CoveringCommon","FireRating","Pset_CoveringCommon","IfcLabel"," -",null,"ARC",3,{"$f":"VLOOKUP(O173,LOI_LPH[],2,TRUE)","v":200}]
[352,"Deckenbeckleidungen",352,null,null,"Brandschutzsklasse","FlammabilityRating","Pset_CoveringCommon","FireRating","Pset_CoveringCommon","IfcText"," -","A","ARC",3,{"$f":"VLOOKUP(O174,LOI_LPH[],2,TRUE)","v":200}]
[352,"Deckenbeckleidungen",352,null,null,"Schallschutzklasse","AcousticRating","Pset_CoveringCommon","AcousticRating","Pset_CoveringCommon","IfcText",null,null,"ARC",3,{"$f":"VLOOKUP(O175,LOI_LPH[],2,TRUE)","v":200}]
[352,"Deckenbeckleidungen",352,null,null,"Oberflächengüte",null,"(TBD)","IsExternal","(TBD)","IfcText",null,"Q3","ARC",3,{"$f":"VLOOKUP(O176,LOI_LPH[],2,TRUE)","v":200}]
[352,"Deckenbeckleidungen",352,null,null,"Material","Material","Pset_CoveringCommon",null,"IfcMaterial","IfcText"," -",null,"ARC",5,{"$f":"VLOOKUP(O177,LOI_LPH[],2,TRUE)","v":300}]
[352,"Deckenbeckleidungen",352,null,null,"Oberfläche","Finish","Pset_CoveringCommon","Finish","Pset_CoveringCommon","IfcText"," -","glatt | strukturiert","ARC",5,{"$f":"VLOOKUP(O178,LOI_LPH[],2,TRUE)","v":300}]
[360,"Dächer",360,"Ja","Ja","Dächer","-","-","-","-","-","-","-","-","-",{"$f":"VLOOKUP(O179,LOI_LPH[],2,TRUE)","v":"-"}]
[361,"Dachkonstruktionen ",361,"Ja","Ja","Dachkonstruktionen","IfcSlab","-","IfcSlab","-","-","-","-","ARC/TWP",2,{"$f":"VLOOKUP(O180,LOI_LPH[],2,TRUE)","v":100}]
[361,"Deckenkonstruktionen",361,null,null,"statisch_tragend","LoadBearing","Pset_SlabCommon","LoadBearing","Pset_SlabCommon","IfcBoolean"," -","ja | nein","ARC/TWP",2,{"$f":"VLOOKUP(O181,LOI_LPH[],2,TRUE)","v":100}]
[361,"Deckenkonstruktionen",361,null,null,"Aussenbauteil","IsExternal","Pset_SlabCommon","IsExternal","Pset_SlabCommon","IfcBoolean"," -","ja | nein","ARC/TWP",2,{"$f":"VLOOKUP(O182,LOI_LPH[],2,TRUE)","v":100}]
[361,"Deckenkonstruktionen",361,null,null,"Neigung","PitchAngle","Pset_SlabCommon","PitchAngle","Pset_SlabCommon","Real","°","Zahl","ARC/TWP",2,{"$f":"VLOOKUP(O183,LOI_LPH[],2,TRUE)","v":100}]
[361,"Deckenkonstruktionen",361,null,null,"Feuerwiderstandsklasse","FireRating","Pset_SlabCommon","FireRating","Pset_SlabCommon","IfcLabel"," -",null,"ARC",3,{"$f":"VLOOKUP(O184,LOI_LPH[],2,TRUE)","v":200}]
[361,"Deckenkonstruktionen",361,null,null,"Schallschutzklasse","AcousticRating","Pset_SlabCommon","AcousticRating","Pset_SlabCommon","IfcText",null,null,"ARC",3,{"$f":"VLOOKUP(O185,LOI_LPH[],2,TRUE)","v":200}]
[362,"Dachfenster, Dachöffnungen",362,"Ja","Ja","Dachfenster, Dachöffnungen","IfcWindow","-","IfcWindow","-","-","-","-","ARC",3,{"$f":"VLOOKUP(O186,LOI_LPH[],2,TRUE)","v":200}]
[362,"Dachöffnungen",362,null,null,"Attribute analog 334.30 Fenster außen",null,null,null,null,null,null,null,null,3,{"$f":"VLOOKUP(O187,LOI_LPH[],2,TRUE)","v":200}]
[363,"Dachbeläge ",363,"Ja","Ja","Dachbeläge","IfcCoveringType/ROOFING","-","IfcCoveringType/ROOFING","-","-","-","-","ARC",3,{"$f":"VLOOKUP(O188,LOI_LPH[],2,TRUE)","v":200}]
[363,"Dachbeläge ",363,null,null,"Aussenbauteil","IsExternal","Pset_CoveringCommon","IsExternal","Pset_CoveringCommon","IfcBoolean"," -","ja | nein","ARC",3,{"$f":"VLOOKUP(O189,LOI_LPH[],2,TRUE)","v":200}]
[363,"Dachbeläge ",363,null,null,"Feuerwiderstandsklasse","FireRating","Pset_CoveringCommon","FireRating","Pset_CoveringCommon","IfcLabel"," -",null,"ARC",3,{"$f":"VLOOKUP(O190,LOI_LPH[],2,TRUE)","v":200}]
[363,"Dachbeläge ",363,null,null,"Schallschutzklasse","AcousticRating","Pset_CoveringCommon","AcousticRating","Pset_CoveringCommon","IfcText",null,null,"ARC",3,{"$f":"VLOOKUP(O191,LOI_LPH[],2,TRUE)","v":200}]
[364,"Dachbekleidungen ",364,"Ja","Ja","Dachbekleidungen","IfcCoveringType/ROOFING","-","IfcCoveringType/CEILING","-","-","-","-","ARC",3,{"$f":"VLOOKUP(O192,LOI_LPH[],2,TRUE)","v":200}]
[364,"Dachbeläge ",364,null,null,"Attribute analog 364 Dachbeläge",null,null,null,null,null,null,null,"ARC",3,{"$f":"VLOOKUP(O193,LOI_LPH[],2,TRUE)","v":200}]
[369,"Dächer, Sonstiges ",369,"Ja","Ja","Dächer, sonstiges","-","-","-","-","-","-","-","ARC",3,{"$f":"VLOOKUP(O194,LOI_LPH[],2,TRUE)","v":200}]
[369,"Dächer, Sonstiges ","369.10","Ja","Ja","Geländer an Dächern","IfcRailing","-","IfcRailing","-","-","-","-","ARC",3,{"$f":"VLOOKUP(O195,LOI_LPH[],2,TRUE)","v":200}]
[369,"Dächer, Sonstiges ","369.20","Ja","Ja","Anschlagpunkte zur Absturzsicherung (Sekuranten)","IfcBuildingElementProxy","-","IfcBuildingElementProxy","-","-","-","-","ARC",5,{"$f":"VLOOKUP(O196,LOI_LPH[],2,TRUE)","v":300}]
[390,"Sonstige Maßnahmen für Baukonstruktionen",390,"Nein","Nein","Sonstige Maßnahmen für Baukonstruktionen",null,"-","IfcBuildingElementProxy","-","-","-","-","-",5,{"$f":"VLOOKUP(O197,LOI_LPH[],2,TRUE)","v":300}]
[391,"Sonstige Maßnahmen für Baukonstruktionen",391,null,null,"Bauliche Brandschutzelemente","IfcBuildingElementProxy","-","IfcBuildingElementProxy","-","-","-","-","ARC",5,{"$f":"VLOOKUP(O198,LOI_LPH[],2,TRUE)","v":300}]
[391,"Sonstige Maßnahmen für Baukonstruktionen",391,null,null,"Aussenbauteil","IsExternal","(TBD)","IfcBoolean","Pset_RailingCommon","IfcBoolean","ja | nein",null,"ARC",3,{"$f":"VLOOKUP(O199,LOI_LPH[],2,TRUE)","v":200}]
[391,"Sonstige Maßnahmen für Baukonstruktionen",391,null,null,"Feuerwiderstandsklasse","FireRating","(TBD)","FireRating","Pset_RailingCommon","IfcLabel"," -","T 30-1 | T 30-2 | T 90-1 | T 90-2","ARC",3,{"$f":"VLOOKUP(O200,LOI_LPH[],2,TRUE)","v":200}]
[391,"Sonstige Maßnahmen für Baukonstruktionen",391,null,null,"Material",null,"(TBD)",null,"IfcMaterial","IfcLabel"," -","Kunststoff | Holz | Aluminium | Sonstiges","ARC",5,{"$f":"VLOOKUP(O201,LOI_LPH[],2,TRUE)","v":300}]
[391,"Sonstige Maßnahmen für Baukonstruktionen","391.10","Nein","Nein","Brandabschottungen","IfcBuildingElementProxy","-","IfcBuildingElementProxy","-","-","-","-","ARC",3,{"$f":"VLOOKUP(O202,LOI_LPH[],2,TRUE)","v":200}]
[391,"Sonstige Maßnahmen für Baukonstruktionen","391.10",null,null,"statisch_tragend","LoadBearing","(TBD)","LoadBearing","Pset_RailingCommon","IfcBoolean"," -","ja | nein","ARC",3,{"$f":"VLOOKUP(O203,LOI_LPH[],2,TRUE)","v":200}]
[391,"Sonstige Maßnahmen für Baukonstruktionen","391.10",null,null,"Aussenbauteil","IsExternal","(TBD)","IsExternal","Pset_RailingCommon","IfcBoolean"," -","ja | nein","ARC",3,{"$f":"VLOOKUP(O204,LOI_LPH[],2,TRUE)","v":200}]
[391,"Sonstige Maßnahmen für Baukonstruktionen","391.10",null,null,"Feuerwiderstandsklasse","FireRating","(TBD)","FireRating","Pset_RailingCommon","IfcLabel"," -","T 30-1 | T 30-2 | T 90-1 | T 90-2","ARC",3,{"$f":"VLOOKUP(O205,LOI_LPH[],2,TRUE)","v":200}]
[391,"Sonstige Maßnahmen für Baukonstruktionen","391.10",null,null,"Zügigkeit",null,"(TBD)",null,null,"Real",null,"Zahl","ARC",5,{"$f":"VLOOKUP(O206,LOI_LPH[],2,TRUE)","v":300}]
[400,"Bauwerk – Technische Anlagen",400,null,null,"Bauwerk – Technische Anlagen","-","-","-","-","-","-","-","-","-",{"$f":"VLOOKUP(O207,LOI_LPH[],2,TRUE)","v":"-"}]
[410,"Abwasser‐, Wasser‐, Gasanlagen ",410,null,null,"Abwasser-, Wasser-, Gasanlagen","-","-","-","-","-","-","-","-","-",{"$f":"VLOOKUP(O208,LOI_LPH[],2,TRUE)","v":"-"}]
[411,"Abwasseranlagen ",411,null,null,"Abwasseranlagen","-","-","-","-","-","-","-","-","-",{"$f":"VLOOKUP(O209,LOI_LPH[],2,TRUE)","v":"-"}]
[411,"Abwasseranlagen ","411.10",null,null,"Rohrleitungen","IfcDistributionFlowElement","-","IfcPipeSegment","-","-","-","-","HLSK",3,{"$f":"VLOOKUP(O210,LOI_LPH[],2,TRUE)","v":200}]
[411,"Abwasseranlagen ","411.10",null,null,"Bauart",null,"(TBD)",null,null,"IfcText"," -","einschalig | mehrschalig (mit Dämmung)","HLSK",5,{"$f":"VLOOKUP(O211,LOI_LPH[],2,TRUE)","v":300}]
[411,"Abwasseranlagen ","411.10",null,null,"Nennweite DN",null,"(TBD)",null,null,"IfcText","DN","Zahl","HLSK",5,{"$f":"VLOOKUP(O212,LOI_LPH[],2,TRUE)","v":300}]
[411,"Abwasseranlagen ","411.10",null,null,"Begleitheizung",null,"(TBD)",null,null,"IfcBoolean"," -","ja | nein","HLSK",5,{"$f":"VLOOKUP(O213,LOI_LPH[],2,TRUE)","v":300}]
[411,"Abwasseranlagen ","411.10",null,null,"Befestigungsmittel gesonderte Anforderungen",null,"(TBD)",null,null,"IfcText"," -","F30 / F90 Befestigung","HLSK",5,{"$f":"VLOOKUP(O214,LOI_LPH[],2,TRUE)","v":300}]
[411,"Abwasseranlagen ","411.10",null,null,"Material",null,"(TBD)",null,null,"IfcText"," -","Freitext","HLSK",5,{"$f":"VLOOKUP(O215,LOI_LPH[],2,TRUE)","v":300}]
[411,"Abwasseranlagen ","411.20",null,null,"Abläufe","IfcFlowTerminal ","-","IfcWasteTerminal","-","-","-","-","HLSK",3,{"$f":"VLOOKUP(O216,LOI_LPH[],2,TRUE)","v":200}]
[411,"Abwasseranlagen ","411.20",null,null,"Bauart",null,"(TBD)",null,null,"IfcText"," -","mit Rückstauverschluss | ohne Rückstauverschluss","HLSK",5,{"$f":"VLOOKUP(O217,LOI_LPH[],2,TRUE)","v":300}]
[411,"Abwasseranlagen ","411.20",null,null,"Begleitheizung",null,"(TBD)",null,null,"IfcBoolean"," -","ja | nein","HLSK",5,{"$f":"VLOOKUP(O218,LOI_LPH[],2,TRUE)","v":300}]
[411,"Abwasseranlagen ","411.20",null,null,"Rosttyp",null,"(TBD)",null,null,"IfcText"," -","Gitterrost | Schlitzrost","HLSK",8,{"$f":"VLOOKUP(O219,LOI_LPH[],2,TRUE)","v":500}]
[411,"Abwasseranlagen ","411.30",null,null,"Absperreinrichtungen und Rückstauverschlüsse","IfcFlowController ","-","IfcValve","-","-","-","-","HLSK",3,{"$f":"VLOOKUP(O220,LOI_LPH[],2,TRUE)","v":200}]
[411,"Abwasseranlagen ","411.30",null,null,"Bauart",null,"(TBD)",null,null,"IfcText"," -","Decken- | Wandbefestigung ","HLSK",5,{"$f":"VLOOKUP(O221,LOI_LPH[],2,TRUE)","v":300}]
[411,"Abwasseranlagen ","411.30",null,null,"Nennweite DN",null,"(TBD)",null,null,"Real","DN","Zahl","HLSK",5,{"$f":"VLOOKUP(O222,LOI_LPH[],2,TRUE)","v":300}]
[411,"Abwasseranlagen ","411.40",null,null,"Pumpen / Hebeanlagen","IfcFlowMovingDevice ","-","IfcPump","-","-","-","-","HLSK",3,{"$f":"VLOOKUP(O223,LOI_LPH[],2,TRUE)","v":200}]
[411,"Abwasseranlagen ","411.40",null,null,"Bauart",null,"(TBD)",null,null,"IfcText","-","Einpumpenanlage | Doppelpumpenanlage (parallel) | Mehrpumpenanlage (parallel)","HLSK",5,{"$f":"VLOOKUP(O224,LOI_LPH[],2,TRUE)","v":300}]
[411,"Abwasseranlagen ","411.40",null,null,"Auffangbehälter",null,"(TBD)",null,null,"IfcText","-","geschlossen | offen","HLSK",5,{"$f":"VLOOKUP(O225,LOI_LPH[],2,TRUE)","v":300}]
[411,"Abwasseranlagen ","411.40",null,null,"Fördermenge",null,"(TBD)",null,null,"Real","m3/h",20,"HLSK",5,{"$f":"VLOOKUP(O226,LOI_LPH[],2,TRUE)","v":300}]
[411,"Abwasseranlagen ","411.40",null,null,"Elektrische Leistung",null,"(TBD)","NominalCapacity",null,"IfcPowerMeasure","kW","Zahl","HLSK",5,{"$f":"VLOOKUP(O227,LOI_LPH[],2,TRUE)","v":300}]
[411,"Abwasseranlagen ","411.40",null,null,"Sekundärleistung ",null,"(TBD)",null,null,"Real","W","Zahl","HLSK",5,{"$f":"VLOOKUP(O228,LOI_LPH[],2,TRUE)","v":300}]
[411,"Abwasseranlagen ","411.40",null,null,"Primärmedium",null,"(TBD)",null,null,"IfcText"," -","Luft | Wasser","HLSK",5,{"$f":"VLOOKUP(O229,LOI_LPH[],2,TRUE)","v":300}]
[411,"Abwasseranlagen ","411.40",null,null,"Förderhöhe",null,"(TBD)",null,null,"Real","m","Zahl","HLSK",5,{"$f":"VLOOKUP(O230,LOI_LPH[],2,TRUE)","v":300}]
[411,"Abwasseranlagen ","411.40",null,null,"Mögliche Betriebsarten",null,"(TBD)",null,null,"IfcText"," -","einfach | bivalent","HLSK",5,{"$f":"VLOOKUP(O231,LOI_LPH[],2,TRUE)","v":300}]
[411,"Abwasseranlagen ","411.40",null,null,"Fäkalienhaltig",null,"(TBD)",null,null,"IfcBoolean"," -","ja | nein","HLSK",5,{"$f":"VLOOKUP(O232,LOI_LPH[],2,TRUE)","v":300}]
[411,"Abwasseranlagen ","411.40",null,null,"Gefahrstoff",null,"(TBD)",null,null,"IfcText","-",null,"HLSK",5,{"$f":"VLOOKUP(O233,LOI_LPH[],2,TRUE)","v":300}]
[411,"Abwasseranlagen ","411.40",null,null,"Fördermedium",null,"(TBD)",null,null,"IfcText","-","Chlor, Wasser, Schlamm","HLSK",5,{"$f":"VLOOKUP(O234,LOI_LPH[],2,TRUE)","v":300}]
[411,"Abwasseranlagen ","411.40",null,null,"MSR Daten Schnittstelle",null,"(TBD)",null,null,"IfcText","-",null,"HLSK",5,{"$f":"VLOOKUP(O235,LOI_LPH[],2,TRUE)","v":300}]
[411,"Abwasseranlagen ","411.40",null,null,"Redundanz",null,"(TBD)",null,null,"IfcText","-",null,"HLSK",5,{"$f":"VLOOKUP(O236,LOI_LPH[],2,TRUE)","v":300}]
[411,"Abwasseranlagen ","411.60",null,null,"Abscheideranlagen","IfcFlowTreatmentDevice ","-","IfcInterceptor","-","-","-","-","HLSK",3,{"$f":"VLOOKUP(O237,LOI_LPH[],2,TRUE)","v":200}]
[411,"Abwasseranlagen ","411.60",null,null,"Bauart",null,"(TBD)",null,null,"IfcText"," -","Erdeinbau | Freiaufstellung","HLSK",5,{"$f":"VLOOKUP(O238,LOI_LPH[],2,TRUE)","v":300}]
[411,"Abwasseranlagen ","411.60",null,null,"Abscheidertyp",null,"(TBD)",null,null,"IfcText"," -","Fettabscheider | Stärkeabscheider | Leichtflüssigkeitsabscheider | Schlammfang | Sonstiges","HLSK",5,{"$f":"VLOOKUP(O239,LOI_LPH[],2,TRUE)","v":300}]
[411,"Abwasseranlagen ","411.60",null,null,"Nenngröße NG",null,"(TBD)",null,null,"IfcText","NG","Zahl","HLSK",5,{"$f":"VLOOKUP(O240,LOI_LPH[],2,TRUE)","v":300}]
[411,"Abwasseranlagen ","411.60",null,null,"Nenninhalt",null,"(TBD)",null,null,"Real","l","Zahl","HLSK",5,{"$f":"VLOOKUP(O241,LOI_LPH[],2,TRUE)","v":300}]
[411,"Abwasseranlagen ","411.60",null,null,"Nennleistung",null,"(TBD)",null,null,"IfcPowerMeasure","kW","Zahl","HLSK",5,{"$f":"VLOOKUP(O242,LOI_LPH[],2,TRUE)","v":300}]
[411,"Abwasseranlagen ","411.60",null,null,"Schlamfang",null,"(TBD)",null,null,"Real","l","Zahl","HLSK",5,{"$f":"VLOOKUP(O243,LOI_LPH[],2,TRUE)","v":300}]
[411,"Abwasseranlagen ","411.60",null,null,"Schichtdicke",null,"(TBD)",null,null,"Real","cm","Zahl","HLSK",5,{"$f":"VLOOKUP(O244,LOI_LPH[],2,TRUE)","v":300}]
[411,"Abwasseranlagen ","411.60",null,null,"Nennvolumenstrom",null,"(TBD)",null,null,"Real","m3/h","Zahl","HLSK",5,{"$f":"VLOOKUP(O245,LOI_LPH[],2,TRUE)","v":300}]
[411,"Abwasseranlagen ","411.70",null,null,"Neutralisierungsanlagen","IfcDistributionFlowElement","-","IfcDistributionFlowElement","-","-","-","-","HLSK",3,{"$f":"VLOOKUP(O246,LOI_LPH[],2,TRUE)","v":200}]
[411,"Abwasseranlagen ","411.70",null,null,"Bauart",null,"(TBD)",null,null,"IfcText"," -","Erdeinbau | Freiaufstellung","HLSK",5,{"$f":"VLOOKUP(O247,LOI_LPH[],2,TRUE)","v":300}]
[411,"Abwasseranlagen ","411.70",null,null,"Nennleistung",null,"(TBD)",null,null,"Real","m3/h","Zahl","HLSK",5,{"$f":"VLOOKUP(O248,LOI_LPH[],2,TRUE)","v":300}]
[411,"Abwasseranlagen ","411.70",null,null,"Neutralisierungsmedium",null,"(TBD)",null,null,"IfcText"," -","Freitext","HLSK",5,{"$f":"VLOOKUP(O249,LOI_LPH[],2,TRUE)","v":300}]
[411,"Abwasseranlagen ","411.80",null,null,"Kontroll-, Reinigungs- und Sammelschächte","IfcDistributionChamberElement","-","IfcDistributionChamberElement","-","-","-","-","HLSK",3,{"$f":"VLOOKUP(O250,LOI_LPH[],2,TRUE)","v":200}]
[411,"Abwasseranlagen ","411.80",null,null,"Volumen",null,"(TBD)",null,null,"Real","m3","Zahl","HLSK",5,{"$f":"VLOOKUP(O251,LOI_LPH[],2,TRUE)","v":300}]
[412,"Wasseranlagen",412,null,null,"Wasseranlagen","-","-","IfcBuildingElementProxy","-","-","-","-","-","-",{"$f":"VLOOKUP(O252,LOI_LPH[],2,TRUE)","v":"-"}]
[412,"Wasseranlagen","412.10",null,null,"Trinkwasserversorgungsanlagen","IfcBuildingElementProxy","-","IfcBuildingElementProxy","-","-","-","-","HLSK",3,{"$f":"VLOOKUP(O253,LOI_LPH[],2,TRUE)","v":200}]
[412,"Wasseranlagen","412.11",null,null,"Rohrleitungen","IfcDistributionFlowElement","-","IfcPipeSegment","-","-","-","-","HLSK",3,{"$f":"VLOOKUP(O254,LOI_LPH[],2,TRUE)","v":200}]
[412,"Wasseranlagen","412.11",null,null,"Leitungstyp",null,"(TBD)",null,null,"IfcText"," -","Kaltwasserleitung | Warmwasserleitung | Zirkulationsleitung | Sonstiges","HLSK",3,{"$f":"VLOOKUP(O255,LOI_LPH[],2,TRUE)","v":200}]
[412,"Wasseranlagen","412.11",null,null,"Nennweite DN",null,"(TBD)",null,null,"Real","DN","Zahl","HLSK",5,{"$f":"VLOOKUP(O256,LOI_LPH[],2,TRUE)","v":300}]
[412,"Wasseranlagen","412.11",null,null,"Begleitheizung",null,"(TBD)",null,null,"IfcBoolean"," -","ja | nein","HLSK",5,{"$f":"VLOOKUP(O257,LOI_LPH[],2,TRUE)","v":300}]
[412,"Wasseranlagen","412.12",null,null,"Armaturen","IfcFlowTerminal ","-","IfcValve","-","-","-","-","HLSK",3,{"$f":"VLOOKUP(O258,LOI_LPH[],2,TRUE)","v":200}]
[412,"Wasseranlagen","412.12",null,null,"Armaturentypen",null,"(TBD)",null,null,"IfcText"," -","Absperrarmatur | Regelarmatur | Entnahmearmatur | Sicherheitsarmatur | Sicherungs- und Ringleitungsarmatur | Sonstiges","HLSK",5,{"$f":"VLOOKUP(O259,LOI_LPH[],2,TRUE)","v":300}]
[412,"Wasseranlagen","412.12",null,null,"Modellreihe",null,"(TBD)","","","IfcText"," -","Freitext","HLSK",8,{"$f":"VLOOKUP(O260,LOI_LPH[],2,TRUE)","v":500}]
[412,"Wasseranlagen","412.12",null,null,"Wasser- /  Energiesparfunktion",null,"(TBD)",null,null,"IfcText",null,"Selbstschluss, Thermostat, Durchflussbeschränkung, Cool Start",null,5,{"$f":"VLOOKUP(O261,LOI_LPH[],2,TRUE)","v":300}]
[412,"Wasseranlagen","412.13",null,null,"Druckerhöhungsanlage","IfcFlowMovingDevice ","-","IfcPump","-","-","-","-","HLSK",3,{"$f":"VLOOKUP(O262,LOI_LPH[],2,TRUE)","v":200}]
[412,"Wasseranlagen","412.13",null,null,"Anwendungsbereich",null,"(TBD)",null,null,"IfcLabel"," -","Trinkwasser | Löschwasser","HLSK",5,{"$f":"VLOOKUP(O263,LOI_LPH[],2,TRUE)","v":300}]
[412,"Wasseranlagen","412.13",null,null,"Fördermenge",null,"(TBD)",null,null,"Real","m3/h","Zahl","HLSK",5,{"$f":"VLOOKUP(O264,LOI_LPH[],2,TRUE)","v":300}]
[412,"Wasseranlagen","412.13",null,null,"Nenndruck",null,"(TBD)",null,null,"Real","bar","Zahl","HLSK",5,{"$f":"VLOOKUP(O265,LOI_LPH[],2,TRUE)","v":300}]
[412,"Wasseranlagen","412.13",null,null,"Nennleistung",null,"(TBD)",null,null,"Real","W","Zahl","HLSK",5,{"$f":"VLOOKUP(O266,LOI_LPH[],2,TRUE)","v":300}]
[412,"Wasseranlagen","412.13",null,null,"Vorgeschaltetes Membranausdehnungsgefäß",null,"(TBD)",null,null,"IfcBoolean"," -","ja | nein","HLSK",5,{"$f":"VLOOKUP(O267,LOI_LPH[],2,TRUE)","v":300}]
[412,"Wasseranlagen","412.14",null,null,"Pumpen / Hebeanlagen","IfcFlowMovingDevice ","-","IfcPump","-","-","-","-","HLSK",3,{"$f":"VLOOKUP(O268,LOI_LPH[],2,TRUE)","v":200}]
[412,"Wasseranlagen","412.14",null,null,"Bauart",null,"(TBD)",null,null,"IfcText","-","Einpumpenanlage | Doppelpumpenanlage (parallel) | Mehrpumpenanlage (parallel)","HLSK",5,{"$f":"VLOOKUP(O269,LOI_LPH[],2,TRUE)","v":300}]
[412,"Wasseranlagen","412.14",null,null,"Auffangbehälter",null,"(TBD)",null,null,"IfcText","-","geschlossen | offen","HLSK",5,{"$f":"VLOOKUP(O270,LOI_LPH[],2,TRUE)","v":300}]
[412,"Wasseranlagen","412.14",null,null,"Durchfluss",null,"(TBD)",null,null,"Real","m3/h",20,"HLSK",5,{"$f":"VLOOKUP(O271,LOI_LPH[],2,TRUE)","v":300}]
[412,"Wasseranlagen","412.14",null,null,"Elektrische Leistung",null,"(TBD)","NominalCapacity",null,"IfcPowerMeasure","kW","Zahl","HLSK",5,{"$f":"VLOOKUP(O272,LOI_LPH[],2,TRUE)","v":300}]
[412,"Wasseranlagen","412.14",null,null,"Sekundärleistung ",null,"(TBD)",null,null,"Real","W","Zahl","HLSK",5,{"$f":"VLOOKUP(O273,LOI_LPH[],2,TRUE)","v":300}]
[412,"Wasseranlagen","412.14",null,null,"Primärmedium",null,"(TBD)",null,null,"IfcText"," -","Luft | Wasser","HLSK",5,{"$f":"VLOOKUP(O274,LOI_LPH[],2,TRUE)","v":300}]
[412,"Wasseranlagen","412.14",null,null,"Förderhöhe",null,"(TBD)",null,null,"Real","m","Zahl","HLSK",5,{"$f":"VLOOKUP(O275,LOI_LPH[],2,TRUE)","v":300}]
[412,"Wasseranlagen","412.14",null,null,"Elektrische Leistung",null,"(TBD)","NominalCapacity",null,"IfcPowerMeasure","kW","Zahl","HLSK",5,{"$f":"VLOOKUP(O276,LOI_LPH[],2,TRUE)","v":300}]
[412,"Wasseranlagen","412.14",null,null,"Sekundärleistung",null,"(TBD)",null,null,"Real","W","Zahl","HLSK",5,{"$f":"VLOOKUP(O277,LOI_LPH[],2,TRUE)","v":300}]
[412,"Wasseranlagen","412.14",null,null,"Primärmedium",null,"(TBD)",null,null,"IfcText"," -","Luft | Wasser","HLSK",5,{"$f":"VLOOKUP(O278,LOI_LPH[],2,TRUE)","v":300}]
[412,"Wasseranlagen","412.14",null,null,"Förderhöhe",null,"(TBD)",null,null,"Real","m","Zahl","HLSK",5,{"$f":"VLOOKUP(O279,LOI_LPH[],2,TRUE)","v":300}]
[412,"Wasseranlagen","412.14",null,null,"Mögliche Betriebsarten",null,"(TBD)",null,null,"IfcText"," -","einfach | bivalent","HLSK",5,{"$f":"VLOOKUP(O280,LOI_LPH[],2,TRUE)","v":300}]
[412,"Wasseranlagen","412.14",null,null,"Gefahrstoff",null,"(TBD)",null,null,"IfcText","-",null,"HLSK",5,{"$f":"VLOOKUP(O281,LOI_LPH[],2,TRUE)","v":300}]
[412,"Wasseranlagen","412.14",null,null,"Fördermedium",null,"(TBD)",null,null,"IfcText","-","Chlor, Wasser, Schlamm","HLSK",5,{"$f":"VLOOKUP(O282,LOI_LPH[],2,TRUE)","v":300}]
[412,"Wasseranlagen","412.14",null,null,"MSR Daten Schnittstelle",null,"(TBD)",null,null,"IfcText","-",null,"HLSK",5,{"$f":"VLOOKUP(O283,LOI_LPH[],2,TRUE)","v":300}]
[412,"Wasseranlagen","412.14",null,null,"Redundanz",null,"(TBD)",null,null,"IfcText","-",null,"HLSK",5,{"$f":"VLOOKUP(O284,LOI_LPH[],2,TRUE)","v":300}]
[412,"Wasseranlagen","412.15",null,null,"Mess- und Zähleinrichtungen","IfcFlowController ","-","IfcFlowMeter","-","-","-","-","HLSK",3,{"$f":"VLOOKUP(O285,LOI_LPH[],2,TRUE)","v":200}]
[412,"Wasseranlagen","412.15",null,null,"Medium",null,"(TBD)",null,null,"IfcText"," -","Freitext","HLSK",5,{"$f":"VLOOKUP(O286,LOI_LPH[],2,TRUE)","v":300}]
[412,"Wasseranlagen","412.15",null,null,"Nenndurchflussmenge",null,"(TBD)",null,null,"Real","m3/h","Zahl","HLSK",5,{"$f":"VLOOKUP(O287,LOI_LPH[],2,TRUE)","v":300}]
[412,"Wasseranlagen","412.15",null,null,"Nennweite DN",null,"(TBD)",null,null,"Real","DN","Zahl","HLSK",5,{"$f":"VLOOKUP(O288,LOI_LPH[],2,TRUE)","v":300}]
[412,"Wasseranlagen","412.16",null,null,"Filter","IfcFlowTreatmentDevice ","-","IfcFilter","-","-","-","-","HLSK",3,{"$f":"VLOOKUP(O289,LOI_LPH[],2,TRUE)","v":200}]
[412,"Wasseranlagen","412.16",null,null,"Filtertyp",null,"(TBD)",null,null,"IfcText"," -","Freitext","HLSK",5,{"$f":"VLOOKUP(O290,LOI_LPH[],2,TRUE)","v":300}]
[412,"Wasseranlagen","412.16",null,null,"Nenndurchflussmenge",null,"(TBD)",null,null,"Real","m3/h","Zahl","HLSK",5,{"$f":"VLOOKUP(O291,LOI_LPH[],2,TRUE)","v":300}]
[412,"Wasseranlagen","412.16",null,null,"Nennweite DN",null,"(TBD)",null,null,"Real","DN","Zahl","HLSK",5,{"$f":"VLOOKUP(O292,LOI_LPH[],2,TRUE)","v":300}]
[412,"Wasseranlagen","412.16",null,null,"Rückspülbar",null,"(TBD)",null,null,"IfcText"," -","ja | nein | automatisch","HLSK",5,{"$f":"VLOOKUP(O293,LOI_LPH[],2,TRUE)","v":300}]
[412,"Wasseranlagen","412.20",null,null,"Sanitäre Einrichtungsgegenstände","-","-",null,"-","-","-","-","HLSK",3,{"$f":"VLOOKUP(O294,LOI_LPH[],2,TRUE)","v":200}]
[412,"Wasseranlagen","412.21",null,null,"Armaturen","IfcFlowTerminal ","-","IfcValve","-","-","-","-","HLSK",3,{"$f":"VLOOKUP(O295,LOI_LPH[],2,TRUE)","v":200}]
[412,"Wasseranlagen","412.21",null,null,"Bauart",null,"(TBD)",null,null,"IfcText"," -","Absperrarmatur | Regelarmatur | Entnahmearmatur | Sicherheitsarmatur | Sicherungs- und Ringleitungsarmatur | Sonstiges","HLSK",5,{"$f":"VLOOKUP(O296,LOI_LPH[],2,TRUE)","v":300}]
[412,"Wasseranlagen","412.22",null,null,"Einrichtungsgegenstände","IfcFurnishingElement","-","IfcSanitaryTerminal","-","-","-","-","ARC/HLSK",3,{"$f":"VLOOKUP(O297,LOI_LPH[],2,TRUE)","v":200}]
[412,"Wasseranlagen","412.22",null,null,"Bauart",null,"(TBD)",null,null,"IfcText"," -","WC | Waschtisch | Ausgussbecken | Urinal | Bidet | Dusche | Badewanne","ARC/HLSK",5,{"$f":"VLOOKUP(O298,LOI_LPH[],2,TRUE)","v":300}]
[412,"Wasseranlagen","412.22",null,null,"Ausführung",null,"(TBD)",null,null,"IfcText"," -","barrierefrei | höhenverstellbar | barrierefrei, höhenverstellbar | Eckelement","ARC/HLSK",5,{"$f":"VLOOKUP(O299,LOI_LPH[],2,TRUE)","v":300}]
[412,"Wasseranlagen","412.23",null,null,"Spülkästen","IfcFlowStorageDevice","-","IfcSanitaryTerminal","-","-","-","-","HLSK",3,{"$f":"VLOOKUP(O300,LOI_LPH[],2,TRUE)","v":200}]
[412,"Wasseranlagen","412.23",null,null,"Bauart",null,"(TBD)",null,null,"IfcText"," -","Aufputz | Unterputz","HLSK",5,{"$f":"VLOOKUP(O301,LOI_LPH[],2,TRUE)","v":300}]
[412,"Wasseranlagen","412.23",null,null,"Betätigungsauslösung",null,"(TBD)",null,null,"IfcLabel"," -","manuelle | elektronisch (Netz) | elektronisch (Batterie und Akku) | pneumatisch | hydraulisch","HLSK",5,{"$f":"VLOOKUP(O302,LOI_LPH[],2,TRUE)","v":300}]
[412,"Wasseranlagen","412.23",null,null,"Elektrischer Anschluss",null,"(TBD)",null,null,"IfcInteger","V",2020,"HLSK",5,{"$f":"VLOOKUP(O303,LOI_LPH[],2,TRUE)","v":300}]
[412,"Wasseranlagen","412.24",null,null,"Druckspüler","IfcFlowTerminal ","-","IfcSanitaryTerminal","-","-","-","-","ARC/HLSK",3,{"$f":"VLOOKUP(O304,LOI_LPH[],2,TRUE)","v":200}]
[412,"Wasseranlagen","412.24",null,null,"Bauart",null,"(TBD)",null,null,"IfcText"," -","Urinal | WC","HLSK",5,{"$f":"VLOOKUP(O305,LOI_LPH[],2,TRUE)","v":300}]
[412,"Wasseranlagen","412.24",null,null,"Betätigungsauslösung",null,"(TBD)",null,null,"IfcLabel","-","manuelle | elektronisch (Netz) | elektronisch (Batterie und Akku) | pneumatisch | hydraulisch","HLSK",5,{"$f":"VLOOKUP(O306,LOI_LPH[],2,TRUE)","v":300}]
[412,"Wasseranlagen","412.24",null,null,"Betriebsspannung",null,"(TBD)",null,null,"IfcElectricVoltageMeasure","V","Zahl","HLSK",5,{"$f":"VLOOKUP(O307,LOI_LPH[],2,TRUE)","v":300}]
[412,"Wasseranlagen","412.24",null,null,"Elektrischer Anschluss",null,"(TBD)",null,null,"IfcInteger","V",2020,"HLSK",5,{"$f":"VLOOKUP(O308,LOI_LPH[],2,TRUE)","v":300}]
[412,"Wasseranlagen","412.30",null,null,"Dezentrale Trinkwasser-Erwärmungsanlagen","IfcDistributionElement","-","IfcDistributionFlowElement","-","-","-","-","HLSK",3,{"$f":"VLOOKUP(O309,LOI_LPH[],2,TRUE)","v":200}]
[412,"Wasseranlagen","412.30",null,null,"Bauart",null,"(TBD)",null,null,"IfcText"," -","beides | geschlossen druckfest | offen drucklos","HLSK",5,{"$f":"VLOOKUP(O310,LOI_LPH[],2,TRUE)","v":300}]
[412,"Wasseranlagen","412.30",null,null,"Elektrische Anschlussleistung",null,"(TBD)","NominalCapacity","FM_TGA","IfcPowerMeasure","kW","Zahl","HLSK",5,{"$f":"VLOOKUP(O311,LOI_LPH[],2,TRUE)","v":300}]
[412,"Wasseranlagen","412.30",null,null,"Thermische Leistung",null,"(TBD)",null,null,"IfcPowerMeasure","W","Zahl","HLSK",5,{"$f":"VLOOKUP(O312,LOI_LPH[],2,TRUE)","v":300}]
[412,"Wasseranlagen","412.30",null,null,"Durchlauferhitzer",null,"(TBD)",null,null,"IfcBoolean"," -","ja | nein","HLSK",5,{"$f":"VLOOKUP(O313,LOI_LPH[],2,TRUE)","v":300}]
[412,"Wasseranlagen","412.30",null,null,"Maximaltemperatur",null,"(TBD)",null,null,"Real","°C","Zahl","HLSK",5,{"$f":"VLOOKUP(O314,LOI_LPH[],2,TRUE)","v":300}]
[412,"Wasseranlagen","412.40",null,null,"Trinkwasser- Aufbereitungsanlagen","IfcDistributionFlowElement","-","IfcDistributionFlowElement","-","-","-","-","HLSK",3,{"$f":"VLOOKUP(O315,LOI_LPH[],2,TRUE)","v":200}]
[412,"Wasseranlagen","412.40",null,null,"Bauart Aufbereitung",null,"(TBD)",null,null,"IfcText"," -","Entsalzung | Enthärtung | Entkeimung | Dosierung | sonstige","HLSK",5,{"$f":"VLOOKUP(O316,LOI_LPH[],2,TRUE)","v":300}]
[412,"Wasseranlagen","412.40",null,null,"Behälter Volumen",null,"(TBD)",null,null,"Real","l","Zahl","HLSK",5,{"$f":"VLOOKUP(O317,LOI_LPH[],2,TRUE)","v":300}]
[412,"Wasseranlagen","412.40",null,null,"Dosierleistung",null,"(TBD)",null,null,"Real","m3/h","Zahl","HLSK",5,{"$f":"VLOOKUP(O318,LOI_LPH[],2,TRUE)","v":300}]
[412,"Wasseranlagen","412.40",null,null,"Leistungsaufnahme",null,"(TBD)",null,null,"IfcPowerMeasure","W","Zahl","HLSK",5,{"$f":"VLOOKUP(O319,LOI_LPH[],2,TRUE)","v":300}]
[412,"Wasseranlagen","412.40",null,null,"Volumenstrom ",null,"(TBD)",null,null,"Real","m3/h","Zahl","HLSK",5,{"$f":"VLOOKUP(O320,LOI_LPH[],2,TRUE)","v":300}]
[412,"Wasseranlagen","412.40",null,null,"Aufbereitungstyp",null,"(TBD)",null,null,"IfcText"," -","physikalisch | chemisch","HLSK",5,{"$f":"VLOOKUP(O321,LOI_LPH[],2,TRUE)","v":300}]
[412,"Wasseranlagen","412.40",null,null,"Nennleistung",null,"(TBD)",null,null,"Real","kW","Zahl","HLSK",5,{"$f":"VLOOKUP(O322,LOI_LPH[],2,TRUE)","v":300}]
[412,"Wasseranlagen","412.60",null,null,"Nichttrinkwasseranlagen","IfcDistributionFlowElement","-","IfcDistributionFlowElement","-","-","-","-","HLSK",3,{"$f":"VLOOKUP(O323,LOI_LPH[],2,TRUE)","v":200}]
[412,"Wasseranlagen","412.60",null,null,"Nennweite DN",null,"(TBD)",null,null,"Real","DN","Zahl","HLSK",5,{"$f":"VLOOKUP(O324,LOI_LPH[],2,TRUE)","v":300}]
[412,"Wasseranlagen","412.61",null,null,"Rohrleitungen","IfcDistributionFlowElement","-","IfcPipeSegment","-","-","-","-","HLSK",3,{"$f":"VLOOKUP(O325,LOI_LPH[],2,TRUE)","v":200}]
[412,"Wasseranlagen","412.61",null,null,"Nennweite DN",null,"(TBD)",null,null,"Real","DN","Zahl","HLSK",5,{"$f":"VLOOKUP(O326,LOI_LPH[],2,TRUE)","v":300}]
[412,"Wasseranlagen","412.61",null,null,"Begleitheizung",null,"(TBD)",null,null,"IfcBoolean"," -","ja | nein","HLSK",5,{"$f":"VLOOKUP(O327,LOI_LPH[],2,TRUE)","v":300}]
[412,"Wasseranlagen","412.62",null,null,"Armaturen","IfcFlowTerminal ","-","IfcValve","-","-","-","-","HLSK",3,{"$f":"VLOOKUP(O328,LOI_LPH[],2,TRUE)","v":200}]
[412,"Wasseranlagen","412.62",null,null,"Armaturentypen",null,"(TBD)",null,null,"IfcText"," -","Absperrarmatur | Regelarmatur | Entnahmearmatur | Sicherheitsarmatur | Sicherungs- und Ringleitungsarmatur | Sonstiges","HLSK",5,{"$f":"VLOOKUP(O329,LOI_LPH[],2,TRUE)","v":300}]
[412,"Wasseranlagen","412.62",null,null,"Modellreihe",null,"(TBD)","","","IfcText"," -","Freitext","HLSK",8,{"$f":"VLOOKUP(O330,LOI_LPH[],2,TRUE)","v":500}]
[412,"Wasseranlagen","412.64",null,null,"Brunnenwasserversorgung","IfcDistributionFlowElement","-","IfcDistributionFlowElement","-","-","-","-","HLSK",3,{"$f":"VLOOKUP(O331,LOI_LPH[],2,TRUE)","v":200}]
[412,"Wasseranlagen","412.64",null,null,"Anzahl Pumpen",null,"(TBD)",null,null,"Real","Stück","Zahl","HLSK",5,{"$f":"VLOOKUP(O332,LOI_LPH[],2,TRUE)","v":300}]
[412,"Wasseranlagen","412.64",null,null,"Typ Wasseraufbereitung",null,"(TBD)",null,null,"IfcText","-","Freitext","HLSK",5,{"$f":"VLOOKUP(O333,LOI_LPH[],2,TRUE)","v":300}]
[412,"Wasseranlagen","412.64",null,null,"Grösse Vorratsbehälter",null,"(TBD)",null,null,"Real","l","Zahl","HLSK",5,{"$f":"VLOOKUP(O334,LOI_LPH[],2,TRUE)","v":300}]
[412,"Wasseranlagen","412.65",null,null,"Zierbrunnen","IfcDistributionFlowElement","-","IfcDistributionFlowElement","-","-","-","-","HLSK",3,{"$f":"VLOOKUP(O335,LOI_LPH[],2,TRUE)","v":200}]
[412,"Wasseranlagen","412.65",null,null,"Bauart",null,"(TBD)",null,null,"IfcText","-","mit | ohne Wasseranschluss","HLSK",5,{"$f":"VLOOKUP(O336,LOI_LPH[],2,TRUE)","v":300}]
[412,"Wasseranlagen","412.65",null,null,"Anzahl Pumpen",null,"(TBD)",null,null,"Real","Stück","Zahl","HLSK",5,{"$f":"VLOOKUP(O337,LOI_LPH[],2,TRUE)","v":300}]
[412,"Wasseranlagen","412.65",null,null,"Aufstelllung",null,"(TBD)",null,null,"IfcText","-","innen | aussen","HLSK",5,{"$f":"VLOOKUP(O338,LOI_LPH[],2,TRUE)","v":300}]
[412,"Wasseranlagen","412.65",null,null,"Durchmesser",null,"(TBD)",null,null,"Real","cm","Zahl","HLSK",5,{"$f":"VLOOKUP(O339,LOI_LPH[],2,TRUE)","v":300}]
[412,"Wasseranlagen","412.65",null,null,"Volumen Becken",null,"(TBD)",null,null,"Real","l","Zahl","HLSK",5,{"$f":"VLOOKUP(O340,LOI_LPH[],2,TRUE)","v":300}]
[412,"Wasseranlagen","412.70",null,null,"Regenwassernutzungsanlagen","IfcDistributionFlowElement","-","IfcDistributionFlowElement","-","-","-","-","HLSK",3,{"$f":"VLOOKUP(O341,LOI_LPH[],2,TRUE)","v":200}]
[412,"Wasseranlagen","412.70",null,null,"Nennweite DN",null,"(TBD)",null,null,"Real","DN","Zahl","HLSK",5,{"$f":"VLOOKUP(O342,LOI_LPH[],2,TRUE)","v":300}]
[412,"Wasseranlagen","412.70",null,null,"Volumenstrom Förderpumpe",null,"(TBD)",null,null,"Real","m3/h","Zahl","HLSK",5,{"$f":"VLOOKUP(O343,LOI_LPH[],2,TRUE)","v":300}]
[412,"Wasseranlagen","412.80",null,null,"Trinkwasser-Hausanschluss","IfcDistributionFlowElement","-","IfcDistributionFlowElement","-","-","-","-","HLSK",3,{"$f":"VLOOKUP(O344,LOI_LPH[],2,TRUE)","v":200}]
[412,"Wasseranlagen","412.80",null,null,"Nennweite DN",null,"(TBD)",null,null,"Real","DN","Zahl","HLSK",5,{"$f":"VLOOKUP(O345,LOI_LPH[],2,TRUE)","v":300}]
[412,"Wasseranlagen","412.80",null,null,"Versorungsdruck",null,"(TBD)",null,null,"Real","bar","Zahl","HLSK",5,{"$f":"VLOOKUP(O346,LOI_LPH[],2,TRUE)","v":300}]
[412,"Wasseranlagen","412.80",null,null,"Trinkwasser Filter rückspülbar",null,"(TBD)",null,null,"IfcText","-","ja | nein | automatisch","HLSK",5,{"$f":"VLOOKUP(O347,LOI_LPH[],2,TRUE)","v":300}]
[413,"Gasanlagen ",413,null,null,"Gasanlagen","-","-","-","-","-","-","-","-","-",{"$f":"VLOOKUP(O348,LOI_LPH[],2,TRUE)","v":"-"}]
[413,"Gasanlagen ","413.10",null,null,"Rohrleitungen","IfcDistributionFlowElement","-","IfcPipeSegment","-","-","-","-","HLSK",3,{"$f":"VLOOKUP(O349,LOI_LPH[],2,TRUE)","v":200}]
[413,"Gasanlagen ","413.10",null,null,"Nennweite DN",null,"(TBD)",null,null,"Real","DN","Zahl","HLSK",5,{"$f":"VLOOKUP(O350,LOI_LPH[],2,TRUE)","v":300}]
[413,"Gasanlagen ","413.10",null,null,"Begleitheizung",null,"(TBD)",null,null,"IfcBoolean"," -","ja | nein","HLSK",5,{"$f":"VLOOKUP(O351,LOI_LPH[],2,TRUE)","v":300}]
[413,"Gasanlagen ","413.10",null,null,"Anzahl Pumpen Zirkulation",null,"(TBD)",null,null,"Real","Stück","Zahl","HLSK",5,{"$f":"VLOOKUP(O352,LOI_LPH[],2,TRUE)","v":300}]
[413,"Gasanlagen ","413.20",null,null,"Armaturen","IfcFlowTerminal ","-","IfcValve","-","-","-","-","HLSK",3,{"$f":"VLOOKUP(O353,LOI_LPH[],2,TRUE)","v":200}]
[413,"Gasanlagen ","413.20",null,null,"Armaturentyp",null,"(TBD)",null,null,"IfcText"," -","Absperrarmatur | Regelarmatur | Entnahmearmatur | Sicherheitsarmatur | Sicherungs- und Ringleitungsarmatur | Sonstiges","HLSK",5,{"$f":"VLOOKUP(O354,LOI_LPH[],2,TRUE)","v":300}]
[413,"Gasanlagen ","413.30",null,null,"Flüssiggastanks","IfcFlowStorageDevice ","-","IfcTank","-","-","-","-","HLSK",3,{"$f":"VLOOKUP(O355,LOI_LPH[],2,TRUE)","v":200}]
[413,"Gasanlagen ","413.30",null,null,"Bauart",null,"(TBD)",null,null,"IfcText","-","Erdeinbau | Freiaufstellung","HLSK",5,{"$f":"VLOOKUP(O356,LOI_LPH[],2,TRUE)","v":300}]
[413,"Gasanlagen ","413.30",null,null,"Inhalt",null,"(TBD)",null,null,"IfcText","-","Freitext","HLSK",5,{"$f":"VLOOKUP(O357,LOI_LPH[],2,TRUE)","v":300}]
[413,"Gasanlagen ","413.30",null,null,"Brennstoffart",null,"(TBD)",null,null,"IfcText"," -","Freitext","HLSK",5,{"$f":"VLOOKUP(O358,LOI_LPH[],2,TRUE)","v":300}]
[413,"Gasanlagen ","413.30",null,null,"Volumen",null,"(TBD)",null,null,"Real","l","Zahl","HLSK",5,{"$f":"VLOOKUP(O359,LOI_LPH[],2,TRUE)","v":300}]
[413,"Gasanlagen ","413.30",null,null,"Nenndruck",null,"(TBD)",null,null,"Real","bar","Zahl","HLSK",5,{"$f":"VLOOKUP(O360,LOI_LPH[],2,TRUE)","v":300}]
[419,"Abwasser-, Wasser-, Gasanlagen, sonstiges",419,null,null,"Abwasser-, Wasser-, Gasanlagen, sonstiges","-","-","-","-","-","-","-","-","-",{"$f":"VLOOKUP(O361,LOI_LPH[],2,TRUE)","v":"-"}]
[419,"Hygienische Einrichtungen","419.70",null,null,null,"IfcDistributionFlowElement","-","IfcDistributionFlowElement","-","-","-","-","HLSK",3,{"$f":"VLOOKUP(O362,LOI_LPH[],2,TRUE)","v":200}]
[419,"Abwasser-, Wasser-, Gasanlagen, sonstiges","419.71",null,null,"Rohrleitungen","IfcDistributionFlowElement","-","IfcPipeSegment","-","-","-","-","HLSK",3,{"$f":"VLOOKUP(O363,LOI_LPH[],2,TRUE)","v":200}]
[419,"Abwasser-, Wasser-, Gasanlagen, sonstiges","419.71",null,null,"Nennweite DN",null,"(TBD)",null,null,"Real","DN","Zahl","HLSK",5,{"$f":"VLOOKUP(O364,LOI_LPH[],2,TRUE)","v":300}]
[419,"Abwasser-, Wasser-, Gasanlagen, sonstiges","419.71",null,null,"Begleitheizung",null,"(TBD)",null,null,"IfcBoolean"," -","ja | nein","HLSK",5,{"$f":"VLOOKUP(O365,LOI_LPH[],2,TRUE)","v":300}]
[419,"Abwasser-, Wasser-, Gasanlagen, sonstiges","419.72",null,null,"Absperr-, Entleerungs- und Entnahmearmaturen","IfcFlowController ","-","IfcValve","-","-","-","-","HLSK",3,{"$f":"VLOOKUP(O366,LOI_LPH[],2,TRUE)","v":200}]
[419,"Abwasser-, Wasser-, Gasanlagen, sonstiges","419.72",null,null,"Bauart",null,"(TBD)",null,null,"IfcText","-","Absperrarmatur | Regelarmatur | Entnahmearmatur | Sicherheitsarmatur | Sicherungs- und Ringleitungsarmatur | Sonstiges","HLSK",5,{"$f":"VLOOKUP(O367,LOI_LPH[],2,TRUE)","v":300}]
[419,"Abwasser-, Wasser-, Gasanlagen, sonstiges","419.72",null,null,"Nennweite DN",null,"(TBD)",null,null,"Real","DN","Zahl","HLSK",5,{"$f":"VLOOKUP(O368,LOI_LPH[],2,TRUE)","v":300}]
[419,"Abwasser-, Wasser-, Gasanlagen, sonstiges","419.73",null,null,"Zentraleinheiten einschließlich Pumpe","IfcDistributionFlowElement","-","IfcDistributionFlowElement","-","-","-","-","HLSK",3,{"$f":"VLOOKUP(O369,LOI_LPH[],2,TRUE)","v":200}]
[419,"Abwasser-, Wasser-, Gasanlagen, sonstiges","419.74",null,null,"Desinfektionsanlagen","IfcDistributionFlowElement","-","IfcDistributionFlowElement","-","-","-","-","HLSK",3,{"$f":"VLOOKUP(O370,LOI_LPH[],2,TRUE)","v":200}]
[419,"Abwasser-, Wasser-, Gasanlagen, sonstiges","419.74",null,null,"Desinfektionsart",null,"(TBD)",null,null,"IfcText","-","UV | Elektrolytisch | Ozon | Membran | Chlordioxid | Calciumhypochlorid | Schwerkraftfilter | thermisch | Sonstiges","HLSK",5,{"$f":"VLOOKUP(O371,LOI_LPH[],2,TRUE)","v":300}]
[419,"Abwasser-, Wasser-, Gasanlagen, sonstiges","419.74",null,null,"Desinfektionsmittel",null,"(TBD)",null,null,"IfcText"," -","Freitext","HLSK",5,{"$f":"VLOOKUP(O372,LOI_LPH[],2,TRUE)","v":300}]
[419,"Abwasser-, Wasser-, Gasanlagen, sonstiges","419.74",null,null,"Nenninhalt",null,"(TBD)",null,null,"Real","m3","Zahl","HLSK",5,{"$f":"VLOOKUP(O373,LOI_LPH[],2,TRUE)","v":300}]
[419,"Abwasser-, Wasser-, Gasanlagen, sonstiges","419.74",null,null,"Nennvolumenstrom",null,"(TBD)",null,null,"Real","m3/h","Zahl","HLSK",5,{"$f":"VLOOKUP(O374,LOI_LPH[],2,TRUE)","v":300}]
[419,"Abwasser-, Wasser-, Gasanlagen, sonstiges","419.80",null,null,"MSR-Technik und Antriebselemente","IfcDistributionFlowElement","-","IfcDistributionFlowElement","-","-","-","-","TA",3,{"$f":"VLOOKUP(O375,LOI_LPH[],2,TRUE)","v":200}]
[419,"Abwasser-, Wasser-, Gasanlagen, sonstiges","419.81",null,null,"MSR-Technik","IfcDistributionElement","-","IfcElectricDistributionBoard","-","-","-","-","TA",3,{"$f":"VLOOKUP(O376,LOI_LPH[],2,TRUE)","v":200}]
[419,"Abwasser-, Wasser-, Gasanlagen, sonstiges","419.82",null,null,"Elektromotoren","IfcEnergyConversionDevice","-","IfcElectricMotor","-","-","-","-","TA",3,{"$f":"VLOOKUP(O377,LOI_LPH[],2,TRUE)","v":200}]
[419,"Abwasser-, Wasser-, Gasanlagen, sonstiges","419.82",null,null,"Motor-Nennstrom ",null,"(TBD)",null,"FM_TGA","IfcLabel","A","Zahl","TA",5,{"$f":"VLOOKUP(O378,LOI_LPH[],2,TRUE)","v":300}]
[419,"Abwasser-, Wasser-, Gasanlagen, sonstiges","419.82",null,null,"Nennspannung",null,"(TBD)",null,null,"Real","V","Zahl","TA",5,{"$f":"VLOOKUP(O379,LOI_LPH[],2,TRUE)","v":300}]
[419,"Abwasser-, Wasser-, Gasanlagen, sonstiges","419.82",null,null,"Explosionsgeschützt",null,"(TBD)",null,null,"IfcBoolean"," -","ja | nein","TA",5,{"$f":"VLOOKUP(O380,LOI_LPH[],2,TRUE)","v":300}]
[419,"Abwasser-, Wasser-, Gasanlagen, sonstiges","419.83",null,null,"Riementriebe","-","-","IfcMotorConnection","-","-","-","-","TA",3,{"$f":"VLOOKUP(O381,LOI_LPH[],2,TRUE)","v":200}]
[419,"Abwasser-, Wasser-, Gasanlagen, sonstiges","419.84",null,null,"Antriebskupplungen","-","-","IfcMotorConnection","-","-","-","-","TA",3,{"$f":"VLOOKUP(O382,LOI_LPH[],2,TRUE)","v":200}]
[419,"Abwasser-, Wasser-, Gasanlagen, sonstiges","419.85",null,null,"\tKettentriebe","-","-","IfcMotorConnection","-","-","-","-","TA",3,{"$f":"VLOOKUP(O383,LOI_LPH[],2,TRUE)","v":200}]
[419,"Abwasser-, Wasser-, Gasanlagen, sonstiges","419.86",null,null,"Getriebe","-","-","IfcMotorConnection","-","-","-","-","TA",3,{"$f":"VLOOKUP(O384,LOI_LPH[],2,TRUE)","v":200}]
[419,"Abwasser-, Wasser-, Gasanlagen, sonstiges","419.90",null,null,"Elektrische/elektronische Steuereinrichtungen","IfcDistributionFlowElement","-","IfcDistributionFlowElement","-","-","-","-","TA",3,{"$f":"VLOOKUP(O385,LOI_LPH[],2,TRUE)","v":200}]
[419,"Abwasser-, Wasser-, Gasanlagen, sonstiges","419.91",null,null,"Näherungselektronik","IfcDistributionFlowElement","-","IfcDistributionFlowElement","-","-","-","-","TA",3,{"$f":"VLOOKUP(O386,LOI_LPH[],2,TRUE)","v":200}]
[419,"Abwasser-, Wasser-, Gasanlagen, sonstiges","419.91",null,null,"Betätigungsauslösung",null,"(TBD)",null,null,"IfcLabel","-","manuelle | elektronisch (Netz) | elektronisch (Batterie und Akku) | pneumatisch | hydraulisch","TA",5,{"$f":"VLOOKUP(O387,LOI_LPH[],2,TRUE)","v":300}]
[419,"Abwasser-, Wasser-, Gasanlagen, sonstiges","419.91",null,null,"Elektrischer Anschluss",null,"(TBD)",null,null,"IfcInteger","V",2020,"TA",5,{"$f":"VLOOKUP(O388,LOI_LPH[],2,TRUE)","v":300}]
[419,"Abwasser-, Wasser-, Gasanlagen, sonstiges","419.91",null,null,"Nennleistung",null,"(TBD)",null,null,"Real","W","Zahl","TA",5,{"$f":"VLOOKUP(O389,LOI_LPH[],2,TRUE)","v":300}]
[419,"Abwasser-, Wasser-, Gasanlagen, sonstiges","419.91",null,null,"Nennspannung",null,"(TBD)",null,null,"Real","V","Zahl","TA",5,{"$f":"VLOOKUP(O390,LOI_LPH[],2,TRUE)","v":300}]
[419,"Abwasser-, Wasser-, Gasanlagen, sonstiges","419.92",null,null,"Lichtschranken","IfcDistributionFlowElement","-","IfcDistributionFlowElement","-","-","-","-","TA",3,{"$f":"VLOOKUP(O391,LOI_LPH[],2,TRUE)","v":200}]
[419,"Abwasser-, Wasser-, Gasanlagen, sonstiges","419.93",null,null,"Alarm- und Störmeldeeinrichtungen","IfcAlarmType","-","IfcAlarm","-","-","-","-","TA",3,{"$f":"VLOOKUP(O392,LOI_LPH[],2,TRUE)","v":200}]
[419,"Abwasser-, Wasser-, Gasanlagen, sonstiges","419.94",null,null,"Druckschalter","IfcFlowController ","-","IfcSwitchingDevice","-","-","-","-","TA",3,{"$f":"VLOOKUP(O393,LOI_LPH[],2,TRUE)","v":200}]
[420,"Wärmeversorgungsanlagen ",420,null,null,"Wärmeversorgungsanlagen","-","-","-","-","-","-","-","-","-",{"$f":"VLOOKUP(O394,LOI_LPH[],2,TRUE)","v":"-"}]
[421,"Wärmeerzeugungsanlagen ",421,null,null,"Wärmeerzeugungsanlagen","-","-","-","-","-","-","-","-","-",{"$f":"VLOOKUP(O395,LOI_LPH[],2,TRUE)","v":"-"}]
[421,"Wärmeerzeugungsanlagen ","421.10",null,null,"Wärmeerzeuger","-","-",null,"-","-","-","-","-","-",{"$f":"VLOOKUP(O396,LOI_LPH[],2,TRUE)","v":"-"}]
[421,"Wärmeerzeugungsanlagen ","421.11",null,null,"Wasserkessel","IfcEnergyConversionDevice","-","IfcBoiler/WATER","-","-","-","-","HLSK",3,{"$f":"VLOOKUP(O397,LOI_LPH[],2,TRUE)","v":200}]
[421,"Wärmeerzeugungsanlagen ","421.11",null,null,"Bauart",null,"(TBD)",null,null,"IfcText","-","Standard-Kessel | Niedertemperatur-Kessel | Brennwert-Kessel | Standard-Kombi-Kessel | Niedertemperatur-Kombi-Kessel | Brennwert-Kombi-Kessel | Durchlauferhitzer für TW-Bereitung | Trinkwasser-Speicher | Hochdruck-Heißwasser-Kessel","HLSK",5,{"$f":"VLOOKUP(O398,LOI_LPH[],2,TRUE)","v":300}]
[421,"Wärmeerzeugungsanlagen ","421.11",null,null,"Brennstoff",null,"(TBD)",null,null,"IFcLabel"," -","Gas | Öl | Gas/Öl | Holz | Pellets","HLSK",5,{"$f":"VLOOKUP(O399,LOI_LPH[],2,TRUE)","v":300}]
[421,"Wärmeerzeugungsanlagen ","421.11",null,null,"Thermische Leistung",null,"(TBD)",null,null,"IfcPowerMeasure","kW","Zahl","HLSK",5,{"$f":"VLOOKUP(O400,LOI_LPH[],2,TRUE)","v":300}]
[421,"Wärmeerzeugungsanlagen ","421.11",null,null,"Nennvolumen",null,"(TBD)",null,null,"Real","m3","Zahl","HLSK",5,{"$f":"VLOOKUP(O401,LOI_LPH[],2,TRUE)","v":300}]
[421,"Wärmeerzeugungsanlagen ","421.11",null,null,"Nennleistung",null,"(TBD)",null,null,"IfcPowerMeasure","kW","Zahl","HLSK",5,{"$f":"VLOOKUP(O402,LOI_LPH[],2,TRUE)","v":300}]
[421,"Wärmeerzeugungsanlagen ","421.11",null,null,"Nennspannung",null,"(TBD)",null,null,"Real","kV","Zahl","HLSK",5,{"$f":"VLOOKUP(O403,LOI_LPH[],2,TRUE)","v":300}]
[421,"Wärmeerzeugungsanlagen ","421.11",null,null,"Nenndruck",null,"(TBD)",null,null,"Real","bar","Zahl","HLSK",5,{"$f":"VLOOKUP(O404,LOI_LPH[],2,TRUE)","v":300}]
[421,"Wärmeerzeugungsanlagen ","421.11",null,null,"Temperatur",null,"(TBD)",null,null,"Real","°C","Zahl","HLSK",5,{"$f":"VLOOKUP(O405,LOI_LPH[],2,TRUE)","v":300}]
[421,"Wärmeerzeugungsanlagen ","421.12",null,null,"Dampfkessel","IfcEnergyConversionDevice","-","IfcBoiler/STEAM","-","-","-","-","HLSK",3,{"$f":"VLOOKUP(O406,LOI_LPH[],2,TRUE)","v":200}]
[421,"Wärmeerzeugungsanlagen ","421.12",null,null,"Bauart",null,"(TBD)",null,null,"IfcLabel","-","Niederdruck-Dampferzeuger (NDD)|Hochdruck-Dampferzeuger (HDD)","HLSK",5,{"$f":"VLOOKUP(O407,LOI_LPH[],2,TRUE)","v":300}]
[421,"Wärmeerzeugungsanlagen ","421.12",null,null,"Brennstoff",null,"(TBD)",null,null,"IfcText"," -","Gas | Öl | Gas/Öl | Holz | Pellets","HLSK",5,{"$f":"VLOOKUP(O408,LOI_LPH[],2,TRUE)","v":300}]
[421,"Wärmeerzeugungsanlagen ","421.12",null,null,"Thermische Leistung",null,"(TBD)",null,null,"Real","W","Zahl","HLSK",5,{"$f":"VLOOKUP(O409,LOI_LPH[],2,TRUE)","v":300}]
[421,"Wärmeerzeugungsanlagen ","421.12",null,null,"Nennvolumen",null,"(TBD)",null,null,"Real","m3","Zahl","HLSK",5,{"$f":"VLOOKUP(O410,LOI_LPH[],2,TRUE)","v":300}]
[421,"Wärmeerzeugungsanlagen ","421.12",null,null,"Nennleistung",null,"(TBD)",null,null,"Real","W","Zahl","HLSK",5,{"$f":"VLOOKUP(O411,LOI_LPH[],2,TRUE)","v":300}]
[421,"Wärmeerzeugungsanlagen ","421.12",null,null,"Nennspannung",null,"(TBD)",null,null,"Real","V","Zahl","HLSK",5,{"$f":"VLOOKUP(O412,LOI_LPH[],2,TRUE)","v":300}]
[421,"Wärmeerzeugungsanlagen ","421.12",null,null,"Nenndruck",null,"(TBD)",null,null,"Real","bar","Zahl","HLSK",5,{"$f":"VLOOKUP(O413,LOI_LPH[],2,TRUE)","v":300}]
[421,"Wärmeerzeugungsanlagen ","421.12",null,null,"Termperatur",null,"(TBD)",null,null,"Real","°C","Zahl","HLSK",5,{"$f":"VLOOKUP(O414,LOI_LPH[],2,TRUE)","v":300}]
[421,"Wärmeerzeugungsanlagen ","421.13",null,null,"Wärmepumpen","IfcDistributionFlowElement","-","IfcDistributionFlowElement","-","-","-","-","HLSK",3,{"$f":"VLOOKUP(O415,LOI_LPH[],2,TRUE)","v":200}]
[421,"Wärmeerzeugungsanlagen ","421.13",null,null,"Bauart",null,"(TBD)",null,null,"IfcText"," -","kompakt | split","HLSK",5,{"$f":"VLOOKUP(O416,LOI_LPH[],2,TRUE)","v":300}]
[421,"Wärmeerzeugungsanlagen ","421.13",null,null,"Bautyp",null,"(TBD)","Reference","Pset_AlarmTypeCommon","IfcIdentifier","-","Sole-Wasser | Wasser-Wasser | Luft-Wasser | Luft-Luft | Direktverdampfer","HLSK",5,{"$f":"VLOOKUP(O417,LOI_LPH[],2,TRUE)","v":300}]
[421,"Wärmeerzeugungsanlagen ","421.13",null,null,"Antriebsenergie",null,"(TBD)",null,null,"IfcText","-","Strom | Gas | Öl","HLSK",5,{"$f":"VLOOKUP(O418,LOI_LPH[],2,TRUE)","v":300}]
[421,"Wärmeerzeugungsanlagen ","421.13",null,null,"Sekundärleistung",null,"(TBD)",null,null,"Real","kW","Zahl","HLSK",5,{"$f":"VLOOKUP(O419,LOI_LPH[],2,TRUE)","v":300}]
[421,"Wärmeerzeugungsanlagen ","421.13",null,null,"Primärmedium",null,"(TBD)",null,null,"IfcText"," -","Luft | Wasser","HLSK",5,{"$f":"VLOOKUP(O420,LOI_LPH[],2,TRUE)","v":300}]
[421,"Wärmeerzeugungsanlagen ","421.13",null,null,"Thermische Leistung",null,"(TBD)",null,null,"Real","kW","Zahl","HLSK",5,{"$f":"VLOOKUP(O421,LOI_LPH[],2,TRUE)","v":300}]
[421,"Wärmeerzeugungsanlagen ","421.13",null,null,"Elektrische Leistung",null,"(TBD)","NominalCapacity","FM_TGA","IfcPowerMeasure","kW","Zahl","HLSK",5,{"$f":"VLOOKUP(O422,LOI_LPH[],2,TRUE)","v":300}]
[421,"Wärmeerzeugungsanlagen ","421.13",null,null,"Mögliche Betriebsarten",null,"(TBD)",null,null,"IfcText"," -","einfach | bivalent","HLSK",5,{"$f":"VLOOKUP(O423,LOI_LPH[],2,TRUE)","v":300}]
[421,"Wärmeerzeugungsanlagen ","421.13",null,null,"Typ Kältemittel",null,"(TBD)",null,"FM_TGA","IfcLabel"," -","R 1234yf | R 22 - aufbereitet | *R 22 (Chlordifluormethan) | R 23 (Trifluormethan) Ersatz für R 13/503 | *R 123 (Dichlortrifluorethan) | |*R 124 (Chlortetrafluorethan) | R 125 (Pentafluorethan) | R 134a (Tetrafluorethan) Ersatz für R 12 | R 170 (Ethan) | HFKW 227 (Heptafluorpropan) Ersatz für R114 | R 290 1.5 (Propan) | R 290 2.5 (Propan) | *R 401A (MP 39) | *R 401B (MP 66) | *R 402A (HP 80) | *R 403B (ISCEON MO69) | R 404A (HP 62/FX 70) Ersatz für R 22/502 | R 407A | R 407C (Klea 66/AC 9000) Ersatz für R 22 | R 407F | *R 408A (FX 10) | *R 409A (FX 56) | R 410A (AZ 20) Ersatz für R 22/13B1 | R 413A (ISCEON MO49) Ersatz für R 12 | R 417A (ISCEON MO59) Ersatz für R 22 | R 422A (ISCEON MO79) Ersatz für R 22 | R 422D (ISCEON MO29) Ersatz für R 22 | R 437A (ISCEON MO49 PLUS) | R 507 (AZ 50) Ersatz für R 22/502 | R 600a 1.5 (Isobutan) | R 600a 2.5 (Isobutan) | R 717 (Ammoniak) | R 744 (Kohlendioxid) | R 1270 (Propen) | ISCEON MO89 Ersatz für R13 B1","HLSK",5,{"$f":"VLOOKUP(O424,LOI_LPH[],2,TRUE)","v":300}]
[421,"Wärmeerzeugungsanlagen ","421.13",null,null,"Kältemittel Menge",null,"(TBD)",null,"FM_TGA","Real","kg","Zahl","HLSK",5,{"$f":"VLOOKUP(O425,LOI_LPH[],2,TRUE)","v":300}]
[421,"Wärmeerzeugungsanlagen ","421.14",null,null,"Solarkollektoren","IfcDistributionFlowElement","-","IfcDistributionFlowElement","-","-","-","-","HLSK",3,{"$f":"VLOOKUP(O426,LOI_LPH[],2,TRUE)","v":200}]
[421,"Wärmeerzeugungsanlagen ","421.14",null,null,"Bauart",null,"(TBD)",null,null,"IfcLabel","-","Aufdach | Indach | Fassade | Flachdach | Freistehend | Sonstiges","HLSK",5,{"$f":"VLOOKUP(O427,LOI_LPH[],2,TRUE)","v":300}]
[421,"Wärmeerzeugungsanlagen ","421.14",null,null,"Art der Nutzung HLSKaranlage",null,"(TBD)",null,null,"IfcText","-","Heizung | Warmwasser | Pufferspeicher | Sonstiges","HLSK",5,{"$f":"VLOOKUP(O428,LOI_LPH[],2,TRUE)","v":300}]
[421,"Wärmeerzeugungsanlagen ","421.14",null,null,"Leistung",null,"(TBD)",null,null,"IfcPowerMeasure","W","Zahl","HLSK",5,{"$f":"VLOOKUP(O429,LOI_LPH[],2,TRUE)","v":300}]
[421,"Wärmeerzeugungsanlagen ","421.14",null,null,"Nennspannung",null,"(TBD)",null,null,"Real","V","Zahl","HLSK",5,{"$f":"VLOOKUP(O430,LOI_LPH[],2,TRUE)","v":300}]
[421,"Wärmeerzeugungsanlagen ","421.14",null,null,"Module",null,"(TBD)",null,null,"Real","Stück","Zahl","HLSK",5,{"$f":"VLOOKUP(O431,LOI_LPH[],2,TRUE)","v":300}]
[421,"Wärmeerzeugungsanlagen ","421.14",null,null,"Typ Kollektor",null,"(TBD)",null,null,"IfcText"," -","Flachkollektor | Röhrenkollektor | Schwimmbadabsorber | Sonderkonstruktion/Sonstiges","HLSK",5,{"$f":"VLOOKUP(O432,LOI_LPH[],2,TRUE)","v":300}]
[421,"Wärmeerzeugungsanlagen ","421.14",null,null,"Kollektorfläche",null,"(TBD)",null,null,"Real","m2","Zahl","HLSK",5,{"$f":"VLOOKUP(O433,LOI_LPH[],2,TRUE)","v":300}]
[421,"Wärmeerzeugungsanlagen ","421.15",null,null,"Blockheizkraftwerke (BHKW) (wärmegeführt)","IfcDistributionFlowElement","-","IfcDistributionFlowElement","-","-","-","-","HLSK",3,{"$f":"VLOOKUP(O434,LOI_LPH[],2,TRUE)","v":200}]
[421,"Wärmeerzeugungsanlagen ","421.15",null,null,"Brennstoff",null,"(TBD)",null,null,"IfcText"," -","Gas | Öl | Gas/Öl | Holz | Pellets","HLSK",5,{"$f":"VLOOKUP(O435,LOI_LPH[],2,TRUE)","v":300}]
[421,"Wärmeerzeugungsanlagen ","421.15",null,null,"Leistung elektrisch",null,"(TBD)",null,null,"IfcPowerMeasure","W","Zahl","HLSK",5,{"$f":"VLOOKUP(O436,LOI_LPH[],2,TRUE)","v":300}]
[421,"Wärmeerzeugungsanlagen ","421.15",null,null,"Leistung thermisch",null,"(TBD)",null,null,"Real","W","Zahl","HLSK",5,{"$f":"VLOOKUP(O437,LOI_LPH[],2,TRUE)","v":300}]
[421,"Wärmeerzeugungsanlagen ","421.15",null,null,"Nennspannung",null,"(TBD)",null,null,"Real","V","Zahl","HLSK",5,{"$f":"VLOOKUP(O438,LOI_LPH[],2,TRUE)","v":300}]
[421,"Wärmeerzeugungsanlagen ","421.16",null,null,"Brennstoffzellenheizgeräte","IfcDistributionElement","-","IfcBoiler","-","-","-","-","HLSK",3,{"$f":"VLOOKUP(O439,LOI_LPH[],2,TRUE)","v":200}]
[421,"Wärmeerzeugungsanlagen ","421.16",null,null,"Bautyp",null,"(TBD)","Reference","Pset_AlarmTypeCommon","IfcIdentifier"," -","Direktverdampfer | Luft-Luft | Luft-Wasser | Sole-Wasser |Wasser-Wasser","HLSK",5,{"$f":"VLOOKUP(O440,LOI_LPH[],2,TRUE)","v":300}]
[421,"Wärmeerzeugungsanlagen ","421.16",null,null,"Zugeführtes Medium",null,"(TBD)",null,null,"IfcText"," -","Erdgas | Wasser","HLSK",5,{"$f":"VLOOKUP(O441,LOI_LPH[],2,TRUE)","v":300}]
[421,"Wärmeerzeugungsanlagen ","421.16",null,null,"Leistung elektrisch",null,"(TBD)",null,null,"IfcPowerMeasure","W","Zahl","HLSK",5,{"$f":"VLOOKUP(O442,LOI_LPH[],2,TRUE)","v":300}]
[421,"Wärmeerzeugungsanlagen ","421.16",null,null,"Leistung thermisch",null,"(TBD)",null,null,"IfcPowerMeasure","W","Zahl","HLSK",5,{"$f":"VLOOKUP(O443,LOI_LPH[],2,TRUE)","v":300}]
[421,"Wärmeerzeugungsanlagen ","421.16",null,null,"Nennspannung",null,"(TBD)",null,null,"Real","V","Zahl","HLSK",5,{"$f":"VLOOKUP(O444,LOI_LPH[],2,TRUE)","v":300}]
[421,"Wärmeerzeugungsanlagen ","421.17",null,null,"Elektroheizungen","IfcEnergyConversionDevice","-","IfcCoil/ELECTRICHEATINGCOIL","-","-","-","-","HLSK",3,{"$f":"VLOOKUP(O445,LOI_LPH[],2,TRUE)","v":200}]
[421,"Wärmeerzeugungsanlagen ","421.17",null,null,"Leistung elektrisch",null,"(TBD)",null,null,"IfcPowerMeasure","W","Zahl","HLSK",5,{"$f":"VLOOKUP(O446,LOI_LPH[],2,TRUE)","v":300}]
[421,"Wärmeerzeugungsanlagen ","421.17",null,null,"Leistung thermisch",null,"(TBD)",null,null,"IfcPowerMeasure","W","Zahl","HLSK",5,{"$f":"VLOOKUP(O447,LOI_LPH[],2,TRUE)","v":300}]
[421,"Wärmeerzeugungsanlagen ","421.17",null,null,"Nennspannung",null,"(TBD)",null,null,"Real","V","Zahl","HLSK",5,{"$f":"VLOOKUP(O448,LOI_LPH[],2,TRUE)","v":300}]
[421,"Wärmeerzeugungsanlagen ","421.18",null,null,"Wärmeübertrager","IfcDistributionElement","-","IfcHeatExchanger","-","-","-","-","HLSK",3,{"$f":"VLOOKUP(O449,LOI_LPH[],2,TRUE)","v":200}]
[421,"Wärmeerzeugungsanlagen ","421.18",null,null,"Bauart",null,"(TBD)",null,null,"IfcLabel","-","Rohrbündelwärmetauscher | Plattenwärmetauscher","HLSK",5,{"$f":"VLOOKUP(O450,LOI_LPH[],2,TRUE)","v":300}]
[421,"Wärmeerzeugungsanlagen ","421.18",null,null,"Betriebsmittel",null,"(TBD)",null,null,"IfcLabel","-","Wasser | Sole | Öl | Wasserdampf | Kältemittel","HLSK",5,{"$f":"VLOOKUP(O451,LOI_LPH[],2,TRUE)","v":300}]
[421,"Wärmeerzeugungsanlagen ","421.18",null,null,"Betriebsweise",null,"(TBD)",null,null,"IfcText","-","Gegenstrom | Gleichstrom | Kreuzstrom","HLSK",5,{"$f":"VLOOKUP(O452,LOI_LPH[],2,TRUE)","v":300}]
[421,"Wärmeerzeugungsanlagen ","421.18",null,null,"Leistung thermisch",null,"(TBD)",null,null,"IfcPowerMeasure","W","Zahl","HLSK",5,{"$f":"VLOOKUP(O453,LOI_LPH[],2,TRUE)","v":300}]
[421,"Wärmeerzeugungsanlagen ","421.18",null,null,"Leistung elektrisch",null,"(TBD)",null,null,"IfcPowerMeasure","W","Zahl","HLSK",5,{"$f":"VLOOKUP(O454,LOI_LPH[],2,TRUE)","v":300}]
[421,"Wärmeerzeugungsanlagen ","421.19",null,null,"Fernwärmeübergabestation","IfcDistributionElement","-","IfcHeatExchanger","-","-","-","-","HLSK",3,{"$f":"VLOOKUP(O455,LOI_LPH[],2,TRUE)","v":200}]
[421,"Wärmeerzeugungsanlagen ","421.19",null,null,"Leistung thermisch",null,"(TBD)",null,null,"IfcPowerMeasure","W","Zahl","HLSK",5,{"$f":"VLOOKUP(O456,LOI_LPH[],2,TRUE)","v":300}]
[421,"Wärmeerzeugungsanlagen ","421.19",null,null,"Anschluss an Sekundärkreislauf",null,"(TBD)",null,null,"IfcText"," -","direkt | indirekt","HLSK",5,{"$f":"VLOOKUP(O457,LOI_LPH[],2,TRUE)","v":300}]
[421,"Wärmeerzeugungsanlagen ","421.19",null,null,"Typ Wärmetauscher",null,"(TBD)",null,null,"IfcText","-","Rohrbündelwärmetauscher | Plattenwärmetauscher","HLSK",5,{"$f":"VLOOKUP(O458,LOI_LPH[],2,TRUE)","v":300}]
[421,"Wärmeerzeugungsanlagen ","421.19",null,null,"Leistung elektrisch",null,"(TBD)",null,null,"IfcPowerMeasure","W","Zahl","HLSK",5,{"$f":"VLOOKUP(O459,LOI_LPH[],2,TRUE)","v":300}]
[421,"Wärmeerzeugungsanlagen ","421.19",null,null,"Nennspannung",null,"(TBD)",null,null,"IfcPowerMeasure","V","Zahl","HLSK",5,{"$f":"VLOOKUP(O460,LOI_LPH[],2,TRUE)","v":300}]
[421,"Wärmeerzeugungsanlagen ","421.20",null,null,"Bestandteile des Verteilungsnetzes","-","-","IfcDistributionFlowElement","-","-","-","-","HLSK",3,{"$f":"VLOOKUP(O461,LOI_LPH[],2,TRUE)","v":200}]
[421,"Wärmeerzeugungsanlagen ","421.21",null,null,"Ausdehnungsgefäße","IfcFlowStorageDevice ","-","IfcTank/EXPANSION","-","-","-","-","HLSK",3,{"$f":"VLOOKUP(O462,LOI_LPH[],2,TRUE)","v":200}]
[421,"Wärmeerzeugungsanlagen ","421.21",null,null,"Nennvolumen (Gefäß)",null,"(TBD)",null,null,"IfcVolumeMeasure","l","Zahl","HLSK",5,{"$f":"VLOOKUP(O463,LOI_LPH[],2,TRUE)","v":300}]
[421,"Wärmeerzeugungsanlagen ","421.21",null,null,"Mögliche Betriebsarten",null,"(TBD)",null,null,"IfcText"," -","passiv | druckreguliert","HLSK",5,{"$f":"VLOOKUP(O464,LOI_LPH[],2,TRUE)","v":300}]
[421,"Wärmeerzeugungsanlagen ","421.22",null,null,"Druckerhöhungsanlage/ Druckhaltung","IfcFlowMovingDevice ","-","IfcPump","-","-","-","-","HLSK",3,{"$f":"VLOOKUP(O465,LOI_LPH[],2,TRUE)","v":200}]
[421,"Wärmeerzeugungsanlagen ","421.22",null,null,"Förderhöhe",null,"(TBD)",null,null,"Real","m","Zahl","HLSK",5,{"$f":"VLOOKUP(O466,LOI_LPH[],2,TRUE)","v":300}]
[421,"Wärmeerzeugungsanlagen ","421.22",null,null,"Anzahl Pumpen",null,"(TBD)",null,null,"Real","Stück","Zahl","HLSK",5,{"$f":"VLOOKUP(O467,LOI_LPH[],2,TRUE)","v":300}]
[421,"Wärmeerzeugungsanlagen ","421.22",null,null,"Volumenstrom",null,"(TBD)",null,null,"Real","m3/h","Zahl","HLSK",5,{"$f":"VLOOKUP(O468,LOI_LPH[],2,TRUE)","v":300}]
[421,"Wärmeerzeugungsanlagen ","421.22",null,null,"Automatische Nachspeisung",null,"(TBD)",null,null,"IfcBoolean"," -","ja | nein","HLSK",5,{"$f":"VLOOKUP(O469,LOI_LPH[],2,TRUE)","v":300}]
[421,"Wärmeerzeugungsanlagen ","421.22",null,null,"Nenndruck",null,"(TBD)",null,null,"Real","bar","Zahl","HLSK",5,{"$f":"VLOOKUP(O470,LOI_LPH[],2,TRUE)","v":300}]
[421,"Wärmeerzeugungsanlagen ","421.23",null,null,"Minimal- und Maximaldruckbegrenzer","IfcDistributionFlowElement","-","IfcDistributionFlowElement","-","-","-","-","HLSK",3,{"$f":"VLOOKUP(O471,LOI_LPH[],2,TRUE)","v":200}]
[421,"Wärmeerzeugungsanlagen ","421.23",null,null,"Nennleistung",null,"(TBD)",null,null,"IfcPowerMeasure","W","Zahl","HLSK",5,{"$f":"VLOOKUP(O472,LOI_LPH[],2,TRUE)","v":300}]
[421,"Wärmeerzeugungsanlagen ","421.23",null,null,"Nenndruck",null,"(TBD)",null,null,"Real","bar","Zahl","HLSK",5,{"$f":"VLOOKUP(O473,LOI_LPH[],2,TRUE)","v":300}]
[421,"Wärmeerzeugungsanlagen ","421.24",null,null,"Heizungsverteiler","IfcFlowSegment","-","IfcFlowSegment","-","-","-","-","HLSK",3,{"$f":"VLOOKUP(O474,LOI_LPH[],2,TRUE)","v":200}]
[421,"Wärmeerzeugungsanlagen ","421.24",null,null,"Anzahl Abgänge",null,"(TBD)",null,null,"Real","Stück","Zahl","HLSK",5,{"$f":"VLOOKUP(O475,LOI_LPH[],2,TRUE)","v":300}]
[421,"Wärmeerzeugungsanlagen ","421.30",null,null,"Feuerungsanlagen","-","-",null,"-","-","-","-","-","-",{"$f":"VLOOKUP(O476,LOI_LPH[],2,TRUE)","v":"-"}]
[421,"Wärmeerzeugungsanlagen ","421.31",null,null,"Brenner","IfcEnergyConversionDevice","-","IfcBurner","-","-","-","-","HLSK",3,{"$f":"VLOOKUP(O477,LOI_LPH[],2,TRUE)","v":200}]
[421,"Wärmeerzeugungsanlagen ","421.31",null,null,"Bauart (Brenner)",null,"(TBD)",null,null,"IfcText"," -","Ölbrenner | Gasbrenner | Straubverfeuerung | Kombibrenner (Gas/Öl)","HLSK",5,{"$f":"VLOOKUP(O478,LOI_LPH[],2,TRUE)","v":300}]
[421,"Wärmeerzeugungsanlagen ","421.31",null,null,"Brennstoff",null,"(TBD)",null,null,"IfcLabel"," -","Gas | Öl | Gas/Öl | Kohlestraub","HLSK",5,{"$f":"VLOOKUP(O479,LOI_LPH[],2,TRUE)","v":300}]
[421,"Wärmeerzeugungsanlagen ","421.31",null,null,"max. Brennerleistung",null,"(TBD)",null,null,"IfcPowerMeasure","W",4,"HLSK",5,{"$f":"VLOOKUP(O480,LOI_LPH[],2,TRUE)","v":300}]
[421,"Wärmeerzeugungsanlagen ","421.31",null,null,"min. Brennerleistung",null,"(TBD)",null,null,"IfcPowerMeasure","W","Zahl","HLSK",5,{"$f":"VLOOKUP(O481,LOI_LPH[],2,TRUE)","v":300}]
[421,"Wärmeerzeugungsanlagen ","421.31",null,null,"Nennleistung",null,"(TBD)",null,null,"Real","W","Zahl","HLSK",5,{"$f":"VLOOKUP(O482,LOI_LPH[],2,TRUE)","v":300}]
[421,"Wärmeerzeugungsanlagen ","421.31",null,null,"Integriertes Gebläse (Brenner)",null,"(TBD)",null,null,"IfcBoolean"," -","ja | nein","HLSK",5,{"$f":"VLOOKUP(O483,LOI_LPH[],2,TRUE)","v":300}]
[421,"Wärmeerzeugungsanlagen ","421.36",null,null,"Direkte Strahlungsheizung","IfcEnergyConversionDevice","-","IfcHeatExchanger","-","-","-","-","HLSK",3,{"$f":"VLOOKUP(O484,LOI_LPH[],2,TRUE)","v":200}]
[421,"Wärmeerzeugungsanlagen ","421.36",null,null,"Bauart",null,"(TBD)",null,null,"IfcText"," -","Decke | Wand","HLSK",5,{"$f":"VLOOKUP(O485,LOI_LPH[],2,TRUE)","v":300}]
[421,"Wärmeerzeugungsanlagen ","421.36",null,null,"Brennstoff",null,"(TBD)",null,null,"IfcLabel","-","Gas | Gas-Öl | Holz | Kohlestraub | Öl | Pellets","HLSK",5,{"$f":"VLOOKUP(O486,LOI_LPH[],2,TRUE)","v":300}]
[421,"Wärmeerzeugungsanlagen ","421.36",null,null,"Leistung thermisch",null,"(TBD)",null,null,"IfcPowerMeasure","W","Zahl","HLSK",5,{"$f":"VLOOKUP(O487,LOI_LPH[],2,TRUE)","v":300}]
[421,"Wärmeerzeugungsanlagen ","421.40",null,null,"Abgasanlagen","-","-",null,"-","-","-","-","-","-",{"$f":"VLOOKUP(O488,LOI_LPH[],2,TRUE)","v":"-"}]
[421,"Wärmeerzeugungsanlagen ","421.41",null,null,"Abgasleitungen","IfcDistributionFlowElement","-","IfcDistributionFlowElement","-","-","-","-","HLSK",3,{"$f":"VLOOKUP(O489,LOI_LPH[],2,TRUE)","v":200}]
[421,"Wärmeerzeugungsanlagen ","421.41",null,null,"Bauart",null,"(TBD)",null,null,"IfcText","-","Faltwand | Glas | Schiebewand | Sonstiges","HLSK",5,{"$f":"VLOOKUP(O490,LOI_LPH[],2,TRUE)","v":300}]
[421,"Wärmeerzeugungsanlagen ","421.41",null,null,"Material",null,"(TBD)",null,null,"IfcText","-","Kunststoff | Stahl | Edelstahl (nicht rostender Stahl) | Gemauert | Sonstiges","HLSK",5,{"$f":"VLOOKUP(O491,LOI_LPH[],2,TRUE)","v":300}]
[421,"Wärmeerzeugungsanlagen ","421.42",null,null,"Schalldämpfer","IfcDistributionFlowElement","-","IfcDistributionFlowElement","-","-","-","-","HLSK",3,{"$f":"VLOOKUP(O492,LOI_LPH[],2,TRUE)","v":200}]
[421,"Wärmeerzeugungsanlagen ","421.43",null,null,"Abgaswärmetauscher","IfcEnergyConversionDevice","-","IfcHeatExchanger","-","-","-","-","HLSK",3,{"$f":"VLOOKUP(O493,LOI_LPH[],2,TRUE)","v":200}]
[421,"Wärmeerzeugungsanlagen ","421.43",null,null,"Typ Wärmetauscher",null,"(TBD)",null,null,"IfcText","-","Rohrbündelwärmetauscher | Plattenwärmetauscher","HLSK",5,{"$f":"VLOOKUP(O494,LOI_LPH[],2,TRUE)","v":300}]
[421,"Wärmeerzeugungsanlagen ","421.43",null,null,"Typ Filter ",null,"(TBD)",null,null,"IfcText","-","Filterklasse","HLSK",5,{"$f":"VLOOKUP(O495,LOI_LPH[],2,TRUE)","v":300}]
[421,"Wärmeerzeugungsanlagen ","421.44",null,null,"Abgasklappen, Zugbegrenzer","IfcFlowController ","-","IfcDamper","-","-","-","-","HLSK",3,{"$f":"VLOOKUP(O496,LOI_LPH[],2,TRUE)","v":200}]
[421,"Wärmeerzeugungsanlagen ","421.44",null,null,"Anzahl Endpunkte",null,"(TBD)",null,null,"Real","Stück","Zahl","HLSK",5,{"$f":"VLOOKUP(O497,LOI_LPH[],2,TRUE)","v":300}]
[421,"Wärmeerzeugungsanlagen ","421.45",null,null,"Abgasventilatoren","IfcFlowMovingDevice ","-","IfcFan","-","-","-","-","HLSK",3,{"$f":"VLOOKUP(O498,LOI_LPH[],2,TRUE)","v":200}]
[421,"Wärmeerzeugungsanlagen ","421.45",null,null,"Explosionsgeschützt",null,"(TBD)",null,null,"IfcBoolean"," -","ja | nein","HLSK",5,{"$f":"VLOOKUP(O499,LOI_LPH[],2,TRUE)","v":300}]
[421,"Wärmeerzeugungsanlagen ","421.45",null,null,"Motor-Nennleistung",null,"(TBD)",null,null,"Real","W","Zahl","HLSK",5,{"$f":"VLOOKUP(O500,LOI_LPH[],2,TRUE)","v":300}]
[421,"Wärmeerzeugungsanlagen ","421.45",null,null,"Drehzahlregelung",null,"(TBD)",null,null,"Real"," -","Zahl","HLSK",5,{"$f":"VLOOKUP(O501,LOI_LPH[],2,TRUE)","v":300}]
[421,"Wärmeerzeugungsanlagen ","421.45",null,null,"Optimaler Volumenstrom",null,"(TBD)",null,null,"Real","m3/h","Zahl","HLSK",5,{"$f":"VLOOKUP(O502,LOI_LPH[],2,TRUE)","v":300}]
[421,"Wärmeerzeugungsanlagen ","421.46",null,null,"Schornsteine","IfcBuildingElement","-","IfcChimney","-","-","-","-","HLSK",3,{"$f":"VLOOKUP(O503,LOI_LPH[],2,TRUE)","v":200}]
[421,"Wärmeerzeugungsanlagen ","421.46",null,null,"Bauart",null,"(TBD)",null,null,"IfcText","-","dreischalige Schornsteine (Mantelstein, Dämmung u. Innenrohr)|zweischalige Schornsteine (Schacht mit Innenrohr)|doppelwandige Edelstahl-Schornsteine (dreischalig)|einschalige Schornsteine (mineralischen Schacht)","HLSK",5,{"$f":"VLOOKUP(O504,LOI_LPH[],2,TRUE)","v":300}]
[421,"Wärmeerzeugungsanlagen ","421.47",null,null,"Entwässerungseinrichtungen","IfcDistributionElement","-","IfcWasteTerminal","-","-","-","-","HLSK",3,{"$f":"VLOOKUP(O505,LOI_LPH[],2,TRUE)","v":200}]
[421,"Wärmeerzeugungsanlagen ","421.47",null,null,"Kondensatpumpe",null,"(TBD)",null,null,"IfcBoolean"," -","ja | nein","HLSK",5,{"$f":"VLOOKUP(O506,LOI_LPH[],2,TRUE)","v":300}]
[421,"Wärmeerzeugungsanlagen ","421.47",null,null,"Nenndurchfluss",null,"(TBD)",null,null,"Real","m3/h","Zahl","HLSK",5,{"$f":"VLOOKUP(O507,LOI_LPH[],2,TRUE)","v":300}]
[421,"Wärmeerzeugungsanlagen ","421.48",null,null,"Abgasmesseinrichtungen","IfcDistributionControlElement","-","IfcFlowInstrument","-","-","-","-","HLSK",3,{"$f":"VLOOKUP(O508,LOI_LPH[],2,TRUE)","v":200}]
[421,"Wärmeerzeugungsanlagen ","421.48",null,null,"Zähler Typ",null,"(TBD)",null,null,"IfcText"," -","Freitext","HLSK",5,{"$f":"VLOOKUP(O509,LOI_LPH[],2,TRUE)","v":300}]
[421,"Wärmeerzeugungsanlagen ","421.50",null,null,"Zentrale Wassererwärmungsanlagen","IfcDistributionFlowElement","-","IfcDistributionFlowElement","-","-","-","-","HLSK",3,{"$f":"VLOOKUP(O510,LOI_LPH[],2,TRUE)","v":200}]
[421,"Wärmeerzeugungsanlagen ","421.50",null,null,"Beheizungsart",null,"(TBD)",null,null,"IfcText"," -","Rohrbündel innenliegend | Speicher-/ Ladesystem | Direktbefeuert | elektrisch | sonstige","HLSK",5,{"$f":"VLOOKUP(O511,LOI_LPH[],2,TRUE)","v":300}]
[421,"Wärmeerzeugungsanlagen ","421.50",null,null,"Elektrische Anschlussleistung",null,"(TBD)","NominalCapacity","FM_TGA","IfcPowerMeasure","kW","Zahl","HLSK",5,{"$f":"VLOOKUP(O512,LOI_LPH[],2,TRUE)","v":300}]
[421,"Wärmeerzeugungsanlagen ","421.50",null,null,"Leistung thermisch",null,"(TBD)",null,null,"IfcPowerMeasure","W","Zahl","HLSK",5,{"$f":"VLOOKUP(O513,LOI_LPH[],2,TRUE)","v":300}]
[421,"Wärmeerzeugungsanlagen ","421.50",null,null,"Erwärmungszweck",null,"(TBD)",null,null,"IfcText","-","Freitext","HLSK",5,{"$f":"VLOOKUP(O514,LOI_LPH[],2,TRUE)","v":300}]
[421,"Wärmeerzeugungsanlagen ","421.50",null,null,"Nenndruck",null,"(TBD)",null,null,"Real","bar","Zahl","HLSK",5,{"$f":"VLOOKUP(O515,LOI_LPH[],2,TRUE)","v":300}]
[421,"Wärmeerzeugungsanlagen ","421.50",null,null,"Speicherart",null,"(TBD)",null,null,"IfcText"," -","Trinkwasser | Heizungswasser | Trinkwasser/Heizungswasser | Elektro-Warmwasser | Frischwasserstationen | Durchlauferhitzer","HLSK",5,{"$f":"VLOOKUP(O516,LOI_LPH[],2,TRUE)","v":300}]
[421,"Wärmeerzeugungsanlagen ","421.50",null,null,"Speicherinhalt",null,"(TBD)",null,null,"Real","l","Zahl","HLSK",5,{"$f":"VLOOKUP(O517,LOI_LPH[],2,TRUE)","v":300}]
[421,"Wärmeerzeugungsanlagen ","421.50",null,null,"Vorgeschaltetes Membranausdehnungsgefäß",null,"(TBD)",null,null,"IfcBoolean"," -","ja | nein","HLSK",5,{"$f":"VLOOKUP(O518,LOI_LPH[],2,TRUE)","v":300}]
[421,"Wärmeerzeugungsanlagen ","421.60",null,null,"Schaltschrank, Regelanlage, Leittechnik, Druckluft","IfcDistributionElement","-","IfcElectricDistributionBoard","-","-","-","-","HLSK",3,{"$f":"VLOOKUP(O519,LOI_LPH[],2,TRUE)","v":200}]
[421,"Wärmeerzeugungsanlagen ","421.70",null,null,"Antriebselemente",null,"-","IfcDistributionFlowElement","-","-","-","-",null,null,{"$f":"VLOOKUP(O520,LOI_LPH[],2,TRUE)","v":{"$error":"#N/A"}}]
[421,"Wärmeerzeugungsanlagen ","421.71",null,null,"Elektromotoren","IfcEnergyConversionDevice","-","IfcElectricMotor","-","-","-","-","HLSK",5,{"$f":"VLOOKUP(O521,LOI_LPH[],2,TRUE)","v":300}]
[421,"Wärmeerzeugungsanlagen ","421.71",null,null,"Motor-Nennstrom ",null,"(TBD)",null,"FM_TGA","IfcLabel","A","Zahl","HLSK",5,{"$f":"VLOOKUP(O522,LOI_LPH[],2,TRUE)","v":300}]
[421,"Wärmeerzeugungsanlagen ","421.71",null,null,"Nennspannung",null,"(TBD)",null,null,"Real","V","Zahl","HLSK",5,{"$f":"VLOOKUP(O523,LOI_LPH[],2,TRUE)","v":300}]
[421,"Wärmeerzeugungsanlagen ","421.71",null,null,"Explosionsgeschützt",null,"(TBD)",null,null,"IfcBoolean"," -","ja | nein","HLSK",5,{"$f":"VLOOKUP(O524,LOI_LPH[],2,TRUE)","v":300}]
[421,"Wärmeerzeugungsanlagen ","421.72",null,null,"Riementriebe","IfcMotorConnection","-","IfcElectricMotor","-","-","-","-","HLSK",5,{"$f":"VLOOKUP(O525,LOI_LPH[],2,TRUE)","v":300}]
[421,"Wärmeerzeugungsanlagen ","421.73",null,null,"Antriebskupplungen","IfcMotorConnection","-","IfcElectricMotor","-","-","-","-","HLSK",5,{"$f":"VLOOKUP(O526,LOI_LPH[],2,TRUE)","v":300}]
[421,"Wärmeerzeugungsanlagen ","421.74",null,null,"Kettentriebe","IfcMotorConnection","-","IfcElectricMotor","-","-","-","-","HLSK",5,{"$f":"VLOOKUP(O527,LOI_LPH[],2,TRUE)","v":300}]
[421,"Wärmeerzeugungsanlagen ","421.75",null,null,"Getriebe","IfcMotorConnection","-","IfcElectricMotor","-","-","-","-","HLSK",5,{"$f":"VLOOKUP(O528,LOI_LPH[],2,TRUE)","v":300}]
[421,"Wärmeerzeugungsanlagen ","421.90",null,null,"Heizölläger","IfcFlowStorageDevice","-","IfcTank","-","-","-","-","HLSK",3,{"$f":"VLOOKUP(O529,LOI_LPH[],2,TRUE)","v":200}]
[421,"Wärmeerzeugungsanlagen ","421.90",null,null,"Aufstellung",null,"(TBD)",null,null,"IfcText","-","Erdeinbau | Freiaufstellung","HLSK",5,{"$f":"VLOOKUP(O530,LOI_LPH[],2,TRUE)","v":300}]
[421,"Wärmeerzeugungsanlagen ","421.90",null,null,"Gesamtvolumen",null,"(TBD)",null,null,"Real","Stück","Zahl","HLSK",5,{"$f":"VLOOKUP(O531,LOI_LPH[],2,TRUE)","v":300}]
[421,"Wärmeerzeugungsanlagen ","421.90",null,null,"Lagermenge",null,"(TBD)",null,null,"IfcText","-","Heizölläger < 10.000 l|Heizölläger >10.000 l","HLSK",5,{"$f":"VLOOKUP(O532,LOI_LPH[],2,TRUE)","v":300}]
[422,"Wärmeverteilnetze ",422,null,null,"Wärmeverteilnetze","-","-","-","-","-","-","-","-","-",{"$f":"VLOOKUP(O533,LOI_LPH[],2,TRUE)","v":"-"}]
[422,"Wärmeverteilnetze ","422.80",null,null,"Rohrnetz",null,"-","IfcPipeSegment","-","-","-","-","HLSK",3,{"$f":"VLOOKUP(O534,LOI_LPH[],2,TRUE)","v":200}]
[422,"Wärmeverteilnetze ","422.81",null,null,"Pumpen","IfcFlowMovingDevice ","-","IfcPump","-","-","-","-","HLSK",3,{"$f":"VLOOKUP(O535,LOI_LPH[],2,TRUE)","v":200}]
[422,"Wärmeverteilnetze ","422.81",null,null,"Bauart",null,"(TBD)",null,null,"IfcText","-","Einpumpenanlage | Doppelpumpenanlage (parallel) | Mehrpumpenanlage (parallel)","HLSK",5,{"$f":"VLOOKUP(O536,LOI_LPH[],2,TRUE)","v":300}]
[422,"Wärmeverteilnetze ","422.81",null,null,"Auffangbehälter",null,"(TBD)",null,null,"IfcText","-","geschlossen | offen","HLSK",5,{"$f":"VLOOKUP(O537,LOI_LPH[],2,TRUE)","v":300}]
[422,"Wärmeverteilnetze ","422.81",null,null,"Durchfluss",null,"(TBD)",null,null,"Real","m3/h",20,"HLSK",5,{"$f":"VLOOKUP(O538,LOI_LPH[],2,TRUE)","v":300}]
[422,"Wärmeverteilnetze ","422.81",null,null,"Elektrische Leistung",null,"(TBD)","NominalCapacity","FM_TGA","IfcPowerMeasure","kW","Zahl","HLSK",5,{"$f":"VLOOKUP(O539,LOI_LPH[],2,TRUE)","v":300}]
[422,"Wärmeverteilnetze ","422.81",null,null,"Förderhöhe",null,"(TBD)",null,null,"Real","m","Zahl","HLSK",5,{"$f":"VLOOKUP(O540,LOI_LPH[],2,TRUE)","v":300}]
[422,"Wärmeverteilnetze ","422.81",null,null,"Sekundärleistung",null,"(TBD)",null,null,"Real","W","Zahl","HLSK",5,{"$f":"VLOOKUP(O541,LOI_LPH[],2,TRUE)","v":300}]
[422,"Wärmeverteilnetze ","422.81",null,null,"Mögliche Betriebsart",null,"(TBD)",null,null,"IfcText"," -","einfach | bivalent","HLSK",5,{"$f":"VLOOKUP(O542,LOI_LPH[],2,TRUE)","v":300}]
[422,"Wärmeverteilnetze ","422.82",null,null,"Armaturen","IfcFlowTerminal ","-","IfcValve","-","-","-","-","HLSK",3,{"$f":"VLOOKUP(O543,LOI_LPH[],2,TRUE)","v":200}]
[422,"Wärmeverteilnetze ","422.82",null,null,"Bauart",null,"(TBD)",null,null,"IfcText"," -","Absperrarmatur | Regelarmatur | Entnahmearmatur | Sicherheitsarmatur | Sicherungs- und Ringleitungsarmatur | Sonstiges","HLSK",5,{"$f":"VLOOKUP(O544,LOI_LPH[],2,TRUE)","v":300}]
[422,"Wärmeverteilnetze ","422.83",null,null,"Schmutzfänger","IfcFlowTreatmentDevice ","-","IfcFilter/WATERFILTER","-","-","-","-","HLSK",3,{"$f":"VLOOKUP(O545,LOI_LPH[],2,TRUE)","v":200}]
[422,"Wärmeverteilnetze ","422.83",null,null,"Filtertyp",null,"(TBD)",null,null,"IfcText"," -","Freitext","HLSK",5,{"$f":"VLOOKUP(O546,LOI_LPH[],2,TRUE)","v":300}]
[422,"Wärmeverteilnetze ","422.84",null,null,"Rohrleitungen","IfcDistributionFlowElement","-","IfcPipeSegment","-","-","-","-","HLSK",3,{"$f":"VLOOKUP(O547,LOI_LPH[],2,TRUE)","v":200}]
[422,"Wärmeverteilnetze ","422.84",null,null,"Nennweite DN",null,"(TBD)",null,null,"Real","DN","Zahl","HLSK",5,{"$f":"VLOOKUP(O548,LOI_LPH[],2,TRUE)","v":300}]
[422,"Wärmeverteilnetze ","422.84",null,null,"Begleitheizung",null,"(TBD)",null,null,"IfcBoolean"," -","ja | nein","HLSK",5,{"$f":"VLOOKUP(O549,LOI_LPH[],2,TRUE)","v":300}]
[423,"Raumheizflächen ",423,null,null,"Raumheizflächen","-","-","-","-","-","-","-","-","-",{"$f":"VLOOKUP(O550,LOI_LPH[],2,TRUE)","v":"-"}]
[423,"Raumheizflächen ","423.16",null,null,"Mess- und Zähleinrichtungen","IfcDistributionControlElement","-","IfcFlowMeter/WATERMETER","-","-","-","-","HLSK",3,{"$f":"VLOOKUP(O551,LOI_LPH[],2,TRUE)","v":200}]
[423,"Raumheizflächen ","423.16",null,null,"Anzahl Zähler",null,"(TBD)",null,null,"Real","Stück","Stück","HLSK",5,{"$f":"VLOOKUP(O552,LOI_LPH[],2,TRUE)","v":300}]
[423,"Raumheizflächen ","423.16",null,null,"Anschluss an GLT",null,"(TBD)",null,null,"IfcBoolean","-","ja | nein","HLSK",5,{"$f":"VLOOKUP(O553,LOI_LPH[],2,TRUE)","v":300}]
[423,"Raumheizflächen ","423.17",null,null,"Heizkörper","IfcFlowTerminal ","-","IfcSpaceHeater","-","-","-","-","HLSK",3,{"$f":"VLOOKUP(O554,LOI_LPH[],2,TRUE)","v":200}]
[423,"Raumheizflächen ","423.17",null,null,"Medium",null,"(TBD)","Reference","Pset_AlarmTypeCommon","IfcText","-","Wasser | Elektrisch","HLSK",5,{"$f":"VLOOKUP(O555,LOI_LPH[],2,TRUE)","v":300}]
[423,"Raumheizflächen ","423.17",null,null,"Heizkörperart",null,"(TBD)",null,null,"IfcText","-","Flachheizkörper | Bad-Heizkörper | Gliederheizkörper | Konvektoren | Gebläsekonvektoren | Heizwände | Designheizkörper | Elektroheizkörper","HLSK",5,{"$f":"VLOOKUP(O556,LOI_LPH[],2,TRUE)","v":300}]
[423,"Raumheizflächen ","423.17",null,null,"Nennleistung",null,"(TBD)",null,null,"Real","W","Zahl","HLSK",5,{"$f":"VLOOKUP(O557,LOI_LPH[],2,TRUE)","v":300}]
[423,"Raumheizflächen ","423.17",null,null,"Ausführung",null,"(TBD)",null,null,"IfcLabel","-","Überflur | Unterflur","HLSK",5,{"$f":"VLOOKUP(O558,LOI_LPH[],2,TRUE)","v":300}]
[423,"Raumheizflächen ","423.17",null,null,"Elektrische Anschlussleistung",null,"(TBD)",null,null,"Real","V","Zahl","HLSK",5,{"$f":"VLOOKUP(O559,LOI_LPH[],2,TRUE)","v":300}]
[423,"Raumheizflächen ","423.18",null,null,"Flächenheizung","IfcDistributionFlowElement","-","IfcCoil","-","-","-","-","HLSK",3,{"$f":"VLOOKUP(O560,LOI_LPH[],2,TRUE)","v":200}]
[423,"Raumheizflächen ","423.18",null,null,"Medium",null,"(TBD)",null,null,"IfcText"," -","Wasser | Elektrisch","HLSK",5,{"$f":"VLOOKUP(O561,LOI_LPH[],2,TRUE)","v":300}]
[423,"Raumheizflächen ","423.18",null,null,"Bauart",null,"(TBD)",null,null,"IfcText"," -","Bodenheizung | Deckenheizung | kombiniert (horizontal + vertikal | Wandheizung","HLSK",5,{"$f":"VLOOKUP(O562,LOI_LPH[],2,TRUE)","v":300}]
[423,"Raumheizflächen ","423.18",null,null,"Norm-Wärmeleistung",null,"(TBD)",null,null,"Real","W","Zahl","HLSK",5,{"$f":"VLOOKUP(O563,LOI_LPH[],2,TRUE)","v":300}]
[423,"Raumheizflächen ","423.18",null,null,"Heizfläche ",null,"(TBD)",null,null,"Real","m2","Zahl","HLSK",5,{"$f":"VLOOKUP(O564,LOI_LPH[],2,TRUE)","v":300}]
[423,"Raumheizflächen ","423.18",null,null,"spezifische Wärmeleistung",null,"(TBD)",null,null,"Real","W/m2","Zahl","HLSK",5,{"$f":"VLOOKUP(O565,LOI_LPH[],2,TRUE)","v":300}]
[423,"Raumheizflächen ","423.17",null,null,"Elektrische Anschlussleistung",null,"(TBD)",null,null,"Real","A","Zahl","HLSK",5,{"$f":"VLOOKUP(O566,LOI_LPH[],2,TRUE)","v":300}]
[423,"Raumheizflächen ","423.17",null,null,"Nennspannung",null,"(TBD)",null,null,"Real","V","Zahl","HLSK",5,{"$f":"VLOOKUP(O567,LOI_LPH[],2,TRUE)","v":300}]
[429,"Wärmeversorgungsanlagen, sonstiges",429,null,null,"Wärmeversorgungsanlagen, sonstiges","-","-","-","-","-","-","-","-","-",{"$f":"VLOOKUP(O568,LOI_LPH[],2,TRUE)","v":"-"}]
[430,"Lufttechnische Anlagen",430,null,null,"Lufttechnische Anlagen","-","-","-","-","-","-","-","-","-",{"$f":"VLOOKUP(O569,LOI_LPH[],2,TRUE)","v":"-"}]
[430,"Lufttechnische Anlagen","430.00",null,null,"Gemeinsame Bauteile lufttechnischer Anlagen","IfcBuildingElementProxy","-","IfcBuildingElementProxy","-","-","-","-","HLSK",3,{"$f":"VLOOKUP(O570,LOI_LPH[],2,TRUE)","v":200}]
[430,"Lufttechnische Anlagen","430.10",null,null,"Ventilatoren","IfcFlowMovingDevice ","-","IfcFan","-","-","-","-","HLSK",3,{"$f":"VLOOKUP(O571,LOI_LPH[],2,TRUE)","v":200}]
[430,"Lufttechnische Anlagen","430.10",null,null,"Bauart",null,"(TBD)",null,null,"IfcText","-","Zuluftventilator | Abluftventilator","HLSK",5,{"$f":"VLOOKUP(O572,LOI_LPH[],2,TRUE)","v":300}]
[430,"Lufttechnische Anlagen","430.10",null,null,"Ausführung",null,"(TBD)",null,null,"IfcText"," -","Axialventilator | Dachventilator | Entrauchungsventilator | Radialventilator","HLSK",5,{"$f":"VLOOKUP(O573,LOI_LPH[],2,TRUE)","v":300}]
[430,"Lufttechnische Anlagen","430.10",null,null,"Drehzahlregelung",null,"(TBD)",null,null,"IfcText"," -","Freitext","HLSK",5,{"$f":"VLOOKUP(O574,LOI_LPH[],2,TRUE)","v":300}]
[430,"Lufttechnische Anlagen","430.10",null,null,"Optimaler Volumenstrom",null,"(TBD)",null,null,"Real","m3/h","C","HLSK",5,{"$f":"VLOOKUP(O575,LOI_LPH[],2,TRUE)","v":300}]
[430,"Lufttechnische Anlagen","430.10",null,null,"Motor-Nennstrom ",null,"(TBD)",null,"FM_TGA","IfcLabel","A","Zahl","HLSK",5,{"$f":"VLOOKUP(O576,LOI_LPH[],2,TRUE)","v":300}]
[430,"Lufttechnische Anlagen","430.10",null,null,"Motor-Nennleistung",null,"(TBD)",null,null,"IfcPowerMeasure","kW","Zahl","HLSK",5,{"$f":"VLOOKUP(O577,LOI_LPH[],2,TRUE)","v":300}]
[430,"Lufttechnische Anlagen","430.10",null,null,"Nennspannung",null,"(TBD)",null,null,"Real","V","Zahl","HLSK",5,{"$f":"VLOOKUP(O578,LOI_LPH[],2,TRUE)","v":300}]
[430,"Lufttechnische Anlagen","430.20",null,null,"Wärmetauscher","IfcEnergyConversionDevice","-","IfcHeatExchanger","-","-","-","-","HLSK",3,{"$f":"VLOOKUP(O579,LOI_LPH[],2,TRUE)","v":200}]
[430,"Lufttechnische Anlagen","430.21",null,null,"Wärmerückgewinnung WRG","IfcEnergyConversionDevice","-","IfcAirToAirHeatRecovery","-","-","-","-","HLSK",3,{"$f":"VLOOKUP(O580,LOI_LPH[],2,TRUE)","v":200}]
[430,"Lufttechnische Anlagen","430.21",null,null,"Thermische Leistung",null,"(TBD)",null,null,"Real","kW","Zahl","HLSK",5,{"$f":"VLOOKUP(O581,LOI_LPH[],2,TRUE)","v":300}]
[430,"Lufttechnische Anlagen","430.22",null,null,"Elektro-Lufterwärmer","IfcDistributionFlowElement","-","IfcCoil/ELECTRICHEATINGCOIL","-","-","-","-","HLSK",3,{"$f":"VLOOKUP(O582,LOI_LPH[],2,TRUE)","v":200}]
[430,"Lufttechnische Anlagen","430.22",null,null,"Thermische Leistung",null,"(TBD)",null,null,"Real","W","Zahl","HLSK",5,{"$f":"VLOOKUP(O583,LOI_LPH[],2,TRUE)","v":300}]
[430,"Lufttechnische Anlagen","430.22",null,null,"Elektrische Leistung",null,"(TBD)","NominalCapacity","FM_TGA","IfcPowerMeasure","kW","Zahl","HLSK",5,{"$f":"VLOOKUP(O584,LOI_LPH[],2,TRUE)","v":300}]
[430,"Lufttechnische Anlagen","430.22",null,null,"Nennspannung",null,"(TBD)",null,null,"Real","V","Zahl","HLSK",5,{"$f":"VLOOKUP(O585,LOI_LPH[],2,TRUE)","v":300}]
[430,"Lufttechnische Anlagen","430.23",null,null,"Luftkühler (Luft/Flüssigkeit)","IfcDistributionFlowElement","-","IfcCoil/WATERCOOLINGCOIL","-","-","-","-","HLSK",3,{"$f":"VLOOKUP(O586,LOI_LPH[],2,TRUE)","v":200}]
[430,"Lufttechnische Anlagen","430.23",null,null,"Thermische Leistung",null,"(TBD)",null,null,"Real","W","Zahl","HLSK",5,{"$f":"VLOOKUP(O587,LOI_LPH[],2,TRUE)","v":300}]
[430,"Lufttechnische Anlagen","430.23",null,null,"Elektrische Leistung",null,"(TBD)","NominalCapacity","FM_TGA","IfcPowerMeasure","kW","Zahl","HLSK",5,{"$f":"VLOOKUP(O588,LOI_LPH[],2,TRUE)","v":300}]
[430,"Lufttechnische Anlagen","430.23",null,null,"Nennspannung",null,"(TBD)",null,null,"Real","V","Zahl","HLSK",5,{"$f":"VLOOKUP(O589,LOI_LPH[],2,TRUE)","v":300}]
[430,"Lufttechnische Anlagen","430.24",null,null,"Verdampfer (Luft/Kältemittel)","IfcDistributionFlowElement","-","IfcEvaporator","-","-","-","-","HLSK",3,{"$f":"VLOOKUP(O590,LOI_LPH[],2,TRUE)","v":200}]
[430,"Lufttechnische Anlagen","430.24",null,null,"Typ Kältemittel",null,"(TBD)",null,"FM_TGA","IfcLabel"," -","R 1234yf | R 22 - aufbereitet | *R 22 (Chlordifluormethan) | R 23 (Trifluormethan) Ersatz für R 13/503 | *R 123 (Dichlortrifluorethan) | |*R 124 (Chlortetrafluorethan) | R 125 (Pentafluorethan) | R 134a (Tetrafluorethan) Ersatz für R 12 | R 170 (Ethan) | HFKW 227 (Heptafluorpropan) Ersatz für R114 | R 290 1.5 (Propan) | R 290 2.5 (Propan) | *R 401A (MP 39) | *R 401B (MP 66) | *R 402A (HP 80) | *R 403B (ISCEON MO69) | R 404A (HP 62/FX 70) Ersatz für R 22/502 | R 407A | R 407C (Klea 66/AC 9000) Ersatz für R 22 | R 407F | *R 408A (FX 10) | *R 409A (FX 56) | R 410A (AZ 20) Ersatz für R 22/13B1 | R 413A (ISCEON MO49) Ersatz für R 12 | R 417A (ISCEON MO59) Ersatz für R 22 | R 422A (ISCEON MO79) Ersatz für R 22 | R 422D (ISCEON MO29) Ersatz für R 22 | R 437A (ISCEON MO49 PLUS) | R 507 (AZ 50) Ersatz für R 22/502 | R 600a 1.5 (Isobutan) | R 600a 2.5 (Isobutan) | R 717 (Ammoniak) | R 744 (Kohlendioxid) | R 1270 (Propen) | ISCEON MO89 Ersatz für R13 B1","HLSK",5,{"$f":"VLOOKUP(O591,LOI_LPH[],2,TRUE)","v":300}]
[430,"Lufttechnische Anlagen","430.24",null,null,"Thermische Leistung",null,"(TBD)",null,null,"Real","W","Zahl","HLSK",5,{"$f":"VLOOKUP(O592,LOI_LPH[],2,TRUE)","v":300}]
[430,"Lufttechnische Anlagen","430.24",null,null,"Elektrische Leistung",null,"(TBD)","NominalCapacity","FM_TGA","IfcPowerMeasure","kW","Zahl","HLSK",5,{"$f":"VLOOKUP(O593,LOI_LPH[],2,TRUE)","v":300}]
[430,"Lufttechnische Anlagen","430.24",null,null,"Nennspannung",null,"(TBD)",null,null,"Real","V","Zahl","HLSK",5,{"$f":"VLOOKUP(O594,LOI_LPH[],2,TRUE)","v":300}]
[430,"Lufttechnische Anlagen","430.25",null,null,"Kreuzstrom-Wärmetauscher","IfcDistributionFlowElement","-","IfcAirToAirHeatRecovery","-","-","-","-","HLSK",3,{"$f":"VLOOKUP(O595,LOI_LPH[],2,TRUE)","v":200}]
[430,"Lufttechnische Anlagen","430.25",null,null,"Thermische Leistung",null,"(TBD)",null,null,"Real","W","Zahl","HLSK",5,{"$f":"VLOOKUP(O596,LOI_LPH[],2,TRUE)","v":300}]
[430,"Lufttechnische Anlagen","430.25",null,null,"Elektrische Leistung",null,"(TBD)","NominalCapacity","FM_TGA","IfcPowerMeasure","kW","Zahl","HLSK",5,{"$f":"VLOOKUP(O597,LOI_LPH[],2,TRUE)","v":300}]
[430,"Lufttechnische Anlagen","430.25",null,null,"Nennspannung",null,"(TBD)",null,null,"Real","V","Zahl","HLSK",5,{"$f":"VLOOKUP(O598,LOI_LPH[],2,TRUE)","v":300}]
[430,"Lufttechnische Anlagen","430.26",null,null,"Rotations-Wärmeübertrager","IfcDistributionFlowElement","-","IfcAirToAirHeatRecovery/ROTARYWHEEL","-","-","-","-","HLSK",3,{"$f":"VLOOKUP(O599,LOI_LPH[],2,TRUE)","v":200}]
[430,"Lufttechnische Anlagen","430.26",null,null,"Thermische Leistung",null,"(TBD)",null,null,"Real","W","Zahl","HLSK",5,{"$f":"VLOOKUP(O600,LOI_LPH[],2,TRUE)","v":300}]
[430,"Lufttechnische Anlagen","430.26",null,null,"Elektrische Leistung",null,"(TBD)","NominalCapacity","FM_TGA","IfcPowerMeasure","kW","Zahl","HLSK",5,{"$f":"VLOOKUP(O601,LOI_LPH[],2,TRUE)","v":300}]
[430,"Lufttechnische Anlagen","430.26",null,null,"Nennspannung",null,"(TBD)",null,null,"Real","V","Zahl","HLSK",5,{"$f":"VLOOKUP(O602,LOI_LPH[],2,TRUE)","v":300}]
[430,"Lufttechnische Anlagen","430.27",null,null,"Lufterhitzer (Luft/Flüssigkeit)","IfcDistributionFlowElement","-","IfcCoil/WATERHEATINGCOIL","-","-","-","-","HLSK",3,{"$f":"VLOOKUP(O603,LOI_LPH[],2,TRUE)","v":200}]
[430,"Lufttechnische Anlagen","430.27",null,null,"Medium",null,"(TBD)",null,null,"IfcText"," -","Freitext","HLSK",5,{"$f":"VLOOKUP(O604,LOI_LPH[],2,TRUE)","v":300}]
[430,"Lufttechnische Anlagen","430.27",null,null,"Thermische Leistung",null,"(TBD)",null,null,"Real","W","Zahl","HLSK",5,{"$f":"VLOOKUP(O605,LOI_LPH[],2,TRUE)","v":300}]
[430,"Lufttechnische Anlagen","430.27",null,null,"Elektrische Leistung",null,"(TBD)","NominalCapacity","FM_TGA","IfcPowerMeasure","kW","Zahl","HLSK",5,{"$f":"VLOOKUP(O606,LOI_LPH[],2,TRUE)","v":300}]
[430,"Lufttechnische Anlagen","430.27",null,null,"Nennspannung",null,"(TBD)",null,null,"Real","V","Zahl","HLSK",5,{"$f":"VLOOKUP(O607,LOI_LPH[],2,TRUE)","v":300}]
[430,"Lufttechnische Anlagen","430.30",null,null,"Luftfilter","IfcFlowTreatmentDevice","-","IfcFilter","-","-","-","-","HLSK",3,{"$f":"VLOOKUP(O608,LOI_LPH[],2,TRUE)","v":200}]
[430,"Lufttechnische Anlagen","430.30",null,null,"Luftfilterart",null,"(TBD)",null,null,"IfcText","-","Rollbandfilter | Trockenschichtfilter | Elektrofilter | Sorptionsfilter | Schwebstofffilter | Wrasenfilter","HLSK",5,{"$f":"VLOOKUP(O609,LOI_LPH[],2,TRUE)","v":300}]
[430,"Lufttechnische Anlagen","430.30",null,null,"Filterklasse",null,"(TBD)",null,null,"IfcText"," -","Freitext","HLSK",5,{"$f":"VLOOKUP(O610,LOI_LPH[],2,TRUE)","v":300}]
[430,"Lufttechnische Anlagen","430.40",null,null,"Luftbe- und -entfeuchter","IfcDistributionFlowElement","-","IfcDistributionFlowElement","-","-","-","-","HLSK",3,{"$f":"VLOOKUP(O611,LOI_LPH[],2,TRUE)","v":200}]
[430,"Lufttechnische Anlagen","430.41",null,null,"Luftbefeuchter (Medium: Wasser)","IfcDistributionFlowElement","-","IfcHumidifier","-","-","-","-","HLSK",3,{"$f":"VLOOKUP(O612,LOI_LPH[],2,TRUE)","v":200}]
[430,"Lufttechnische Anlagen","430.41",null,null,"Befeuchterleistung",null,"(TBD)",null,null,"Real","W","Zahl","HLSK",5,{"$f":"VLOOKUP(O613,LOI_LPH[],2,TRUE)","v":300}]
[430,"Lufttechnische Anlagen","430.41",null,null,"Elektrische Leistung",null,"(TBD)","NominalCapacity","FM_TGA","IfcPowerMeasure","kW","Zahl","HLSK",5,{"$f":"VLOOKUP(O614,LOI_LPH[],2,TRUE)","v":300}]
[430,"Lufttechnische Anlagen","430.41",null,null,"Nennspannung",null,"(TBD)",null,null,"Real","V","Zahl","HLSK",5,{"$f":"VLOOKUP(O615,LOI_LPH[],2,TRUE)","v":300}]
[430,"Lufttechnische Anlagen","430.42",null,null,"Tropfenabscheider / Gleichrichter","IfcDistributionFlowElement","-","IfcDistributionFlowElement","-","-","-","-","HLSK",3,{"$f":"VLOOKUP(O616,LOI_LPH[],2,TRUE)","v":200}]
[430,"Lufttechnische Anlagen","430.42",null,null,"Elektrische Leistung",null,"(TBD)","NominalCapacity","FM_TGA","IfcPowerMeasure","kW","Zahl","HLSK",5,{"$f":"VLOOKUP(O617,LOI_LPH[],2,TRUE)","v":300}]
[430,"Lufttechnische Anlagen","430.42",null,null,"Nennspannung",null,"(TBD)",null,null,"Real","V","Zahl","HLSK",5,{"$f":"VLOOKUP(O618,LOI_LPH[],2,TRUE)","v":300}]
[430,"Lufttechnische Anlagen","430.43",null,null,"Luftbefeuchter (Medium: Dampf; mit eigenem Dampferzeuger","IfcDistributionFlowElement","-","IfcHumidifier","-","-","-","-","HLSK",3,{"$f":"VLOOKUP(O619,LOI_LPH[],2,TRUE)","v":200}]
[430,"Lufttechnische Anlagen","430.43",null,null,"Befeuchterleistung",null,"(TBD)",null,null,"Real","W","Zahl","HLSK",5,{"$f":"VLOOKUP(O620,LOI_LPH[],2,TRUE)","v":300}]
[430,"Lufttechnische Anlagen","430.43",null,null,"Elektrische Leistung",null,"(TBD)","NominalCapacity","FM_TGA","IfcPowerMeasure","kW","Zahl","HLSK",5,{"$f":"VLOOKUP(O621,LOI_LPH[],2,TRUE)","v":300}]
[430,"Lufttechnische Anlagen","430.43",null,null,"Nennspannung",null,"(TBD)",null,null,"Real","V","Zahl","HLSK",5,{"$f":"VLOOKUP(O622,LOI_LPH[],2,TRUE)","v":300}]
[430,"Lufttechnische Anlagen","430.44",null,null,"Luftbefeuchter (Medium: Dampf; ohne eigenen Dampferzeuger","IfcDistributionFlowElement","-","IfcHumidifier","-","-","-","-","HLSK",3,{"$f":"VLOOKUP(O623,LOI_LPH[],2,TRUE)","v":200}]
[430,"Lufttechnische Anlagen","430.44",null,null,"Befeuchterleistung",null,"(TBD)",null,null,"Real","W","Zahl","HLSK",5,{"$f":"VLOOKUP(O624,LOI_LPH[],2,TRUE)","v":300}]
[430,"Lufttechnische Anlagen","430.44",null,null,"Elektrische Leistung",null,"(TBD)","NominalCapacity","FM_TGA","IfcPowerMeasure","kW","Zahl","HLSK",5,{"$f":"VLOOKUP(O625,LOI_LPH[],2,TRUE)","v":300}]
[430,"Lufttechnische Anlagen","430.44",null,null,"Nennspannung",null,"(TBD)",null,null,"Real","V","Zahl","HLSK",5,{"$f":"VLOOKUP(O626,LOI_LPH[],2,TRUE)","v":300}]
[430,"Lufttechnische Anlagen","430.45",null,null,"Ultraschall-, Zerstäubungs- und Hybridbefeuchter","IfcDistributionFlowElement","-","IfcHumidifier","-","-","-","-","HLSK",3,{"$f":"VLOOKUP(O627,LOI_LPH[],2,TRUE)","v":200}]
[430,"Lufttechnische Anlagen","430.45",null,null,"Befeuchterleistung",null,"(TBD)",null,null,"Real","W","Zahl","HLSK",5,{"$f":"VLOOKUP(O628,LOI_LPH[],2,TRUE)","v":300}]
[430,"Lufttechnische Anlagen","430.45",null,null,"Elektrische Leistung",null,"(TBD)","NominalCapacity","FM_TGA","IfcPowerMeasure","kW","Zahl","HLSK",5,{"$f":"VLOOKUP(O629,LOI_LPH[],2,TRUE)","v":300}]
[430,"Lufttechnische Anlagen","430.45",null,null,"Nennspannung",null,"(TBD)",null,null,"Real","V","Zahl","HLSK",5,{"$f":"VLOOKUP(O630,LOI_LPH[],2,TRUE)","v":300}]
[430,"Lufttechnische Anlagen ","430.46",null,null,"Dampferzeuger","IfcDistributionFlowElement","-","IfcCoil/STEAMHEATINGCOIL","-","-","-","-","HLSK",3,{"$f":"VLOOKUP(O631,LOI_LPH[],2,TRUE)","v":200}]
[430,"Lufttechnische Anlagen ","430.46",null,null,"Befeuchterleistung",null,"(TBD)",null,null,"Real","W","Zahl","HLSK",5,{"$f":"VLOOKUP(O632,LOI_LPH[],2,TRUE)","v":300}]
[430,"Lufttechnische Anlagen ","430.46",null,null,"Elektrische Leistung",null,"(TBD)","NominalCapacity","FM_TGA","IfcPowerMeasure","kW","Zahl","HLSK",5,{"$f":"VLOOKUP(O633,LOI_LPH[],2,TRUE)","v":300}]
[430,"Lufttechnische Anlagen ","430.46",null,null,"Nennspannung",null,"(TBD)",null,null,"Real","V","Zahl","HLSK",5,{"$f":"VLOOKUP(O634,LOI_LPH[],2,TRUE)","v":300}]
[430,"Lufttechnische Anlagen ","430.47",null,null,"Entfeuchter","IfcDistributionFlowElement","-","IfcUnitaryEquipment/DEHUMIDIFIER","-","-","-","-","HLSK",3,{"$f":"VLOOKUP(O635,LOI_LPH[],2,TRUE)","v":200}]
[430,"Lufttechnische Anlagen ","430.47",null,null,"Befeuchterleistung",null,"(TBD)",null,null,"Real","W","Zahl","HLSK",5,{"$f":"VLOOKUP(O636,LOI_LPH[],2,TRUE)","v":300}]
[430,"Lufttechnische Anlagen ","430.47",null,null,"Elektrische Leistung",null,"(TBD)","NominalCapacity","FM_TGA","IfcPowerMeasure","kW","Zahl","HLSK",5,{"$f":"VLOOKUP(O637,LOI_LPH[],2,TRUE)","v":300}]
[430,"Lufttechnische Anlagen ","430.47",null,null,"Nennspannung",null,"(TBD)",null,null,"Real","V","Zahl","HLSK",5,{"$f":"VLOOKUP(O638,LOI_LPH[],2,TRUE)","v":300}]
[430,"Lufttechnische Anlagen ","430.50",null,null,"Bauelemente des Luftleitungssystems","-","-","IfcDistributionFlowElement","-","-","-","-","HLSK",3,{"$f":"VLOOKUP(O639,LOI_LPH[],2,TRUE)","v":200}]
[430,"Lufttechnische Anlagen ","430.51",null,null,"Wetterschutzgitter","IfcDistributionFlowElement","-","IfcAirTerminal","-","-","-","-","HLSK",3,{"$f":"VLOOKUP(O640,LOI_LPH[],2,TRUE)","v":200}]
[430,"Lufttechnische Anlagen ","430.52",null,null,"Gitter und Verteiler","IfcAirTerminal","-",null,"-","-","-","-","HLSK",3,{"$f":"VLOOKUP(O641,LOI_LPH[],2,TRUE)","v":200}]
[430,"Lufttechnische Anlagen ","430.53",null,null,"Brandschutzklappen (BSK)","IfcFlowController ","-","IfcDamper","-","-","-","-","HLSK",3,{"$f":"VLOOKUP(O642,LOI_LPH[],2,TRUE)","v":200}]
[430,"Lufttechnische Anlagen ","430.53",null,null,"Einbausituation",null,"(TBD)",null,null,"IfcText","-","Massivwand | Massivdecke | Außerhalb einer Wand | Außerhalb einer Decke | Teilausmörtelung | Vorwandklappe | Leichtbauwand | Unterdecke","HLSK",5,{"$f":"VLOOKUP(O643,LOI_LPH[],2,TRUE)","v":300}]
[430,"Lufttechnische Anlagen ","430.53",null,null,"Anzahl Antriebe",null,"(TBD)",null,null,"Real","Stück","Zahl","HLSK",5,{"$f":"VLOOKUP(O644,LOI_LPH[],2,TRUE)","v":300}]
[430,"Lufttechnische Anlagen ","430.53",null,null,"Antrieb",null,"(TBD)","HasDrive","Pset_DoorCommon","IfcLabel"," -","elektrisch | mechanisch","HLSK",5,{"$f":"VLOOKUP(O645,LOI_LPH[],2,TRUE)","v":300}]
[430,"Lufttechnische Anlagen ","430.53",null,null,"Hersteller Antrieb",null,"(TBD)","Manufacturer","Pset_ManufacturerTypeInformation","IfcLabel"," -","Freitext","HLSK",8,{"$f":"VLOOKUP(O646,LOI_LPH[],2,TRUE)","v":500}]
[430,"Lufttechnische Anlagen ","430.53",null,null,"Steuerung",null,"(TBD)",null,null,"IfcLabel"," -","zentral | dezentral","HLSK",5,{"$f":"VLOOKUP(O647,LOI_LPH[],2,TRUE)","v":300}]
[430,"Lufttechnische Anlagen ","430.53",null,null,"Feuerwiderstandsklasse","FireRating","(TBD)","FireRating","Pset_DoorCommon","IfcLabel"," -","T 30-1 | T 30-2 | T 90-1 | T 90-2","HLSK",3,{"$f":"VLOOKUP(O648,LOI_LPH[],2,TRUE)","v":200}]
[430,"Lufttechnische Anlagen ","430.53",null,null,"RWA-Zugehörigkeit",null,"(TBD)",null,null,"IfcBoolean"," -","ja | nein","HLSK",5,{"$f":"VLOOKUP(O649,LOI_LPH[],2,TRUE)","v":300}]
[430,"Lufttechnische Anlagen ","430.53",null,null,"In GLT aufgeschaltet",null,"(TBD)",null,null,"IfcBoolean"," -","ja | nein","HLSK",5,{"$f":"VLOOKUP(O650,LOI_LPH[],2,TRUE)","v":300}]
[430,"Lufttechnische Anlagen ","430.53",null,null,"Verwendbarkeitsnachweis Typ",null,"(TBD)",null,null,"IfcText","-","Z-41.3 | PA-X","HLSK",5,{"$f":"VLOOKUP(O651,LOI_LPH[],2,TRUE)","v":300}]
[430,"Lufttechnische Anlagen ","430.53",null,null,"Nenndurchmesser",null,"(TBD)",null,null,"Real","cm","Zahl","HLSK",5,{"$f":"VLOOKUP(O652,LOI_LPH[],2,TRUE)","v":300}]
[430,"Lufttechnische Anlagen ","430.53",null,null,"freie Zugänglichkeit ",null,"(TBD)",null,null,"IfcText",null,"ja | nein","HLSK",5,{"$f":"VLOOKUP(O653,LOI_LPH[],2,TRUE)","v":300}]
[430,"Lufttechnische Anlagen ","430.54",null,null,"Klappen (außer Brandschutzklappen)","IfcFlowController ","-","IfcDamper","-","-","-","-","HLSK",3,{"$f":"VLOOKUP(O654,LOI_LPH[],2,TRUE)","v":200}]
[430,"Lufttechnische Anlagen ","430.55",null,null,"Luftleitungen und Kammern","IfcDuctSegment","-",null,"-","-","-","-","HLSK",3,{"$f":"VLOOKUP(O655,LOI_LPH[],2,TRUE)","v":200}]
[430,"Lufttechnische Anlagen ","430.55",null,null,"Luftdichtheitsklasse Luftleitung",null,"(TBD)",null,null,"IfcText","-","A | B | C | D","HLSK",5,{"$f":"VLOOKUP(O656,LOI_LPH[],2,TRUE)","v":300}]
[430,"Lufttechnische Anlagen ","430.55",null,null,"Laufmeter",null,"(TBD)",null,null,"Real","m","Zahl","HLSK",5,{"$f":"VLOOKUP(O657,LOI_LPH[],2,TRUE)","v":300}]
[430,"Lufttechnische Anlagen ","430.56",null,null,"Volumenstrom- und Mischregler","IfcFlowController ","-","IfcAirTerminalBox","-","-","-","-","HLSK",3,{"$f":"VLOOKUP(O658,LOI_LPH[],2,TRUE)","v":200}]
[430,"Lufttechnische Anlagen ","430.56",null,null,"Optimaler Volumenstrom",null,"(TBD)",null,null,"Real","m3/h","Zahl","HLSK",5,{"$f":"VLOOKUP(O659,LOI_LPH[],2,TRUE)","v":300}]
[430,"Lufttechnische Anlagen ","430.56",null,null,"Durchmesser",null,"(TBD)",null,null,"Real","cm","Zahl","HLSK",5,{"$f":"VLOOKUP(O660,LOI_LPH[],2,TRUE)","v":300}]
[430,"Lufttechnische Anlagen ","430.57",null,null,"Absperr- und Abgleichelemente","IfcFlowController ","-","IfcDamper","-","-","-","-","HLSK",3,{"$f":"VLOOKUP(O661,LOI_LPH[],2,TRUE)","v":200}]
[430,"Lufttechnische Anlagen ","430.58",null,null,"Induktionsgeräte und vergleichbare Nachbehandlungsgeräte","IfcDistributionFlowElement","-","IfcDistributionFlowElement","-","-","-","-","HLSK",3,{"$f":"VLOOKUP(O662,LOI_LPH[],2,TRUE)","v":200}]
[430,"Lufttechnische Anlagen ","430.60",null,null,"Schaltschrank, Regelanlage, Leittechnik, Druckluft","IfcDistributionElement","-","IfcElectricDistributionBoard","-","-","-","-","HLSK",3,{"$f":"VLOOKUP(O663,LOI_LPH[],2,TRUE)","v":200}]
[430,"Lufttechnische Anlagen ","430.60",null,null,"Anzahl Eingänge",null,"(TBD)",null,null,"Real","Stück","Zahl","HLSK",5,{"$f":"VLOOKUP(O664,LOI_LPH[],2,TRUE)","v":300}]
[430,"Lufttechnische Anlagen ","430.60",null,null,"Anzahl Ausgänge",null,"(TBD)",null,null,"Real","Stück","Zahl","HLSK",5,{"$f":"VLOOKUP(O665,LOI_LPH[],2,TRUE)","v":300}]
[430,"Lufttechnische Anlagen ","430.60",null,null,"Nennspannung",null,"(TBD)",null,null,"Real","V","Zahl","HLSK",5,{"$f":"VLOOKUP(O666,LOI_LPH[],2,TRUE)","v":300}]
[430,"Lufttechnische Anlagen ","430.60",null,null,"Anzahl USV-Module",null,"(TBD)",null,null,"Real","Stück","Zahl","HLSK",5,{"$f":"VLOOKUP(O667,LOI_LPH[],2,TRUE)","v":300}]
[430,"Lufttechnische Anlagen ","430.70",null,null,"Antriebselemente","-","-","IfcDistributionFlowElement","-","-","-","-","-","-",{"$f":"VLOOKUP(O668,LOI_LPH[],2,TRUE)","v":"-"}]
[430,"Lufttechnische Anlagen ","430.71",null,null,"Elektromotoren","IfcEnergyConversionDevice","-","IfcElectricMotor","-","-","-","-","HLSK",3,{"$f":"VLOOKUP(O669,LOI_LPH[],2,TRUE)","v":200}]
[430,"Lufttechnische Anlagen ","430.71",null,null,"Nennleistung",null,"(TBD)","NominalCapacity",null,"IfcPowerMeasure","kW","Zahl","HLSK",5,{"$f":"VLOOKUP(O670,LOI_LPH[],2,TRUE)","v":300}]
[430,"Lufttechnische Anlagen ","430.71",null,null,"Nennspannung ",null,"(TBD)",null,null,"Real","kV","Zahl","HLSK",5,{"$f":"VLOOKUP(O671,LOI_LPH[],2,TRUE)","v":300}]
[430,"Lufttechnische Anlagen ","430.71",null,null,"Explosionsgeschützt",null,"(TBD)",null,null,"IfcBoolean"," -","ja | nein","HLSK",5,{"$f":"VLOOKUP(O672,LOI_LPH[],2,TRUE)","v":300}]
[430,"Lufttechnische Anlagen ","430.72",null,null,"Riementriebe","-","-","IfcMotorConnection","-","-","-","-","-","-",{"$f":"VLOOKUP(O673,LOI_LPH[],2,TRUE)","v":"-"}]
[430,"Lufttechnische Anlagen ","430.73",null,null,"Antriebskupplungen","-","-","IfcMotorConnection","-","-","-","-","-","-",{"$f":"VLOOKUP(O674,LOI_LPH[],2,TRUE)","v":"-"}]
[430,"Lufttechnische Anlagen ","430.74",null,null,"Kettentriebe","-","-","IfcMotorConnection","-","-","-","-","-","-",{"$f":"VLOOKUP(O675,LOI_LPH[],2,TRUE)","v":"-"}]
[430,"Lufttechnische Anlagen ","430.75",null,null,"Getriebe","-","-","IfcMotorConnection","-","-","-","-","-","-",{"$f":"VLOOKUP(O676,LOI_LPH[],2,TRUE)","v":"-"}]
[431,"Lüftungsanlagen ",431,null,null,"Lüftungsanlagen","-","-","-","-","-","-","-","-","-",{"$f":"VLOOKUP(O677,LOI_LPH[],2,TRUE)","v":"-"}]
[431,"Lüftungsanlagen ","431.20",null,null,"Lüftungsanlagen für Feuerstätten","IfcDistributionElement","-","IfcUnitaryEquipment/AIRHANDLER","-","-","-","-","HLSK",3,{"$f":"VLOOKUP(O678,LOI_LPH[],2,TRUE)","v":200}]
[431,"Lüftungsanlagen ","431.20",null,null,"Nennweite DN",null,"(TBD)",null,null,"Real","m","Zahl","HLSK",5,{"$f":"VLOOKUP(O679,LOI_LPH[],2,TRUE)","v":300}]
[431,"Lüftungsanlagen ","431.40",null,null,"Lufterhitzer, Tür- und Torluftschleier","IfcDistributionElement","-","IfcUnitaryEquipment/AIRHANDLER","-","-","-","-","HLSK",3,{"$f":"VLOOKUP(O680,LOI_LPH[],2,TRUE)","v":200}]
[431,"Lüftungsanlagen ","431.40",null,null,"thermische Leistung",null,"(TBD)",null,null,"IfcPowerMeasure","W","Zahl","HLSK",5,{"$f":"VLOOKUP(O681,LOI_LPH[],2,TRUE)","v":300}]
[431,"Lüftungsanlagen ","431.40",null,null,"Elektrische Leistung",null,"(TBD)","NominalCapacity","FM_TGA","IfcPowerMeasure","kW","Zahl","HLSK",5,{"$f":"VLOOKUP(O682,LOI_LPH[],2,TRUE)","v":300}]
[431,"Lüftungsanlagen ","431.40",null,null,"Maximaler Volumenstrom",null,"(TBD)",null,null,"Real","m3/h","Zahl","HLSK",5,{"$f":"VLOOKUP(O683,LOI_LPH[],2,TRUE)","v":300}]
[431,"Lüftungsanlagen ","431.40",null,null,"Nennspannung",null,"(TBD)",null,null,"Real","V","Zahl","HLSK",5,{"$f":"VLOOKUP(O684,LOI_LPH[],2,TRUE)","v":300}]
[431,"Lüftungsanlagen ","431.50",null,null,"Sonderabluftanlagen","IfcDistributionElement","-","IfcUnitaryEquipment/AIRHANDLER","-","-","-","-","HLSK",3,{"$f":"VLOOKUP(O685,LOI_LPH[],2,TRUE)","v":200}]
[431,"Lüftungsanlagen ","431.50",null,null,"Volumenstrom",null,"(TBD)",null,null,"Real","m3/h","Zahl","HLSK",5,{"$f":"VLOOKUP(O686,LOI_LPH[],2,TRUE)","v":300}]
[431,"Lüftungsanlagen ","431.50",null,null,"Elektrische Leistung",null,"(TBD)","NominalCapacity","FM_TGA","IfcPowerMeasure","kW","Zahl","HLSK",5,{"$f":"VLOOKUP(O687,LOI_LPH[],2,TRUE)","v":300}]
[431,"Lüftungsanlagen ","431.50",null,null,"Nennspannung",null,"(TBD)",null,null,"Real","V","Zahl","HLSK",5,{"$f":"VLOOKUP(O688,LOI_LPH[],2,TRUE)","v":300}]
[431,"Lüftungsanlagen ","431.60",null,null,"Jet-Ventilatoren","IfcFlowMovingDevice ","-","IfcUnitaryEquipment/AIRHANDLER","-","-","-","-","HLSK",3,{"$f":"VLOOKUP(O689,LOI_LPH[],2,TRUE)","v":200}]
[431,"Lüftungsanlagen ","431.60",null,null,"Volumenstrom",null,"(TBD)",null,null,"Real","m3/h","Zahl","HLSK",5,{"$f":"VLOOKUP(O690,LOI_LPH[],2,TRUE)","v":300}]
[431,"Lüftungsanlagen ","431.60",null,null,"Elektrische Leistung",null,"(TBD)","NominalCapacity","FM_TGA","IfcPowerMeasure","kW","Zahl","HLSK",5,{"$f":"VLOOKUP(O691,LOI_LPH[],2,TRUE)","v":300}]
[431,"Lüftungsanlagen ","431.60",null,null,"Nennspannung",null,"(TBD)",null,null,"Real","V","Zahl","HLSK",5,{"$f":"VLOOKUP(O692,LOI_LPH[],2,TRUE)","v":300}]
[431,"Lüftungsanlagen ","431.80",null,null,"Rauchschutz-Druckanlagen (DRA)","IfcDistributionElement","-","IfcUnitaryEquipment/AIRHANDLER","-","-","-","-","HLSK",3,{"$f":"VLOOKUP(O693,LOI_LPH[],2,TRUE)","v":200}]
[431,"Lüftungsanlagen ","431.80",null,null,"Anzahl Bedienstellen",null,"(TBD)",null,null,"Real","Stück","Zahl","HLSK",5,{"$f":"VLOOKUP(O694,LOI_LPH[],2,TRUE)","v":300}]
[431,"Lüftungsanlagen ","431.80",null,null,"Anzahl Abzugsstellen",null,"(TBD)",null,null,"Real","Stück","Zahl","HLSK",5,{"$f":"VLOOKUP(O695,LOI_LPH[],2,TRUE)","v":300}]
[431,"Lüftungsanlagen ","431.80",null,null,"Maximaler Volumenstrom",null,"(TBD)",null,null,"Real","m3/h","Zahl","HLSK",5,{"$f":"VLOOKUP(O696,LOI_LPH[],2,TRUE)","v":300}]
[431,"Lüftungsanlagen ","431.80",null,null,"Leistung Ventilatoren",null,"(TBD)",null,null,"IfcPowerMeasure","W","Zahl","HLSK",5,{"$f":"VLOOKUP(O697,LOI_LPH[],2,TRUE)","v":300}]
[431,"Lüftungsanlagen ","431.90",null,null,"Maschinelle Rauch- und Wärmeabzugsanlagen (MRA, RWA)","IfcDistributionElement","-","IfcUnitaryEquipment/AIRHANDLER","-","-","-","-","HLSK",3,{"$f":"VLOOKUP(O698,LOI_LPH[],2,TRUE)","v":200}]
[431,"Lüftungsanlagen ","431.90",null,null,"Anzahl Ventilatoren",null,"(TBD)",null,null,"Real","Stück","Zahl","HLSK",5,{"$f":"VLOOKUP(O699,LOI_LPH[],2,TRUE)","v":300}]
[431,"Lüftungsanlagen ","431.90",null,null,"Leistung Ventilatoren",null,"(TBD)",null,null,"Real"," -","Zahl","HLSK",5,{"$f":"VLOOKUP(O700,LOI_LPH[],2,TRUE)","v":300}]
[431,"Lüftungsanlagen ","431.90",null,null,"Anzahl Öffnungselemente",null,"(TBD)",null,null,"Real","Stück","Zahl","HLSK",5,{"$f":"VLOOKUP(O701,LOI_LPH[],2,TRUE)","v":300}]
[434,"Kälteanlagen ",434,null,null,"Kälteanlagen","-","-","-","-","-","-","-","-","-",{"$f":"VLOOKUP(O702,LOI_LPH[],2,TRUE)","v":"-"}]
[434,"Kälteanlagen ","434.10",null,null,"Verdichter / Kältemaschine","IfcDistributionElement","-","IfcChiller","-","-","-","-","HLSK",3,{"$f":"VLOOKUP(O703,LOI_LPH[],2,TRUE)","v":200}]
[434,"Kälteanlagen ","434.10",null,null,"Art der Kälteerzeugung",null,"(TBD)",null,"Pset_ChillerTypeCustom","IfcText"," -","Kompression | Absorption | Freie Kühlung | sonstige","HLSK",5,{"$f":"VLOOKUP(O704,LOI_LPH[],2,TRUE)","v":300}]
[434,"Kälteanlagen ","434.10",null,null,"Nennleistung Kälte",null,"(TBD)","NominalCapacity","Pset_ChillerCommon","IfcPowerMeasure","kW","Zahl","HLSK",5,{"$f":"VLOOKUP(O705,LOI_LPH[],2,TRUE)","v":300}]
[434,"Kälteanlagen ","434.10",null,null,"Typ Kältemittel",null,"(TBD)",null,"Pset_ChillerTypeCustom","IfcLabel"," -","R 1234yf | R 22 - aufbereitet | *R 22 (Chlordifluormethan) | R 23 (Trifluormethan) Ersatz für R 13/503 | *R 123 (Dichlortrifluorethan) | |*R 124 (Chlortetrafluorethan) | R 125 (Pentafluorethan) | R 134a (Tetrafluorethan) Ersatz für R 12 | R 170 (Ethan) | HFKW 227 (Heptafluorpropan) Ersatz für R114 | R 290 1.5 (Propan) | R 290 2.5 (Propan) | *R 401A (MP 39) | *R 401B (MP 66) | *R 402A (HP 80) | *R 403B (ISCEON MO69) | R 404A (HP 62/FX 70) Ersatz für R 22/502 | R 407A | R 407C (Klea 66/AC 9000) Ersatz für R 22 | R 407F | *R 408A (FX 10) | *R 409A (FX 56) | R 410A (AZ 20) Ersatz für R 22/13B1 | R 413A (ISCEON MO49) Ersatz für R 12 | R 417A (ISCEON MO59) Ersatz für R 22 | R 422A (ISCEON MO79) Ersatz für R 22 | R 422D (ISCEON MO29) Ersatz für R 22 | R 437A (ISCEON MO49 PLUS) | R 507 (AZ 50) Ersatz für R 22/502 | R 600a 1.5 (Isobutan) | R 600a 2.5 (Isobutan) | R 717 (Ammoniak) | R 744 (Kohlendioxid) | R 1270 (Propen) | ISCEON MO89 Ersatz für R13 B1","HLSK",5,{"$f":"VLOOKUP(O706,LOI_LPH[],2,TRUE)","v":300}]
[434,"Kälteanlagen ","434.10",null,null,"Kältemittel Menge",null,"(TBD)",null,"Pset_ChillerTypeCustom","Real","kg","Zahl","HLSK",5,{"$f":"VLOOKUP(O707,LOI_LPH[],2,TRUE)","v":300}]
[434,"Kälteanlagen ","434.10",null,null,"Kältekreise",null,"(TBD)",null,"Pset_ChillerTypeCustom","Real"," -","Zahl","HLSK",5,{"$f":"VLOOKUP(O708,LOI_LPH[],2,TRUE)","v":300}]
[434,"Kälteanlagen ","434.10",null,null,"Verdichterart",null,"(TBD)",null,"Pset_ChillerTypeCustom","IfcText"," -","Kolbenverdichter | Schraubenverdichter | Turboverdichter","HLSK",5,{"$f":"VLOOKUP(O709,LOI_LPH[],2,TRUE)","v":300}]
[434,"Kälteanlagen ","434.10",null,null,"Verdichter Stück",null,"(TBD)",null,"Pset_ChillerTypeCustom","IfcText"," -","Freitext","HLSK",5,{"$f":"VLOOKUP(O710,LOI_LPH[],2,TRUE)","v":300}]
[434,"Kälteanlagen ","434.10",null,null,"Anschlussleistung",null,"(TBD)",null,"Pset_ChillerTypeCustom","IfcPowerMeasure","kW","Zahl","HLSK",5,{"$f":"VLOOKUP(O711,LOI_LPH[],2,TRUE)","v":300}]
[434,"Kälteanlagen ","434.10",null,null,"Temperaturniveau",null,"(TBD)",null,"Pset_ChillerTypeCustom","Real"," -","Zahl","HLSK",5,{"$f":"VLOOKUP(O712,LOI_LPH[],2,TRUE)","v":300}]
[434,"Verkehrsheizflächen","434.20",null,null,"Wärmeübertrager","IfcDistributionFlowElement","-","IfcHeatExchanger","-","-","-","-","HLSK",3,{"$f":"VLOOKUP(O713,LOI_LPH[],2,TRUE)","v":200}]
[434,"Verkehrsheizflächen","434.20",null,null,"Bauart",null,"(TBD)",null,null,"IfcText"," -","Wassergekühlter Verflüssiger | Luftgekühlter Verflüssiger | Verdampfer (Flüssigkeit/Kältemittel) | Verdampfer (Luft/Kältemittel) | Verdunstungsverflüssiger","HLSK",5,{"$f":"VLOOKUP(O714,LOI_LPH[],2,TRUE)","v":300}]
[434,"Verkehrsheizflächen","434.20",null,null,"Bauart Wärmetauscher",null,"(TBD)",null,null,"IfcText"," -","Rohrbündelwärmetauscher | Plattenwärmetauscher","HLSK",5,{"$f":"VLOOKUP(O715,LOI_LPH[],2,TRUE)","v":300}]
[434,"Verkehrsheizflächen","434.20",null,null,"Thermische Leistung",null,"(TBD)",null,null,"IfcPowerMeasure"," -","Zahl","HLSK",5,{"$f":"VLOOKUP(O716,LOI_LPH[],2,TRUE)","v":300}]
[434,"Verkehrsheizflächen","434.20",null,null,"Heizfläche ",null,"(TBD)",null,null,"Real","m2","Zahl","HLSK",5,{"$f":"VLOOKUP(O717,LOI_LPH[],2,TRUE)","v":300}]
[434,"Kälteanlagen ","434.30",null,null,"Anlagenteile (Primär)","-","-","IfcDistributionFlowElement","-","-","-","-","-","-",{"$f":"VLOOKUP(O718,LOI_LPH[],2,TRUE)","v":"-"}]
[434,"Kälteanlagen ","434.31",null,null,"Pumpen","IfcFlowMovingDevice ","-","IfcPump","-","-","-","-","HLSK",3,{"$f":"VLOOKUP(O719,LOI_LPH[],2,TRUE)","v":200}]
[434,"Kälteanlagen ","434.31",null,null,"Bauart",null,"(TBD)",null,null,"IfcText"," -","Einpumpenanlage | Doppelpumpenanlage (parallel) | Mehrpumpenanlage (parallel)","HLSK",5,{"$f":"VLOOKUP(O720,LOI_LPH[],2,TRUE)","v":300}]
[434,"Kälteanlagen ","434.31",null,null,"Nenndruck",null,"(TBD)",null,null,"Real"," -","Zahl","HLSK",5,{"$f":"VLOOKUP(O721,LOI_LPH[],2,TRUE)","v":300}]
[434,"Kälteanlagen ","434.31",null,null,"Maximalvolumenstrom",null,"(TBD)",null,null,"Real","m3/h","Zahl","HLSK",5,{"$f":"VLOOKUP(O722,LOI_LPH[],2,TRUE)","v":300}]
[434,"Kälteanlagen ","434.31",null,null,"Nennleistung",null,"(TBD)","NominalCapacity",null,"IfcPowerMeasure","kW","Zahl","HLSK",5,{"$f":"VLOOKUP(O723,LOI_LPH[],2,TRUE)","v":300}]
[434,"Kälteanlagen ","434.31",null,null,"Mögliche Betriebsarten",null,"(TBD)",null,null,"IfcText"," -","einfach | druckreguliert","HLSK",5,{"$f":"VLOOKUP(O724,LOI_LPH[],2,TRUE)","v":300}]
[434,"Kälteanlagen ","434.32",null,null,"Armaturen","IfcFlowTerminal ","-","IfcValve","-","-","-","-","HLSK",3,{"$f":"VLOOKUP(O725,LOI_LPH[],2,TRUE)","v":200}]
[434,"Kälteanlagen ","434.32",null,null,"Bauart",null,"(TBD)",null,null,"IfcText"," -","Absperrarmatur | Regelarmatur | Entnahmearmatur | Sicherheitsarmatur | Sicherungs- und Ringleitungsarmatur | Sonstiges","HLSK",5,{"$f":"VLOOKUP(O726,LOI_LPH[],2,TRUE)","v":300}]
[434,"Kälteanlagen ","434.33",null,null,"MSR- und Sicherheitseinrichtung","IfcFlowController ","-","IfcElectricDistributionBoard","-","-","-","-","HLSK",3,{"$f":"VLOOKUP(O727,LOI_LPH[],2,TRUE)","v":200}]
[434,"Kälteanlagen ","434.34",null,null,"Mess- und Anzeigegeräte","IfcFlowController ","-","IfcFlowInstrument","-","-","-","-","HLSK",3,{"$f":"VLOOKUP(O728,LOI_LPH[],2,TRUE)","v":200}]
[434,"Kälteanlagen ","434.34",null,null,"Anzahl Endpunkte",null,"(TBD)",null,null,"Real","Stück","Zahl","HLSK",5,{"$f":"VLOOKUP(O729,LOI_LPH[],2,TRUE)","v":300}]
[434,"Kälteanlagen ","434.34",null,null,"Anschluss an GLT",null,"(TBD)",null,null,"IfcBoolean",null,"ja | nein","HLSK",5,{"$f":"VLOOKUP(O730,LOI_LPH[],2,TRUE)","v":300}]
[434,"Kälteanlagen ","434.35",null,null,"Druckhaltung","IfcDistributionFlowElement","-","IfcPipeSegment","-","-","-","-","HLSK",3,{"$f":"VLOOKUP(O731,LOI_LPH[],2,TRUE)","v":200}]
[434,"Kälteanlagen ","434.35",null,null,"Bauart",null,"(TBD)",null,null,"IfcText"," -","Einpumpenanlage | Doppelpumpenanlage (parallel) | Mehrpumpenanlage (parallel)","HLSK",5,{"$f":"VLOOKUP(O732,LOI_LPH[],2,TRUE)","v":300}]
[434,"Kälteanlagen ","434.35",null,null,"Automatische Nachspeisung",null,"(TBD)",null,null,"IfcBoolean"," -","ja | nein","HLSK",5,{"$f":"VLOOKUP(O733,LOI_LPH[],2,TRUE)","v":300}]
[434,"Kälteanlagen ","434.35",null,null,"Nennleistung",null,"(TBD)","NominalCapacity",null,"IfcPowerMeasure","kW","Zahl","HLSK",5,{"$f":"VLOOKUP(O734,LOI_LPH[],2,TRUE)","v":300}]
[434,"Kälteanlagen ","434.35",null,null,"Nenndruck",null,"(TBD)",null,null,"Real"," -","Zahl","HLSK",5,{"$f":"VLOOKUP(O735,LOI_LPH[],2,TRUE)","v":300}]
[434,"Kälteanlagen ","434.35",null,null,"Kühlung",null,"(TBD)",null,null,"IfcText"," -","Umgebungsluft | Wärmerückgewinnung","HLSK",5,{"$f":"VLOOKUP(O736,LOI_LPH[],2,TRUE)","v":300}]
[434,"Kälteanlagen ","434.36",null,null,"Rohrleitungen","IfcDistributionFlowElement","-","IfcDistributionFlowElement","-","-","-","-","HLSK",3,{"$f":"VLOOKUP(O737,LOI_LPH[],2,TRUE)","v":200}]
[434,"Kälteanlagen ","434.36",null,null,"Begleitheizung",null,"(TBD)",null,null,"IfcBoolean"," -","ja | nein","HLSK",5,{"$f":"VLOOKUP(O738,LOI_LPH[],2,TRUE)","v":300}]
[434,"Kälteanlagen ","434.36",null,null,"Material",null,"(TBD)",null,null,"IfcText"," -","Grauguss | Kupfer | Kunststoff | Glas | Stahl | Edelstahl (nicht rostender Stahl)","HLSK",5,{"$f":"VLOOKUP(O739,LOI_LPH[],2,TRUE)","v":300}]
[434,"Kälteanlagen ","434.36",null,null,"Nennweite DN",null,"(TBD)",null,null,"Real","DN","Zahl","HLSK",5,{"$f":"VLOOKUP(O740,LOI_LPH[],2,TRUE)","v":300}]
[434,"Kälteanlagen ","434.36",null,null,"Brandschutzanforderungen",null,"(TBD)","SecurityRating",null,"IfcBoolean"," -","ja | nein","HLSK",5,{"$f":"VLOOKUP(O741,LOI_LPH[],2,TRUE)","v":300}]
[434,"Kälteanlagen ","434.40",null,null,"Rückkühlanlagen","IfcDistributionFlowElement","-","IfcDistributionFlowElement","-","-","-","-","HLSK",3,{"$f":"VLOOKUP(O742,LOI_LPH[],2,TRUE)","v":200}]
[434,"Kälteanlagen ","434.40",null,null,"Bauart Rückkühler",null,"(TBD)",null,null,"IfcText"," -","offen | geschlossen","HLSK",5,{"$f":"VLOOKUP(O743,LOI_LPH[],2,TRUE)","v":300}]
[434,"Kälteanlagen ","434.40",null,null,"Typ Rückkühlanlage",null,"(TBD)",null,null,"IfcText"," -","Verdunstungsrückkühlanlagen (Kühltürme)|Trockenrückkühlanlagen","HLSK",5,{"$f":"VLOOKUP(O744,LOI_LPH[],2,TRUE)","v":300}]
[434,"Kälteanlagen ","434.40",null,null,"Ventilatoren Stück",null,"(TBD)",null,null,"Real","Stück","Zahl","HLSK",5,{"$f":"VLOOKUP(O745,LOI_LPH[],2,TRUE)","v":300}]
[434,"Kälteanlagen ","434.40",null,null,"Nennleistung",null,"(TBD)","NominalCapacity",null,"IfcPowerMeasure","kW","Zahl","HLSK",5,{"$f":"VLOOKUP(O746,LOI_LPH[],2,TRUE)","v":300}]
[434,"Kälteanlagen ","434.40",null,null,"Mögliche Betriebsarten ",null,"(TBD)",null,null,"IfcText"," -","trocken | nass","HLSK",5,{"$f":"VLOOKUP(O747,LOI_LPH[],2,TRUE)","v":300}]
[434,"Kälteanlagen ","434.60",null,null,"Antriebselemente","-","-","IfcDistributionFlowElement","-","-","-","-","-","-",{"$f":"VLOOKUP(O748,LOI_LPH[],2,TRUE)","v":"-"}]
[434,"Kälteanlagen ","434.61",null,null,"Elektromotoren","IfcEnergyConversionDevice","-","IfcElectricMotor","-","-","-","-","HLSK",3,{"$f":"VLOOKUP(O749,LOI_LPH[],2,TRUE)","v":200}]
[434,"Kälteanlagen ","434.61",null,null,"Nennleistung",null,"(TBD)","NominalCapacity",null,"IfcPowerMeasure","kW","Zahl","HLSK",5,{"$f":"VLOOKUP(O750,LOI_LPH[],2,TRUE)","v":300}]
[434,"Kälteanlagen ","434.61",null,null,"Nennspannung ",null,"(TBD)",null,null,"Real","V","Zahl","HLSK",5,{"$f":"VLOOKUP(O751,LOI_LPH[],2,TRUE)","v":300}]
[434,"Kälteanlagen ","434.61",null,null,"Explosionsgeschützt",null,"(TBD)",null,null,"IfcBoolean"," -","ja | nein","HLSK",5,{"$f":"VLOOKUP(O752,LOI_LPH[],2,TRUE)","v":300}]
[434,"Lufttechnische Anlagen ","434.62",null,null,"Riementriebe","-","-","IfcMotorConnection","-","-","-","-","-","-",{"$f":"VLOOKUP(O753,LOI_LPH[],2,TRUE)","v":"-"}]
[434,"Lufttechnische Anlagen ","434.63",null,null,"Antriebskupplungen","-","-","IfcMotorConnection","-","-","-","-","-","-",{"$f":"VLOOKUP(O754,LOI_LPH[],2,TRUE)","v":"-"}]
[434,"Lufttechnische Anlagen ","434.64",null,null,"Kettentriebe","-","-","IfcMotorConnection","-","-","-","-","-","-",{"$f":"VLOOKUP(O755,LOI_LPH[],2,TRUE)","v":"-"}]
[434,"Lufttechnische Anlagen ","434.65",null,null,"Getriebe","-","-","IfcMotorConnection","-","-","-","-","-","-",{"$f":"VLOOKUP(O756,LOI_LPH[],2,TRUE)","v":"-"}]
[434,"Kälteanlagen ","434.70",null,null,"Rohrnetz (Sekundär)","-","-","IfcPipeSegment","-","-","-","-","HLSK",3,{"$f":"VLOOKUP(O757,LOI_LPH[],2,TRUE)","v":200}]
[434,"Kälteanlagen ","434.71",null,null,"Pumpen","IfcFlowMovingDevice ","-","IfcPump","-","-","-","-","HLSK",3,{"$f":"VLOOKUP(O758,LOI_LPH[],2,TRUE)","v":200}]
[434,"Kälteanlagen ","434.71",null,null,"Bauart",null,"(TBD)",null,null,"IfcText"," -","Einpumpenanlage | Doppelpumpenanlage (parallel) | Mehrpumpenanlage (parallel)","HLSK",5,{"$f":"VLOOKUP(O759,LOI_LPH[],2,TRUE)","v":300}]
[434,"Kälteanlagen ","434.71",null,null,"Nenndruck",null,"(TBD)",null,null,"Real"," -","Zahl","HLSK",5,{"$f":"VLOOKUP(O760,LOI_LPH[],2,TRUE)","v":300}]
[434,"Kälteanlagen ","434.71",null,null,"Maximalvolumenstrom",null,"(TBD)",null,null,"Real","m3/h","Zahl","HLSK",5,{"$f":"VLOOKUP(O761,LOI_LPH[],2,TRUE)","v":300}]
[434,"Kälteanlagen ","434.71",null,null,"Nennleistung",null,"(TBD)","NominalCapacity",null,"IfcPowerMeasure","kW","Zahl","HLSK",5,{"$f":"VLOOKUP(O762,LOI_LPH[],2,TRUE)","v":300}]
[434,"Kälteanlagen ","434.71",null,null,"Mögliche Betriebsarten",null,"(TBD)",null,null,"IfcText"," -","einfach | druckreguliert","HLSK",5,{"$f":"VLOOKUP(O763,LOI_LPH[],2,TRUE)","v":300}]
[434,"Kälteanlagen ","434.72",null,null,"Armaturen","IfcFlowTerminal ","-","IfcValve","-","-","-","-","HLSK",3,{"$f":"VLOOKUP(O764,LOI_LPH[],2,TRUE)","v":200}]
[434,"Kälteanlagen ","434.72",null,null,"Bauart",null,"(TBD)","IfcValve","-","IfcText","-","Absperrarmatur | Regelarmatur | Entnahmearmatur | Sicherheitsarmatur | Sicherungs- und Ringleitungsarmatur | Sonstiges","HLSK",3,{"$f":"VLOOKUP(O765,LOI_LPH[],2,TRUE)","v":200}]
[434,"Kälteanlagen ","434.73",null,null,"Schmutzfänger","IfcFlowTreatmentDevice ","-","IfcFilter","-","-","-","-","HLSK",3,{"$f":"VLOOKUP(O766,LOI_LPH[],2,TRUE)","v":200}]
[434,"Kälteanlagen ","434.74",null,null,"Rohrleitungen","IfcDistributionFlowElement","-","IfcPipeSegment","-","-","-","-","HLSK",3,{"$f":"VLOOKUP(O767,LOI_LPH[],2,TRUE)","v":200}]
[434,"Kälteanlagen ","434.74",null,null,"Nennweite DN",null,"(TBD)",null,null,"Real","DN","Zahl","HLSK",5,{"$f":"VLOOKUP(O768,LOI_LPH[],2,TRUE)","v":300}]
[434,"Kälteanlagen ","434.74",null,null,"Begleitheizung",null,"(TBD)",null,null,"IfcBoolean"," -","ja | nein","HLSK",5,{"$f":"VLOOKUP(O769,LOI_LPH[],2,TRUE)","v":300}]
[434,"Kälteanlagen ","434.74",null,null,"Material",null,"(TBD)",null,null,"IfcText"," -","Grauguss | Kupfer | Kunststoff | Glas | Stahl | Edelstahl (nicht rostender Stahl)","HLSK",5,{"$f":"VLOOKUP(O770,LOI_LPH[],2,TRUE)","v":300}]
[434,"Kälteanlagen ","434.75",null,null,"Ausdehnungsgefäße","IfcFlowStorageDevice","-","IfcTank/EXPANSION","-","-","-","-","HLSK",3,{"$f":"VLOOKUP(O771,LOI_LPH[],2,TRUE)","v":200}]
[434,"Kälteanlagen ","434.75",null,null,"Brandschutzanforderungen",null,"(TBD)","SecurityRating",null,"IfcBoolean"," -","ja | nein","HLSK",5,{"$f":"VLOOKUP(O772,LOI_LPH[],2,TRUE)","v":300}]
[434,"Kälteanlagen ","434.75",null,null,"Nennvolumen (Gefäß)",null,"(TBD)",null,null,"Real","m3","Zahl","HLSK",5,{"$f":"VLOOKUP(O773,LOI_LPH[],2,TRUE)","v":300}]
[434,"Kälteanlagen ","434.75",null,null,"Mögliche Betriebsarten",null,"(TBD)",null,null,"IfcText"," -","passiv | druckreguliert","HLSK",5,{"$f":"VLOOKUP(O774,LOI_LPH[],2,TRUE)","v":300}]
[434,"Kälteanlagen ","434.76",null,null,"Kälteverteiler","IfcFlowMovingDevice ","-","IfcFlowSegment","-","-","-","-","HLSK",3,{"$f":"VLOOKUP(O775,LOI_LPH[],2,TRUE)","v":200}]
[434,"Kälteanlagen ","434.76",null,null,"Nenndruck",null,"(TBD)",null,null,"Real"," -","Zahl","HLSK",5,{"$f":"VLOOKUP(O776,LOI_LPH[],2,TRUE)","v":300}]
[434,"Kälteanlagen ","434.76",null,null,"Nennleistung",null,"(TBD)","NominalCapacity",null,"IfcPowerMeasure","kW","Zahl","HLSK",5,{"$f":"VLOOKUP(O777,LOI_LPH[],2,TRUE)","v":300}]
[434,"Kälteanlagen ","434.76",null,null,"Anzahl Abgänge",null,"(TBD)",null,null,"Real","Stück","Zahl","HLSK",5,{"$f":"VLOOKUP(O778,LOI_LPH[],2,TRUE)","v":300}]
[434,"Kälteanlagen ","434.79",null,null,"Raumkühlflächen","IfcDistributionFlowElement","-","IfcDistributionFlowElement","-","-","-","-","HLSK",3,{"$f":"VLOOKUP(O779,LOI_LPH[],2,TRUE)","v":200}]
[434,"Kälteanlagen ","434.79",null,null,"Bauart",null,"(TBD)",null,null,"IfcText"," -","Bodenkühlung | Wandkühlung | Deckenkühlung | kombiniert (horizontal + vertikal)","HLSK",5,{"$f":"VLOOKUP(O780,LOI_LPH[],2,TRUE)","v":300}]
[434,"Kälteanlagen ","434.79",null,null,"Nennleistung ",null,"(TBD)","NominalCapacity",null,"IfcPowerMeasure","kW","Zahl","HLSK",5,{"$f":"VLOOKUP(O781,LOI_LPH[],2,TRUE)","v":300}]
[434,"Kälteanlagen ","434.79",null,null,"spezifische Kälteleistung",null,"(TBD)",null,null,"Real","W/m²","Zahl","HLSK",5,{"$f":"VLOOKUP(O782,LOI_LPH[],2,TRUE)","v":300}]
[434,"Kälteanlagen ","434.79",null,null,"Fläche",null,"(TBD)",null,null,"Real","m2","Zahl","HLSK",5,{"$f":"VLOOKUP(O783,LOI_LPH[],2,TRUE)","v":300}]
[434,"Kälteanlagen ","434.80",null,null,"Absorber","IfcDistributionFlowElement","-","IfcDistributionFlowElement","-","-","-","-","HLSK",3,{"$f":"VLOOKUP(O784,LOI_LPH[],2,TRUE)","v":200}]
[434,"Kälteanlagen ","434.80",null,null,"Anzahl Verdichter",null,"(TBD)",null,null,"Real","Stück","Zahl","HLSK",5,{"$f":"VLOOKUP(O785,LOI_LPH[],2,TRUE)","v":300}]
[434,"Kälteanlagen ","434.80",null,null,"Kältemittel Menge",null,"(TBD)",null,"FM_TGA","Real","kg","Zahl","HLSK",5,{"$f":"VLOOKUP(O786,LOI_LPH[],2,TRUE)","v":300}]
[434,"Kälteanlagen ","434.90",null,null,"Elektrische Einrichtungen","-","-","IfcDistributionFlowElement","-","-","-","-","HLSK",3,{"$f":"VLOOKUP(O787,LOI_LPH[],2,TRUE)","v":200}]
[434,"Kälteanlagen ","434.91",null,null,"Schalt- und Steuerschränke","IfcDistributionFlowElement","-","IfcDistributionFlowElement","-","-","-","-","HLSK",3,{"$f":"VLOOKUP(O788,LOI_LPH[],2,TRUE)","v":200}]
[434,"Kälteanlagen ","434.91",null,null,"Funktionsart (passiv / aktiv mit Ventilator)",null,"(TBD)",null,null,"IfcText"," -","passiv | aktiv mit Ventilator","HLSK",5,{"$f":"VLOOKUP(O789,LOI_LPH[],2,TRUE)","v":300}]
[434,"Kälteanlagen ","434.92",null,null,"Sicherheitseinrichtungen","IfcFlowController ","-","IfcValve","-","-","-","-","HLSK",3,{"$f":"VLOOKUP(O790,LOI_LPH[],2,TRUE)","v":200}]
[434,"Kälteanlagen ","434.92",null,null,"Funktionsart ",null,"(TBD)",null,null,"IfcText"," -","passiv | aktiv mit Ventilator","HLSK",5,{"$f":"VLOOKUP(O791,LOI_LPH[],2,TRUE)","v":300}]
[434,"Kälteanlagen ","434.92",null,null,"Anzahl USV-Module",null,"(TBD)",null,null,"Real","Stück","Zahl","HLSK",5,{"$f":"VLOOKUP(O792,LOI_LPH[],2,TRUE)","v":300}]
[438,"Dezentrale KleinKälteanlagen ",438,null,null,"Dezentrale Kleinkälteanlagen","IfcUnitaryEquipment/AIRCONDITIONINGUNIT","-","-","-","-","-","-","HLSK",3,{"$f":"VLOOKUP(O793,LOI_LPH[],2,TRUE)","v":200}]
[438,"Dezentrale KleinKälteanlagen ","438.10",null,null,"Splitgeräte","IfcDistributionElement","-","IfcUnitaryEquipment/SPLITSYSTEM","-","-","-","-","HLSK",3,{"$f":"VLOOKUP(O794,LOI_LPH[],2,TRUE)","v":200}]
[438,"Dezentrale KleinKälteanlagen ","438.10",null,null,"Anzahl Außeneinheiten",null,"(TBD)",null,null,"Real","Stück","Zahl","HLSK",5,{"$f":"VLOOKUP(O795,LOI_LPH[],2,TRUE)","v":300}]
[438,"Dezentrale KleinKälteanlagen ","438.10",null,null,"Nennleistung",null,"(TBD)","NominalCapacity",null,"IfcPowerMeasure","kW","Zahl","HLSK",5,{"$f":"VLOOKUP(O796,LOI_LPH[],2,TRUE)","v":300}]
[438,"Dezentrale KleinKälteanlagen ","438.10",null,null,"Anzahl Inneneinheiten",null,"(TBD)",null,null,"Real","Stück","Zahl","HLSK",5,{"$f":"VLOOKUP(O797,LOI_LPH[],2,TRUE)","v":300}]
[438,"Dezentrale KleinKälteanlagen ","438.10",null,null,"Typ Kältemittel",null,"(TBD)",null,"FM_TGA","IfcLabel"," -","R 1234yf | R 22 - aufbereitet | *R 22 (Chlordifluormethan) | R 23 (Trifluormethan) Ersatz für R 13/503 | *R 123 (Dichlortrifluorethan) | |*R 124 (Chlortetrafluorethan) | R 125 (Pentafluorethan) | R 134a (Tetrafluorethan) Ersatz für R 12 | R 170 (Ethan) | HFKW 227 (Heptafluorpropan) Ersatz für R114 | R 290 1.5 (Propan) | R 290 2.5 (Propan) | *R 401A (MP 39) | *R 401B (MP 66) | *R 402A (HP 80) | *R 403B (ISCEON MO69) | R 404A (HP 62/FX 70) Ersatz für R 22/502 | R 407A | R 407C (Klea 66/AC 9000) Ersatz für R 22 | R 407F | *R 408A (FX 10) | *R 409A (FX 56) | R 410A (AZ 20) Ersatz für R 22/13B1 | R 413A (ISCEON MO49) Ersatz für R 12 | R 417A (ISCEON MO59) Ersatz für R 22 | R 422A (ISCEON MO79) Ersatz für R 22 | R 422D (ISCEON MO29) Ersatz für R 22 | R 437A (ISCEON MO49 PLUS) | R 507 (AZ 50) Ersatz für R 22/502 | R 600a 1.5 (Isobutan) | R 600a 2.5 (Isobutan) | R 717 (Ammoniak) | R 744 (Kohlendioxid) | R 1270 (Propen) | ISCEON MO89 Ersatz für R13 B1","HLSK",5,{"$f":"VLOOKUP(O798,LOI_LPH[],2,TRUE)","v":300}]
[438,"Dezentrale KleinKälteanlagen ","438.10",null,null,"Kältemittel Menge",null,"(TBD)",null,"FM_TGA","Real","kg","Zahl","HLSK",5,{"$f":"VLOOKUP(O799,LOI_LPH[],2,TRUE)","v":300}]
[439,"Lufttechnische Anlagen, sonstiges",439,null,null,"Lufttechnische Anlagen, sonstiges","IfcDistributionFlowElement","-","IfcDistributionFlowElement","-","-","-","-","HLSK",3,{"$f":"VLOOKUP(O800,LOI_LPH[],2,TRUE)","v":200}]
[440,"Starkstromanlagen",440,null,null,"Starkstromanlagen","-","-","-","-","-","-","-","-","-",{"$f":"VLOOKUP(O801,LOI_LPH[],2,TRUE)","v":"-"}]
[441,"Hoch‐ und Mittelspannungsanlagen ",441,null,null,"Hoch- und Mittelspannungsanlagen","-","-","-","-","-","-","-","ELT",3,{"$f":"VLOOKUP(O802,LOI_LPH[],2,TRUE)","v":200}]
[441,"Hoch‐ und Mittespannungsanlagen ","441.10",null,null,"Hoch- und Mittelspannungsschaltanlagen","IfcDistributionFlowElement",null,"IfcDistributionFlowElement",null,null,"-","-","ELT",3,{"$f":"VLOOKUP(O803,LOI_LPH[],2,TRUE)","v":200}]
[441,"Hoch‐ und Mittespannungsanlagen ","441.10",null,null,"Leistungsschalter",null,"(TBD)",null,null,"Real"," -","Zahl","ELT",5,{"$f":"VLOOKUP(O804,LOI_LPH[],2,TRUE)","v":300}]
[441,"Hoch‐ und Mittespannungsanlagen ","441.10",null,null,"Nennstrom",null,"(TBD)",null,"FM_TGA","IfcLabel","A","Zahl","ELT",5,{"$f":"VLOOKUP(O805,LOI_LPH[],2,TRUE)","v":300}]
[441,"Hoch‐ und Mittespannungsanlagen ","441.10",null,null,"Nennspannung",null,"(TBD)",null,null,"Real","V","Zahl","ELT",5,{"$f":"VLOOKUP(O806,LOI_LPH[],2,TRUE)","v":300}]
[441,"Hoch‐ und Mittespannungsanlagen ","441.20",null,null,"Transformatorenstationen","IfcDistributionFlowElement",null,"IfcTransformer",null,null,"-","-","ELT",3,{"$f":"VLOOKUP(O807,LOI_LPH[],2,TRUE)","v":200}]
[441,"Hoch‐ und Mittespannungsanlagen ","441.20",null,null,"Leistung",null,"(TBD)","NominalCapacity",null,"IfcPowerMeasure","kW","Zahl","ELT",5,{"$f":"VLOOKUP(O808,LOI_LPH[],2,TRUE)","v":300}]
[441,"Hoch‐ und Mittespannungsanlagen ","441.20",null,null,"Ölauffangwanne",null,"(TBD)",null,null,"IfcBoolean"," -","ja | nein","ELT",5,{"$f":"VLOOKUP(O809,LOI_LPH[],2,TRUE)","v":300}]
[441,"Hoch‐ und Mittespannungsanlagen ","441.20",null,null,"Ölmenge",null,"(TBD)",null,null,"Real","m3","Zahl","ELT",5,{"$f":"VLOOKUP(O810,LOI_LPH[],2,TRUE)","v":300}]
[441,"Hoch‐ und Mittespannungsanlagen ","441.20",null,null,"Spannung primär",null,"(TBD)",null,null,"Real","V","Zahl","ELT",5,{"$f":"VLOOKUP(O811,LOI_LPH[],2,TRUE)","v":300}]
[441,"Hoch‐ und Mittespannungsanlagen ","441.20",null,null,"Spannung sekundär",null,"(TBD)",null,null,"Real","V","Zahl","ELT",5,{"$f":"VLOOKUP(O812,LOI_LPH[],2,TRUE)","v":300}]
[441,"Hoch‐ und Mittespannungsanlagen ","441.20",null,null,"Überspannungsschutzelement",null,"(TBD)",null,null,"Real"," -","Zahl","ELT",5,{"$f":"VLOOKUP(O813,LOI_LPH[],2,TRUE)","v":300}]
[442,"Eigenstromversorgungsanlagen ",442,null,null,"Eigenstromversorgungsanlagen","-","-","-","-","-","-","-",{"$f":"N802","v":"ELT"},{"$f":"O802","v":3},{"$f":"VLOOKUP(O814,LOI_LPH[],2,TRUE)","v":200}]
[442,"Eigenstromversorgungsanlagen ","442.10",null,null,"Sicherheitsstromversorgungsanlagen","IfcDistributionElement",null,"IfcDistributionFlowElement",null,null,"-","-","ELT",3,{"$f":"VLOOKUP(O815,LOI_LPH[],2,TRUE)","v":200}]
[442,"Eigenstromversorgungsanlagen ","442.11",null,null,"Dieselmotorische Netzersatzanlagen (NEA)","IfcDistributionElement",null,"IfcEngine/INTERNALCOMPUSTION",null,null,"-","-","ELT",3,{"$f":"VLOOKUP(O816,LOI_LPH[],2,TRUE)","v":200}]
[442,"Eigenstromversorgungsanlagen ","442.11",null,null,"Antriebsmotor Hersteller",null,"(TBD)","Manufacturer","Pset_ManufacturerTypeInformation","IfcLabel"," -","Freitext","ELT",8,{"$f":"VLOOKUP(O817,LOI_LPH[],2,TRUE)","v":500}]
[442,"Eigenstromversorgungsanlagen ","442.11",null,null,"Elektrische Nennleistung",null,"(TBD)","NominalCapacity","FM_TGA","IfcPowerMeasure","kW","Zahl","ELT",5,{"$f":"VLOOKUP(O818,LOI_LPH[],2,TRUE)","v":300}]
[442,"Eigenstromversorgungsanlagen ","442.11",null,null,"Nennspannung",null,"(TBD)",null,null,"Real","V","Zahl","ELT",5,{"$f":"VLOOKUP(O819,LOI_LPH[],2,TRUE)","v":300}]
[442,"Eigenstromversorgungsanlagen ","442.11",null,null,"Leistung Motor",null,"(TBD)",null,null,"IfcPowerMeasure","kW","Zahl","ELT",5,{"$f":"VLOOKUP(O820,LOI_LPH[],2,TRUE)","v":300}]
[442,"Eigenstromversorgungsanlagen ","442.11",null,null,"Volumen Kraftstoffbevorratung",null,"(TBD)",null,null,"Real","m3","Zahl","ELT",5,{"$f":"VLOOKUP(O821,LOI_LPH[],2,TRUE)","v":300}]
[442,"Eigenstromversorgungsanlagen ","442.12",null,null,"Zentrale Batterie- / Akkumulatorenanlagen","IfcDistributionElement",null,"IfcElectricFlowStorageDevice/BATTERY",null,null,"-","-","ELT",3,{"$f":"VLOOKUP(O822,LOI_LPH[],2,TRUE)","v":200}]
[442,"Eigenstromversorgungsanlagen ","442.12",null,null,"Antriebsmotor Hersteller",null,"(TBD)","Manufacturer","Pset_ManufacturerTypeInformation","IfcLabel"," -","Freitext","ELT",8,{"$f":"VLOOKUP(O823,LOI_LPH[],2,TRUE)","v":500}]
[442,"Eigenstromversorgungsanlagen ","442.12",null,null,"Elektrische Nennleistung",null,"(TBD)","NominalCapacity","FM_TGA","IfcPowerMeasure","kW","Zahl","ELT",5,{"$f":"VLOOKUP(O824,LOI_LPH[],2,TRUE)","v":300}]
[442,"Eigenstromversorgungsanlagen ","442.12",null,null,"Nennspannung",null,"(TBD)",null,null,"Real","V","Zahl","ELT",5,{"$f":"VLOOKUP(O825,LOI_LPH[],2,TRUE)","v":300}]
[442,"Eigenstromversorgungsanlagen ","442.12",null,null,"Nennstrom",null,"(TBD)",null,"FM_TGA","IfcLabel","A","Zahl","ELT",5,{"$f":"VLOOKUP(O826,LOI_LPH[],2,TRUE)","v":300}]
[442,"Eigenstromversorgungsanlagen ","442.12",null,null,"Nennkapazität",null,"(TBD)","NominalCapacity",null,"IfcPowerMeasure","kW","Zahl","ELT",5,{"$f":"VLOOKUP(O827,LOI_LPH[],2,TRUE)","v":300}]
[442,"Eigenstromversorgungsanlagen ","442.12",null,null,"Überbrückungszeit",null,"(TBD)",null,null,"Real"," -","Zahl","ELT",5,{"$f":"VLOOKUP(O828,LOI_LPH[],2,TRUE)","v":300}]
[442,"Eigenstromversorgungsanlagen ","442.12",null,null,"Schutzart",null,"(TBD)",null,null,"IfcText"," -","Freitext","ELT",5,{"$f":"VLOOKUP(O829,LOI_LPH[],2,TRUE)","v":300}]
[442,"Eigenstromversorgungsanlagen ","442.13",null,null,"Schwungmassenanlagen","IfcDistributionElement",null,"IfcElectricGenerator",null,null,"-","-","ELT",3,{"$f":"VLOOKUP(O830,LOI_LPH[],2,TRUE)","v":200}]
[442,"Eigenstromversorgungsanlagen ","442.13",null,null,"Antriebsmotor Hersteller",null,"(TBD)","Manufacturer","Pset_ManufacturerTypeInformation","IfcLabel"," -","Freitext","ELT",8,{"$f":"VLOOKUP(O831,LOI_LPH[],2,TRUE)","v":500}]
[442,"Eigenstromversorgungsanlagen ","442.13",null,null,"Elektrische Nennleistung",null,"(TBD)","NominalCapacity","FM_TGA","IfcPowerMeasure","kW","Zahl","ELT",5,{"$f":"VLOOKUP(O832,LOI_LPH[],2,TRUE)","v":300}]
[442,"Eigenstromversorgungsanlagen ","442.13",null,null,"Nennkapazität",null,"(TBD)","NominalCapacity",null,"IfcPowerMeasure","kW","Zahl","ELT",5,{"$f":"VLOOKUP(O833,LOI_LPH[],2,TRUE)","v":300}]
[442,"Eigenstromversorgungsanlagen ","442.13",null,null,"Spannung",null,"(TBD)",null,null,"Real","V","Zahl","ELT",5,{"$f":"VLOOKUP(O834,LOI_LPH[],2,TRUE)","v":300}]
[442,"Eigenstromversorgungsanlagen ","442.20",null,null,"Wasserkraftanlagen","IfcDistributionElement",null,"IfcElectricGenerator",null,null,null,null,"ELT",3,{"$f":"VLOOKUP(O835,LOI_LPH[],2,TRUE)","v":200}]
[442,"Eigenstromversorgungsanlagen ","442.30",null,null,"Windkraftanlagen","IfcDistributionElement",null,"IfcElectricGenerator",null,null,null,null,"ELT",3,{"$f":"VLOOKUP(O836,LOI_LPH[],2,TRUE)","v":200}]
[442,"Eigenstromversorgungsanlagen ","442.40",null,null,"Photovoltaikanlagen","IfcDistributionElement",null,"IfcSolarDevice",null,null,"-","-","ELT",3,{"$f":"VLOOKUP(O837,LOI_LPH[],2,TRUE)","v":200}]
[442,"Eigenstromversorgungsanlagen ","442.40",null,null,"Anzahl Module",null,"(TBD)",null,null,"Real","Stück","Zahl","ELT",5,{"$f":"VLOOKUP(O838,LOI_LPH[],2,TRUE)","v":300}]
[442,"Eigenstromversorgungsanlagen ","442.40",null,null,"Typ Module",null,"(TBD)",null,null,"IfcText"," -","Freitext","ELT",5,{"$f":"VLOOKUP(O839,LOI_LPH[],2,TRUE)","v":300}]
[442,"Eigenstromversorgungsanlagen ","442.40",null,null,"Anzahl Wechselrichter",null,"(TBD)",null,null,"Real","Stück","Zahl","ELT",5,{"$f":"VLOOKUP(O840,LOI_LPH[],2,TRUE)","v":300}]
[442,"Eigenstromversorgungsanlagen ","442.40",null,null,"Spannung",null,"(TBD)",null,null,"Real","V","Zahl","ELT",5,{"$f":"VLOOKUP(O841,LOI_LPH[],2,TRUE)","v":300}]
[442,"Eigenstromversorgungsanlagen ","442.40",null,null,"Typ Anlage",null,"(TBD)",null,null,"IfcText"," -","Netzeinspeisung | Eigenverbrauch","ELT",5,{"$f":"VLOOKUP(O842,LOI_LPH[],2,TRUE)","v":300}]
[442,"Eigenstromversorgungsanlagen ","442.40",null,null,"Nennleistung",null,"(TBD)","NominalCapacity",null,"IfcPowerMeasure","kW","Zahl","ELT",5,{"$f":"VLOOKUP(O843,LOI_LPH[],2,TRUE)","v":300}]
[442,"Eigenstromversorgungsanlagen ","442.50",null,null,"Blockheizkraftwerke (BHKW) (stromgeführt)","IfcDistributionElement",null,"IfcElectricGenerator",null,null,null,null,"ELT",3,{"$f":"VLOOKUP(O844,LOI_LPH[],2,TRUE)","v":200}]
[442,"Eigenstromversorgungsanlagen ","442.60",null,null,"Blockheizkraftwerke (BHKW) (stromgeführt)","IfcDistributionElement",null,"IfcElectricGenerator",null,null,"-","-","ELT",3,{"$f":"VLOOKUP(O845,LOI_LPH[],2,TRUE)","v":200}]
[442,"Eigenstromversorgungsanlagen ","442.60",null,null,"Betriebsart",null,"(TBD)",null,null,"IfcText"," -","Einzelbetrieb | Netzparallelbetrieb | Notstrombetrieb","ELT",5,{"$f":"VLOOKUP(O846,LOI_LPH[],2,TRUE)","v":300}]
[442,"Eigenstromversorgungsanlagen ","442.60",null,null,"Brennstoff",null,"(TBD)",null,null,"IfcText"," -","Gas | Öl | Gas/Öl | Holz | Pellets","ELT",5,{"$f":"VLOOKUP(O847,LOI_LPH[],2,TRUE)","v":300}]
[442,"Eigenstromversorgungsanlagen ","442.60",null,null,"Elektrische Nennleistung",null,"(TBD)","NominalCapacity","FM_TGA","IfcPowerMeasure","kW","Zahl","ELT",5,{"$f":"VLOOKUP(O848,LOI_LPH[],2,TRUE)","v":300}]
[442,"Eigenstromversorgungsanlagen ","442.60",null,null,"Nenninhalt Brennstofftank",null,"(TBD)",null,null,"Real","m3","Zahl","ELT",5,{"$f":"VLOOKUP(O849,LOI_LPH[],2,TRUE)","v":300}]
[442,"Eigenstromversorgungsanlagen ","442.60",null,null,"Spannung",null,"(TBD)",null,null,"Real","V","Zahl","ELT",5,{"$f":"VLOOKUP(O850,LOI_LPH[],2,TRUE)","v":300}]
[442,"Eigenstromversorgungsanlagen ","442.60",null,null,"Thermische Nennleistung",null,"(TBD)",null,null,"IfcPowerMeasure","kW","Zahl","ELT",5,{"$f":"VLOOKUP(O851,LOI_LPH[],2,TRUE)","v":300}]
[442,"Eigenstromversorgungsanlagen ","442.70",null,null,"Sonstige Eigenstromversorgungsanlagen","IfcDistributionElement",null,"IfcElectricGenerator",null,null,"-","-","ELT",3,{"$f":"VLOOKUP(O852,LOI_LPH[],2,TRUE)","v":200}]
[442,"Eigenstromversorgungsanlagen ","442.90",null,null,"Sonstige Eigenstromversorgungsanlagen","IfcDistributionElement",null,"IfcElectricGenerator",null,null,"-","-","ELT",3,{"$f":"VLOOKUP(O853,LOI_LPH[],2,TRUE)","v":200}]
[442,"Eigenstromversorgungsanlagen ","442.90",null,null,"Elektrische Nennleistung",null,"(TBD)","NominalCapacity","FM_TGA","IfcPowerMeasure","kW","Zahl","ELT",5,{"$f":"VLOOKUP(O854,LOI_LPH[],2,TRUE)","v":300}]
[442,"Eigenstromversorgungsanlagen ","442.90",null,null,"Spannung",null,"(TBD)",null,null,"Real","V","Zahl","ELT",5,{"$f":"VLOOKUP(O855,LOI_LPH[],2,TRUE)","v":300}]
[443,"Niederspannungsschaltanlagen ",443,null,null,"Niederspannungsschaltanlagen","-","-","-","-","-","-","-","ELT",3,{"$f":"VLOOKUP(O856,LOI_LPH[],2,TRUE)","v":200}]
[443,"Niederspannungsschaltanlagen ","443.10",null,null,"Niederspannungshauptverteiler","IfcDistributionFlowElement",null,"IfcDistributionFlowElement",null,null,"-","-","ELT",3,{"$f":"VLOOKUP(O857,LOI_LPH[],2,TRUE)","v":200}]
[443,"Niederspannungsschaltanlagen ","443.10",null,null,"Anzahl Felder",null,"(TBD)",null,null,"Real","Stück","Zahl","ELT",5,{"$f":"VLOOKUP(O858,LOI_LPH[],2,TRUE)","v":300}]
[443,"Niederspannungsschaltanlagen ","443.10",null,null,"Anzahl der Sicherungsabgänge",null,"(TBD)",null,null,"Real","Stück","Zahl","ELT",5,{"$f":"VLOOKUP(O859,LOI_LPH[],2,TRUE)","v":300}]
[443,"Niederspannungsschaltanlagen ","443.10",null,null,"Einspeisungen Notstrom",null,"(TBD)",null,null,"IfcText"," -","Freitext","ELT",5,{"$f":"VLOOKUP(O860,LOI_LPH[],2,TRUE)","v":300}]
[443,"Niederspannungsschaltanlagen ","443.10",null,null,"Kuppelschalter AV/SV",null,"(TBD)",null,null,"IfcText"," -","Freitext","ELT",5,{"$f":"VLOOKUP(O861,LOI_LPH[],2,TRUE)","v":300}]
[443,"Niederspannungsschaltanlagen ","443.10",null,null,"Leistungsschalter",null,"(TBD)",null,null,"IfcText"," -","Freitext","ELT",5,{"$f":"VLOOKUP(O862,LOI_LPH[],2,TRUE)","v":300}]
[443,"Niederspannungsschaltanlagen ","443.10",null,null,"Stromkreise",null,"(TBD)",null,null,"Real"," -","Zahl","ELT",5,{"$f":"VLOOKUP(O863,LOI_LPH[],2,TRUE)","v":300}]
[443,"Niederspannungsschaltanlagen ","443.10",null,null,"Überspannungsschutz",null,"(TBD)",null,null,"IfcText"," -","Freitext","ELT",5,{"$f":"VLOOKUP(O864,LOI_LPH[],2,TRUE)","v":300}]
[443,"Niederspannungsschaltanlagen ","443.10",null,null,"Anzahl Lastschalter",null,"(TBD)",null,null,"Real","Stück","Zahl","ELT",5,{"$f":"VLOOKUP(O865,LOI_LPH[],2,TRUE)","v":300}]
[443,"Niederspannungsschaltanlagen ","443.10",null,null,"Nennspannung Lastschalter",null,"(TBD)",null,null,"Real","V","Zahl","ELT",5,{"$f":"VLOOKUP(O866,LOI_LPH[],2,TRUE)","v":300}]
[443,"Niederspannungsschaltanlagen ","443.10",null,null,"Nennstrom Lastschalter",null,"(TBD)",null,"FM_TGA","IfcLabel","A","Zahl","ELT",5,{"$f":"VLOOKUP(O867,LOI_LPH[],2,TRUE)","v":300}]
[443,"Niederspannungsschaltanlagen ","443.10",null,null,"Anzahl Unterverteiler",null,"(TBD)",null,null,"Real","Stück","Zahl","ELT",5,{"$f":"VLOOKUP(O868,LOI_LPH[],2,TRUE)","v":300}]
[443,"Niederspannungsschaltanlagen ","443.10",null,null,"Anzahl FI-Schalter",null,"(TBD)",null,null,"Real","Stück","Zahl","ELT",5,{"$f":"VLOOKUP(O869,LOI_LPH[],2,TRUE)","v":300}]
[443,"Niederspannungsschaltanlagen ","443.11",null,null,"Zähler","IfcFlowController ",null,"IfcFlowMeter/ENERGYMETER",null,null,"-","-","ELT",3,{"$f":"VLOOKUP(O870,LOI_LPH[],2,TRUE)","v":200}]
[443,"Niederspannungsschaltanlagen ","443.11",null,null,"Felder",null,"(TBD)",null,null,"Real"," -","Zahl","ELT",5,{"$f":"VLOOKUP(O871,LOI_LPH[],2,TRUE)","v":300}]
[443,"Niederspannungsschaltanlagen ","443.20",null,null,"Blindstromkompensationsanlagen","IfcDistributionFlowElement",null,"IfcDistributionFlowElement",null,null,"-","-","ELT",3,{"$f":"VLOOKUP(O872,LOI_LPH[],2,TRUE)","v":200}]
[443,"Niederspannungsschaltanlagen ","443.20",null,null,"Anzahl Kondensatoren",null,"(TBD)",null,null,"Real"," -","Zahl","ELT",5,{"$f":"VLOOKUP(O873,LOI_LPH[],2,TRUE)","v":300}]
[443,"Niederspannungsschaltanlagen ","443.20",null,null,"Nennblindleistung",null,"(TBD)",null,null,"Real","kVar","Zahl","ELT",5,{"$f":"VLOOKUP(O874,LOI_LPH[],2,TRUE)","v":300}]
[443,"Niederspannungsschaltanlagen ","443.30",null,null,"Gleichstromversorgungsschränke","IfcDistributionFlowElement",null,"IfcDistributionFlowElement",null,null,"-","-","ELT",3,{"$f":"VLOOKUP(O875,LOI_LPH[],2,TRUE)","v":200}]
[443,"Niederspannungsschaltanlagen ","443.30",null,null,"Absicherung",null,"(TBD)",null,null,"Real","A","Zahl","ELT",5,{"$f":"VLOOKUP(O876,LOI_LPH[],2,TRUE)","v":300}]
[443,"Niederspannungsschaltanlagen ","443.30",null,null,"Spannungsebene",null,"(TBD)",null,null,"Real","V","Zahl","ELT",5,{"$f":"VLOOKUP(O877,LOI_LPH[],2,TRUE)","v":300}]
[444,"Niederspannungsinstallationsanlagen ",444,null,null,"Niederspannungsinstallationsanlagen","-","-","-","-","-","-","-","ELT",3,{"$f":"VLOOKUP(O878,LOI_LPH[],2,TRUE)","v":200},null,"Melder/Signalgeber"]
[444,"Niederspannungsinstallationsanlagen ","444.10",null,null,"Unter-/ Schaltverteiler","IfcDistributionFlowElement",null,"IfcElectricDistributionBoard",null,null,"-","-","ELT",3,{"$f":"VLOOKUP(O879,LOI_LPH[],2,TRUE)","v":200},null,"allg. Element der Verteilung"]
[444,"Niederspannungsinstallationsanlagen ","444.10",null,null,"Anzahl Fehlerstromschutzeinrichtungen",null,"(TBD)",null,null,"Real","Stück","Zahl","ELT",5,{"$f":"VLOOKUP(O880,LOI_LPH[],2,TRUE)","v":300}]
[444,"Niederspannungsinstallationsanlagen ","444.10",null,null,"Anzahl Stromkreise",null,"(TBD)",null,null,"Real","Stück","Zahl","ELT",5,{"$f":"VLOOKUP(O881,LOI_LPH[],2,TRUE)","v":300}]
[444,"Niederspannungsinstallationsanlagen ","444.10",null,null,"Eingangsstrom",null,"(TBD)",null,null,"Real"," -","Zahl","ELT",5,{"$f":"VLOOKUP(O882,LOI_LPH[],2,TRUE)","v":300}]
[444,"Niederspannungsinstallationsanlagen ","444.10",null,null,"Anzahl Abgänge",null,"(TBD)",null,null,"Real","Stück","Zahl","ELT",5,{"$f":"VLOOKUP(O883,LOI_LPH[],2,TRUE)","v":300}]
[444,"Niederspannungsinstallationsanlagen ","444.10",null,null,"Anzahl Zähler",null,"(TBD)",null,null,"Real","Stück","Zahl","ELT",5,{"$f":"VLOOKUP(O884,LOI_LPH[],2,TRUE)","v":300}]
[444,"Niederspannungsinstallationsanlagen ","444.10",null,null,"Bussystem vorhanden",null,"(TBD)",null,null,"IfcBoolean"," -","ja | nein","ELT",5,{"$f":"VLOOKUP(O885,LOI_LPH[],2,TRUE)","v":300}]
[444,"Niederspannungsinstallationsanlagen ","444.10",null,null,"Sonstige Einbauten",null,"(TBD)",null,null,"IfcText"," -","Freitext","ELT",5,{"$f":"VLOOKUP(O886,LOI_LPH[],2,TRUE)","v":300}]
[444,"Niederspannungsinstallationsanlagen ","444.11",null,null,"Zähler","IfcFlowController ",null,"IfcFlowMeter/ENERGYMETER",null,null,"-","-","ELT",3,{"$f":"VLOOKUP(O887,LOI_LPH[],2,TRUE)","v":200},null,"Sonsor, Messgerät "]
[444,"Niederspannungsinstallationsanlagen ","444.11",null,null,"Anzahl",null,"(TBD)",null,null,"Real","Stück","Zahl","ELT",5,{"$f":"VLOOKUP(O888,LOI_LPH[],2,TRUE)","v":300}]
[444,"Niederspannungsinstallationsanlagen ","444.11",null,null,"Felder",null,"(TBD)",null,null,"Real","Stück","Zahl","ELT",5,{"$f":"VLOOKUP(O889,LOI_LPH[],2,TRUE)","v":300}]
[445,"Beleuchtungsanlagen ",445,null,null,"Beleuchtungsanlagen","-","-","-","-","-","-","-","ELT",3,{"$f":"VLOOKUP(O890,LOI_LPH[],2,TRUE)","v":200},null,"Element im Verteilernetz"]
[445,"Beleuchtungsanlagen ","445.10",null,null,"Allgemeinbeleuchtung","IfcFlowTerminal",null,"IfcLightFixture",null,null,"-","-","ELT",3,{"$f":"VLOOKUP(O891,LOI_LPH[],2,TRUE)","v":200},null,"Endgeräte (Leuchten, Schalter)"]
[445,"Beleuchtungsanlagen ","445.10",null,null,"Bauart",null,"(TBD)",null,null,"IfcText"," -","Strahler | Downlight | Schiffsarmatur | Aufbauleuchte | Hängeleuchte | Einbauleuchte | Sonderleuchte | mobile Leuchte","ELT",5,{"$f":"VLOOKUP(O892,LOI_LPH[],2,TRUE)","v":300}]
[445,"Beleuchtungsanlagen ","445.10",null,null,"Anzahl Leuchten",null,"(TBD)",null,null,"Real","Stück","Zahl","ELT",5,{"$f":"VLOOKUP(O893,LOI_LPH[],2,TRUE)","v":300}]
[445,"Beleuchtungsanlagen ","445.10",null,null,"Anzahl Leuchtmittel",null,"(TBD)",null,null,"Real","Stück","Zahl","ELT",5,{"$f":"VLOOKUP(O894,LOI_LPH[],2,TRUE)","v":300}]
[445,"Beleuchtungsanlagen ","445.10",null,null,"Art Leuchtmittel",null,"(TBD)",null,null,"IfcText"," -","Leuchtstoffröhren | Energiesparlampen | LED | Halogen | Glühlampen | Sonstiges","ELT",5,{"$f":"VLOOKUP(O895,LOI_LPH[],2,TRUE)","v":300}]
[445,"Beleuchtungsanlagen ","445.10",null,null,"Leistung Leuchtmittel",null,"(TBD)",null,null,"IfcPowerMeasure","kW","Zahl","ELT",5,{"$f":"VLOOKUP(O896,LOI_LPH[],2,TRUE)","v":300}]
[445,"Beleuchtungsanlagen ","445.10",null,null,"Lichtfarbe",null,"(TBD)",null,null,"IfcText"," -","Freitext","ELT",5,{"$f":"VLOOKUP(O897,LOI_LPH[],2,TRUE)","v":300}]
[445,"Beleuchtungsanlagen ","445.20",null,null,"Sicherheitsbeleuchtung","IfcFlowTerminal",null,"IfcLightFixture/SECURITYLIGHTING",null,null,"-","-","ELT",3,{"$f":"VLOOKUP(O898,LOI_LPH[],2,TRUE)","v":200}]
[445,"Beleuchtungsanlagen ","445.20",null,null,"Anzahl der Leuchtengruppen",null,"(TBD)",null,null,"Real","Stück","Zahl","ELT",5,{"$f":"VLOOKUP(O899,LOI_LPH[],2,TRUE)","v":300}]
[445,"Beleuchtungsanlagen ","445.20",null,null,"Anzahl Einzelbatterieleuchten",null,"(TBD)",null,null,"Real","Stück","Zahl","ELT",5,{"$f":"VLOOKUP(O900,LOI_LPH[],2,TRUE)","v":300}]
[445,"Beleuchtungsanlagen ","445.20",null,null,"Anzahl Leuchten",null,"(TBD)",null,null,"Real","Stück","Zahl","ELT",5,{"$f":"VLOOKUP(O901,LOI_LPH[],2,TRUE)","v":300}]
[445,"Beleuchtungsanlagen ","445.20",null,null,"Anzahl Unterverteilungen",null,"(TBD)",null,null,"Real","Stück","Zahl","ELT",5,{"$f":"VLOOKUP(O902,LOI_LPH[],2,TRUE)","v":300}]
[445,"Beleuchtungsanlagen ","445.20",null,null,"Leistung Leuchtmittel",null,"(TBD)",null,null,"IfcPerformanceMeasure"," -","Zahl","ELT",5,{"$f":"VLOOKUP(O903,LOI_LPH[],2,TRUE)","v":300}]
[445,"Beleuchtungsanlagen ","445.20",null,null,"Nennleistung",null,"(TBD)","NominalCapacity",null,"IfcPowerMeasure","kW","Zahl","ELT",5,{"$f":"VLOOKUP(O904,LOI_LPH[],2,TRUE)","v":300}]
[445,"Beleuchtungsanlagen ","445.20",null,null,"Notstromversorgung",null,"(TBD)",null,null,"IfcBoolean"," -","ja | nein","ELT",5,{"$f":"VLOOKUP(O905,LOI_LPH[],2,TRUE)","v":300}]
[445,"Beleuchtungsanlagen ","445.20",null,null,"Schaltung",null,"(TBD)",null,null,"IfcText"," -","Dauerschaltung|Bereitschaftsschaltung","ELT",5,{"$f":"VLOOKUP(O906,LOI_LPH[],2,TRUE)","v":300}]
[445,"Beleuchtungsanlagen ","445.20",null,null,"Spannung",null,"(TBD)",null,null,"Real","V","Zahl","ELT",5,{"$f":"VLOOKUP(O907,LOI_LPH[],2,TRUE)","v":300}]
[445,"Beleuchtungsanlagen ","445.20",null,null,"Stromkreise",null,"(TBD)",null,null,"Real","Stück","Zahl","ELT",5,{"$f":"VLOOKUP(O908,LOI_LPH[],2,TRUE)","v":300}]
[445,"Beleuchtungsanlagen ","445.20",null,null,"Stromversorgung",null,"(TBD)",null,null,"IfcText"," -","Eigenversorgung | Zentralversorgung | Gruppenversorgung","ELT",5,{"$f":"VLOOKUP(O909,LOI_LPH[],2,TRUE)","v":300}]
[445,"Beleuchtungsanlagen ","445.30",null,null,"Laseranlagen","IfcDistributionFlowElement",null,"IfcDistributionSystem",null,null,"-","-","ELT",3,{"$f":"VLOOKUP(O910,LOI_LPH[],2,TRUE)","v":200}]
[445,"Beleuchtungsanlagen ","445.30",null,null,"Nennleistung",null,"(TBD)","NominalCapacity",null,"IfcPowerMeasure","kW","Zahl","ELT",5,{"$f":"VLOOKUP(O911,LOI_LPH[],2,TRUE)","v":300}]
[445,"Beleuchtungsanlagen ","445.30",null,null,"Nennspannung",null,"(TBD)",null,null,"Real","V","Zahl","ELT",5,{"$f":"VLOOKUP(O912,LOI_LPH[],2,TRUE)","v":300}]
[446,"Blitzschutz‐ und Erdungsanlagen ",446,null,null,"Blitzschutz- und Erdungsanlagen","-","-","-","-","-","-","-","ELT",3,{"$f":"VLOOKUP(O913,LOI_LPH[],2,TRUE)","v":200}]
[446,"Blitzschutz‐ und Erdungsanlagen ",446,null,null,"Anzahl Ableitungen",null,"(TBD)",null,null,"Real","Stück","Zahl","ELT",5,{"$f":"VLOOKUP(O914,LOI_LPH[],2,TRUE)","v":300}]
[446,"Blitzschutz‐ und Erdungsanlagen ",446,null,null,"Anzahl Trennstellen",null,"(TBD)",null,null,"Real","Stück","Zahl","ELT",5,{"$f":"VLOOKUP(O915,LOI_LPH[],2,TRUE)","v":300}]
[446,"Blitzschutz‐ und Erdungsanlagen ",446,null,null,"Blitzschutzklasse",null,"(TBD)",null,null,"IfcText"," -","1 | 2 | 3 | 4","ELT",5,{"$f":"VLOOKUP(O916,LOI_LPH[],2,TRUE)","v":300}]
[446,"Blitzschutz‐ und Erdungsanlagen ",446,null,null,"Überspannungsschutz",null,"(TBD)",null,null,"IfcText"," -","Freitext","ELT",5,{"$f":"VLOOKUP(O917,LOI_LPH[],2,TRUE)","v":300}]
[446,"Blitzschutz‐ und Erdungsanlagen ",446,null,null,"Anzahl Fangstangen",null,"(TBD)",null,null,"Real","Stück","Zahl, wenn nicht einzeln modelliert","ELT",5,{"$f":"VLOOKUP(O918,LOI_LPH[],2,TRUE)","v":300}]
[449,"Starkstromanlagen, sonstiges",449,null,null,"Starkstromanlagen, sonstiges","-","-","-","-","-","-","-","ELT",3,{"$f":"VLOOKUP(O919,LOI_LPH[],2,TRUE)","v":200}]
[450,"Fernmelde- und informationstechnische Anlagen",450,null,null,"Fernmelde- und informationstechnische Anlagen","-","-","-","-","-","-","-","-","-",{"$f":"VLOOKUP(O920,LOI_LPH[],2,TRUE)","v":"-"}]
[451,"Telekommunikationsanlagen ",451,null,null,"Telekommunikationsanlagen","IfcFlowTerminal","-","IfcCommunicationsAppliance","-","-","-","-","GA",3,{"$f":"VLOOKUP(O921,LOI_LPH[],2,TRUE)","v":200}]
[451,"Telekommunikationsanlagen ","451.10",null,null,"Zentrale","IfcDistributionFlowElement",null,"IfcCommunicationsAppliance",null,null,null,null,"GA",3,{"$f":"VLOOKUP(O922,LOI_LPH[],2,TRUE)","v":200}]
[451,"Telekommunikationsanlagen ","451.10",null,null,"Funkverstärker vorhanden",null,"(TBD)",null,null,"IfcBoolean"," -","ja | nein","GA",5,{"$f":"VLOOKUP(O923,LOI_LPH[],2,TRUE)","v":300}]
[451,"Telekommunikationsanlagen ","451.20",null,null,"Endgeräte","IfcFlowTerminal",null,"IfcCommunicationsAppliance",null,null,null,null,"GA",3,{"$f":"VLOOKUP(O924,LOI_LPH[],2,TRUE)","v":200}]
[452,"Such‐ und Signalanlagen ",452,null,null,"Such- und Signalanlagen","IfcDistributionFlowElement","-","IfcDistributionSystem","-","-","-","-","GA",3,{"$f":"VLOOKUP(O925,LOI_LPH[],2,TRUE)","v":200}]
[452,"Such‐ und Signalanlagen ",452,null,null,"Bauart",null,"(TBD)",null,null,"IfcText"," -","wenn nicht über Elementname ersichtlich","GA",5,{"$f":"VLOOKUP(O926,LOI_LPH[],2,TRUE)","v":300}]
[453,"Zeitdienstanlagen ",453,null,null,"Zeitdienstanlagen","IfcFlowController","-","IfcElectricTimeControl","-","-","-","-","GA",3,{"$f":"VLOOKUP(O927,LOI_LPH[],2,TRUE)","v":200}]
[453,"Zeitdienstanlagen ","453.10",null,null,"Zentrale",null,null,"IfcElectricTimeControl",null,null,null,null,"GA",3,{"$f":"VLOOKUP(O928,LOI_LPH[],2,TRUE)","v":200}]
[453,"Zeitdienstanlagen ","453.10",null,null,"Bauart",null,"(TBD)",null,null,"IfcText"," -","wenn nicht über Elementname ersichtlich","GA",5,{"$f":"VLOOKUP(O929,LOI_LPH[],2,TRUE)","v":300}]
[453,"Zeitdienstanlagen ","453.20",null,null,"Terminal",null,null,null,null,null,null,null,"GA",3,{"$f":"VLOOKUP(O930,LOI_LPH[],2,TRUE)","v":200}]
[453,"Zeitdienstanlagen ","453.30",null,null,"Uhrenanlagen","IfcFlowTerminal",null,null,null,null,null,null,"GA",3,{"$f":"VLOOKUP(O931,LOI_LPH[],2,TRUE)","v":200}]
[453,"Zeitdienstanlagen ","453.30",null,null,"Bauart",null,"(TBD)",null,null,"IfcText"," -","wenn nicht über Elementname ersichtlich","GA",5,{"$f":"VLOOKUP(O932,LOI_LPH[],2,TRUE)","v":300}]
[454,"Elektroakustische Anlagen",454,null,null,"Elektroakustische Anlagen (ELA)",{"$f":"G130","v":"IfcBuildingElementProxy"},"-","-","-","-","-","-","GA",3,{"$f":"VLOOKUP(O933,LOI_LPH[],2,TRUE)","v":200}]
[454,"Elektroakustische Anlagen",454,null,null,"Bauart",null,"(TBD)",null,null,"IfcText"," -","Sicherheitsstufe I | Sicherheitsstufe II | Sicherheitsstufe III","GA",5,{"$f":"VLOOKUP(O934,LOI_LPH[],2,TRUE)","v":300}]
[454,"Elektroakustische Anlagen",454,null,null,"Sicherheitsstufe(Nach VDE 0833-4/C)",null,"(TBD)",null,null,"IfcText"," -","Sicherheitsstufe I | Sicherheitsstufe II | Sicherheitsstufe III","GA",5,{"$f":"VLOOKUP(O935,LOI_LPH[],2,TRUE)","v":300}]
[455,"Fernseh- und Antennenanlagen",455,null,null,"Fernseh- und Antennenanlagen","-","-","IfcCommunicationsAppliance","-","-","-","-","GA",3,{"$f":"VLOOKUP(O936,LOI_LPH[],2,TRUE)","v":200}]
[455,"Fernseh- und Antennenanlagen","455.10",null,null,"Fernsehanlagen",null,null,"IfcCommunicationsAppliance",null,null,null,null,"GA",3,{"$f":"VLOOKUP(O937,LOI_LPH[],2,TRUE)","v":200}]
[455,"Fernseh- und Antennenanlagen","455.11",null,null,"Zentrale","IfcDistributionFlowElement",null,"IfcCommunicationsAppliance",null,null,null,null,"GA",3,{"$f":"VLOOKUP(O938,LOI_LPH[],2,TRUE)","v":200}]
[455,"Fernseh- und Antennenanlagen","455.11",null,null,"Bauart",null,"(TBD)",null,null,"IfcText"," -","Satellit (S) | Kabel (C) | Terrestrisch (T)","GA",5,{"$f":"VLOOKUP(O939,LOI_LPH[],2,TRUE)","v":300}]
[455,"Fernseh- und Antennenanlagen","455.12",null,null,"Endgeräte","IfcFlowTerminal",null,"IfcCommunicationsAppliance",null,null,null,null,"GA",3,{"$f":"VLOOKUP(O940,LOI_LPH[],2,TRUE)","v":200}]
[455,"Fernseh- und Antennenanlagen","455.12",null,null,"Bauart",null,"(TBD)",null,null,"IfcText"," -","Fernseher | Receiver | Verstärker | Sonstiges","GA",5,{"$f":"VLOOKUP(O941,LOI_LPH[],2,TRUE)","v":300}]
[455,"Fernseh- und Antennenanlagen","455.20",null,null,"Antennenanlagen (auf Gebäuden)","IfcDistributionFlowElement",null,"IfcDistributionFlowElement",null,null,null,null,"GA",3,{"$f":"VLOOKUP(O942,LOI_LPH[],2,TRUE)","v":200}]
[455,"Fernseh- und Antennenanlagen","455.20",null,null,"Bauart",null,"(TBD)",null,null,"IfcText"," -","Fernseher | Receiver | Verstärker | Sonstiges","GA",5,{"$f":"VLOOKUP(O943,LOI_LPH[],2,TRUE)","v":300}]
[456,"Gefahrenmelde‐ und Alarmanlagen ",456,null,null,"Gefahrenmelde- und Alarmanlagen","-","-","IfcDistributionFlowElement","-","-","-","-","GA",3,{"$f":"VLOOKUP(O944,LOI_LPH[],2,TRUE)","v":200}]
[456,"Gefahrenmelde‐ und Alarmanlagen ","456.10",null,null,"Brandmeldeanlagen",null,null,"IfcAlarm",null,null,null,null,"GA",3,{"$f":"VLOOKUP(O945,LOI_LPH[],2,TRUE)","v":200}]
[456,"Gefahrenmelde‐ und Alarmanlagen ","456.20",null,null,"CO-Warnanlagen","IfcAlarmType",null,"IfcAlarm",null,null,null,null,"GA",3,{"$f":"VLOOKUP(O946,LOI_LPH[],2,TRUE)","v":200}]
[456,"Gefahrenmelde‐ und Alarmanlagen ","456.20",null,null,"Anzahl Sensoren",null,"(TBD)",null,null,"Real","Stück","Zahl, wenn nicht einzeln modelliert","GA",5,{"$f":"VLOOKUP(O947,LOI_LPH[],2,TRUE)","v":300}]
[456,"Gefahrenmelde‐ und Alarmanlagen ","456.20",null,null,"Anzahl Signaleinrichtungen",null,"(TBD)",null,null,"Real","Stück","Zahl, wenn nicht einzeln modelliert","GA",5,{"$f":"VLOOKUP(O948,LOI_LPH[],2,TRUE)","v":300}]
[456,"Gefahrenmelde‐ und Alarmanlagen ","456.30",null,null,"Gaswarnanlagen","IfcAlarmType",null,"IfcAlarm",null,null,null,null,"GA",3,{"$f":"VLOOKUP(O949,LOI_LPH[],2,TRUE)","v":200}]
[456,"Gefahrenmelde‐ und Alarmanlagen ","456.30",null,null,"Anzahl Sensoren",null,"(TBD)",null,null,"Real","Stück","Zahl, wenn nicht einzeln modelliert","GA",5,{"$f":"VLOOKUP(O950,LOI_LPH[],2,TRUE)","v":300}]
[456,"Gefahrenmelde‐ und Alarmanlagen ","456.30",null,null,"Anzahl Signaleinrichtungen",null,"(TBD)",null,null,"Real","Stück","Zahl, wenn nicht einzeln modelliert","GA",5,{"$f":"VLOOKUP(O951,LOI_LPH[],2,TRUE)","v":300}]
[456,"Gefahrenmelde‐ und Alarmanlagen ","456.30",null,null,"automatische Melder",null,"(TBD)",null,null,"Real"," -","Zahl, wenn nicht einzeln modelliert","GA",5,{"$f":"VLOOKUP(O952,LOI_LPH[],2,TRUE)","v":300}]
[456,"Gefahrenmelde‐ und Alarmanlagen ","456.30",null,null,"manuelle Melder",null,"(TBD)",null,null,"Real","Stück","Zahl, wenn nicht einzeln modelliert","GA",5,{"$f":"VLOOKUP(O953,LOI_LPH[],2,TRUE)","v":300}]
[456,"Gefahrenmelde‐ und Alarmanlagen ","456.30",null,null,"Gastyp",null,"(TBD)",null,null,"IfcText"," -","Freitext","GA",5,{"$f":"VLOOKUP(O954,LOI_LPH[],2,TRUE)","v":300}]
[456,"Gefahrenmelde‐ und Alarmanlagen ","456.40",null,null,"Einbruch- und Überfallmeldeanlagen","IfcAlarmType",null,"IfcAlarm",null,null,null,null,"GA",3,{"$f":"VLOOKUP(O955,LOI_LPH[],2,TRUE)","v":200}]
[456,"Gefahrenmelde‐ und Alarmanlagen ","456.50",null,null,"Videoüberwachungsanlagen","IfcAlarmType",null,"IfcAlarm",null,null,null,null,"GA",3,{"$f":"VLOOKUP(O956,LOI_LPH[],2,TRUE)","v":200}]
[456,"Gefahrenmelde‐ und Alarmanlagen ","456.60",null,null,"BOS-Anlagen","IfcAlarmType",null,"IfcAlarm",null,null,null,null,"GA",3,{"$f":"VLOOKUP(O957,LOI_LPH[],2,TRUE)","v":200}]
[456,"Gefahrenmelde‐ und Alarmanlagen ","456.70",null,null,"Notruflanlage","IfcAlarmType",null,"IfcAlarm",null,null,null,null,"GA",3,{"$f":"VLOOKUP(O958,LOI_LPH[],2,TRUE)","v":200}]
[456,"Gefahrenmelde‐ und Alarmanlagen ","456.80",null,null,"Rauchwarnmelder","IfcAlarmType",null,"IfcAlarm",null,null,null,null,"GA",3,{"$f":"VLOOKUP(O959,LOI_LPH[],2,TRUE)","v":200}]
[457,"Übertragungsnetze",457,null,null,"Datenübertragungsnetze","IfcFlowTerminal","-","IfcCommunicationsAppliance","-","-","-","-","TA-NT",3,{"$f":"VLOOKUP(O960,LOI_LPH[],2,TRUE)","v":200}]
[458,"Zutrittskontrollanlagen",458,null,null,"Zutrittskontrollanlagen","IfcDistributionFlowElement","-","IfcDistributionSystem","-","-","-","-","GA",3,{"$f":"VLOOKUP(O961,LOI_LPH[],2,TRUE)","v":200}]
[458,"Zutrittskontrollanlagen",458,null,null,"Bauart",null,"(TBD)",null,null,"IfcText"," -","elektronische Schließanlage | Zutrittskontrolle","GA",5,{"$f":"VLOOKUP(O962,LOI_LPH[],2,TRUE)","v":300}]
[458,"Zutrittskontrollanlagen",458,null,null,"Anzahl Lesegeräte",null,"(TBD)",null,null,"Real","Stück","Zahl, wenn nicht einzeln modelliert","GA",5,{"$f":"VLOOKUP(O963,LOI_LPH[],2,TRUE)","v":300}]
[458,"Zutrittskontrollanlagen",458,null,null,"Anzahl Schließzylinder",null,"(TBD)",null,null,"Real","Stück","Zahl, wenn nicht einzeln modelliert","GA",5,{"$f":"VLOOKUP(O964,LOI_LPH[],2,TRUE)","v":300}]
[458,"Zutrittskontrollanlagen",458,null,null,"Anzahl Transponder",null,"(TBD)",null,null,"Real","Stück","Zahl, wenn nicht einzeln modelliert","GA",5,{"$f":"VLOOKUP(O965,LOI_LPH[],2,TRUE)","v":300}]
[458,"Zutrittskontrollanlagen",458,null,null,"Lesesystem",null,"(TBD)",null,null,"IfcText"," -","RFID-Transponder|Biometrisch|Barcode|Magnetkarte|Code|Sonstiges","GA",5,{"$f":"VLOOKUP(O966,LOI_LPH[],2,TRUE)","v":300}]
[458,"Zutrittskontrollanlagen",458,null,null,"Anzahl Sprechstellen",null,"(TBD)",null,null,"Real","Stück","Zahl, wenn nicht einzeln modelliert","GA",5,{"$f":"VLOOKUP(O967,LOI_LPH[],2,TRUE)","v":300}]
[459,"Fernmelde- und informationstechnische Anlagen, sonstiges",459,null,null,"Fernmelde- und informationstechnische Anlagen, sonstiges","IfcFlowTerminal","-","IfcCommunicationsAppliance","-","-","-","-","GA",3,{"$f":"VLOOKUP(O968,LOI_LPH[],2,TRUE)","v":200}]
[460,"Förderanlagen ",460,null,null,"Förderanlagen","-","-","-","-","-","-","-","-","-",{"$f":"VLOOKUP(O969,LOI_LPH[],2,TRUE)","v":"-"}]
[461,"Aufzugsanlagen ",461,null,null,"Aufzugsanlagen","-","-","IfcTransportElement/ELEVATOR","-","-","-","-","-","-",{"$f":"VLOOKUP(O970,LOI_LPH[],2,TRUE)","v":"-"}]
[461,"Aufzugsanlagen ","461.01",null,null,"Antrieb","IfcTransportElement","-","IfcTransportElement",null,"-","-","-","TA-FA",5,{"$f":"VLOOKUP(O971,LOI_LPH[],2,TRUE)","v":300}]
[461,"Aufzugsanlagen ","461.01",null,null,"Art des Antriebs",null,"(TBD)","Reference",null,"IfcIdentifier"," -","Treibscheibe|hydraulisch direkt 1 Kolben|hydraulisch indirekt 1 Kolben|hydraulisch indirekt Mehrfachteleskopkolben|hydraulisch indirekt 2 Kolben|hydraulisch indirekt 2 Mehrfachteleskopkolben|hydraulisch direkt 2 Kolben|hydraulisch direkt Mehrfachteleskopkolben|Zugkolben mit 1 Kolben|Zugkolben mit Mehrfachteleskopkolben|hydraulisch direkt 2 Mehrfachteleskopkolben|Zahnriemen|Reibrad|Spindel|Trommel|Zahnstange|Sonstiges","TA-FA",5,{"$f":"VLOOKUP(O972,LOI_LPH[],2,TRUE)","v":300}]
[461,"Aufzugsanlagen ","461.01",null,null,"Ölmenege",null,"(TBD)",null,null,"Real","m3","Zahl","TA-FA",5,{"$f":"VLOOKUP(O973,LOI_LPH[],2,TRUE)","v":300}]
[461,"Aufzugsanlagen ","461.01",null,null,"Anzahl Haltestellen",null,"(TBD)",null,null,"Real","Stück","Zahl","TA-FA",5,{"$f":"VLOOKUP(O974,LOI_LPH[],2,TRUE)","v":300}]
[461,"Aufzugsanlagen ","461.01",null,null,"Höhenunterschied",null,"(TBD)",null,null,"Real","cm","Zahl","TA-FA",5,{"$f":"VLOOKUP(O975,LOI_LPH[],2,TRUE)","v":300}]
[461,"Aufzugsanlagen ","461.01",null,null,"Tragkraft",null,"(TBD)",null,null,"Real"," -","Zahl","TA-FA",5,{"$f":"VLOOKUP(O976,LOI_LPH[],2,TRUE)","v":300}]
[461,"Aufzugsanlagen ","461.02",null,null,"Steuerung","IfcTransportElement",null,"IfcTransportElement",null,null,null,null,"TA-FA",3,{"$f":"VLOOKUP(O977,LOI_LPH[],2,TRUE)","v":200}]
[461,"Aufzugsanlagen ","461.03",null,null,"Regelung","IfcTransportElement",null,"IfcTransportElement",null,null,null,null,"TA-FA",3,{"$f":"VLOOKUP(O978,LOI_LPH[],2,TRUE)","v":200}]
[461,"Aufzugsanlagen ","461.04",null,null,"Geschwindigkeitsbegrenzer","IfcTransportElement",null,"IfcTransportElement",null,null,null,null,"TA-FA",3,{"$f":"VLOOKUP(O979,LOI_LPH[],2,TRUE)","v":200}]
[461,"Aufzugsanlagen ","461.05",null,null,"Fahrkorb","IfcTransportElement",null,"IfcTransportElement",null,null,null,null,"TA-FA",3,{"$f":"VLOOKUP(O980,LOI_LPH[],2,TRUE)","v":200}]
[461,"Aufzugsanlagen ","461.05",null,null,"Beleuchtung",null,"(TBD)",null,null,"IfcText"," -","direkt, Glüh-/ Energiesparlampe|direkt, Leuchtstoffröhre|direkt, Halogenspots|direkt, LED-Spots|indirekt|keine Beleuchtung","TA-FA",5,{"$f":"VLOOKUP(O981,LOI_LPH[],2,TRUE)","v":300}]
[461,"Aufzugsanlagen ","461.05",null,null,"Nenntragfähigkeit Korb",null,"(TBD)",null,null,"Real"," -","Zahl","TA-FA",5,{"$f":"VLOOKUP(O982,LOI_LPH[],2,TRUE)","v":300}]
[461,"Aufzugsanlagen ","461.06",null,null,"Fahrkorbtür","IfcTransportElement",null,"IfcTransportElement",null,null,null,null,"TA-FA",5,{"$f":"VLOOKUP(O983,LOI_LPH[],2,TRUE)","v":300}]
[461,"Aufzugsanlagen ","461.06",null,null,"Art der Fahrkorbtür",null,"(TBD)",null,null,"IfcText"," -","Freitext","TA-FA",5,{"$f":"VLOOKUP(O984,LOI_LPH[],2,TRUE)","v":300}]
[461,"Aufzugsanlagen ","461.06",null,null,"Art des Türantriebs",null,"(TBD)",null,null,"IfcText"," -","Freitext","TA-FA",5,{"$f":"VLOOKUP(O985,LOI_LPH[],2,TRUE)","v":300}]
[461,"Aufzugsanlagen ","461.06",null,null,"Anzahl",null,"(TBD)",null,null,"Real","Stück","Zahl","TA-FA",5,{"$f":"VLOOKUP(O986,LOI_LPH[],2,TRUE)","v":300}]
[461,"Aufzugsanlagen ","461.07",null,null,"Absturzsicherung","IfcTransportElement",null,"IfcTransportElement",null,null,null,null,"TA-FA",3,{"$f":"VLOOKUP(O987,LOI_LPH[],2,TRUE)","v":200}]
[461,"Aufzugsanlagen ","461.08",null,null,"Schachttüren","IfcTransportElement",null,"IfcTransportElement",null,null,null,null,"TA-FA",3,{"$f":"VLOOKUP(O988,LOI_LPH[],2,TRUE)","v":200}]
[461,"Aufzugsanlagen ","461.08",null,null,"Art der Schachttüren",null,"(TBD)",null,null,"IfcText"," -","Freitext","TA-FA",5,{"$f":"VLOOKUP(O989,LOI_LPH[],2,TRUE)","v":300}]
[461,"Aufzugsanlagen ","461.08",null,null,"Typ Türverschluss",null,"(TBD)",null,null,"IfcText"," -","Freitext","TA-FA",5,{"$f":"VLOOKUP(O990,LOI_LPH[],2,TRUE)","v":300}]
[461,"Aufzugsanlagen ","461.08",null,null,"Anzahl",null,"(TBD)",null,null,"Real","Stück","Zahl","TA-FA",5,{"$f":"VLOOKUP(O991,LOI_LPH[],2,TRUE)","v":300}]
[461,"Aufzugsanlagen ","461.09",null,null,"Notrufsystem","IfcTransportElement",null,"IfcTransportElement",null,null,null,null,"TA-FA",3,{"$f":"VLOOKUP(O992,LOI_LPH[],2,TRUE)","v":200}]
[463,"Befahranlagen ",462,null,null,"Befahranlagen","IfcTransportElement","-","IfcTransportElement","-","-","-","-","TA-FA",3,{"$f":"VLOOKUP(O993,LOI_LPH[],2,TRUE)","v":200}]
[463,"Befahranlagen ",463,null,null,"Befahranlagen","IfcTransportElement","-","IfcTransportElement","-","-","-","-","TA-FA",3,{"$f":"VLOOKUP(O994,LOI_LPH[],2,TRUE)","v":200}]
[463,"Befahranlagen ",463,null,null,"Hubhöhe",null,"(TBD)",null,null,"Real","m","Zahl","TA-FA",5,{"$f":"VLOOKUP(O995,LOI_LPH[],2,TRUE)","v":300}]
[463,"Befahranlagen ",463,null,null,"Tragfähigkeit",null,"(TBD)",null,null,"Real","kg","Zahl","TA-FA",5,{"$f":"VLOOKUP(O996,LOI_LPH[],2,TRUE)","v":300}]
[463,"Befahranlagen ",463,null,null,"Fläche Korb",null,"(TBD)",null,null,"Real","m2","Zahl","TA-FA",5,{"$f":"VLOOKUP(O997,LOI_LPH[],2,TRUE)","v":300}]
[463,"Befahranlagen ",463,null,null,"Antriebsart",null,"(TBD)","Reference",null,"IfcIdentifier"," -","Elektrisch | Hydraulisch","TA-FA",5,{"$f":"VLOOKUP(O998,LOI_LPH[],2,TRUE)","v":300}]
[463,"Befahranlagen ",463,null,null,"Anlagentyp",null,"(TBD)",null,null,"IfcText"," -","Freitext","TA-FA",5,{"$f":"VLOOKUP(O999,LOI_LPH[],2,TRUE)","v":300}]
[463,"Befahranlagen ",463,null,null,"Behälter",null,"(TBD)",null,null,"Real"," -","Zahl","TA-FA",5,{"$f":"VLOOKUP(O1000,LOI_LPH[],2,TRUE)","v":300}]
[463,"Befahranlagen ",463,null,null,"Haltestellen",null,"(TBD)",null,null,"Real"," -","Zahl","TA-FA",5,{"$f":"VLOOKUP(O1001,LOI_LPH[],2,TRUE)","v":300}]
[463,"Befahranlagen ",463,null,null,"Nenntragfähigkeit",null,"(TBD)",null,null,"Real","kg","Zahl","TA-FA",5,{"$f":"VLOOKUP(O1002,LOI_LPH[],2,TRUE)","v":300}]
[463,"Befahranlagen ",463,null,null,"Streckenlänge",null,"(TBD)",null,null,"Real","m","Zahl","TA-FA",5,{"$f":"VLOOKUP(O1003,LOI_LPH[],2,TRUE)","v":300}]
[464,"Transportanlagen ",464,null,null,"Transportanlagen","IfcTransportElement","-","IfcTransportElement","-","-","-","-","TA-FA",3,{"$f":"VLOOKUP(O1004,LOI_LPH[],2,TRUE)","v":200}]
[464,"Transportanlagen ",464,null,null,"Anlagentyp",null,"(TBD)",null,null,"IfcText"," -","Kleingüteraufzug | Stetigförderer | Unterfluraufzug | Lagerhausaufzug | Behälteraufzug | Aktentransportanlage | Rohrpostanlage","TA-FA",5,{"$f":"VLOOKUP(O1005,LOI_LPH[],2,TRUE)","v":300}]
[464,"Transportanlagen ",464,null,null,"Behälter",null,"(TBD)",null,null,"Real"," -","Zahl","TA-FA",5,{"$f":"VLOOKUP(O1006,LOI_LPH[],2,TRUE)","v":300}]
[464,"Transportanlagen ",464,null,null,"Haltestellen",null,"(TBD)",null,null,"Real"," -","Zahl","TA-FA",5,{"$f":"VLOOKUP(O1007,LOI_LPH[],2,TRUE)","v":300}]
[464,"Transportanlagen ",464,null,null,"Nenntragfähigkeit",null,"(TBD)",null,null,"Real","kg","Zahl","TA-FA",5,{"$f":"VLOOKUP(O1008,LOI_LPH[],2,TRUE)","v":300}]
[464,"Transportanlagen ",464,null,null,"Streckenlänge",null,"(TBD)",null,null,"Real","m","Zahl","TA-FA",5,{"$f":"VLOOKUP(O1009,LOI_LPH[],2,TRUE)","v":300}]
[465,"Krananlagen ",465,null,null,"Krananlagen","IfcTransportElement/CRANEWAY","-","IfcTransportElement/CRANEWAY","-","-","-","-","TA-FA",3,{"$f":"VLOOKUP(O1010,LOI_LPH[],2,TRUE)","v":200}]
[465,"Krananlagen ",465,null,null,"Art der Krananlage",null,"(TBD)",null,null,"IfcText"," -","ortsfest | nicht ortsfest","TA-FA",5,{"$f":"VLOOKUP(O1011,LOI_LPH[],2,TRUE)","v":300}]
[465,"Krananlagen ",465,null,null,"Bauart",null,"(TBD)",null,null,"IfcText"," -","Brückenkran | Schwenkkran","TA-FA",5,{"$f":"VLOOKUP(O1012,LOI_LPH[],2,TRUE)","v":300}]
[465,"Krananlagen ",465,null,null,"Nennleistung",null,"(TBD)","NominalCapacity",null,"IfcPowerMeasure","kW","Zahl","TA-FA",5,{"$f":"VLOOKUP(O1013,LOI_LPH[],2,TRUE)","v":300}]
[465,"Krananlagen ",465,null,null,"Tragkraft",null,"(TBD)",null,null,"Real","kg","Zahl","TA-FA",5,{"$f":"VLOOKUP(O1014,LOI_LPH[],2,TRUE)","v":300}]
[465,"Krananlagen ",465,null,null,"Elektrische Spannung",null,"(TBD)",null,null,"Real","V","Zahl","TA-FA",5,{"$f":"VLOOKUP(O1015,LOI_LPH[],2,TRUE)","v":300}]
[466,"Krananlagen ",466,null,null,"Lifter","IfcTransportElement","-","IfcTransportElement","-","-","-","-","TA-FA",3,{"$f":"VLOOKUP(O1016,LOI_LPH[],2,TRUE)","v":200}]
[466,"Krananlagen ",466,null,null,"Lifterart",null,"(TBD)",null,null,"IfcText"," -","Deckenlifter | Bodenlifter | Treppenlifter | Sonstiges","TA-FA",5,{"$f":"VLOOKUP(O1017,LOI_LPH[],2,TRUE)","v":300}]
[469,"Förderanlagen, sonstiges",469,null,null,"Förderanlagen, sonstiges","IfcTransportElement","-","IfcTransportElement","-","-","-","-","TA-FA",3,{"$f":"VLOOKUP(O1018,LOI_LPH[],2,TRUE)","v":200}]
[469,"Förderanlagen, sonstiges","469.10",null,null,"Hebebühnen","IfcTransportElement/LIFTINGGEAR","-","IfcTransportElement/LIFTINGGEAR","-","-","-","-","TA-FA",3,{"$f":"VLOOKUP(O1019,LOI_LPH[],2,TRUE)","v":200}]
[469,"Förderanlagen, sonstiges","469.10",null,null,"Heberbühnenart",null,"(TBD)",null,null,"IfcText"," -","Hebebühnen für Personen (mit Absturzgefahr &lt;= 3 m)|Hebebühnen für Personen (mit Absturzgefahr &gt; 3 m)|Hebenbühnen für Fahrzeuge","TA-FA",5,{"$f":"VLOOKUP(O1020,LOI_LPH[],2,TRUE)","v":300}]
[469,"Förderanlagen, sonstiges","469.10",null,null,"Hubhöhe",null,"(TBD)",null,null,"Real","m","Zahl","TA-FA",5,{"$f":"VLOOKUP(O1021,LOI_LPH[],2,TRUE)","v":300}]
[469,"Förderanlagen, sonstiges","469.10",null,null,"Nenndruck Öl",null,"(TBD)",null,null,"Real","Pa","Zahl","TA-FA",5,{"$f":"VLOOKUP(O1022,LOI_LPH[],2,TRUE)","v":300}]
[469,"Förderanlagen, sonstiges","469.10",null,null,"Nenninhalt Öl",null,"(TBD)",null,null,"Real","m3","Zahl","TA-FA",5,{"$f":"VLOOKUP(O1023,LOI_LPH[],2,TRUE)","v":300}]
[469,"Förderanlagen, sonstiges","469.10",null,null,"Nennleistung",null,"(TBD)","NominalCapacity",null,"IfcPowerMeasure","kW","Zahl","TA-FA",5,{"$f":"VLOOKUP(O1024,LOI_LPH[],2,TRUE)","v":300}]
[469,"Förderanlagen, sonstiges","469.10",null,null,"Tragkraft",null,"(TBD)",null,null,"Real","kg","Zahl","TA-FA",5,{"$f":"VLOOKUP(O1025,LOI_LPH[],2,TRUE)","v":300}]
[469,"Förderanlagen, sonstiges","469.10",null,null,"Fläche",null,"(TBD)",null,null,"Real","m2","Zahl","TA-FA",5,{"$f":"VLOOKUP(O1026,LOI_LPH[],2,TRUE)","v":300}]
[469,"Förderanlagen, sonstiges","469.20",null,null,"Mehrfachparker","IfcTransportElement/LIFTINGGEAR","-","IfcTransportElement/LIFTINGGEAR","-","-","-","-","TA-FA",3,{"$f":"VLOOKUP(O1027,LOI_LPH[],2,TRUE)","v":200}]
[469,"Förderanlagen, sonstiges","469.20",null,null,"Nenndruck Öl",null,"(TBD)",null,null,"Real","Pa","Zahl","TA-FA",5,{"$f":"VLOOKUP(O1028,LOI_LPH[],2,TRUE)","v":300}]
[469,"Förderanlagen, sonstiges","469.20",null,null,"Nenninhalt Öl",null,"(TBD)",null,null,"IfcPerformanceMeasure","m3","Zahl","TA-FA",5,{"$f":"VLOOKUP(O1029,LOI_LPH[],2,TRUE)","v":300}]
[469,"Förderanlagen, sonstiges","469.20",null,null,"Nennleistung",null,"(TBD)","NominalCapacity",null,"IfcPowerMeasure","kW","Zahl","TA-FA",5,{"$f":"VLOOKUP(O1030,LOI_LPH[],2,TRUE)","v":300}]
[469,"Förderanlagen, sonstiges","469.20",null,null,"Tragkraft",null,"(TBD)",null,null,"Real","kg","Zahl","TA-FA",5,{"$f":"VLOOKUP(O1031,LOI_LPH[],2,TRUE)","v":300}]
[470,"Nutzungsspezifische Anlagen",470,null,null,"Nutzungsspezifische Anlagen","-","-","-","-","-","-","-","-","-",{"$f":"VLOOKUP(O1032,LOI_LPH[],2,TRUE)","v":"-"}]
[471,"Küchentechnische Anlagen ",471,null,null,"Küchentechnische Anlagen","-","-","-","-","-","-","-","TA",3,{"$f":"VLOOKUP(O1033,LOI_LPH[],2,TRUE)","v":200}]
[471,"Küchentechnische Anlagen ","471.10",null,null,"Getränkeschankanlagen","IfcDistributionFlowElement","-","IfcDistributionFlowElement","-","-","-","-","IBS",3,{"$f":"VLOOKUP(O1034,LOI_LPH[],2,TRUE)","v":200}]
[471,"Küchentechnische Anlagen ","471.10",null,null,"mobile Anlage",null,"(TBD)",null,null,"IfcBoolean"," -","ja | nein","KPL",5,{"$f":"VLOOKUP(O1035,LOI_LPH[],2,TRUE)","v":300}]
[471,"Küchentechnische Anlagen ","471.11",null,null,"Getränke-/Grundstoffbehälter","IfcFlowStorageDevice",null,"IfcTank","-","-","-","-","IBS",3,{"$f":"VLOOKUP(O1036,LOI_LPH[],2,TRUE)","v":200}]
[471,"Küchentechnische Anlagen ","471.11",null,null,"Betriebsdruck",null,"(TBD)",null,null,"Real","Pa","Zahl","KPL",5,{"$f":"VLOOKUP(O1037,LOI_LPH[],2,TRUE)","v":300}]
[471,"Küchentechnische Anlagen ","471.12",null,null,"Druckgasflaschen für Getränkeschankanlagen","IfcFlowStorageDevice",null,"IfcTank/USERDEFINED","-","-","-","-","IBS",3,{"$f":"VLOOKUP(O1038,LOI_LPH[],2,TRUE)","v":200}]
[471,"Küchentechnische Anlagen ","471.12",null,null,"Füllgewicht",null,"(TBD)",null,"FM_TGA","IfcLabel","kg","Zahl","KPL",5,{"$f":"VLOOKUP(O1039,LOI_LPH[],2,TRUE)","v":300}]
[471,"Küchentechnische Anlagen ","471.81",null,null,"Geschirrspülmaschinen","IfcElectricApplianceType","-","IfcElectricAppliance/DISHWASHER","-","-","-","-","IBS",3,{"$f":"VLOOKUP(O1040,LOI_LPH[],2,TRUE)","v":200}]
[471,"Küchentechnische Anlagen ","471.82",null,null,"Kühlraum","IfcDistributionFlowElement","-","IfcDistributionFlowElement","-","-","-","-","IBS",3,{"$f":"VLOOKUP(O1041,LOI_LPH[],2,TRUE)","v":200}]
[471,"Küchentechnische Anlagen ","471.83",null,null,"Kühlschränke","IfcElectricApplianceType","-","IfcElectricAppliance/REFRIGERATOR","-","-","-","-","IBS",3,{"$f":"VLOOKUP(O1042,LOI_LPH[],2,TRUE)","v":200}]
[471,"Küchentechnische Anlagen ","471.84",null,null,"Kochgeräte","IfcDistributionFlowElement","-","IfcDistributionFlowElement","-","-","-","-","IBS",3,{"$f":"VLOOKUP(O1043,LOI_LPH[],2,TRUE)","v":200}]
[471,"Küchentechnische Anlagen ","471.85",null,null,"Kaffeeautomat","IfcDistributionFlowElement","-","IfcDistributionFlowElement","-","-","-","-","KPL",5,{"$f":"VLOOKUP(O1044,LOI_LPH[],2,TRUE)","v":300}]
[472,"Wäscherei- und Reinigungsanlagen",472,null,null,"Wäscherei- und Reinigungsanlagen","IfcDistributionFlowElement","-","IfcDistributionFlowElement","-","-","-","-","TA",3,{"$f":"VLOOKUP(O1045,LOI_LPH[],2,TRUE)","v":200}]
[472,"Zentralstaubsauganlagen","472.10",null,null,"Wäscherei- und Reinigungsanlagen","IfcDistributionFlowElement","-","IfcDistributionFlowElement","-","-","-","-","TA",3,{"$f":"VLOOKUP(O1046,LOI_LPH[],2,TRUE)","v":200}]
[472,"Wäscherei- und Reinigungsanlagen","472.10",null,null,"Anzahl Motoren",null,"(TBD)",null,null,"Real",null,"Zahl","TA",3,{"$f":"VLOOKUP(O1047,LOI_LPH[],2,TRUE)","v":200}]
[472,"Wäscherei- und Reinigungsanlagen","472.10",null,null,"Anzahl Saugsteckdosen",null,"(TBD)",null,null,"Real",null,"Zahl","TA",3,{"$f":"VLOOKUP(O1048,LOI_LPH[],2,TRUE)","v":200}]
[472,"Waschmaschine","472.20",null,null,"Wäscherei- und Reinigungsanlagen","IfcDistributionFlowElement","-","IfcDistributionFlowElement","-","-","-","-","TA",3,{"$f":"VLOOKUP(O1049,LOI_LPH[],2,TRUE)","v":200}]
[473,"Medienversorgungsanlagen",473,null,null,"Medienversorgungsanlagen","IfcDistributionFlowElement","-","IfcDistributionFlowElement","-","-","-","-","TA",3,{"$f":"VLOOKUP(O1050,LOI_LPH[],2,TRUE)","v":200}]
[473,"Medienversorgungsanlagen","473.10",null,null,"Druckluftversorgungsanlagen","IfcDistributionFlowElement","-","IfcDistributionFlowElement","-","-","-","-","HLSK",3,{"$f":"VLOOKUP(O1051,LOI_LPH[],2,TRUE)","v":200}]
[473,"Medienversorgungsanlagen","473.11",null,null,"Drucklufterzeuger","IfcFlowMovingDevice","-","IfcCompressor","-","-","-","-","HLSK",3,{"$f":"VLOOKUP(O1052,LOI_LPH[],2,TRUE)","v":200}]
[473,"Medienversorgungsanlagen","473.11",null,null,"Nennleistung ",null,"(TBD)","NominalCapacity",null,"IfcPowerMeasure","kW","Zahl","HLSK",5,{"$f":"VLOOKUP(O1053,LOI_LPH[],2,TRUE)","v":300}]
[473,"Medienversorgungsanlagen","473.11",null,null,"Nenndruck",null,"(TBD)",null,null,"Real","Pa","Zahl","HLSK",5,{"$f":"VLOOKUP(O1054,LOI_LPH[],2,TRUE)","v":300}]
[473,"Medienversorgungsanlagen","473.11",null,null,"Kühlung ",null,"(TBD)",null,null,"IfcText"," -","Umgebungsluft | Wärmerückgewinnung","HLSK",5,{"$f":"VLOOKUP(O1055,LOI_LPH[],2,TRUE)","v":300}]
[473,"Medienversorgungsanlagen","473.11",null,null,"Netzanbindung Druckluftnetz",null,"(TBD)",null,null,"IfcBoolean"," -","ja | nein","HLSK",5,{"$f":"VLOOKUP(O1056,LOI_LPH[],2,TRUE)","v":300}]
[473,"Medienversorgungsanlagen","473.12",null,null,"Druckluftbehälter","IfcFlowStorageDevice","-","IfcTank","-","-","-","-","HLSK",3,{"$f":"VLOOKUP(O1057,LOI_LPH[],2,TRUE)","v":200}]
[473,"Medienversorgungsanlagen","473.12",null,null,"Nennvolumen",null,"(TBD)",null,null,"Real","m3","Zahl","HLSK",5,{"$f":"VLOOKUP(O1058,LOI_LPH[],2,TRUE)","v":300}]
[473,"Medienversorgungsanlagen","473.12",null,null,"Nenndruck",null,"(TBD)",null,null,"Real","Pa","Zahl","HLSK",5,{"$f":"VLOOKUP(O1059,LOI_LPH[],2,TRUE)","v":300}]
[473,"Medienversorgungsanlagen","473.13",null,null,"Druckluftaufbereitung und -verteilung","IfcDistributionFlowElement","-","IfcDistributionFlowElement","-","-","-","-","HLSK",3,{"$f":"VLOOKUP(O1060,LOI_LPH[],2,TRUE)","v":200}]
[473,"Medienversorgungsanlagen","473.20",null,null,"Versorgungsanlagen für technische Gase","IfcDistributionFlowElement","-","IfcDistributionFlowElement","-","-","-","-","HLSK",3,{"$f":"VLOOKUP(O1061,LOI_LPH[],2,TRUE)","v":200}]
[473,"Medienversorgungsanlagen","473.20",null,null,"Nennleistung",null,"(TBD)","NominalCapacity",null,"IfcPowerMeasure","kW","Zahl","HLSK",5,{"$f":"VLOOKUP(O1062,LOI_LPH[],2,TRUE)","v":300}]
[473,"Medienversorgungsanlagen","473.20",null,null,"Nenndruck",null,"(TBD)",null,null,"Real","Pa","Zahl","HLSK",5,{"$f":"VLOOKUP(O1063,LOI_LPH[],2,TRUE)","v":300}]
[473,"Medienversorgungsanlagen","473.30",null,null,"Sauerstoffversorgungsanlage","IfcDistributionElement","-","IfcMedicalDevice/OXYGENPLANT","-","-","-","-","HLSK",3,{"$f":"VLOOKUP(O1064,LOI_LPH[],2,TRUE)","v":200}]
[473,"Medienversorgungsanlagen","473.20",null,null,"Nennleistung",null,"(TBD)","NominalCapacity",null,"IfcPowerMeasure","kW","Zahl","HLSK",5,{"$f":"VLOOKUP(O1065,LOI_LPH[],2,TRUE)","v":300}]
[473,"Medienversorgungsanlagen","473.20",null,null,"Nenndruck",null,"(TBD)",null,null,"Real","Pa","Zahl","HLSK",5,{"$f":"VLOOKUP(O1066,LOI_LPH[],2,TRUE)","v":300}]
[474,"Medizin- und labortechnische Anlagen",474,null,null,"Medizin- und labortechnische Anlagen","-","-","IfcFireSuppressionTerminal","-","-","-","-","HLSK",3,{"$f":"VLOOKUP(O1067,LOI_LPH[],2,TRUE)","v":200}]
[475,"Feuerlöschanlagen",475,null,null,"Feuerlöschanlagen","-","-","IfcFireSuppressionTerminal","-","-","-","-","HLSK",3,{"$f":"VLOOKUP(O1068,LOI_LPH[],2,TRUE)","v":200}]
[475,"Feuerlöschanlagen","475.10",null,null,"Wasser-Löschanlagen","IfcFlowTerminal",null,"IfcFireSuppressionTerminal","-","-","-","-","HLSK",3,{"$f":"VLOOKUP(O1069,LOI_LPH[],2,TRUE)","v":200}]
[474,"Feuerlöschanlagen","475.10",null,null,"Anzahl Alarmventilstationen, nass",null,"(TBD)",null,null,"Real","Stück","Zahl","HLSK",5,{"$f":"VLOOKUP(O1070,LOI_LPH[],2,TRUE)","v":300}]
[474,"Feuerlöschanlagen","475.10",null,null,"Anzahl Alarmventilstationen, trocken",null,"(TBD)",null,null,"Real","Stück","Zahl","HLSK",5,{"$f":"VLOOKUP(O1071,LOI_LPH[],2,TRUE)","v":300}]
[474,"Feuerlöschanlagen","475.10",null,null,"Anzahl Sprinklerköpfe",null,"(TBD)",null,null,"Real","Stück","Zahl","HLSK",5,{"$f":"VLOOKUP(O1072,LOI_LPH[],2,TRUE)","v":300}]
[474,"Feuerlöschanlagen","475.10",null,null,"Bauart",null,"(TBD)",null,null,"IfcText"," -","Sprinkleranlagen | Sprühwasser-Löschanlagen | Wasser-Feinsprüh-Löschanlagen Hochdruck | Wasser-Feinsprüh-Löschanlagen Niederdruck | Schaum-Löschanlagen","HLSK",5,{"$f":"VLOOKUP(O1073,LOI_LPH[],2,TRUE)","v":300}]
[474,"Feuerlöschanlagen","475.10",null,null,"Druckluftwasserkessel",null,"(TBD)",null,null,"IfcText"," -","Freitext","HLSK",5,{"$f":"VLOOKUP(O1074,LOI_LPH[],2,TRUE)","v":300}]
[474,"Feuerlöschanlagen","475.10",null,null,"Energieversorgung Pumpe",null,"(TBD)",null,null,"IfcText"," -","elektrisch | Diesel","HLSK",5,{"$f":"VLOOKUP(O1075,LOI_LPH[],2,TRUE)","v":300}]
[474,"Feuerlöschanlagen","475.10",null,null,"Tankvolumen",null,"(TBD)",null,null,"Real","m3","Zahl","HLSK",5,{"$f":"VLOOKUP(O1076,LOI_LPH[],2,TRUE)","v":300}]
[475,"Feuerlöschanlagen","475.20",null,null,"Gas-Löschanlagen","IfcFlowTerminal",null,"IfcFireSuppressionTerminal","-","-","-","-","HLSK",3,{"$f":"VLOOKUP(O1077,LOI_LPH[],2,TRUE)","v":200}]
[474,"Feuerlöschanlagen","475.20",null,null,"Anzahl Bereichsventile",null,"(TBD)",null,null,"Real","Stück","Zahl","HLSK",5,{"$f":"VLOOKUP(O1078,LOI_LPH[],2,TRUE)","v":300}]
[474,"Feuerlöschanlagen","475.20",null,null,"Löschgruppen",null,"(TBD)",null,null,"Real"," -","Zahl","HLSK",5,{"$f":"VLOOKUP(O1079,LOI_LPH[],2,TRUE)","v":300}]
[474,"Feuerlöschanlagen","475.20",null,null,"Löschmittel",null,"(TBD)",null,null,"IfcText"," -","CO2|Argon|Inergen|Ansul|andere Gase","HLSK",5,{"$f":"VLOOKUP(O1080,LOI_LPH[],2,TRUE)","v":300}]
[474,"Feuerlöschanlagen","475.20",null,null,"Löschmittelmenge",null,"(TBD)",null,null,"Real","kg","Zahl","HLSK",5,{"$f":"VLOOKUP(O1081,LOI_LPH[],2,TRUE)","v":300}]
[474,"Feuerlöschanlagen","475.20",null,null,"Personengefährdung",null,"(TBD)",null,null,"IfcText"," -","Freitext","HLSK",5,{"$f":"VLOOKUP(O1082,LOI_LPH[],2,TRUE)","v":300}]
[475,"Feuerlöschanlagen","475.30",null,null,"Sonstige Löschanlagen","IfcFlowTerminal",null,"IfcFireSuppressionTerminal","-","-","-","-","HLSK",3,{"$f":"VLOOKUP(O1083,LOI_LPH[],2,TRUE)","v":200}]
[474,"Feuerlöschanlagen","475.30",null,null,"Bauart",null,"(TBD)",null,null,"IfcText"," -","Funkenausscheidungslöschanlage|Funkenerkennungslöschanlage|Funkenlöschanlage|Pulverlöschanlagen|Einrichtungsschutzanlagen|Sonderlöschanlagen","HLSK",5,{"$f":"VLOOKUP(O1084,LOI_LPH[],2,TRUE)","v":300}]
[475,"Feuerlöschanlagen","475.40",null,null,"Feuerlöscher","IfcFlowTerminal",null,"IfcFireSuppressionTerminal","-","-","-","-","HLSK",3,{"$f":"VLOOKUP(O1085,LOI_LPH[],2,TRUE)","v":200}]
[474,"Feuerlöschanlagen","475.40",null,null,"Typ Feuerlöscher",null,"(TBD)",null,null,"IfcText"," -","Schaum | Pulver | Wasser | Kohlendioxid | Halon | Sonstiges","HLSK",5,{"$f":"VLOOKUP(O1086,LOI_LPH[],2,TRUE)","v":300}]
[474,"Feuerlöschanlagen","475.40",null,null,"Brandklasse",null,"(TBD)",null,null,"IfcText"," -","A | B | C | A B | A B C | D | F","HLSK",5,{"$f":"VLOOKUP(O1087,LOI_LPH[],2,TRUE)","v":300}]
[474,"Feuerlöschanlagen","475.40",null,null,"Löschmittel",null,"(TBD)",null,null,"IfcText"," -","CO2|Argon|Inergen|Ansul|andere Gase","HLSK",5,{"$f":"VLOOKUP(O1088,LOI_LPH[],2,TRUE)","v":300}]
[474,"Feuerlöschanlagen","475.40",null,null,"Löschmittelmenge",null,"(TBD)",null,null,"Real","kg","Zahl","HLSK",5,{"$f":"VLOOKUP(O1089,LOI_LPH[],2,TRUE)","v":300}]
[474,"Feuerlöschanlagen","475.40",null,null,"Typ Auslösevorrichtung",null,"(TBD)",null,null,"IfcText"," -","Gaslöscher | Aufladelöscher | Dauerdrucklöscher","HLSK",5,{"$f":"VLOOKUP(O1090,LOI_LPH[],2,TRUE)","v":300}]
[475,"Feuerlöschanlagen","475.50",null,null,"Hydrantenanlagen","IfcFlowTerminal",null,"IfcFireSuppressionTerminal/FIREHYDRANT","-","-","-","-","HLSK",3,{"$f":"VLOOKUP(O1091,LOI_LPH[],2,TRUE)","v":200}]
[474,"Feuerlöschanlagen","475.40",null,null,"Bauart Löschwasserleitung",null,"(TBD)",null,null,"IfcText"," -","trocken | nass | nass/trocken","HLSK",5,{"$f":"VLOOKUP(O1092,LOI_LPH[],2,TRUE)","v":300}]
[474,"Feuerlöschanlagen","475.40",null,null,"Anzahl Entnahmestellen",null,"(TBD)",null,null,"Real","Stück","Zahl","HLSK",5,{"$f":"VLOOKUP(O1093,LOI_LPH[],2,TRUE)","v":300}]
[474,"Feuerlöschanlagen","475.40",null,null,"Leitungssystem",null,"(TBD)",null,null,"IfcText"," -","trocken | nass | nass/trocken","HLSK",5,{"$f":"VLOOKUP(O1094,LOI_LPH[],2,TRUE)","v":300}]
[474,"Feuerlöschanlagen","475.40",null,null,"Nennweite DN",null,"(TBD)",null,null,"Real","DN","Zahl","HLSK",5,{"$f":"VLOOKUP(O1095,LOI_LPH[],2,TRUE)","v":300}]
[474,"Feuerlöschanlagen","475.40",null,null,"Nenndruck",null,"(TBD)",null,null,"Real","Pa","Zahl","HLSK",5,{"$f":"VLOOKUP(O1096,LOI_LPH[],2,TRUE)","v":300}]
[474,"Feuerlöschanlagen","475.40",null,null,"Wasserversorgung durch",null,"(TBD)",null,null,"IfcText"," -","Trinkwassernetz | Löschwasserbehälter","HLSK",5,{"$f":"VLOOKUP(O1097,LOI_LPH[],2,TRUE)","v":300}]
[475,"Feuerlöschanlagen","475.60",null,null,"Löschdecken","IfcFireSuppressionTerminal",null,"IfcFireSuppressionTerminal/FIREHYDRANT","-","-","-","-","HLSK",3,{"$f":"VLOOKUP(O1098,LOI_LPH[],2,TRUE)","v":200}]
[476,"Badetechnische Anlagen",476,null,null,"Badetechnische Anlagen","IfcBuildingElementProxy","-","IfcBuildingElementProxy","-","-","-","-","TA",3,{"$f":"VLOOKUP(O1099,LOI_LPH[],2,TRUE)","v":200}]
[476,"Badetechnische Anlagen","476.10",null,null,"Aufbereitungs- / Desinfektionsanlagen","IfcDistributionFlowElement","-","IfcDistributionFlowElement","-","-","-","-","TA",3,{"$f":"VLOOKUP(O1100,LOI_LPH[],2,TRUE)","v":200}]
[476,"Badetechnische Anlagen","476.20",null,null,"Wasserspeicher / Ausgleichsbehälter","IfcTank","-","IfcTank","-","-","-","-","TA",3,{"$f":"VLOOKUP(O1101,LOI_LPH[],2,TRUE)","v":200}]
[476,"Badetechnische Anlagen","476.30",null,null,"Badetechnische Einbauten","IfcDistributionFlowElement","-","IfcDistributionFlowElement","-","-","-","-","TA",3,{"$f":"VLOOKUP(O1102,LOI_LPH[],2,TRUE)","v":200}]
[476,"Badetechnische Anlagen","476.31",null,null,"Hubbadewannen","IfcSanitaryTerminal","-","IfcSanitaryTerminal","-","-","-","-","TA",3,{"$f":"VLOOKUP(O1103,LOI_LPH[],2,TRUE)","v":200}]
[476,"Badetechnische Anlagen","476.32",null,null,"Steckbeckenspüler","IfcSanitaryTerminal","-","IfcSanitaryTerminal","-","-","-","-","TA",3,{"$f":"VLOOKUP(O1104,LOI_LPH[],2,TRUE)","v":200}]
[476,"Badetechnische Anlagen","476.40",null,null,"Filteranlagen","IfcFilter","-","IfcFilter","-","-","-","-","TA",3,{"$f":"VLOOKUP(O1105,LOI_LPH[],2,TRUE)","v":200}]
[476,"Badetechnische Anlagen","476.50",null,null,"Gegenstrom-Schwimmanlage","IfcBuildingElementProxy","-","IfcBuildingElementProxy","-","-","-","-","TA",3,{"$f":"VLOOKUP(O1106,LOI_LPH[],2,TRUE)","v":200}]
[477,"Prozesswärme-, kälte- und -luftanlagen",477,null,null,"Prozesswärme-, kälte- und -luftanlagen","IfcDistributionFlowElement","-","IfcDistributionFlowElement","-","-","-","-","TA",3,{"$f":"VLOOKUP(O1107,LOI_LPH[],2,TRUE)","v":200}]
[477,"Prozesswärme-, kälte- und -luftanlagen",477,null,null,"Nennleistung",null,"(TBD)","NominalCapacity",null,"IfcPowerMeasure","kW","Zahl","TA",5,{"$f":"VLOOKUP(O1108,LOI_LPH[],2,TRUE)","v":300}]
[478,"Entsorgungsanlagen",478,null,null,"Entsorgungsanlagen","IfcDistributionFlowElement","-","IfcDistributionFlowElement","-","-","-","-","TA",3,{"$f":"VLOOKUP(O1109,LOI_LPH[],2,TRUE)","v":200}]
[478,"Entsorgungsanlagen",478,null,null,"Bauart",null,"(TBD)",null,null,"IfcText"," -","Ballenpresse | Flüssigabfallsammler | Sonstiges","TA",5,{"$f":"VLOOKUP(O1110,LOI_LPH[],2,TRUE)","v":300}]
[478,"Entsorgungsanlagen",478,null,null,"Entsorgungsgüter",null,"(TBD)",null,null,"IfcText"," -","Freitext","TA",5,{"$f":"VLOOKUP(O1111,LOI_LPH[],2,TRUE)","v":300}]
[478,"Entsorgungsanlagen",478,null,null,"Nennvolumen",null,"(TBD)",null,null,"Real","m3","Zahl","TA",5,{"$f":"VLOOKUP(O1112,LOI_LPH[],2,TRUE)","v":300}]
[478,"Entsorgungsanlagen",478,null,null,"Nennleistung",null,"(TBD)","NominalCapacity",null,"IfcPowerMeasure","kW","Zahl","TA",5,{"$f":"VLOOKUP(O1113,LOI_LPH[],2,TRUE)","v":300}]
[479,"Nutzungsspezifische Anlagen, sonstiges",479,null,null,"Nutzungsspezifische Anlagen, sonstiges","IfcDistributionFlowElement","-","IfcDistributionFlowElement","-","-","-","-","TA",3,{"$f":"VLOOKUP(O1114,LOI_LPH[],2,TRUE)","v":200}]
[479,"Nutzungsspezifische Anlagen, sonstiges","479.10",null,null,"Schirmung","IfcCovering",null,null,null,null,null,"Metallische Abschirmung an Decken/Wänden/Fußböden - IFC Klasse genau klären","GA",3,{"$f":"VLOOKUP(O1115,LOI_LPH[],2,TRUE)","v":200}]
[479,"Nutzungsspezifische Anlagen, sonstiges","479.20",null,null,"Durchleuchtungsanlagen",null,null,null,null,null,null,null,"GA",3,{"$f":"VLOOKUP(O1116,LOI_LPH[],2,TRUE)","v":200}]
[479,"Nutzungsspezifische Anlagen, sonstiges","479.21",null,null,"Zentrale","IfcDistributionFlowElement",null,null,null,null,null,null,"GA",3,{"$f":"VLOOKUP(O1117,LOI_LPH[],2,TRUE)","v":200}]
[480,"Gebäudeautomation",480,null,null,"Gebäudeautomation","-","-","-","-","-","-","-","-","-",{"$f":"VLOOKUP(O1118,LOI_LPH[],2,TRUE)","v":"-"}]
[481,"Automationssysteme",481,null,null,"Automationssysteme","IfcDistributionFlowElement","-","IfcDistributionFlowElement","-","-","-","-","TA-GA",3,{"$f":"VLOOKUP(O1119,LOI_LPH[],2,TRUE)","v":200}]
[481,"Automationssysteme","481.10",null,null,"Feldgeräte","IfcDistributionControlElement",null,"IfcActuator","-","-","-","-","TA-GA",3,{"$f":"VLOOKUP(O1120,LOI_LPH[],2,TRUE)","v":200}]
[481,"Automationssysteme","481.10",null,null,"Anzahl Felder",null,"(TBD)",null,null,"Real","Stück","Zahl","TA-GA",5,{"$f":"VLOOKUP(O1121,LOI_LPH[],2,TRUE)","v":300}]
[481,"Automationssysteme","481.10",null,null,"Bauart Aktor",null,"(TBD)",null,null,"IfcText"," -","Ventilantrieb | Klappenantrieb | Linearantrieb | Motor","TA-GA",5,{"$f":"VLOOKUP(O1122,LOI_LPH[],2,TRUE)","v":300}]
[481,"Automationssysteme","481.10",null,null,"Bauart Sensor",null,"(TBD)",null,null,"IfcText"," -","Temperatursensor | Drucksensor | Luftgeschwindigkeit | Bewegung | Licht | Gas/katalytisch | Beschleunigung","TA-GA",5,{"$f":"VLOOKUP(O1123,LOI_LPH[],2,TRUE)","v":300}]
[481,"Automationssysteme","481.10",null,null,"Typ Feldgerät",null,"(TBD)",null,null,"IfcText"," -","Sensor | Aktor","TA-GA",5,{"$f":"VLOOKUP(O1124,LOI_LPH[],2,TRUE)","v":300}]
[481,"Automationssysteme","481.10",null,null,"Anzahl physikalische Datenpunkte",null,"(TBD)",null,null,"Real","Stück","Zahl","TA-GA",5,{"$f":"VLOOKUP(O1125,LOI_LPH[],2,TRUE)","v":300}]
[481,"Automationssysteme","481.10",null,null,"Anzahl Steuermodule",null,"(TBD)",null,null,"Real","Stück","Zahl","TA-GA",5,{"$f":"VLOOKUP(O1126,LOI_LPH[],2,TRUE)","v":300}]
[481,"Automationssysteme","481.10",null,null,"Anzahl Stromkreise",null,"(TBD)",null,null,"Real","Stück","Zahl","TA-GA",5,{"$f":"VLOOKUP(O1127,LOI_LPH[],2,TRUE)","v":300}]
[481,"Automationssysteme","481.10",null,null,"Anzahl Überspannungsschutz",null,"(TBD)",null,null,"Real","Stück","Zahl","TA-GA",5,{"$f":"VLOOKUP(O1128,LOI_LPH[],2,TRUE)","v":300}]
[481,"Automationssysteme","481.10",null,null,"Anzahl FI Schalter",null,"(TBD)",null,null,"Real","Stück","Zahl","TA-GA",5,{"$f":"VLOOKUP(O1129,LOI_LPH[],2,TRUE)","v":300}]
[481,"Automationssysteme","481.20",null,null,"Regler","IfcDistributionControlElement",null,"IfcElectricDistributionBoard","-","-","-","-","TA-GA",3,{"$f":"VLOOKUP(O1130,LOI_LPH[],2,TRUE)","v":200}]
[481,"Automationssysteme","481.20",null,null,"Kommunikation über Bus",null,"(TBD)",null,null,"IfcText"," -","Freitext","TA-GA",5,{"$f":"VLOOKUP(O1131,LOI_LPH[],2,TRUE)","v":300}]
[482,"Schaltschränke",482,null,null,"Schaltschränke","IfcDistributionControlElement","-","IfcElectricDistributionBoard","-","-","-","-","TA-GA",3,{"$f":"VLOOKUP(O1132,LOI_LPH[],2,TRUE)","v":200}]
[482,"Leistungsteile ",482,null,null,"Anzahl Felder",null,"(TBD)",null,null,"Real","Stück","Zahl","ELT",5,{"$f":"VLOOKUP(O1133,LOI_LPH[],2,TRUE)","v":300}]
[482,"Leistungsteile ",482,null,null,"Bauart",null,"(TBD)",null,null,"IfcText"," -","Standschrank | Wandschrank","ELT",5,{"$f":"VLOOKUP(O1134,LOI_LPH[],2,TRUE)","v":300}]
[482,"Leistungsteile ",482,null,null,"Schaltschrank mit Leistungsteilen",null,"(TBD)",null,null,"IfcText"," -","Freitext","ELT",5,{"$f":"VLOOKUP(O1135,LOI_LPH[],2,TRUE)","v":300}]
[483,"Management- und Bedieneinrichtungen",483,null,null,"Management- und Bedieneinrichtungen","IfcDistributionFlowElement","-","IfcDistributionFlowElement","-","-","-","-","TA-GA",5,{"$f":"VLOOKUP(O1136,LOI_LPH[],2,TRUE)","v":300}]
[483,"Management- und Bedieneinrichtungen","483.10",null,null,"Zentraleinheit (Rechner)","IfcDistributionElement",null,"IfcCommunicationsAppliance","-","-","-","-","TA-GA",5,{"$f":"VLOOKUP(O1137,LOI_LPH[],2,TRUE)","v":300}]
[483,"Zentrale Einrichtungen ","483.10",null,null,"Anzahl Datenpunkte",null,"(TBD)",null,null,"Real","Stück","Zahl","TA-GA",5,{"$f":"VLOOKUP(O1138,LOI_LPH[],2,TRUE)","v":300}]
[483,"Zentrale Einrichtungen ","483.10",null,null,"Kommunikation über Bus",null,"(TBD)",null,null,"IfcText"," -","Freitext","TA-GA",5,{"$f":"VLOOKUP(O1139,LOI_LPH[],2,TRUE)","v":300}]
[483,"Zentrale Einrichtungen ","483.10",null,null,"Anzahl Rechner",null,"(TBD)",null,null,"Real","Stück","Zahl","TA-GA",5,{"$f":"VLOOKUP(O1140,LOI_LPH[],2,TRUE)","v":300}]
[483,"Management- und Bedieneinrichtungen","483.20",null,null,"Peripheriegeräte","IfcDistributionElement",null,"IfcCommunicationsAppliance","-","-","-","-","TA-GA",5,{"$f":"VLOOKUP(O1141,LOI_LPH[],2,TRUE)","v":300}]
[483,"Zentrale Einrichtungen ","483.20",null,null,"Anzahl Unterstationen",null,"(TBD)",null,null,"Real","Stück","Zahl","TA-GA",5,{"$f":"VLOOKUP(O1142,LOI_LPH[],2,TRUE)","v":300}]
[483,"Zentrale Einrichtungen ","483.20",null,null,"Anzahl Ein-/Ausgänge",null,"(TBD)",null,null,"Real","Stück","Zahl","TA-GA",5,{"$f":"VLOOKUP(O1143,LOI_LPH[],2,TRUE)","v":300}]
[483,"Management- und Bedieneinrichtungen","483.21",null,null,"Eingabegeräte","IfcDistributionElement",null,"IfcCommunicationsAppliance","-","-","-","-","TA-GA",5,{"$f":"VLOOKUP(O1144,LOI_LPH[],2,TRUE)","v":300}]
[483,"Zentrale Einrichtungen ","483.21",null,null,"Bauart Sonst. Eingabegeräte",null,"(TBD)",null,null,"IfcText"," -","Mikrofon | Headset | Camcorder","TA-GA",5,{"$f":"VLOOKUP(O1145,LOI_LPH[],2,TRUE)","v":300}]
[483,"Zentrale Einrichtungen ","483.21",null,null,"Bauart Text-Grafikeingabe",null,"(TBD)",null,null,"IfcText"," -","Tastatur|Grafiktablett","TA-GA",5,{"$f":"VLOOKUP(O1146,LOI_LPH[],2,TRUE)","v":300}]
[483,"Zentrale Einrichtungen ","483.21",null,null,"Bauart Zeichen- u. Bildeingabe",null,"(TBD)",null,null,"IfcText"," -","Scanner | Schriftleser | Digitalkamera","TA-GA",5,{"$f":"VLOOKUP(O1147,LOI_LPH[],2,TRUE)","v":300}]
[483,"Zentrale Einrichtungen ","483.21",null,null,"Bauart Zeigegerät",null,"(TBD)",null,null,"IfcText"," -","Maus | Trackball | Touchpad | Joystick | Lichtgriffel | Datenhandschuh","TA-GA",5,{"$f":"VLOOKUP(O1148,LOI_LPH[],2,TRUE)","v":300}]
[483,"Management- und Bedieneinrichtungen","483.22",null,null,"Ausgabe- und Anzeigegeräte","IfcDistributionElement",null,"IfcCommunicationsAppliance","-","-","-","-","TA-GA",5,{"$f":"VLOOKUP(O1149,LOI_LPH[],2,TRUE)","v":300}]
[483,"Zentrale Einrichtungen ","483.22",null,null,"Bauart aktustische Ausgabe",null,"(TBD)",null,null,"IfcText"," -","Lautsprecher | Heatset","TA-GA",5,{"$f":"VLOOKUP(O1150,LOI_LPH[],2,TRUE)","v":300}]
[483,"Zentrale Einrichtungen ","483.22",null,null,"Bauart Druckausgabe",null,"(TBD)",null,null,"IfcText"," -","Drucker | Typenraddrucker | Nadeldrucker | Tintenstrahldrucker | Thermodrucker | Laserdrucker | Plotter","TA-GA",5,{"$f":"VLOOKUP(O1151,LOI_LPH[],2,TRUE)","v":300}]
[483,"Zentrale Einrichtungen ","483.22",null,null,"Bauart Optische Ausgabe",null,"(TBD)",null,null,"IfcText"," -","Monitor | Anzeige | Projektor/Beamer","TA-GA",5,{"$f":"VLOOKUP(O1152,LOI_LPH[],2,TRUE)","v":300}]
[483,"Management- und Bedieneinrichtungen","483.23",null,null,"Externe Speicher","IfcDistributionElement",null,"IfcCommunicationsAppliance","-","-","-","-","TA-GA",5,{"$f":"VLOOKUP(O1153,LOI_LPH[],2,TRUE)","v":300}]
[483,"Zentrale Einrichtungen ","483.23",null,null,"Bauart Halbleiter-Speicher",null,"(TBD)",null,null,"IfcText"," -","Fash-Karten | Chipkarten","TA-GA",5,{"$f":"VLOOKUP(O1154,LOI_LPH[],2,TRUE)","v":300}]
[483,"Zentrale Einrichtungen ","483.23",null,null,"Bauart Magnet Speicher",null,"(TBD)",null,null,"IfcText"," -","Disketten-Laufwerk | Festplatten-Laufwerk | Magnetbandgeräte","TA-GA",5,{"$f":"VLOOKUP(O1155,LOI_LPH[],2,TRUE)","v":300}]
[483,"Zentrale Einrichtungen ","483.23",null,null,"Bauart MO-Laufwerk",null,"(TBD)",null,null,"IfcText"," -","Freitext","TA-GA",5,{"$f":"VLOOKUP(O1156,LOI_LPH[],2,TRUE)","v":300}]
[483,"Zentrale Einrichtungen ","483.23",null,null,"Bauart Optische Speicher",null,"(TBD)",null,null,"IfcText"," -","Disketten | CD-Laufwerke | DVD-Laufwerke | HD-DVD- Laufwerke | Blu-Ray- Laufwerke | UDO-Laufwerke | Jukeboxen","TA-GA",5,{"$f":"VLOOKUP(O1157,LOI_LPH[],2,TRUE)","v":300}]
[483,"Management- und Bedieneinrichtungen","483.30",null,null,"Unterzentralen","IfcDistributionElement",null,"IfcElectricDistributionBoard","-","-","-","-","TA-GA",5,{"$f":"VLOOKUP(O1158,LOI_LPH[],2,TRUE)","v":300}]
[483,"Management- und Bedieneinrichtungen","483.40",null,null,"Software","IfcDistributionElement",null,"IfcElectricDistributionBoard","-","-","-","-","TA-GA",5,{"$f":"VLOOKUP(O1159,LOI_LPH[],2,TRUE)","v":300}]
[484,"Raumautomationssysteme",484,null,null,"Raumautomationssysteme","IfcDistributionFlowElement","-","IfcDistributionFlowElement","-","-","-","-","TA-GA",3,{"$f":"VLOOKUP(O1160,LOI_LPH[],2,TRUE)","v":200}]
[484,"Raumautomationssysteme",484,null,null,"Funktionsbereich",null,"(TBD)",null,null,"IfcText"," -","Konstantlichtregelung | Tageslichtschaltung | Automatiklicht | Sonnenautomatik | Lamellennachführung | Verschattungskorrektur | Dämmerungsschaltung | Witterungsschutz | Energieniveauswahl | Fensterüberwachung | Sollwertermittlung | Temperaturregelung | Ventilatorsteuerung | Luftqualitätsregelung | Nachtkühlung | Thermoautomatik","TA-GA",5,{"$f":"VLOOKUP(O1161,LOI_LPH[],2,TRUE)","v":300}]
[485,"Übertragungsnetze",485,null,null,"Übertragungsnetze","IfcDistributionFlowElement","-","IfcDistributionFlowElement","-","-","-","-","TA-GA",3,{"$f":"VLOOKUP(O1162,LOI_LPH[],2,TRUE)","v":200}]
[485,"Übertragungsnetze",485,null,null,"Funktionsbereich",null,"(TBD)",null,null,"IfcText"," -","Konstantlichtregelung | Tageslichtschaltung | Automatiklicht | Sonnenautomatik | Lamellennachführung | Verschattungskorrektur | Dämmerungsschaltung | Witterungsschutz | Energieniveauswahl | Fensterüberwachung | Sollwertermittlung | Temperaturregelung | Ventilatorsteuerung | Luftqualitätsregelung | Nachtkühlung | Thermoautomatik","TA-GA",5,{"$f":"VLOOKUP(O1163,LOI_LPH[],2,TRUE)","v":300}]
[489,"Gebäudeautomation, Sonstiges ",489,null,null,"Gebäudeautomation, sonstiges","IfcDistributionFlowElement","-","IfcDistributionFlowElement","-","-","-","-","TA-GA",3,{"$f":"VLOOKUP(O1164,LOI_LPH[],2,TRUE)","v":200}]
[500,"Aussenanlagen",500,null,null,"Aussenanlagen","-","-","-","-","-","-","-","-","-",{"$f":"VLOOKUP(O1165,LOI_LPH[],2,TRUE)","v":"-"}]
[510,"Geländeflächen",510,null,null,"Geländeflächen","-","-","IfcBuildingElementProxy","-","-","-","-","-","-",{"$f":"VLOOKUP(O1166,LOI_LPH[],2,TRUE)","v":"-"}]
[511,"Oberboden",511,null,null,"Oberboden","IfcBuildingElementProxy","-","IfcBuildingElementProxy","-","-","-","-"," AU",3,{"$f":"VLOOKUP(O1167,LOI_LPH[],2,TRUE)","v":200}]
[511,"Oberboden",511,null,null,"Material",null,"(TBD)",null,null,"IfcText"," -","Freitext"," AU",3,{"$f":"VLOOKUP(O1168,LOI_LPH[],2,TRUE)","v":200}]
[512,"Boden",512,null,null,"Boden",null,"-",null,null,"IfcText"," -","Freitext"," AU",3,{"$f":"VLOOKUP(O1169,LOI_LPH[],2,TRUE)","v":200}]
[512,"Boden",512,null,null,"Material",null,"(TBD)",null,null,"IfcText"," -","Freitext"," AU",3,{"$f":"VLOOKUP(O1170,LOI_LPH[],2,TRUE)","v":200}]
[519,"Geländeflächen, sonstiges",519,null,null,"Geländeflächen, sonstiges",null,"-",null,null,"IfcText"," -","Freitext"," AU",3,{"$f":"VLOOKUP(O1171,LOI_LPH[],2,TRUE)","v":200}]
[520,"Befestigte Flächen",520,null,null,"Befestigte Flächen","-","-","-","-","-","-","-","-","-",{"$f":"VLOOKUP(O1172,LOI_LPH[],2,TRUE)","v":"-"}]
[521,"Wege",521,null,null,"Wege","IfcBuildingElementProxy","-","IfcBuildingElementProxy","-","-","-","-"," AU",3,{"$f":"VLOOKUP(O1173,LOI_LPH[],2,TRUE)","v":200}]
[521,"Wege",521,null,null,"Material",null,"(TBD)",null,null,"IfcText"," -","Freitext"," AU",3,{"$f":"VLOOKUP(O1174,LOI_LPH[],2,TRUE)","v":200}]
[522,"Straßen",522,null,null,"Straßen","IfcBuildingElementProxy","-","IfcBuildingElementProxy","-","-","-","-"," AU",3,{"$f":"VLOOKUP(O1175,LOI_LPH[],2,TRUE)","v":200}]
[521,"Straßen",522,null,null,"Material",null,"(TBD)",null,null,"IfcText"," -","Freitext"," AU",3,{"$f":"VLOOKUP(O1176,LOI_LPH[],2,TRUE)","v":200}]
[523,"Plätze, Höfe",523,null,null,"Plätze, Höfe","IfcBuildingElementProxy","-","IfcBuildingElementProxy","-","-","-","-"," AU",3,{"$f":"VLOOKUP(O1177,LOI_LPH[],2,TRUE)","v":200}]
[521,"Plätze, Höfe",523,null,null,"Material",null,"(TBD)",null,null,"IfcText"," -","Freitext"," AU",3,{"$f":"VLOOKUP(O1178,LOI_LPH[],2,TRUE)","v":200}]
[524,"Stellplätze",524,null,null,"Stellplätze","IfcBuildingElementProxy","-","IfcBuildingElementProxy","-","-","-","-"," AU",3,{"$f":"VLOOKUP(O1179,LOI_LPH[],2,TRUE)","v":200}]
[524,"Stellplätze",524,null,null,"Material",null,"(TBD)",null,null,"IfcText"," -","Freitext"," AU",3,{"$f":"VLOOKUP(O1180,LOI_LPH[],2,TRUE)","v":200}]
[525,"Sportplatzflächen",525,null,null,"Sportplatzflächen","IfcBuildingElementProxy","-","IfcBuildingElementProxy","-","-","-","-"," AU",3,{"$f":"VLOOKUP(O1181,LOI_LPH[],2,TRUE)","v":200}]
[525,"Sportplatzflächen",525,null,null,"Material",null,"(TBD)",null,null,"IfcText"," -","Freitext"," AU",3,{"$f":"VLOOKUP(O1182,LOI_LPH[],2,TRUE)","v":200}]
[526,"Spielplatzflächen",526,null,null,"Spielplatzflächen","IfcBuildingElementProxy","-","IfcBuildingElementProxy","-","-","-","-"," AU",3,{"$f":"VLOOKUP(O1183,LOI_LPH[],2,TRUE)","v":200}]
[526,"Spielplatzflächen",526,null,null,"Material",null,"(TBD)",null,null,"IfcText"," -","Freitext"," AU",3,{"$f":"VLOOKUP(O1184,LOI_LPH[],2,TRUE)","v":200}]
[526,"Spielplatzflächen","526.10",null,null,"Spielplatzgeräte","IfcBuildingElementProxy","-","IfcBuildingElementProxy","-","-","-","-"," AU",3,{"$f":"VLOOKUP(O1185,LOI_LPH[],2,TRUE)","v":200}]
[529,"Befestigte Flächen, sonstiges",529,null,null,"Befestigte Flächen, sonstiges","IfcBuildingElementProxy","-","IfcBuildingElementProxy","-","-","-","-"," AU",3,{"$f":"VLOOKUP(O1186,LOI_LPH[],2,TRUE)","v":200}]
[530,"Baukonstruktionen in Außenanlagen",530,null,null,"Baukonstruktionen in Außenanlagen","-","-","-","-","-","-","-","-","-",{"$f":"VLOOKUP(O1187,LOI_LPH[],2,TRUE)","v":"-"}]
[531,"Einfriedungen",531,null,null,"Einfriedungen","-","-","IfcBuildingElementProxy","-","-","-","-","-","-",{"$f":"VLOOKUP(O1188,LOI_LPH[],2,TRUE)","v":"-"}]
[531,"Einfriedungen","531.10",null,null,"Mauern, Zäune","IfcWall","-","IfcWall","-","-","-","-"," AU",3,{"$f":"VLOOKUP(O1189,LOI_LPH[],2,TRUE)","v":200}]
[531,"Einfriedungen","531.20",null,null,"Türen in Einfriedung","IfcDoor","-","IfcDoor","-","-","-","-"," AU",3,{"$f":"VLOOKUP(O1190,LOI_LPH[],2,TRUE)","v":200}]
[531,"Einfriedungen","531.25",null,null,"Tore in Einfriedung","IfcDoor","-","IfcDoor","-","-","-","-"," AU",3,{"$f":"VLOOKUP(O1191,LOI_LPH[],2,TRUE)","v":200}]
[531,"Einfriedungen","531.30",null,null,"Schrankenanlagen","IfcDoor","-","IfcDoor","-","-","-","-"," AU",5,{"$f":"VLOOKUP(O1192,LOI_LPH[],2,TRUE)","v":300}]
[531,"Einfriedungen","531.40",null,null,"Wegesperren","IfcBuildingElementProxy","-","IfcBuildingElementProxy","-","-","-","-"," AU",5,{"$f":"VLOOKUP(O1193,LOI_LPH[],2,TRUE)","v":300}]
[532,"Schutzkonstruktionen",532,null,null,"Schutzkonstruktionen","IfcBuildingElementProxy","-","IfcBuildingElementProxy","-","-","-","-"," AU",3,{"$f":"VLOOKUP(O1194,LOI_LPH[],2,TRUE)","v":200}]
[533,"Mauern, Wände",533,null,null,"Mauern, Wände","IfcWall","-","IfcWall","-","-","-","-"," AU",3,{"$f":"VLOOKUP(O1195,LOI_LPH[],2,TRUE)","v":200}]
[534,"Rampen, Treppen, Tribünen",534,null,null,"Rampen, Treppen, Tribünen","IfcRamp, IfcStair, IfcBuildingElementProxy","-","IfcRamp, IfcStair, IfcBuildingElementProxy","-","-","-","-"," AU",3,{"$f":"VLOOKUP(O1196,LOI_LPH[],2,TRUE)","v":200}]
[535,"Überdachungen",535,null,null,"Überdachungen","IfcRoof, IfcBuildingElementProxy","-","IfcBuildingElementProxy","-","-","-","-"," AU",3,{"$f":"VLOOKUP(O1197,LOI_LPH[],2,TRUE)","v":200}]
[536,"Brücken, Stege",536,null,null,"Brücken, Stege","IfcBuildingElementProxy","-","IfcBuildingElementProxy","-","-","-","-"," AU",3,{"$f":"VLOOKUP(O1198,LOI_LPH[],2,TRUE)","v":200}]
[537,"Kanal- und Schachtbauanlagen",537,null,null,"Kanal- und Schachtbauanlagen","-","-","IfcBuildingElementProxy","-","-","-","-","HLSK",3,{"$f":"VLOOKUP(O1199,LOI_LPH[],2,TRUE)","v":200}]
[537,"Kanal- und Schachtkonstruktionen","537.10",null,null,"Kanalisationsleitungen, Abwasserleitungen","-","-","IfcPipeSegment","-","-","-","-","HLSK",3,{"$f":"VLOOKUP(O1200,LOI_LPH[],2,TRUE)","v":200}]
[537,"Kanal- und Schachtkonstruktionen","537.11",null,null,"Mischwasserleitungen","IfcDistributionFlowElement","-","IfcPipeSegment","-","-","-","-","HLSK",3,{"$f":"VLOOKUP(O1201,LOI_LPH[],2,TRUE)","v":200}]
[537,"Kanal- und Schachtkonstruktionen","537.12",null,null,"Schmutzwasserleitungen","IfcDistributionFlowElement","-","IfcPipeSegment","-","-","-","-","HLSK",3,{"$f":"VLOOKUP(O1202,LOI_LPH[],2,TRUE)","v":200}]
[537,"Kanal- und Schachtkonstruktionen","537.13",null,null,"Regenwasserleitungen","IfcDistributionFlowElement","-","IfcPipeSegment","-","-","-","-","HLSK",3,{"$f":"VLOOKUP(O1203,LOI_LPH[],2,TRUE)","v":200}]
[537,"Kanal- und Schachtkonstruktionen","537.20",null,null,"Kanalisationsschächte","IfcDistributionChamberElement","-","IfcDistributionChamberElement","-","-","-","-","HLSK",3,{"$f":"VLOOKUP(O1204,LOI_LPH[],2,TRUE)","v":200}]
[538,"Wasserbauliche Anlagen",538,null,null,"Wasserbauliche Anlagen","-","-","IfcBuildingElementProxy","-","-","-","-","HLSK",3,{"$f":"VLOOKUP(O1205,LOI_LPH[],2,TRUE)","v":200}]
[538,"Wasserbauliche Anlagen","538.20",null,null,"Löschwasser-Rückhaltebecken","IfcBuildingElementProxy","-","IfcBuildingElementProxy","-","-","-","-","HLSK",3,{"$f":"VLOOKUP(O1206,LOI_LPH[],2,TRUE)","v":200}]
[538,"Wasserbauliche Anlagen","538.40",null,null,"Brunnen","IfcBuildingElementProxy","-","IfcBuildingElementProxy","-","-","-","-","HLSK",3,{"$f":"VLOOKUP(O1207,LOI_LPH[],2,TRUE)","v":200}]
[538,"Wasserbauliche Anlagen","538.41",null,null,"Zierbrunnen","IfcBuildingElementProxy","-","IfcBuildingElementProxy","-","-","-","-","HLSK",3,{"$f":"VLOOKUP(O1208,LOI_LPH[],2,TRUE)","v":200}]
[538,"Wasserbauliche Anlagen","538.41",null,null,"Nennvolumen",null,"(TBD)",null,null,"Real","m3","Zahl","HLSK",5,{"$f":"VLOOKUP(O1209,LOI_LPH[],2,TRUE)","v":300}]
[539,"Baukonstruktionen in Außenanlagen, sonstiges",539,null,null,"Baukonstruktionen in Außenanlagen, sonstiges","-","-","IfcBuildingElementProxy","-","-","-","-","-",3,{"$f":"VLOOKUP(O1210,LOI_LPH[],2,TRUE)","v":200}]
[539,"Baukonstruktionen in Außenanlagen, sonstiges","539.10",null,null,"Freistehende Schornsteine","IfcChimney","-","IfcChimney","-","-","-","-","-",3,{"$f":"VLOOKUP(O1211,LOI_LPH[],2,TRUE)","v":200}]
[539,"Baukonstruktionen in Außenanlagen, sonstiges","539.11",null,null,"Freistehende Mauerwerksschornsteine","IfcChimney","-","IfcChimney","-","-","-","-","-",3,{"$f":"VLOOKUP(O1212,LOI_LPH[],2,TRUE)","v":200}]
[539,"Baukonstruktionen in Außenanlagen, sonstiges","539.12",null,null,"Freistehende Stahlschornsteine","IfcChimney","-","IfcChimney","-","-","-","-","-",3,{"$f":"VLOOKUP(O1213,LOI_LPH[],2,TRUE)","v":200}]
[540,"Technische Anlagen in Außenanlagen",540,null,null,"Technische Anlagen in Außenanlagen","-","-","-","-","-","-","-","-","-",{"$f":"VLOOKUP(O1214,LOI_LPH[],2,TRUE)","v":"-"}]
[541,"Abwasseranlagen",541,null,null,"Abwasseranlagen, Grundstücksentwässerungsanlagen","-","-","IfcBuildingElementProxy","-","-","-","-","HLSK",3,{"$f":"VLOOKUP(O1215,LOI_LPH[],2,TRUE)","v":200}]
[541,"Abwasseranlagen","541.10",null,null,"Kleinkläranlagen","IfcBuildingElementProxy","-","IfcBuildingElementProxy","-","-","-","-","HLSK",3,{"$f":"VLOOKUP(O1216,LOI_LPH[],2,TRUE)","v":200}]
[541,"Abwasseranlagen","541.10",null,null,"Nenndurchfluss",null,"(TBD)",null,null,"Real","m3/h","Zahl","HLSK",5,{"$f":"VLOOKUP(O1217,LOI_LPH[],2,TRUE)","v":300}]
[541,"Abwasseranlagen","541.10",null,null,"Nenninhalt",null,"(TBD)",null,null,"Real"," -","Zahl","HLSK",5,{"$f":"VLOOKUP(O1218,LOI_LPH[],2,TRUE)","v":300}]
[541,"Abwasseranlagen","541.20",null,null,"Sammelgruben","IfcBuildingElementProxy","-","IfcBuildingElementProxy","-","-","-","-","HLSK",3,{"$f":"VLOOKUP(O1219,LOI_LPH[],2,TRUE)","v":200}]
[541,"Abwasseranlagen","541.20",null,null,"Nenndurchfluss",null,"(TBD)",null,null,"Real","m3/h","Zahl","HLSK",5,{"$f":"VLOOKUP(O1220,LOI_LPH[],2,TRUE)","v":300}]
[541,"Abwasseranlagen","541.20",null,null,"Nenninhalt",null,"(TBD)",null,null,"Real"," -","Zahl","HLSK",5,{"$f":"VLOOKUP(O1221,LOI_LPH[],2,TRUE)","v":300}]
[541,"Abwasseranlagen","541.60",null,null,"Abscheideranlagen","IfcFlowTreatmentDevice ","-","IfcInterceptor","-","-","-","-","HLSK",3,{"$f":"VLOOKUP(O1222,LOI_LPH[],2,TRUE)","v":200}]
[541,"Abwasseranlagen","541.61",null,null,"Abscheideranlagen für Leichtflüssigkeiten","IfcFlowTreatmentDevice ","-","IfcInterceptor","-","-","-","-","HLSK",3,{"$f":"VLOOKUP(O1223,LOI_LPH[],2,TRUE)","v":200}]
[541,"Abwasseranlagen","541.61",null,null,"Nenndurchfluss",null,"(TBD)",null,null,"Real","m3/h","Zahl","HLSK",5,{"$f":"VLOOKUP(O1224,LOI_LPH[],2,TRUE)","v":300}]
[541,"Abwasseranlagen","541.61",null,null,"Nenngröße",null,"(TBD)",null,null,"Real"," -","Zahl","HLSK",5,{"$f":"VLOOKUP(O1225,LOI_LPH[],2,TRUE)","v":300}]
[541,"Abwasseranlagen","541.62",null,null,"Abscheideranlagen für Fette","IfcFlowTreatmentDevice ","-","IfcInterceptor/GREASE","-","-","-","-","HLSK",3,{"$f":"VLOOKUP(O1226,LOI_LPH[],2,TRUE)","v":200}]
[541,"Abwasseranlagen","541.62",null,null,"Nenndurchfluss",null,"(TBD)",null,null,"Real","m3/h","Zahl","HLSK",5,{"$f":"VLOOKUP(O1227,LOI_LPH[],2,TRUE)","v":300}]
[541,"Abwasseranlagen","541.62",null,null,"Nenngröße",null,"(TBD)",null,null,"Real"," -","Zahl","HLSK",5,{"$f":"VLOOKUP(O1228,LOI_LPH[],2,TRUE)","v":300}]
[541,"Abwasseranlagen","541.63",null,null,"Abscheideranlagen für Stärke","IfcFlowTreatmentDevice ","-","IfcInterceptor","-","-","-","-","HLSK",3,{"$f":"VLOOKUP(O1229,LOI_LPH[],2,TRUE)","v":200}]
[541,"Abwasseranlagen","541.63",null,null,"Nenndurchfluss",null,"(TBD)",null,null,"Real","m3/h","Zahl","HLSK",5,{"$f":"VLOOKUP(O1230,LOI_LPH[],2,TRUE)","v":300}]
[541,"Abwasseranlagen","541.63",null,null,"Nenngröße",null,"(TBD)",null,null,"Real"," -","Zahl","HLSK",5,{"$f":"VLOOKUP(O1231,LOI_LPH[],2,TRUE)","v":300}]
[541,"Abwasseranlagen","541.64",null,null,"Sand- und Schlammfänge","IfcFlowTreatmentDevice ","-","IfcInterceptor","-","-","-","-","HLSK",3,{"$f":"VLOOKUP(O1232,LOI_LPH[],2,TRUE)","v":200}]
[541,"Abwasseranlagen","541.64",null,null,"Nenndurchfluss",null,"(TBD)",null,null,"Real","m3/h","Zahl","HLSK",5,{"$f":"VLOOKUP(O1233,LOI_LPH[],2,TRUE)","v":300}]
[541,"Abwasseranlagen","541.64",null,null,"Nenngröße",null,"(TBD)",null,null,"Real"," -","Zahl","HLSK",5,{"$f":"VLOOKUP(O1234,LOI_LPH[],2,TRUE)","v":300}]
[542,"Wasseranlagen",542,null,null,"Wasseranlagen","IfcBuildingElementProxy","-","IfcBuildingElementProxy","-","-","-","-","HLSK",3,{"$f":"VLOOKUP(O1235,LOI_LPH[],2,TRUE)","v":200}]
[542,"Wasseranlagen",542,null,null,"Förderhöhe",null,"(TBD)",null,null,"Real","m","Zahl","HLSK",5,{"$f":"VLOOKUP(O1236,LOI_LPH[],2,TRUE)","v":300}]
[542,"Wasseranlagen",542,null,null,"Fördermenge",null,"(TBD)",null,null,"Real","m3/h","Zahl","HLSK",5,{"$f":"VLOOKUP(O1237,LOI_LPH[],2,TRUE)","v":300}]
[542,"Wasseranlagen",542,null,null,"Nenndruck",null,"(TBD)",null,null,"Real","Pa","Zahl","HLSK",5,{"$f":"VLOOKUP(O1238,LOI_LPH[],2,TRUE)","v":300}]
[542,"Wasseranlagen",542,null,null,"Nenninhalt",null,"(TBD)",null,null,"Real","m3","Zahl","HLSK",5,{"$f":"VLOOKUP(O1239,LOI_LPH[],2,TRUE)","v":300}]
[542,"Wasseranlagen",542,null,null,"Nennleistung",null,"(TBD)","NominalCapacity",null,"IfcPowerMeasure","kW","Zahl","HLSK",5,{"$f":"VLOOKUP(O1240,LOI_LPH[],2,TRUE)","v":300}]
[543,"Gasanlagen",543,null,null,"Gasanlagen","IfcBuildingElementProxy","-","IfcBuildingElementProxy","-","-","-","-","HLSK",3,{"$f":"VLOOKUP(O1241,LOI_LPH[],2,TRUE)","v":200}]
[543,"Gasanlagen","543.20",null,null,"Flüssiggasanlagen","IfcBuildingElementProxy","-","IfcBuildingElementProxy","-","-","-","-","HLSK",3,{"$f":"VLOOKUP(O1242,LOI_LPH[],2,TRUE)","v":200}]
[543,"Gasanlagen","543.21",null,null,"Flüssiggastanks","IfcFlowStorageDevice","-","IfcTank","-","-","-","-","HLSK",3,{"$f":"VLOOKUP(O1243,LOI_LPH[],2,TRUE)","v":200}]
[543,"Gasanlagen","543.21",null,null,"Brennstoffart",null,"(TBD)",null,null,"IfcText"," -","Freitext","HLSK",5,{"$f":"VLOOKUP(O1244,LOI_LPH[],2,TRUE)","v":300}]
[543,"Gasanlagen","543.21",null,null,"Nennvolumen",null,"(TBD)",null,null,"Real","m3","Zahl","HLSK",5,{"$f":"VLOOKUP(O1245,LOI_LPH[],2,TRUE)","v":300}]
[543,"Gasanlagen","543.21",null,null,"Nenndruck",null,"(TBD)",null,null,"Real","Pa","Zahl","HLSK",5,{"$f":"VLOOKUP(O1246,LOI_LPH[],2,TRUE)","v":300}]
[544,"Wärmeversorgungsanlagen",544,null,null,"Wärmeversorgungsanlagen","IfcBuildingElementProxy","-","IfcBuildingElementProxy","-","-","-","-","HLSK",3,{"$f":"VLOOKUP(O1247,LOI_LPH[],2,TRUE)","v":200}]
[544,"Wärmeversorgungsanlagen",544,null,null,"Förderhöhe",null,"(TBD)",null,null,"Real","m","Zahl","HLSK",5,{"$f":"VLOOKUP(O1248,LOI_LPH[],2,TRUE)","v":300}]
[544,"Wärmeversorgungsanlagen",544,null,null,"Fördermenge",null,"(TBD)",null,null,"Real","m3/h","Zahl","HLSK",5,{"$f":"VLOOKUP(O1249,LOI_LPH[],2,TRUE)","v":300}]
[544,"Wärmeversorgungsanlagen",544,null,null,"Nenndruck",null,"(TBD)",null,null,"Real","Pa","Zahl","HLSK",5,{"$f":"VLOOKUP(O1250,LOI_LPH[],2,TRUE)","v":300}]
[544,"Wärmeversorgungsanlagen",544,null,null,"Nenninhalt",null,"(TBD)",null,null,"Real","m3","Zahl","HLSK",5,{"$f":"VLOOKUP(O1251,LOI_LPH[],2,TRUE)","v":300}]
[544,"Wärmeversorgungsanlagen",544,null,null,"Nennleistung",null,"(TBD)","NominalCapacity",null,"IfcPowerMeasure","kW","Zahl","HLSK",5,{"$f":"VLOOKUP(O1252,LOI_LPH[],2,TRUE)","v":300}]
[545,"Lufttechnische Anlagen ",545,null,null,"Lufttechnische Anlagen","IfcBuildingElementProxy","-","IfcBuildingElementProxy","-","-","-","-","HLSK",3,{"$f":"VLOOKUP(O1253,LOI_LPH[],2,TRUE)","v":200}]
[545,"Lufttechnische Anlagen ",545,null,null,"Nennleistung",null,"(TBD)","NominalCapacity",null,"IfcPowerMeasure","kW","Zahl","HLSK",5,{"$f":"VLOOKUP(O1254,LOI_LPH[],2,TRUE)","v":300}]
[545,"Lufttechnische Anlagen ",545,null,null,"Volumenstrom",null,"(TBD)",null,null,"Real","m3/h","Zahl","HLSK",5,{"$f":"VLOOKUP(O1255,LOI_LPH[],2,TRUE)","v":300}]
[546,"Starkstromanlagen",546,null,null,"Starkstromanlagen","IfcBuildingElementProxy","-","IfcBuildingElementProxy","-","-","-","-","ELT",3,{"$f":"VLOOKUP(O1256,LOI_LPH[],2,TRUE)","v":200}]
[546,"Starkstromanlagen","546.50",null,null,"Außenbeleuchtungsanlagen","IfcBuildingElementProxy","-","IfcBuildingElementProxy","-","-","-","-","ELT",3,{"$f":"VLOOKUP(O1257,LOI_LPH[],2,TRUE)","v":200}]
[546,"Starkstromanlagen","546.50",null,null,"Höhe",null,"(TBD)",null,null,"Real","m","Zahl","ELT",5,{"$f":"VLOOKUP(O1258,LOI_LPH[],2,TRUE)","v":300}]
[546,"Starkstromanlagen","546.50",null,null,"Leuchtmittel Art",null,"(TBD)",null,null,"IfcText"," -","Freitext","ELT",5,{"$f":"VLOOKUP(O1259,LOI_LPH[],2,TRUE)","v":300}]
[546,"Starkstromanlagen","546.50",null,null,"Leuchtmittel Bestückung",null,"(TBD)",null,null,"Real"," -","Zahl","ELT",5,{"$f":"VLOOKUP(O1260,LOI_LPH[],2,TRUE)","v":300}]
[546,"Starkstromanlagen","546.50",null,null,"Nennleistung",null,"(TBD)","NominalCapacity",null,"IfcPowerMeasure","kW","Zahl","ELT",5,{"$f":"VLOOKUP(O1261,LOI_LPH[],2,TRUE)","v":300}]
[547,"Fernmelde- und informationstechnische Anlagen",547,null,null,"Fernmelde- und informationstechnische Anlagen","-","-","IfcBuildingElementProxy","-","-","-","-","GA",3,{"$f":"VLOOKUP(O1262,LOI_LPH[],2,TRUE)","v":200}]
[547,"Fernmelde- und informationstechnische Anlagen","547.10",null,null,"Antennenanlagen",null,null,null,null,null,null,null,"GA",3,{"$f":"VLOOKUP(O1263,LOI_LPH[],2,TRUE)","v":200}]
[547,"Fernmelde- und informationstechnische Anlagen","547.11",null,null,"Antennenanlagen (bis 10 m Höhe)","IfcDistributionFlowElement","-","IfcBuildingElementProxy","-","-","-","-","GA",3,{"$f":"VLOOKUP(O1264,LOI_LPH[],2,TRUE)","v":200}]
[547,"Fernmelde- und informationstechnische Anlagen","547.12",null,null,"Antennenanlagen (über 10 m Höhe)","IfcDistributionFlowElement","-","IfcBuildingElementProxy","-","-","-","-","GA",3,{"$f":"VLOOKUP(O1265,LOI_LPH[],2,TRUE)","v":200}]
[547,"Fernmelde- und informationstechnische Anlagen","547.20",null,null,"Verkehrssignalanlagen",null,null,null,null,null,null,null,"GA",3,{"$f":"VLOOKUP(O1266,LOI_LPH[],2,TRUE)","v":200}]
[547,"Fernmelde- und informationstechnische Anlagen","547.20",null,null,"Anzahl aktive Leittafeln",null,"(TBD)",null,null,"Real","Stück","Zahl","GA",5,{"$f":"VLOOKUP(O1267,LOI_LPH[],2,TRUE)","v":300}]
[547,"Fernmelde- und informationstechnische Anlagen","547.20",null,null,"Anzahl Lichtsignale",null,"(TBD)",null,null,"Real","Stück","Zahl","GA",5,{"$f":"VLOOKUP(O1268,LOI_LPH[],2,TRUE)","v":300}]
[547,"Fernmelde- und informationstechnische Anlagen","547.20",null,null,"Anzahl passive Leittafeln",null,"(TBD)",null,null,"Real","Stück","Zahl","GA",5,{"$f":"VLOOKUP(O1269,LOI_LPH[],2,TRUE)","v":300}]
[547,"Fernmelde- und informationstechnische Anlagen","547.20",null,null,"Anzahl Sprechstellen",null,"(TBD)",null,null,"Real","Stück","Zahl","GA",5,{"$f":"VLOOKUP(O1270,LOI_LPH[],2,TRUE)","v":300}]
[548,"Nutzungsspezifische Anlagen",548,null,null,"Nutzungsspezifische Anlagen","IfcBuildingElementProxy","-","IfcBuildingElementProxy","-","-","-","-","TA",3,{"$f":"VLOOKUP(O1271,LOI_LPH[],2,TRUE)","v":200}]
[548,"Nutzungsspezifische Anlagen","548.10",null,null,"Medienversorgungsanlagen","IfcBuildingElementProxy","-","IfcBuildingElementProxy","-","-","-","-","TA",3,{"$f":"VLOOKUP(O1272,LOI_LPH[],2,TRUE)","v":200}]
[548,"Nutzungsspezifische Anlagen","548.10",null,null,"Förderhöhe",null,"(TBD)",null,null,"Real","m","Zahl","TA",5,{"$f":"VLOOKUP(O1273,LOI_LPH[],2,TRUE)","v":300}]
[548,"Nutzungsspezifische Anlagen","548.10",null,null,"Fördermenge",null,"(TBD)",null,null,"Real","m3/h","Zahl","TA",5,{"$f":"VLOOKUP(O1274,LOI_LPH[],2,TRUE)","v":300}]
[548,"Nutzungsspezifische Anlagen","548.10",null,null,"Nenndruck",null,"(TBD)",null,null,"Real","Pa","Zahl","TA",5,{"$f":"VLOOKUP(O1275,LOI_LPH[],2,TRUE)","v":300}]
[548,"Nutzungsspezifische Anlagen","548.10",null,null,"Nenninhalt",null,"(TBD)",null,null,"Real","m3","Zahl","TA",5,{"$f":"VLOOKUP(O1276,LOI_LPH[],2,TRUE)","v":300}]
[548,"Nutzungsspezifische Anlagen","548.20",null,null,"Tankläger","IfcFlowStorageDevice","-","IfcTank","-","-","-","-","TA",3,{"$f":"VLOOKUP(O1277,LOI_LPH[],2,TRUE)","v":200}]
[548,"Nutzungsspezifische Anlagen","548.21",null,null,"Tankläger kl 10000 l",null,"-",null,null,"Real","m","Zahl","TA",5,{"$f":"VLOOKUP(O1278,LOI_LPH[],2,TRUE)","v":300}]
[548,"Nutzungsspezifische Anlagen","548.22",null,null,"Tankläger gr 10000 l",null,"-",null,null,"Real","m","Zahl","TA",5,{"$f":"VLOOKUP(O1279,LOI_LPH[],2,TRUE)","v":300}]
[548,"Nutzungsspezifische Anlagen","548.21",null,null,"Förderhöhe",null,"(TBD)",null,null,"Real","m","Zahl","TA",5,{"$f":"VLOOKUP(O1280,LOI_LPH[],2,TRUE)","v":300}]
[548,"Nutzungsspezifische Anlagen","548.21",null,null,"Fördermenge",null,"(TBD)",null,null,"Real","m3/h","Zahl","TA",5,{"$f":"VLOOKUP(O1281,LOI_LPH[],2,TRUE)","v":300}]
[548,"Nutzungsspezifische Anlagen","548.21",null,null,"Nenndruck",null,"(TBD)",null,null,"Real","Pa","Zahl","TA",5,{"$f":"VLOOKUP(O1282,LOI_LPH[],2,TRUE)","v":300}]
[548,"Nutzungsspezifische Anlagen","548.21",null,null,"Nenninhalt",null,"(TBD)",null,null,"Real","m3","Zahl","TA",5,{"$f":"VLOOKUP(O1283,LOI_LPH[],2,TRUE)","v":300}]
[548,"Nutzungsspezifische Anlagen","548.30",null,null,"Tankstellenanlagen","IfcBuildingElementProxy","-","IfcBuildingElementProxy","-","-","-","-","TA",3,{"$f":"VLOOKUP(O1284,LOI_LPH[],2,TRUE)","v":200}]
[548,"Nutzungsspezifische Anlagen","548.40",null,null,"Flugfeldbetankungsanlagen","IfcBuildingElementProxy","-","IfcBuildingElementProxy","-","-","-","-","TA",3,{"$f":"VLOOKUP(O1285,LOI_LPH[],2,TRUE)","v":200}]
[548,"Nutzungsspezifische Anlagen","548.40",null,null,"Förderhöhe",null,"(TBD)",null,null,"Real","m","Zahl","TA",5,{"$f":"VLOOKUP(O1286,LOI_LPH[],2,TRUE)","v":300}]
[548,"Nutzungsspezifische Anlagen","548.40",null,null,"Fördermenge",null,"(TBD)",null,null,"Real","m3/h","Zahl","TA",5,{"$f":"VLOOKUP(O1287,LOI_LPH[],2,TRUE)","v":300}]
[548,"Nutzungsspezifische Anlagen","548.40",null,null,"Nenndruck",null,"(TBD)",null,null,"Real","Pa","Zahl","TA",5,{"$f":"VLOOKUP(O1288,LOI_LPH[],2,TRUE)","v":300}]
[549,"Technische Anlagen in Außenanlagen, sonstiges",549,null,null,"Technische Anlagen in Außenanlagen, sonstiges","IfcDistributionElement","-","IfcBuildingElementProxy","-","-","-","-","GA",3,{"$f":"VLOOKUP(O1289,LOI_LPH[],2,TRUE)","v":200}]
[550,"Einbauten in Außenanlagen",550,null,null,"Einbauten in Außenanlagen","-","-","-","-","-","-","-","-","-",{"$f":"VLOOKUP(O1290,LOI_LPH[],2,TRUE)","v":"-"}]
[551,"Allgemeine Einbauten",551,null,null,"Allgemeine Einbauten","IfcBuildingElementProxy","-","IfcBuildingElementProxy","-","-","-","-"," AU",3,{"$f":"VLOOKUP(O1291,LOI_LPH[],2,TRUE)","v":200}]
[551,"Allgemeine Einbauten","551.20",null,null,"Fahrradständer","IfcBuildingElementProxy","-","IfcBuildingElementProxy","-","-","-","-"," AU",3,{"$f":"VLOOKUP(O1292,LOI_LPH[],2,TRUE)","v":200}]
[552,"Besondere Einbauten",552,null,null,"Besondere Einbauten","IfcBuildingElementProxy","-","IfcBuildingElementProxy","-","-","-","-"," AU",3,{"$f":"VLOOKUP(O1293,LOI_LPH[],2,TRUE)","v":200}]
[559,"Einbauten in Außenanlagen, sonstiges",559,null,null,"Einbauten in Außenanlagen, sonstiges","IfcBuildingElementProxy","-","IfcBuildingElementProxy","-","-","-","-"," AU",3,{"$f":"VLOOKUP(O1294,LOI_LPH[],2,TRUE)","v":200}]
[560,"Wasserflächen",560,null,null,"Wasserflächen","-","-","-","-","-","-","-","-","-",{"$f":"VLOOKUP(O1295,LOI_LPH[],2,TRUE)","v":"-"}]
[561,"Abdichtungen",561,null,null,"Abdichtungen","IfcBuildingElementProxy","-","IfcBuildingElementProxy","-","-","-","-","-","-",{"$f":"VLOOKUP(O1296,LOI_LPH[],2,TRUE)","v":"-"}]
[562,"Bepflanzungen",562,null,null,"Bepflanzungen","IfcBuildingElementProxy","-","IfcBuildingElementProxy","-","-","-","-","-","-",{"$f":"VLOOKUP(O1297,LOI_LPH[],2,TRUE)","v":"-"}]
[569,"Wasserflächen, sonstiges",569,null,null,"Wasserflächen, sonstiges","IfcBuildingElementProxy","-","IfcBuildingElementProxy","-","-","-","-","-","-",{"$f":"VLOOKUP(O1298,LOI_LPH[],2,TRUE)","v":"-"}]
[570,"Pflanz- und Saatflächen",570,null,null,"Pflanz- und Saatflächen","-","-","-","-","-","-","-","-","-",{"$f":"VLOOKUP(O1299,LOI_LPH[],2,TRUE)","v":"-"}]
[571,"Oberbodenarbeiten",571,null,null,"Oberbodenarbeiten","IfcBuildingElementProxy","-","IfcBuildingElementProxy","-","-","-","-","-","-",{"$f":"VLOOKUP(O1300,LOI_LPH[],2,TRUE)","v":"-"}]
[572,"Vegetationstechnische Bodenbearbeitung",572,null,null,"Vegetationstechnische Bodenbearbeitung","IfcBuildingElementProxy","-","IfcBuildingElementProxy","-","-","-","-","-","-",{"$f":"VLOOKUP(O1301,LOI_LPH[],2,TRUE)","v":"-"}]
[573,"Sicherungsbauweisen",573,null,null,"Sicherungsbauweisen","IfcBuildingElementProxy","-","IfcBuildingElementProxy","-","-","-","-","-","-",{"$f":"VLOOKUP(O1302,LOI_LPH[],2,TRUE)","v":"-"}]
[574,"Pflanzen",574,null,null,"Pflanzen","IfcBuildingElementProxy","-","IfcBuildingElementProxy","-","-","-","-","-","-",{"$f":"VLOOKUP(O1303,LOI_LPH[],2,TRUE)","v":"-"}]
[574,"Pflanzen","574.10",null,null,"Bäume","IfcBuildingElementProxy","-","IfcBuildingElementProxy","-","-","-","-"," AU",3,{"$f":"VLOOKUP(O1304,LOI_LPH[],2,TRUE)","v":200}]
[574,"Pflanzen","574.20",null,null,"Büsche, Sträucher","IfcBuildingElementProxy","-","IfcBuildingElementProxy","-","-","-","-"," AU",3,{"$f":"VLOOKUP(O1305,LOI_LPH[],2,TRUE)","v":200}]
[575,"Rasen und Ansaaten",575,null,null,"Rasen und Ansaaten","IfcBuildingElementProxy","-","IfcBuildingElementProxy","-","-","-","-"," AU",3,{"$f":"VLOOKUP(O1306,LOI_LPH[],2,TRUE)","v":200}]
[576,"Begrünung unterbauter Flächen",576,null,null,"Begrünung unterbauter Flächen","IfcBuildingElementProxy","-","IfcBuildingElementProxy","-","-","-","-"," AU",3,{"$f":"VLOOKUP(O1307,LOI_LPH[],2,TRUE)","v":200}]
[579,"Pflanz- und Saatflächen, sonstiges",579,null,null,"Pflanz- und Saatflächen, sonstiges","IfcBuildingElementProxy","-","IfcBuildingElementProxy","-","-","-","-"," AU",3,{"$f":"VLOOKUP(O1308,LOI_LPH[],2,TRUE)","v":200}]
[590,"Sonstige Außenanlagen",590,null,null,"Sonstige Außenanlagen","-","-","-","-","-","-","-"," AU",3,{"$f":"VLOOKUP(O1309,LOI_LPH[],2,TRUE)","v":200}]
[600,"Ausstattung",600,null,null,"Ausstattung","-","-","-","-","-","-","-","-","-",{"$f":"VLOOKUP(O1310,LOI_LPH[],2,TRUE)","v":"-"}]
[610,"Ausstattung",610,null,null,"Ausstattung","-","-","-","-","-","-","-","-","-",{"$f":"VLOOKUP(O1311,LOI_LPH[],2,TRUE)","v":"-"}]
[611,"Möbel/Inventar",611,null,null,"Möbel/Inventar","IfcBuildingElementProxy","-","IfcBuildingElementProxy","-","-","-","-","-","-",{"$f":"VLOOKUP(O1312,LOI_LPH[],2,TRUE)","v":"-"}]
[611,"Möbel/Inventar","611.10",null,null,"Unterbringungsmöbel","IfcFurnishingElement","-","IfcFurnishingElement","-","-","-","-","-","-",{"$f":"VLOOKUP(O1313,LOI_LPH[],2,TRUE)","v":"-"}]
[611,"Möbel/Inventar","611.20",null,null,"Tische","IfcFurnishingElement","-","IfcFurnishingElement","-","-","-","-","-","-",{"$f":"VLOOKUP(O1314,LOI_LPH[],2,TRUE)","v":"-"}]
[611,"Möbel/Inventar","611.30",null,null,"Stühle","IfcFurnishingElement","-","IfcFurnishingElement","-","-","-","-","-","-",{"$f":"VLOOKUP(O1315,LOI_LPH[],2,TRUE)","v":"-"}]
[611,"Möbel/Inventar","611.40",null,null,"Gartengeräte","IfcBuildingElementProxy","-","IfcBuildingElementProxy","-","-","-","-","-","-",{"$f":"VLOOKUP(O1316,LOI_LPH[],2,TRUE)","v":"-"}]
[611,"Möbel/Inventar","611.41",null,null,"Rasenmäher","IfcBuildingElementProxy","-","IfcBuildingElementProxy","-","-","-","-","-","-",{"$f":"VLOOKUP(O1317,LOI_LPH[],2,TRUE)","v":"-"}]
[611,"Möbel/Inventar","611.42",null,null,"Gartengeräte","IfcBuildingElementProxy","-","IfcBuildingElementProxy","-","-","-","-","-","-",{"$f":"VLOOKUP(O1318,LOI_LPH[],2,TRUE)","v":"-"}]
[612,"Elektrische Geräte",612,null,null,"Elektrische Geräte","IfcBuildingElementProxy","-","IfcBuildingElementProxy","-","-","-","-","-","-",{"$f":"VLOOKUP(O1319,LOI_LPH[],2,TRUE)","v":"-"}]
[612,"Elektrische Geräte","612.21",null,null,"Steh- und Tischlampen","IfcFurnishingElement","-","IfcFurnishingElement","-","-","-","-","-","-",{"$f":"VLOOKUP(O1320,LOI_LPH[],2,TRUE)","v":"-"}]
[612,"Elektrische Geräte","612.22",null,null,"Steh- und Tischventilatoren","IfcFurnishingElement","-","IfcFurnishingElement","-","-","-","-","-","-",{"$f":"VLOOKUP(O1321,LOI_LPH[],2,TRUE)","v":"-"}]
[612,"Elektrische Geräte","612.29",null,null,"Elektrische Verlängerungs- und Geräteanschlussleitungen mit Stecker","IfcFurnishingElement","-","IfcFurnishingElement","-","-","-","-","-","-",{"$f":"VLOOKUP(O1322,LOI_LPH[],2,TRUE)","v":"-"}]
[613,"EDV-Ausstattung",613,null,null,"EDV-Ausstattung","IfcCommunicationsAppliance","-","IfcCommunicationsAppliance","-","-","-","-","-","-",{"$f":"VLOOKUP(O1323,LOI_LPH[],2,TRUE)","v":"-"}]
[613,"EDV-Ausstattung","613.10",null,null,"PCs, Server","IfcCommunicationsAppliance","-","IfcCommunicationsAppliance","-","-","-","-","-","-",{"$f":"VLOOKUP(O1324,LOI_LPH[],2,TRUE)","v":"-"}]
[613,"EDV-Ausstattung","613.20",null,null,"Bildschirme, Monitore, Displays, Sichtgeräte, Beamer","IfcCommunicationsAppliance","-","IfcCommunicationsAppliance","-","-","-","-","-","-",{"$f":"VLOOKUP(O1325,LOI_LPH[],2,TRUE)","v":"-"}]
[613,"EDV-Ausstattung","613.30",null,null,"Tastaturen, Tableaus, Eingabe-, Bediengeräte","IfcCommunicationsAppliance","-","IfcCommunicationsAppliance","-","-","-","-","-","-",{"$f":"VLOOKUP(O1326,LOI_LPH[],2,TRUE)","v":"-"}]
[613,"EDV-Ausstattung","613.40",null,null,"Drucker, Plotter, Ausgabegeräte","IfcCommunicationsAppliance","-","IfcCommunicationsAppliance","-","-","-","-","-","-",{"$f":"VLOOKUP(O1327,LOI_LPH[],2,TRUE)","v":"-"}]
[614,"Werkstattausrüstung",614,null,null,"Werkstattausrüstung","IfcBuildingElementProxy","-","IfcBuildingElementProxy","-","-","-","-","-","-",{"$f":"VLOOKUP(O1328,LOI_LPH[],2,TRUE)","v":"-"}]
[614,"Werkstattausrüstung","614.10",null,null,"Mechanische Handwerkzeuge","IfcBuildingElementProxy","-","IfcBuildingElementProxy","-","-","-","-","-","-",{"$f":"VLOOKUP(O1329,LOI_LPH[],2,TRUE)","v":"-"}]
[614,"Werkstattausrüstung","614.20",null,null,"Elektrische Handwerkzeuge","IfcBuildingElementProxy","-","IfcBuildingElementProxy","-","-","-","-","-","-",{"$f":"VLOOKUP(O1330,LOI_LPH[],2,TRUE)","v":"-"}]
[614,"Werkstattausrüstung","614.30",null,null,"Elektrische Messgeräte","IfcBuildingElementProxy","-","IfcBuildingElementProxy","-","-","-","-","-","-",{"$f":"VLOOKUP(O1331,LOI_LPH[],2,TRUE)","v":"-"}]
[614,"Werkstattausrüstung","614.40",null,null,"Ortsfeste Werkzeugmaschinen","IfcBuildingElementProxy","-","IfcBuildingElementProxy","-","-","-","-","-","-",{"$f":"VLOOKUP(O1332,LOI_LPH[],2,TRUE)","v":"-"}]
[614,"Werkstattausrüstung","614.50",null,null,"Schweißgeräte","IfcBuildingElementProxy","-","IfcBuildingElementProxy","-","-","-","-","-","-",{"$f":"VLOOKUP(O1333,LOI_LPH[],2,TRUE)","v":"-"}]
[614,"Werkstattausrüstung","614.60",null,null,"Flüssiggasflaschen","IfcBuildingElementProxy","-","IfcBuildingElementProxy","-","-","-","-","-","-",{"$f":"VLOOKUP(O1334,LOI_LPH[],2,TRUE)","v":"-"}]
[615,"Arbeits- und Hubarbeitsbühnen",615,null,null,"Arbeits- und Hubarbeitsbühnen","IfcBuildingElementProxy","-","IfcBuildingElementProxy","-","-","-","-","-","-",{"$f":"VLOOKUP(O1335,LOI_LPH[],2,TRUE)","v":"-"}]
[615,"Arbeits- und Hubarbeitsbühnen","615.10",null,null,"Fahrbare Hubarbeitsbühnen","IfcBuildingElementProxy","-","IfcBuildingElementProxy","-","-","-","-","-","-",{"$f":"VLOOKUP(O1336,LOI_LPH[],2,TRUE)","v":"-"}]
[615,"Arbeits- und Hubarbeitsbühnen","615.20",null,null,"Fahrbare Arbeitsbühnen","IfcBuildingElementProxy","-","IfcBuildingElementProxy","-","-","-","-","-","-",{"$f":"VLOOKUP(O1337,LOI_LPH[],2,TRUE)","v":"-"}]
[616,"Winden, Hub- und Zuggeräte",616,null,null,"Winden, Hub- und Zuggeräte","IfcBuildingElementProxy","-","IfcBuildingElementProxy","-","-","-","-","-","-",{"$f":"VLOOKUP(O1338,LOI_LPH[],2,TRUE)","v":"-"}]
[617,"Leitern und Tritte",617,null,null,"Leitern und Tritte","IfcBuildingElementProxy","-","IfcBuildingElementProxy","-","-","-","-","-","-",{"$f":"VLOOKUP(O1339,LOI_LPH[],2,TRUE)","v":"-"}]
[618,"Personenaufnahmemittel, nicht stationäre",618,null,null,"Personenaufnahmemittel, nicht stationäre","IfcBuildingElementProxy","-","IfcBuildingElementProxy","-","-","-","-","-","-",{"$f":"VLOOKUP(O1340,LOI_LPH[],2,TRUE)","v":"-"}]
[619,"Ausstattung, sonstiges",619,null,null,"Ausstattung, sonstiges","IfcBuildingElementProxy","-","IfcBuildingElementProxy","-","-","-","-","-","-",{"$f":"VLOOKUP(O1341,LOI_LPH[],2,TRUE)","v":"-"}]
[619,"Ausstattung, sonstiges","619.10",null,null,"Sicherheits- und Gesundheitsschutzkennzeichnung","IfcBuildingElementProxy","-","IfcBuildingElementProxy","-","-","-","-",null,"-",{"$f":"VLOOKUP(O1342,LOI_LPH[],2,TRUE)","v":"-"}]
[619,"Ausstattung, sonstiges","619.11",null,null,"Flucht- und Rettungspläne","IfcBuildingElementProxy","-","IfcBuildingElementProxy","-","-","-","-","ARC",5,{"$f":"VLOOKUP(O1343,LOI_LPH[],2,TRUE)","v":300}]
[619,"Ausstattung, sonstiges","619.11",null,null,"Alarmpläne","IfcBuildingElementProxy","-","IfcBuildingElementProxy","-","-","-","-","ARC",5,{"$f":"VLOOKUP(O1344,LOI_LPH[],2,TRUE)","v":300}]
[619,"Ausstattung, sonstiges","619.11",null,null,"Feuerwehrpläne","IfcBuildingElementProxy","-","IfcBuildingElementProxy","-","-","-","-","ARC",5,{"$f":"VLOOKUP(O1345,LOI_LPH[],2,TRUE)","v":300}]
[619,"Ausstattung, sonstiges","619.30",null,null,"Persönliche Schutzausrüstung","IfcBuildingElementProxy","-","IfcBuildingElementProxy","-","-","-","-",null,"-",{"$f":"VLOOKUP(O1346,LOI_LPH[],2,TRUE)","v":"-"}]
[619,"Ausstattung, sonstiges","619.40",null,null,"Einrichtungen zur Ersten Hilfe","IfcBuildingElementProxy","-","IfcBuildingElementProxy","-","-","-","-",null,"-",{"$f":"VLOOKUP(O1347,LOI_LPH[],2,TRUE)","v":"-"}]
[619,"Ausstattung, sonstiges","619.42",null,null,"Rettungsgeräte, Rettungstransportmittel\t","IfcBuildingElementProxy","-","IfcBuildingElementProxy","-","-","-","-","ARC",5,{"$f":"VLOOKUP(O1348,LOI_LPH[],2,TRUE)","v":300}]
[619,"Ausstattung, sonstiges","619.50",null,null,"Schulausstattung","IfcBuildingElementProxy","-","IfcBuildingElementProxy","-","-","-","-",null,"-",{"$f":"VLOOKUP(O1349,LOI_LPH[],2,TRUE)","v":"-"}]
[619,"Ausstattung, sonstiges","619.51",null,null,"Schulische Geräte (ortsfeste elektrische)","IfcBuildingElementProxy","-","IfcBuildingElementProxy","-","-","-","-","ARC",5,{"$f":"VLOOKUP(O1350,LOI_LPH[],2,TRUE)","v":300}]
[619,"Ausstattung, sonstiges","619.52",null,null,"Schulische Geräte (ortsveränderliche elektrische)","IfcBuildingElementProxy","-","IfcBuildingElementProxy","-","-","-","-","ARC",5,{"$f":"VLOOKUP(O1351,LOI_LPH[],2,TRUE)","v":300}]
[619,"Ausstattung, sonstiges","619.53",null,null,"Schultafeln","IfcBuildingElementProxy","-","IfcBuildingElementProxy","-","-","-","-","ARC",5,{"$f":"VLOOKUP(O1352,LOI_LPH[],2,TRUE)","v":300}]
[619,"Ausstattung, sonstiges","619.60",null,null,"Sicherheits- und Gesundheitsschutzkennzeichnung","IfcBuildingElementProxy","-","IfcBuildingElementProxy","-","-","-","-",null,"-",{"$f":"VLOOKUP(O1353,LOI_LPH[],2,TRUE)","v":"-"}]
[619,"Ausstattung, sonstiges","619.70",null,null,"Sicherheits- und Gesundheitsschutzkennzeichnung","IfcBuildingElementProxy","-","IfcBuildingElementProxy","-","-","-","-",null,"-",{"$f":"VLOOKUP(O1354,LOI_LPH[],2,TRUE)","v":"-"}]
[620,"Kunstwerke",620,null,null,"Kunstwerke","IfcBuildingElementProxy","-","IfcBuildingElementProxy","-","-","-","-","ARC",3,{"$f":"VLOOKUP(O1355,LOI_LPH[],2,TRUE)","v":200}]
[621,"Kunstobjekte",621,null,null,"Kunstobjekte","IfcBuildingElementProxy","-","IfcBuildingElementProxy","-","-","-","-","ARC",3,{"$f":"VLOOKUP(O1356,LOI_LPH[],2,TRUE)","v":200}]
[622,"Künstlerisch gestaltete Bauteile des Bauwerks",622,null,null,"Künstlerisch gestaltete Bauteile des Bauwerks","IfcBuildingElementProxy","-","IfcBuildingElementProxy","-","-","-","-","ARC",5,{"$f":"VLOOKUP(O1357,LOI_LPH[],2,TRUE)","v":300}]
[623,"Künstlerisch gestaltete Bauteile der Außenanlagen",623,null,null,"Künstlerisch gestaltete Bauteile der Außenanlagen","IfcBuildingElementProxy","-","IfcBuildingElementProxy","-","-","-","-","ARC",5,{"$f":"VLOOKUP(O1358,LOI_LPH[],2,TRUE)","v":300}]
[629,"Kunstwerke, sonstiges",629,null,null,"Kunstwerke, sonstiges","IfcBuildingElementProxy","-","IfcBuildingElementProxy",null,null,null,null,null,8,{"$f":"VLOOKUP(O1359,LOI_LPH[],2,TRUE)","v":500}]
[630,"\tStoffe und Materialien",630,null,null,"\tStoffe und Materialien","IfcBuildingElementProxy","-","IfcBuildingElementProxy",null,null,null,null,null,8,{"$f":"VLOOKUP(O1360,LOI_LPH[],2,TRUE)","v":500}]
[631,"Gefahrstoffe",631,null,null,"Gefahrstoffe","IfcBuildingElementProxy","-","IfcBuildingElementProxy",null,null,null,null,null,8,{"$f":"VLOOKUP(O1361,LOI_LPH[],2,TRUE)","v":500}]
[632,"Abfallstoffe",632,null,null,"Abfallstoffe","IfcBuildingElementProxy","-","IfcBuildingElementProxy",null,null,null,null,null,8,{"$f":"VLOOKUP(O1362,LOI_LPH[],2,TRUE)","v":500}]
[633,"Brennstoffe",633,null,null,"Brennstoffe","IfcBuildingElementProxy","-","IfcBuildingElementProxy",null,null,null,null,null,8,{"$f":"VLOOKUP(O1363,LOI_LPH[],2,TRUE)","v":500}]
[634,"Wassergefährdende Stoffe",634,null,null,"Wassergefährdende Stoffe","IfcBuildingElementProxy","-","IfcBuildingElementProxy",null,null,null,null,null,8,{"$f":"VLOOKUP(O1364,LOI_LPH[],2,TRUE)","v":500}]

{"sheet":"OKS-AKS","index":4,"n_rows":40,"n_cols":1,"rows_kept":40,"cut":false,"hidden":false,"merged":[]}
["Ortskennzeichnungssystem (OKS)"]
["(Nur anzuwenden bei Imobilien die der BLB NRW selbst betreibt und bewirtschaftet)"]
[]
["Aufbau der OKS-Codierung für Räume - Technische Raumnummer )*"]
["Bestehend aus Liegenschaft, Geb.-Nr., Bauteil, Geschoss und Raum-Nr. mit „Bindestrich“   (-) unterteilt; Platzhalter zum Auffüllen der Stellenzahl mit „Unterstrich“ (_). Diese Codierung enthält nur die eindeutige Raumerkennung und wird für techn. Anlagen gemäß BLB-Weisung Nr. 144-BACnet im BLB NRW – erweitert."]
[")* kann als Strichcode oder QR-Code an den Türen angebracht werden"]
[]
[]
["Die OKS-Codierung setzt sich zusammen aus: "]
["- Liegenschafts-Nr. (WE, WB oder WL)\n- Gebäude-Nr.\n- Bauteil\n- Geschoss\n- Raumnummer (fortlaufend) "]
[]
[]
[]
["Die vom AG vorgegebene Raumnummerierung im CAD-Plan ist zu übernehmen oder nach Abstimmung mit dem AG neu festzulegen."]
[]
[]
["Anlagenkennzeichnungssystem (AKS)"]
["Die AKS-Codierung setzt sich zusammen aus:"]
["- Kostengruppe nach DIN 276, 3. Ebene (gemäß Anhang Anlagenklassenliste)\n- Equipmentnummer (gemäß Anhang TGM-Equipmentliste)"]
[]
[]
[" "]
[]
[]
[]
[]
[]
[]
[]
[]
[]
[]
["Abbildung 10 – Aufbau der AKS-Codierung"]
[]
[" "]
[]
[]
[]
[]
["Abbildung 15 – Beispiel zur Verwendung der AKS-Codierung"]

{"sheet":"RBK-Nutzungscodes","index":5,"n_rows":1112,"n_cols":3,"rows_kept":1112,"cut":false,"hidden":false,"merged":[]}
[null,"NC","Bezeichnung"]
[null,"#","Name"]
[{"$f":"A4+A19+A38+A56+A69+A78","v":0},1,"Wohnen und Aufenthalt"]
[{"$f":"A5+A12","v":0},11,"Wohnräume"]
[{"$f":"SUM(A6:A11)","v":0},111,"Wohnräume"]
[null,11111,"Wohnraum/ Schlafraum"]
[null,11112,"Wohnraum/ Schlafraum mit RLT 1"]
[null,11121,"Küche in Wohnung"]
[null,11122,"Küche in Wohnung mit RLT 1"]
[null,11131,"Diele"]
[null,11132,"Diele mit RLT 1"]
[{"$f":"SUM(A13:A18)","v":0},112,"Internate, Wohnheime, Beherbergungsstätten"]
[null,11211,"Ein-/Zweibettzimmer"]
[null,11212,"Ein-/Zweibettzimmer mit Waschtisch"]
[null,11213,"Ein-/Zweibettzimmer mit RLT 1"]
[null,11214,"Ein-/Zweibettzimmer mit Waschtisch und RLT 1"]
[null,11221,"Mehrbettwohn-/ schlafraum"]
[null,11222,"Mehrbettwohn-/ schlafraum mit RLT 1"]
[{"$f":"A20+A27+A33","v":0},12,"Gemeinschaftsräume"]
[{"$f":"SUM(A21:A26)","v":0},121,"Aufenthaltsräume"]
[null,12111,"Aufenthaltsraum"]
[null,12112,"Aufenthaltsraum mit RLT 1"]
[null,12113,"Aufenthaltsraum Raumklasse II (OP-Bereich)"]
[null,12121,"Aufenthaltsraum mit Teeküche"]
[null,12122,"Aufenthaltsraum mit Teeküche und RLT 1"]
[null,12123,"Aufenthaltsraum mit Teeküche und RLT 3"]
[{"$f":"SUM(A28:A32)","v":0},122,"Bereitschaftsräume"]
[null,12211,"Bereitschaftsraum"]
[null,12212,"Bereitschaftsraum mit Waschtisch"]
[null,12213,"Bereitschaftsraum mit RLT 1"]
[null,12214,"Bereitschaftsraum mit Waschtisch und RLT 1"]
[null,12221,"Bereitschaftsraum mit Sicherheitsanforderungen und RLT 1"]
[{"$f":"SUM(A34:A37)","v":0},123,"Kindertagesstätte"]
[null,12311,"Kinderspielraum"]
[null,12312,"Kinderspielraum mit RLT 1"]
[null,12321,"Kleinkindschlafen"]
[null,12322,"Kleinkindschlafen mit RLT 1"]
[{"$f":"A39+A44+A49","v":0},13,"Pausenräume/ -hallen"]
[{"$f":"SUM(A40:A43)","v":0},131,"Pausenräume"]
[null,13111,"Pausenfläche"]
[null,13112,"Pausenfläche mit RLT 1"]
[null,13121,"Teeküche (ohne Aufenthalt)"]
[null,13122,"Teeküche (ohne Aufenthalt) mit RLT 1"]
[{"$f":"SUM(A45:A48)","v":0},132,"Pausenhallen/ Wandelhallen"]
[null,13211,"Pausenhalle"]
[null,13212,"Pausenhalle mit RLT 1"]
[null,13221,"Wandelhalle"]
[null,13222,"Wandelhalle mit RLT 1"]
[{"$f":"SUM(A50:A55)","v":0},133,"Ruheräume"]
[null,13311,"Ruheraum"]
[null,13312,"Ruheraum mit Waschtisch"]
[null,13313,"Ruheraum mit RLT 1"]
[null,13314,"Ruheraum mit Waschtisch und RLT 1"]
[null,13321,"Patientenruheraum"]
[null,13322,"Patientenruheraum mit RLT 1"]
[{"$f":"A57+A63","v":0},14,"Warteräume"]
[{"$f":"SUM(A58:A62)","v":0},141,"Warteräume/ Warteflächen"]
[null,14111,"Warteraum/ Wartefläche"]
[null,14112,"Warteraum/ Wartefläche mit RLT 1"]
[null,14113,"Warteraum/ Wartefläche mit bes. bauk./ tech. Anf."]
[null,14114,"Warteraum/ Wartefläche mit bes. bauk./ tech. Anf. und RLT 1"]
[null,14115,"Warteraum/ Wartefläche mit bes. bauk./ tech. Anf. und RLT 2"]
[{"$f":"SUM(A64:A68)","v":0},142,"Wartehallen"]
[null,14211,"Wartehalle"]
[null,14212,"Wartehalle mit RLT 1"]
[null,14213,"Wartehalle mit bes. bauk./ tech. Anf."]
[null,14214,"Wartehalle mit bes. bauk./ tech. Anf. und RLT 1"]
[null,14215,"Wartehalle mit bes. bauk./ tech. Anf. und RLT 2"]
[{"$f":"A70+A75","v":0},15,"Speiseräume"]
[{"$f":"SUM(A71:A74)","v":0},151,"Speiseräume/ Speisesaal"]
[null,15111,"Speiseraum"]
[null,15112,"Speiseraum mit RLT 1"]
[null,15121,"Speisesaal"]
[null,15122,"Speisesaal mit RLT 1"]
[{"$f":"SUM(A76:A77)","v":0},152,"Cafeteria"]
[null,15211,"Cafeteria"]
[null,15212,"Cafeteria mit RLT 1"]
[{"$f":"A79","v":0},16,"Hafträume"]
[{"$f":"SUM(A80:A88)","v":0},161,"Einzel-/ Gruppenhafträume"]
[null,16111,"Einzelhaftraum"]
[null,16112,"Einzelhaftraum mit RLT 1"]
[null,16113,"Haftraum besonders gesichert mit RLT 3"]
[null,16121,"Gemeinschaftshaftraum"]
[null,16122,"Gemeinschaftshaftraum mit RLT 1"]
[null,16131,"Verwahrraum mit RLT 1"]
[null,16132,"Ausnüchterungszelle mit RLT 3"]
[null,16133,"Haftsprechraum mit RLT 1"]
[null,16134,"Vorraum für besonders gesicherten Haftraum mit RLT 1"]
[{"$f":"A90+A121+A126+A140+A144+A150+A163","v":0},2,"Büroarbeit"]
[{"$f":"A91+A99+A116","v":0},21,"Büroräume"]
[{"$f":"SUM(A92:A98)","v":0},211,"allgem. Büroräume, Arbeitsplatzflächen"]
[null,21111,"Büroraum"]
[null,21112,"Büroraum mit RLT1"]
[null,21113,"Einzelarbeitsplatzfläche"]
[null,21114,"Einzelarbeitsplatzfläche mit RLT 1"]
[null,21115,"Büro im Küchenbereich mit RLT 1"]
[null,21121,"Büro mit Sicherheitsanforderungen und RLT 2"]
[null,21122,"Büro mit besonderen Sicherheitsanforderungen und RLT 2"]
[{"$f":"SUM(A100:A115)","v":0},212,"Büroräume/ Diensträume, Fläche für spezielle Arbeitsplätze"]
[null,21211,"Schreibdienst"]
[null,21212,"Sekretariat"]
[null,21213,"Büroraum mit manuellem/ experimentellem Arbeitsplatz"]
[null,21214,"Büroraum mit manuellem/ experimentellem Arbeitsplatz und RLT 1"]
[null,21215,"Büroraum mit Archivfunktion"]
[null,21216,"Büroraum mit Archivfunktion und RLT 1"]
[null,21217,"Büroraum mit Materialausgabe"]
[null,21218,"Büroraum mit Materialausgabe und RLT 1"]
[null,21219,"Dolmetscherraum/-kabine mit RLT 1"]
[null,21221,"Funkzentrale mit RLT 2"]
[null,21222,"Einsatzzentrale"]
[null,21223,"Einsatzzentrale mit RLT 1"]
[null,21224,"Einsatzzentrale gesichert mit RLT 2"]
[null,21225,"Einsatzzentrale mit hygienischen Anforderungen"]
[null,21226,"Einsatzzentrale mit hygienischen Anf. und RLT 1"]
[null,21227,"Einsatzzentrale mit hygienischen Anf. und RLT2"]
[{"$f":"SUM(A117:A120)","v":0},213,"Telekommunikationsräume"]
[null,21311,"Fernsprechraum/-kabine"]
[null,21312,"Fernsprechvermittlungsraum"]
[null,21313,"Fernsprechvermittlungsraum mit RLT 1"]
[null,21314,"Krypto Raum / Datenübertragung verschlüsselt mit RLT 2"]
[{"$f":"A122","v":0},22,"Großraumbüros"]
[{"$f":"SUM(A123:A125)","v":0},221,"allgem. Großraumbüro"]
[null,22111,"Großraumbüro"]
[null,22112,"Großraumbüro mit RLT 1"]
[null,22113,"Großraumbüro mit Schalter und RLT 2"]
[{"$f":"A127+A133","v":0},23,"Besprechungsräume"]
[{"$f":"SUM(A128:A132)","v":0},231,"Sitzungsräume"]
[null,23111,"Konferenzraum"]
[null,23112,"Konferenzraum mit bes. tech. Anf. und RLT 1"]
[null,23121,"Gerichtssaal"]
[null,23122,"Gerichtssaal mit RLT 1"]
[null,23123,"Parlamentssaal mit RLT 3"]
[{"$f":"SUM(A134:A139)","v":0},232,"Besprechungsräume/ -flächen"]
[null,23211,"Besprechungsraum/ Kommunikationsfläche"]
[null,23212,"Besprechungsraum mit RLT 1"]
[null,23221,"Besprechungsraum mit Sicherheitsanforderungen und RLT 2"]
[null,23231,"Sprechzimmer"]
[null,23232,"Sprechzimmer mit RLT 1"]
[null,23233,"Kindgerechter Vernehmungsraum mit RLT 1"]
[{"$f":"A141","v":0},24,"Konstruktionsräume"]
[{"$f":"SUM(A142:A143)","v":0},241,"Zeichenräume"]
[null,24111,"Konstruktionsraum"]
[null,24112,"Konstruktionsraum mit RLT 1"]
[{"$f":"A145","v":0},25,"Schalterräume"]
[{"$f":"SUM(A146:A149)","v":0},251,"Kassenräume"]
[null,25111,"Zahlstelle/Kassenraum"]
[null,25112,"Zahlstelle/Kassenraum mit RLT 1"]
[null,25113,"Kartenschalter"]
[null,25114,"Kartenschalter mit RLT 1"]
[{"$f":"A151+A160","v":0},26,"Aufsichtsräume"]
[{"$f":"SUM(A152:A159)","v":0},261,"Aufsichtsräume"]
[null,26111,"Aufsichtsraum"]
[null,26112,"Aufsichtsraum mit RLT 1"]
[null,26113,"Pförtnerraum"]
[null,26114,"Pförtnerraum mit RLT 1"]
[null,26115,"Wachraum mit RLT 2"]
[null,26121,"Aufsichtsraum mit Überfallmeldeanlage und RLT 1"]
[null,26122,"Pförtner/ Wache mit RLT 2"]
[null,26123,"Haftaufsichtsraum mit RLT 2"]
[{"$f":"SUM(A161:A162)","v":0},262,"Wachräume mit Wächterkontrollanlagen und Signalanlagen (nur im med. Bereich, ansonsten Auf"]
[null,26211,"Patientenüberwachungsraum mit RLT 1"]
[null,26212,"Patientenüberwachungsraum mit bes. Anf. und RLT 3"]
[{"$f":"A164+A170","v":0},27,"Bürogeräteräume"]
[{"$f":"SUM(A165:A169)","v":0},271,"Vervielfältigungsräume"]
[null,27111,"Fotokopierraum / Druckerraum"]
[null,27112,"Fotokopierraum / Druckerraum mit RLT 1"]
[null,27113,"Plotterraum"]
[null,27114,"Plotterraum mit RLT 1"]
[null,27115,"Rapid-Prototyping (3D-Drucker) mit RLT 1"]
[{"$f":"SUM(A171:A173)","v":0},272,"Filmbearbeitungsräume"]
[null,27211,"Filmbearbeitungs- / Schneideraum mit RLT 1"]
[null,27212,"Filmmagazin-/-laderaum mit RLT 1"]
[null,27213,"Dunkelkammer mit RLT 1"]
[{"$f":"A175+A195+A215+A230+A248+A277+A308+A322+A337","v":0},3,"Produktion, Hand- und Maschinenarbeit, Forschung und Entwicklung"]
[{"$f":"A193+A187+A184+A182+A180+A176","v":0},31,"Werkhallen"]
[{"$f":"SUM(A177:A179)","v":0},311,"Produktionhallen"]
[null,31111,"Produktionshalle für Grundstoffe"]
[null,31112,"Produktionshalle für Investitions- und Versorgungsgüter"]
[null,31113,"Produktionshalle für Nahrungs- und Genußmittel"]
[{"$f":"A181","v":0},312,"Instandsetzungs-/ Wartungshallen"]
[null,31211,"Instandsetzungs-/ Wartungshalle"]
[{"$f":"A183","v":0},313,"Forschungs- und Entwicklungshalle für Ingenieuwissenschaften"]
[null,31311,"Technologische Versuchshalle mit RLT 2"]
[{"$f":"SUM(A185:A186)","v":0},314,"Versuchs-/ Experimentierhallen für Naturwissenschaften"]
[null,31411,"Halle für physikalische Versuche mit RLT 2"]
[null,31421,"Halle für chemische Versuche mit RLT2"]
[{"$f":"SUM(A188:A192)","v":0},315,"Versuchs-/ Experimentierhallen mit Reinraumklassifizierung"]
[null,31511,"Reinraumklasse bis 100000"]
[null,31512,"Reinraumklasse bis 10000"]
[null,31513,"Reinraumklasse bis 1000"]
[null,31514,"Reinraumklasse bis 100"]
[null,31515,"Reinraumklasse bis 10"]
[{"$f":"A194","v":0},319,"Sonderversuchshalle"]
[null,31911,"Sonderversuchshalle"]
[{"$f":"A196+A208+A211","v":0},32,"Werkstätten (nach DIN: Produktion, Entwicklung, Instandsetzung, Lehre (nicht Ausbildung)"]
[{"$f":"SUM(A197:A207)","v":0},321,"Produktion"]
[null,32111,"Blechbearbeitung, Montage-, Stahlbau"]
[null,32112,"Schlosserei, Härterei, Schmiede"]
[null,32113,"Gießerei, Schweißerei"]
[null,32114,"Werkstatt Metall (fein)"]
[null,32115,"Werkstatt Metall (fein) mit fest eingebauten Einrichtungen"]
[null,32116,"Laser-Schneide-Werkstatt"]
[null,32121,"Werkstatt Elektrotechnik"]
[null,32131,"Werkstatt Oberflächenbehandlung"]
[null,32132,"Werkstatt Oberflächenbehandlung mit Sonderabsaugung"]
[null,32141,"Werkstatt Holz/ Kunststoff"]
[null,32142,"Werkstatt Holz/ Kunststoff mit Sonderabsaugung"]
[{"$f":"SUM(A209:A210)","v":0},324,"Räume für Gesundheits- und Körperpflege"]
[null,32411,"Frisör-/ Kosmetikarbeitsraum"]
[null,32421,"Prothetische / Dental-Werkstatt mit Sonderabsaugung"]
[{"$f":"SUM(A212:A214)","v":0},325,"Wartungsstationen/ Instandsetzung"]
[null,32511,"Kfz-Werkstatt mit Sonderabsaugung"]
[null,32521,"Hausmeisterwerkstatt"]
[null,32522,"Kfz-Waschhalle"]
[{"$f":"A216+A222+A225+A227","v":0},33,"Technologische Labors"]
[{"$f":"SUM(A217:A221)","v":0},331,"Materialprüf-/ Materialbearbeitungslabor"]
[null,33111,"Technologisches Labor"]
[null,33112,"Technologisches Labor mit erhöhten Anforderungen"]
[null,33113,"Technologisches Labor mit Erschütterungsschutz"]
[null,33114,"Technologisches Labor mit zusätzlichen Anforderungen,"]
[null,33115,"Technologisches Labor mit Berstwänden"]
[{"$f":"SUM(A223:A224)","v":0},332,"Licht-/ Schalltechnische Labore"]
[null,33211,"Lichttechnisches Labor"]
[null,33221,"Schalltechnisches Labor"]
[{"$f":"A226","v":0},333,"Labor für mech. Verfahrenstechnik"]
[null,33311,"Labor für stationäre Maschinen"]
[{"$f":"SUM(A228:A229)","v":0},334,"Kriminaltechnische Labore"]
[null,33411,"Kriminaltechnisches Labor"]
[null,33412,"Kriminaltechnisches Labor_Täter/ Opfer-Raum"]
[{"$f":"A231+A234","v":0},34,"Physikalische, physikalisch-technische, elektrotechnische Labors"]
[{"$f":"SUM(A232:A233)","v":0},341,"Elektrotechnik/ Elektronische Labore (Raumlufttechnik Standard)"]
[null,34111,"Elektroniklabor mit RLT 2"]
[null,34112,"Elektroniklabor mit RLT 2 und Sondergase"]
[{"$f":"SUM(A235:A247)","v":0},342,"Labore für Physik"]
[null,34211,"Physiklabor (einfaches physikalisches Messlabor)"]
[null,34212,"Physiklabor mit bes. Anforderungen"]
[null,34213,"Physiklabor mit besonderen RLT Anforderungen"]
[null,34221,"Physiklabor und Meßraum mit elektromagnetischer Abschirmung"]
[null,34222,"Physiklabor und Meßraum mit Erschütterungsschutz (NMR)"]
[null,34223,"Physiklabor und Meßraum mit einfachem Strahlenschutz"]
[null,34224,"Physiklabor und Meßraum mit erhöhtem Strahlenschutz und RLT-Anforderungen"]
[null,34225,"Physiklabor (Reinraum mit bes. RLT.-Anf.)"]
[null,34231,"Physikalischer Meßraum mit besonderen RLT-Anforderungen"]
[null,34232,"Physikalischer Meßraum mit besonderen RLT-Anforderungen und Medienversorgung"]
[null,34233,"Physikalischer Meß- und Wägeraum mit DV (physikalischer Meßraum)"]
[null,34234,"Physikalischer Meß- und Wägeraum mit DV und RLT-Anforderungen"]
[null,34241,"Kernphysiklabor mit Dekontamination von Abwasser und Abluft"]
[{"$f":"A274+A269+A262+A260+A254+A249","v":0},35,"Chemische, bakteriologische, biologische Labore"]
[{"$f":"SUM(A250:A253)","v":0},351,"Medizinische, biologische, chemische Labore"]
[null,35121,"Anatomischer Präparierraum"]
[null,35131,"Chemisch-technisches Labor mit bes. RLT-Anforderungen"]
[null,35132,"Chemisch-technisches Labor mit bes. RLT-Anf. und einf. Strahlenschutz"]
[null,35141,"Zentrifugenraum, einfach"]
[{"$f":"SUM(A255:A259)","v":0},352,"Labor für analytische und präparative Chemie"]
[null,35211,"Labor für analytische Arbeiten"]
[null,35212,"Labor für analytisch-/ präparativ-chemische Arbeiten mit RLT 1"]
[null,35213,"Labor für analytisch- /präparativ-chemische Arbeiten mit RLT 2"]
[null,35214,"Labor für analytisch-/ präparativ-chemische Arbeiten mit Klimakonstanz und RLT 3"]
[null,35215,"Kälte-Labor"]
[{"$f":"A261","v":0},353,"Biochemische Labore ohne Sicherheitsanforderungen gemäß GenTSV"]
[null,35311,"Labor mit Medienversorgung"]
[{"$f":"SUM(A263:A268)","v":0},354,"Biochemische Labore mit Sicherheitsanforderungen gemäß GenTSV"]
[null,35411,"Labor mit zusätzlichen Hygieneanforderungen"]
[null,35412,"Labor mit zusätzlichen Hygieneanforderungen und Medienversorgung"]
[null,35413,"Labor mit zusätzlichen hygienischen und besonderen RLT-Anforderungen"]
[null,35421,"Labor mit besonderen Hygieneanforderungen, Zugang über Schleuse ..."]
[null,35422,"Labor m. bes. Hygieneanf. / RLT-Anf. u. Schleuse"]
[null,35423,"Labor m. bes. Hygieneanf./ sep. RLT-Anlage u. Schleuse (S3)"]
[{"$f":"SUM(A270:A273)","v":0},355,"Isotopenlabore"]
[null,35511,"Isotopenlabor mit Dekontamination von Abwasser und Abluft"]
[null,35512,"Isotopenlabor mit bes. baukonstruktiven und RLT-Anforderungen mit Schleuse"]
[null,35513,"Isotopenlabor mit Dekontamination von Abwasser u. Abluft u.bes. RLT-Anforderungen"]
[null,35514,"Isotopenlabor mit erhöhten baukonstruktiven und RLT-Anforderungen mit Schleuse"]
[{"$f":"SUM(A275:A276)","v":0},356,"Brut-und Nährbodenräume"]
[null,35611,"Brutschrankraum"]
[null,35621,"Klimakammer"]
[{"$f":"A278+A280+A284+A288+A296+A298+A306","v":0},36,"Räume für Tierhaltung"]
[{"$f":"A279","v":0},361,"Stallräume für Nutztiere"]
[null,36111,"Raum für Stallhaltung"]
[{"$f":"SUM(A281:A283)","v":0},362,"Stallräume für Versuchs- und kranke Tiere"]
[null,36211,"Raum für Stallhaltung"]
[null,36221,"Tierhaltung experimentell"]
[null,36222,"Tierhaltung experimentell mit RLT 3"]
[{"$f":"SUM(A285:A287)","v":0},363,"Räume für Käfighaltung"]
[null,36311,"Raum für Käfighaltung"]
[null,36321,"Hundzwinger"]
[null,36322,"Laufgang"]
[{"$f":"SUM(A289:A295)","v":0},364,"Käfighaltung von Versuchs- und kranken Tieren"]
[null,36411,"Käfighaltung"]
[null,36412,"Käfighaltung mit RLT 3"]
[null,36421,"Käfighaltung mit RLT-Anforderungen"]
[null,36422,"Käfighaltung mit RLT-Anforderungen und Laborarbeitsplatz(hochhyginische Käfighaltung mit bes. RLT-Anforderungen)"]
[null,36423,"Käfighaltung mit RLT-Anforderungen und einfachem Strahlenschutz"]
[null,36431,"Käfighaltung SPF mit Schleuse für IVC"]
[null,36432,"Käfighaltung SPF mit Schleuse (hochhyginische mit bes. RLT-Anforderungen)"]
[{"$f":"A297","v":0},365,"Räume für Beckenhaltung"]
[null,36511,"Raum für Beckenhaltung"]
[{"$f":"SUM(A299:A305)","v":0},366,"Tierpflege- und Futteraufbereitungsräume"]
[null,36611,"Tierpflegeraum"]
[null,36612,"Tierpflegeraum mit RLT 1"]
[null,36613,"Wärmetherapie / Solarium mit RLT1"]
[null,36614,"Tierpflegeraum/Quarantäne"]
[null,36615,"Raum für Nassreinigung Tiere"]
[null,36621,"Futteraufbereitungsraum, einfache Ausführung"]
[null,36622,"Futteraufbereitungsraum"]
[{"$f":"A307","v":0},367,"Milch-/Melkräume"]
[null,36711,"Melkraum"]
[{"$f":"A309+A314+A318+A320","v":0},37,"Räume für Pflanzenzucht"]
[{"$f":"SUM(A310:A313)","v":0},371,"Gewächshausräume"]
[null,37111,"Gewächshaus"]
[null,37112,"Gewächshaus mit RLT1"]
[null,37113,"Pflanzenzuchtvorbereitungsraum"]
[null,37114,"Gewächshaus mit Pflanztischen"]
[{"$f":"SUM(A315:A317)","v":0},372,"Gewächshausräume Experimentel"]
[null,37211,"Gewächshaus experimentell mit besonderen klimatischen Anforderungen und RLT3"]
[null,37212,"Pflanzenzuchtraum experimentell (Raum mit Klimakammern bestückt)"]
[null,37213,"Klimakammer,RLT 2"]
[{"$f":"A319","v":0},373,"Gewächshausräume mit Sicherheitsanforderungen gemäß GenTSV"]
[null,37311,"Gewächshausraum S1"]
[{"$f":"A321","v":0},374,"Räume für Pilzkulturen"]
[null,37411,"Pilzzuchtraum"]
[{"$f":"A323+A328+A330+A332","v":0},38,"gewerbliche Küchen"]
[{"$f":"SUM(A324:A327)","v":0},381,"Voll- und Teilküchen, Backräume"]
[null,38111,"Großküche mit Sonderabsaugung, Lüftungsdecke und RLT 1"]
[null,38112,"Regenerierküche (cook and chill) mit RLT 2"]
[null,38121,"Küchen zur Speiseerwärmung mit RLT 1"]
[null,38131,"Backraum mit Sonderabsaugung und RLT 1"]
[{"$f":"A329","v":0},382,"Vorbereitungsräume"]
[null,38211,"Küchenvorbereitungsraum mit Lüftungsdecke und RLT 1"]
[{"$f":"A331","v":0},383,"Speise-/ Getränkeausgaben"]
[null,38311,"Speiseausgabe/ Getränkeausgabe mit Sonderabsaugung und RLT 1"]
[{"$f":"SUM(A333:A336)","v":0},384,"Geschirrrückgaben/ -spülräume in Küchen"]
[null,38411,"Geschirrrückgabe"]
[null,38421,"Spülküche mit Rückgabeband, Lüftungsdecke und RLT 1"]
[null,38422,"Spülraum in Küchen mit Lüftungsdecke und RLT 1"]
[null,38423,"Wagenwäsche für Küche mit RLT 1"]
[{"$f":"A338+A341+A350+A359+A363+A367+A373","v":0},39,"Sonderarbeitsräume"]
[{"$f":"SUM(A339:A340)","v":0},391,"Hauswirtschafts- und Hausarbeitsräume"]
[null,39111,"Hauswirtschaftsraum"]
[null,39121,"Hauswirtschaftsraum Schule"]
[{"$f":"SUM(A342:A349)","v":0},392,"Räume für Wäschepflege/ Wäscherei"]
[null,39211,"Wäschereiraum"]
[null,39212,"Wäschereiraum mit Sonderabsaugung und RLT 1"]
[null,39213,"Stiefelwaschraum mit RLT 1"]
[null,39214,"Gesundheitswäscherei, Raumklasse II"]
[null,39221,"Wäschepflegeraum"]
[null,39222,"Wäschepflegeraum mit Waschbecken"]
[null,39223,"Wäschepflegeraum mit Waschbecken, Sonderabsaugung und RLT 1"]
[null,39231,"Trocknungsraum für Kleidung mit RLT 2"]
[{"$f":"SUM(A351:A358)","v":0},393,"Desinfektions-/ Sterilisationsräume von Labor- und medizinischem Gerät"]
[null,39311,"Instrumentenreinigungsraum mit RLT 1"]
[null,39312,"Aufbereitungsraum für medizintechnisches Gerät mit RLT 1"]
[null,39313,"Sterilisationsraum mit Sonderabsaugung und RLT 1"]
[null,39314,"Zentralsterilisation, Raumklasse II"]
[null,39315,"Geräteaufbereitung und -lager; Raumklasse II (OP-Bereich)"]
[null,39321,"Käfigreinigung manuell mit RLT 1"]
[null,39322,"Käfigdesinfektion maschinell, rein, mit RLT 3"]
[null,39323,"Käfigdesinfektion maschinell, unrein, RLT1"]
[{"$f":"SUM(A360:A362)","v":0},394,"Spül-/ Reinigungsräume"]
[null,39411,"Pferdezubehör/Melkzubehör"]
[null,39421,"Spülraum im Labor mit RLT 3"]
[null,39422,"Spülraum mit Strahlenschutz und RLT 3"]
[{"$f":"SUM(A364:A366)","v":0},395,"Räume für Bettenaufbereitung/ -reinigung/ -desinfektion"]
[null,39511,"Bettenreinigung manuell mit RLT 1"]
[null,39512,"Bettendesinfektion maschinell mit RLT 1"]
[null,39521,"Bettenaufbereitungsraum mit RLT 1"]
[{"$f":"SUM(A368:A372)","v":0},396,"Pflegearbeitsräume"]
[null,39611,"Pflegearbeitsraum rein, mit RLT 1"]
[null,39612,"Pflegearbeitsraum unrein, mit RLT 1"]
[null,39613,"Pflegestützpunkt mit RLT 1"]
[null,39614,"Pflegearbeitsraum rein mit bes. hygienischen Anf. und RLT 3"]
[null,39615,"Pflegearbeitsraum unrein mit Strahlenschutz, Sonderabsaugung"]
[{"$f":"SUM(A374:A378)","v":0},397,"Vorbereitungsräume"]
[null,39711,"Geräteraum Labor"]
[null,39712,"Vorbereitungsraum mit labortech. Einrichtungen und RLT 1"]
[null,39713,"Vorbereitungsraum Labor mit Strahlenschutz, Sonderabsaugung"]
[null,39721,"Vorbereitungsraum Geisteswissenschaft"]
[null,39722,"Vorbereitungsraum Naturwissenschaft"]
[{"$f":"A380+A415+A427+A444+A465+A476","v":0},4,"Lagern, Verteilen und Verkaufen"]
[{"$f":"A381+A401+A405+A408+A411","v":0},41,"Lager- und Vorratsräume"]
[{"$f":"SUM(A382:A400)","v":0},411,"Lager- und Vorratsräume für Material, Gerät und Waren"]
[null,41111,"einfacher Lagerraum"]
[null,41112,"Lagerraum"]
[null,41113,"Lagerraum mit RLT 1"]
[null,41114,"Lagerraum mit RLT 3"]
[null,41115,"Lagerraum mit bes. tech. Anforderungen"]
[null,41116,"Lagerraum für Putzmittel"]
[null,41121,"einfache Lagerhalle"]
[null,41122,"Lagerhalle"]
[null,41123,"Hochregallager"]
[null,41131,"Tresorraum"]
[null,41132,"Asservatenraum"]
[null,41133,"Asservatenraum mit RLT 1"]
[null,41134,"Lagerraum bes. gesichert mit RLT 2"]
[null,41151,"Lagerraum für sterile Erde"]
[null,41152,"Pflanzentopflager mit Spüle und RLT 3"]
[null,41161,"Sterilgutversorgungslager (Lager im OP-Bereich), Raumklasse II"]
[null,41162,"Medikamentenlager; Raumklasse II (OP-Bereich)"]
[null,41171,"Waffenschließfächer mit Ladeecke"]
[null,41172,"Munitions-, Waffenlagerraum mit RLT 1"]
[{"$f":"SUM(A402:A404)","v":0},412,"Lageräume für Lebensmittel ohne Kühlung; T>12°C"]
[null,41211,"Lagerraum für Milchtank"]
[null,41212,"Lagerraum für Lebensmittel mit RLT 1"]
[null,41213,"Lagerraum mit hygienischen Anforderungen und RLT 1"]
[{"$f":"SUM(A406:A407)","v":0},413,"Isotopenlagerräume (Strahlenschutz)"]
[null,41311,"Lagerraum mit einfachen Strahlenschutz-Anforderungen"]
[null,41312,"Lagerraum mit höchsten Strahlenschutz-Anforderungen und Zugang über Schleuse"]
[{"$f":"SUM(A409:A410)","v":0},414,"Sprengstofflager-/ Lösungsmittellagerräume"]
[null,41411,"Lagerraum für Explosivstoffe"]
[null,41421,"Lagerraum für Chemikalien"]
[{"$f":"SUM(A412:A414)","v":0},415,"Scheunen/ Futtermittellagerräume"]
[null,41511,"Futtermittellager"]
[null,41512,"Futtermittellager mit Verarbeitung und RLT 1"]
[null,41513,"Futtermittellager mit bes. hygienischen Anf. und RLT 3"]
[{"$f":"A416+A424","v":0},42,"Archive, Sammlungsräume"]
[{"$f":"SUM(A417:A423)","v":0},421,"Archive/ Registraturen"]
[null,42111,"Archiv"]
[null,42112,"Archiv mit RLT 1"]
[null,42113,"Archiv mit RLT 3"]
[null,42114,"Archiv Sicherheitsanforderungen und RLT 1"]
[null,42121,"Registratur"]
[null,42122,"Registratur mit Arbeitsplatz"]
[null,42131,"Sammlungsraum"]
[{"$f":"SUM(A425:A426)","v":0},422,"Lehrmittelräume/ Buchmagazine"]
[null,42211,"Magazin"]
[null,42212,"Magazin mit Klimakonstanz"]
[{"$f":"A440+A437+A434+A428","v":0},43,"Kühlräume"]
[{"$f":"SUM(A429:A433)","v":0},431,"Kühlräume für Lebensmittel"]
[null,43111,"Lebensmittelkühlraum"]
[null,43112,"Lebensmittelauftaukühlraum"]
[null,43113,"Kühlraum Cook and Chill"]
[null,43114,"Wildkammer"]
[null,43121,"Lebensmitteltiefkühlraum"]
[{"$f":"SUM(A435:A436)","v":0},432,"Kühlräume für medizinische Zwecke"]
[null,43211,"Kühlraum für medizinische Zwecke"]
[null,43221,"Kühlzelle für medizinische Zwecke"]
[{"$f":"SUM(A438:A439)","v":0},433,"Kühlräume für wissenschaftliche Zwecke"]
[null,43311,"Kühlraum für wissenschaftliche Zwecke (nur Kühlung)"]
[null,43321,"Kühlraum für wissenschaftliche Zwecke (Tiefkühlung)"]
[{"$f":"SUM(A441:A443)","v":0},434,"Räume für Leichen/ Tierkadaver"]
[null,43411,"Leichenraum für Anatomie"]
[null,43412,"Leichenkühlraum"]
[null,43421,"Kadaverraum mit RLT 2"]
[{"$f":"A445+A451+A455","v":0},44,"Annahme- und Ausgaberäume"]
[{"$f":"SUM(A446:A450)","v":0},441,"Sortier- und Verteilräume"]
[null,44111,"Annahme- und Ausgaberaum"]
[null,44112,"Annahme- und Ausgaberaum mit RLT 1"]
[null,44113,"Poststelle"]
[null,44121,"Warenannahme Lebensmittel (Umpackraum)"]
[null,44122,"Warenannahme mit hygienischen Anf. (Lebensmittel)"]
[{"$f":"SUM(A452:A454)","v":0},442,"Pack- und Versandräume"]
[null,44211,"Packraum"]
[null,44212,"Packraum mit RLT 1"]
[null,44221,"Versandraum"]
[{"$f":"SUM(A456:A464)","v":0},443,"Ver-/ Entsorgungsstützpunkte"]
[null,44311,"Versorgungsraum mit RLT 1"]
[null,44312,"Versorgungsraum mit Nassarbeitsplatz und RLT 1"]
[null,44313,"Versorgungsraum mit hygienischen Anf. und RLT 3"]
[null,44314,"Versorgungsraum Raumklasse II (OP-Bereich)"]
[null,44321,"Entsorgungsraum mit RLT 1"]
[null,44322,"Entsorgungsraum mit Nassarbeitsplatz und RLT 1"]
[null,44323,"Entsorgungsraum mit hygienischen Anf. und RLT 3"]
[null,44324,"Entsorgungsraum mit bes. hygienischen Anf., Strahlenschutz und RLT 3"]
[null,44325,"Entsorgungsraum Raumklasse II (OP-Bereich)"]
[{"$f":"A466+A470","v":0},45,"Verkaufsräume"]
[{"$f":"SUM(A467:A469)","v":0},451,"Geschäftsräume"]
[null,45111,"Supermarktverkaufsraum mit RLT 1"]
[null,45112,"Kaufhausverkaufsraum mit RLT 1"]
[null,45113,"Großmarkthallenverkaufsraum mit RLT 2"]
[{"$f":"SUM(A471:A475)","v":0},452,"Ladenräume/ Kioske"]
[null,45211,"Ticket Schalter"]
[null,45212,"Ladenraum"]
[null,45213,"Thekenbereich"]
[null,45214,"Thekenbereich mit RLT 1"]
[null,45221,"Kiosk mit RLT 1"]
[{"$f":"A477","v":0},46,"Messeräume"]
[{"$f":"SUM(A478:A481)","v":0},461,"Messehallen"]
[null,46111,"Verkaufsausstellungsraum"]
[null,46112,"Messehalle mit RLT 1"]
[null,46121,"Musteraustellungsraum"]
[null,46122,"Musteraustellungsraum mit RLT 1"]
[{"$f":"A483+A493+A505+A537+A545+A564+A568+A579","v":0},5,"Bildung, Unterricht und Kultur"]
[{"$f":"A484","v":0},51,"Unterrichtsräume mit festem Gestühl"]
[{"$f":"SUM(A485:A492)","v":0},511,"Hör-/Lehrsäle"]
[null,51111,"Hör-/Lehrsaal anst. m. Exp.-Bühne und RLT 1"]
[null,51112,"Hör-/Lehrsaal anst. m. Exp.-Bühne, mit labortech. Anf. Und RLT 1"]
[null,51121,"Hör-/Lehrsaal eben m. Exp.-Bühne und RLT 1"]
[null,51122,"Hör-/Lehrsaal eben m. Exp.-Bühne, mit labortech. Anf. Und RLT 1"]
[null,51131,"Hör-/Lehrsaal anst. o. Exp.-Bühne und RLT 1"]
[null,51132,"Hör-/Lehrsaal anst. o. Exp.-Bühne, mit labortech. Anf. Und RLT 1"]
[null,51141,"Hör-/Lehrsaal eben o. Exp.-Bühne und RLT 1"]
[null,51142,"Hör-/Lehrsaal eben o. Exp.-Bühne, mit labortech. Anf. Und RLT 1"]
[{"$f":"A494+A499+A502","v":0},52,"Allgemeine Unterrichts- und Übungsräume ohne festes Gestühl"]
[{"$f":"SUM(A495:A498)","v":0},521,"Seminar-/ Unterrichtsräume"]
[null,52111,"Seminar-/ Unterrichtsraum einfach"]
[null,52112,"Seminar-/ Unterrichtsraum mit Medien"]
[null,52113,"Seminar-/ Unterrichtsraum mit Medien und RLT 1"]
[null,52114,"Seminar-/ Unterrichtsraum Naturwissenschaften"]
[{"$f":"SUM(A500:A501)","v":0},522,"Seminar-/ Unterrichtsgroßräume"]
[null,52211,"Seminar-/ Unterrichtsgroßraum"]
[null,52212,"Seminar-/ Unterrichtsgroßraum mit RLT 1"]
[{"$f":"SUM(A503:A504)","v":0},523,"Übungs- und Arbeitsräume"]
[null,52311,"Übungsraum"]
[null,52312,"Übungsraum mit RLT 1"]
[{"$f":"A506+A511+A514+A517+A519+A521+A528","v":0},53,"Besondere Unterrichts- und Übungsräume ohne festes Gestühl"]
[{"$f":"SUM(A507:A510)","v":0},531,"Werk- und Bastelräume, Hauswirtschaftsräume, Zeichensäle"]
[null,53111,"Zeichensaal"]
[null,53121,"Textilarbeitsraum"]
[null,53131,"Werkraum - Holz mit Sonderabsaugung"]
[null,53141,"Hauswirtschaftlicher Unterrichtsraum"]
[{"$f":"SUM(A512:A513)","v":0},532,"Räume für Grafik, Malerei und Bildhauerei"]
[null,53211,"Bildhauerklassenraum"]
[null,53221,"Modellierraum - Plastisches Gestalten mit Sonderabsaugung"]
[{"$f":"SUM(A515:A516)","v":0},533,"Sprachlabore/ EDV-Unterrichtsräume"]
[null,53311,"Computer Pool/ CIP Pool mit RLT 2"]
[null,53321,"Sprachlabore mit RLT 1"]
[{"$f":"A518","v":0},534,"Räume und Übungszellen für Gesangs-, Sprach- und Instrumentalausbildung"]
[null,53411,"Musik-/Sprechunterrichtsraum mit RLT 1"]
[{"$f":"A520","v":0},535,"Verhaltensbeobachtungsräume"]
[null,53511,"Verhaltensbeobachtungsraum"]
[{"$f":"SUM(A522:A527)","v":0},536,"Naturwisschaftlich / medizinische Übungsräume"]
[null,53611,"Übungsraum Naturwissenschaften"]
[null,53612,"Physikalisch-technischer Übungsraum mit RLT 1"]
[null,53621,"Biologischer Übungsraum mit RLT 1"]
[null,53622,"Chemischer Übungsraum mit RLT 1"]
[null,53631,"Zahnmedizinischer Übungsraum mit RLT 1"]
[null,53632,"Anatomischer Übungsraum mit RLT 1"]
[{"$f":"SUM(A529:A536)","v":0},537,"Räume für Ausbildung (Raumlufttechnik enthalten)"]
[null,53711,"Werkstatt Bau/ Steine/ Erden"]
[null,53712,"Werkstatt Bau/ Steine/ Erden mit Sonderabsaugung"]
[null,53721,"Drucktechnikwerkstatt mit Sonderabsaugung"]
[null,53731,"Textil-/ Lederwerkstatt"]
[null,53741,"Werkstatt Holz/ Kunststoff"]
[null,53751,"Werkstatt Metall mit Sonderabsaugung"]
[null,53752,"Werkstatt Feinmechanik mit Sonderabsaugung"]
[null,53761,"Werkstatt Elektro"]
[{"$f":"A538","v":0},54,"Bibliotheksräume"]
[{"$f":"SUM(A539:A544)","v":0},541,"Bibliotheksräume"]
[null,54111,"Bibliotheksraum"]
[null,54112,"Bibliotheksraum mit RLT 1"]
[null,54121,"Leseraum mit RLT 1"]
[null,54131,"Katalograum/ -fläche mit RLT 1"]
[null,54141,"Mediothekraum mit RLT 1"]
[null,54151,"Freihandstellfläche mit RLT 1"]
[{"$f":"A546+A549+A555+A557","v":0},55,"Sporträume"]
[{"$f":"SUM(A547:A548)","v":0},551,"Sporthallen/ Mehrzweckhallen"]
[null,55111,"Halle für Turnen und Spiele"]
[null,55121,"Mehrzweckhalle mit RLT 2"]
[{"$f":"SUM(A550:A554)","v":0},552,"Sportübungsräume"]
[null,55211,"Sportübungsraum"]
[null,55212,"Sportübungsraum mit RLT 1"]
[null,55213,"Raum für Integrationstraining mit RLT 1"]
[null,55214,"Raum für Abwehr- und Zugriffstraining mit RLT 1"]
[null,55221,"Tanzraum mit RLT 1"]
[{"$f":"A556","v":0},553,"Schießsporträume"]
[null,55311,"Schießsportraum mit Medienunterstützung und RLT 1"]
[{"$f":"SUM(A558:A563)","v":0},554,"Sondersporthallen"]
[null,55411,"Schwimmhalle mit RLT 1"]
[null,55412,"Eissporthalle mit RLT 2"]
[null,55413,"Radsporthalle mit RLT 1"]
[null,55414,"Reitsporthalle"]
[null,55415,"Kegelbahn mit RLT 1"]
[null,55416,"Sondersporthalle"]
[{"$f":"A565","v":0},56,"Zuschauerräume"]
[{"$f":"SUM(A566:A567)","v":0},561,"Zuschauerräume"]
[null,56111,"Zuschauerraum in Sport- und Mehrzweckhallen"]
[null,56121,"Zuschauerraum in Kino, Theater- und Konzertsälen mit RLT 2"]
[{"$f":"A576+A573+A569","v":0},57,"Bühnen-, Studioräume"]
[{"$f":"SUM(A570:A572)","v":0},571,"Haupt-, Seiten-, Hinter-, Probebühnen, Schnürböden"]
[null,57111,"Bühnenraum Sporthalle"]
[null,57112,"Bühnenraum Theater mit RLT 2"]
[null,57121,"Probebühne"]
[{"$f":"SUM(A574:A575)","v":0},572,"Orchesterräume"]
[null,57211,"Orchesterraum mit RLT 3"]
[null,57212,"Orchesterprobenraum mit RLT 3"]
[{"$f":"SUM(A577:A578)","v":0},573,"Film-, Fernseh-, Rundfunkstudios"]
[null,57311,"Tonstudioraum mit RLT 3"]
[null,57321,"Bildstudioraum mit RLT 3"]
[{"$f":"A580+A589","v":0},58,"Ausstellungsräume"]
[{"$f":"SUM(A581:A588)","v":0},581,"Ausstellungsräume für Museen, Galerien, Kunstausstellungen"]
[null,58111,"Museumsraum"]
[null,58112,"Museumsraum mit RLT 1"]
[null,58113,"Museumgroßraum mit RLT 3"]
[null,58114,"Museumsraum für Wechselausstellung mit RLT 3"]
[null,58115,"Museumsraum für lichtempfindliche Exponate mit RLT 3"]
[null,58116,"Museumsraum mit Tageslichtdecke und RLT 3"]
[null,58117,"Museumsraum mit Seitenlicht und RLT 3"]
[null,58121,"Künstleratelier"]
[{"$f":"SUM(A590:A591)","v":0},582,"Lehr- und Schausammlungsräume"]
[null,58211,"Lehr- und Schausammlungsraum"]
[null,58221,"Austellungsraum/ -fläche"]
[{"$f":"A593","v":0},59,"Sakralräume"]
[{"$f":"SUM(A594:A599)","v":0},591,"Kirchen"]
[null,59111,"Gottesdienstraum"]
[null,59112,"Andachtsraum"]
[null,59113,"Aussegnungsraum"]
[null,59114,"Aufbahrungsraum"]
[null,59115,"Sakristei"]
[null,59116,"Kreuzgang"]
[{"$f":"A601+A624+A648+A684+A717+A728+A757+A771","v":0},6,"Heilen und Pflegen"]
[{"$f":"A602+A611+A615+A617+A621","v":0},61,"Räume für allgemeine Untersuchung und Behandlung"]
[{"$f":"SUM(A603:A610)","v":0},611,"Räume für allgemeine Untersuchung und Behandlung"]
[null,61111,"U + B Raum/Arztsprechzimmer"]
[null,61112,"U + B Raum/Arztsprechzimmer mit Waschtisch"]
[null,61113,"U + B Raum mit Waschtisch und medizinischer Ausstattung"]
[null,61114,"U + B Raum mit Patienten WC und medizinischer Ausstattung und RLT 1"]
[null,61115,"U + B Vorbereitungsungsraum mit RLT 1"]
[null,61118,"U + B Raum mit Waschtisch und RLT 1"]
[null,61121,"ambulante Operationen, Kategorie E; Raumklasse II"]
[null,61122,"kleine operative/ invasive Eingriffe"]
[{"$f":"SUM(A612:A614)","v":0},612,"Räume für medizinische Erstversorgung und Erste-Hilfe, Wundversorgung"]
[null,61211,"Erste-Hilfe-Raum"]
[null,61212,"Erste-Hilfe-Raum mit medizinischer Ausstattung im Krankenhaus"]
[null,61221,"Gipsraum mit RLT 1"]
[{"$f":"A616","v":0},613,"Obduktions- und Verstorbenenräume"]
[null,61311,"Aufbahrungsraum mit RLT 2"]
[{"$f":"SUM(A618:A620)","v":0},614,"Räume für Beratung (medizinische Vor- und Fürsorge) und Ausbildung"]
[null,61411,"Demonstrationsraum mit einfacher Ausstattung und RLT 1"]
[null,61412,"Projektions-/Demonstrationsraum mit RLT 2"]
[null,61413,"Klinischer Konferenzraum PACS mit RLT 2"]
[{"$f":"SUM(A622:A623)","v":0},615,"Räume für Tiermedizin"]
[null,61511,"Tiermedizinischer U + B Raum mit einfacher medizinischer Ausstattung und RLT 1"]
[null,61512,"Tiermedizinischer U + B Raum mit besonderer Ausstattung und RLT 2"]
[{"$f":"A625+A634+A638+A640+A644","v":0},62,"Räume für spezielle Untersuchung und Behandlung"]
[{"$f":"SUM(A626:A633)","v":0},621,"Räume für Neuro- und Sinnesphysiologie"]
[null,62111,"U + B Raum Neurophysiologie mit RLT 1"]
[null,62112,"U + B Raum Neurophysiologie mit RLT 2"]
[null,62121,"Sinnesphysiologischer U + B-Raum mit RLT 2"]
[null,62122,"Audiometrieraum mit Erschütterungsschutz und RLT 2"]
[null,62131,"Augen-U + B-Raum mit RLT 2"]
[null,62132,"Augen- U+B-Raum mit Laser, reflexionsfrei und RLT 2"]
[null,62141,"U + B Raum Atemphysiologie"]
[null,62142,"U + B Raum Atemphysiologie mit RLT 2"]
[{"$f":"SUM(A635:A650)","v":0},622,"Räume für Herz-/ Kreislaufdiagnostik"]
[null,62211,"U + B Raum Herz/Kreislaufdiagnostik mit RLT 1"]
[null,62212,"U + B Raum Herz/Kreislaufdiagnostik mit RLT 2"]
[null,62213,"U + B Raum Herz/ Kreislaufdiagnostik mit RLT 3"]
[{"$f":"SUM(A639)","v":0},623,"Räume für Zahnmedizinische Behandlung"]
[null,62311,"Zahnmedizinischer U + B-Raum"]
[{"$f":"SUM(A641:A643)","v":0},624,"Räume für Endoskopien"]
[null,62411,"Waschraum Endoskopie mit RLT 1"]
[null,62412,"Endoskopieraum mit RLT 3"]
[null,62413,"Endoskopieraum mit RLT 3 und Strahlenschutz"]
[{"$f":"SUM(A645:A647)","v":0},625,"Geburtshilferäume"]
[null,62511,"Geburtshilfe-/ Vorbereitungs- und Ergänzungsraum"]
[null,62512,"Geburtshilferaum mit RLT 1"]
[null,62513,"Geburtshilferaum m. Sonderausstattung und RLT 1"]
[{"$f":"A680+A666+A649","v":0},63,"Räume für operative Eingriffe"]
[{"$f":"SUM(A650:A665)","v":0},631,"Räume für Operationen"]
[null,63111,"Operationsraum"]
[null,63112,"Operationsraum mit Strahlenschutz"]
[null,63113,"Operationsraum mit Sonderausstattung"]
[null,63114,"Operationsraum mit Sonderausstattung und Strahlenschutz"]
[null,63115,"Eingriffsraum mit besonderen hygienischen und RLT-Anforderungen"]
[null,63116,"Operationsraum mit Strahlen-/ Laserschutz"]
[null,63117,"Operationsraum für Kinder"]
[null,63121,"Eingriffsraum"]
[null,63122,"Eingriffraum mit Lasereinsatz (z.B. Augenklinik: Lasik-Laser)"]
[null,63123,"Ambulante Operationen, Kategorie OP"]
[null,63124,"Operationsraum mit reduzierten RLT-Anforderungen"]
[null,63125,"Operationsraum mit Strahlen-/ Laserschutz, reduzierten RLT-Anforderungen"]
[null,63131,"Hybrid OP"]
[null,63132,"Hybrid-Operationsraum Angiographie"]
[null,63133,"Hybrid-Operationsraum intraoperativer MRT"]
[null,63134,"Hybrid-Operationsraum CT"]
[{"$f":"SUM(A667:A679)","v":0},632,"OP-Ergänzungsräume; Raumklassen I und II"]
[null,63211,"Richtraum Raumklasse Ib"]
[null,63212,"Richtraum Raumklasse Ia"]
[null,63213,"Geräteraum Raumklasse Ib"]
[null,63214,"Geräteraum Raumklasse Ia"]
[null,63221,"Waschraum OP, Raumklasse II"]
[null,63222,"Patientenvorbereitungsraum OP, Raumklasse II"]
[null,63223,"Einleitungsraum, Raumklasse II"]
[null,63224,"Einleitungs-/Ausleitungsraum, Raumklasse II"]
[null,63225,"Ausleitungs-/Entsorgungsraum, Raumklasse II"]
[null,63226,"Gipsraum OP, Raumklasse II"]
[null,63227,"Medizinische Versorgung OP, Raumklasse II"]
[null,63228,"Medizinische Entsorgung OP, Raumklasse II"]
[null,63229,"Umbettschleuse, Raumklasse II"]
[{"$f":"SUM(A681:A683)","v":0},633,"Tiermedizinische Operationsräume"]
[null,63311,"Tierendoskopieraum mit RLT 1"]
[null,63312,"Tieroprationsraum mit RLT 3"]
[null,63313,"Tieroperationsraum mit Strahlenschutz und RLT 3"]
[null,64,"Räume für Strahlendiagnostik"]
[{"$f":"SUM(A686:A690)","v":0},641,"Räume für allgemeine und spezielle Röntgendiagnostik"]
[null,64111,"Durchleuchtunggsraum mit RLT 2"]
[null,64112,"Röntgenaufnahmeraum mit RLT 2"]
[null,64113,"Röntgenuntersuchungsraum experimentell mit RLT 2"]
[null,64114,"Röntgenvorbereitungsraum mit RLT 2"]
[null,64121,"Zahnmedizinischer Röntgenuntersuchungsraum mit RLT 2"]
[{"$f":"SUM(A692:A699)","v":0},642,"Räume für Nuklearmedizinische Diagnostik"]
[null,64211,"Abklingraum Nuklearmedizin mit RLT 1"]
[null,64212,"Vorbereitungsraum nuklearmedizinische Diagnostik mit RLT 1"]
[null,64213,"Patientenvorbereitung (Nukl. Med.)"]
[null,64216,"Applikation - Diagnostik (U/B)"]
[null,64217,"Untersuchung- und Behandlungsraum"]
[null,64221,"Meßraum mit Einkanal-Meßplatz und RLT 2"]
[null,64222,"Meßraum mit (Gamma) Kamera und RLT 2"]
[null,64223,"Meßraum für Positronen-Emissions-Tomographie (PET) mit RLT 3"]
[{"$f":"SUM(A701:A707)","v":0},643,"Tomographieräume"]
[null,64311,"Computertomographieraum (CT) mit RLT 2"]
[null,64312,"Spezialaufnahmenraum mit RLT 2"]
[null,64313,"Schichtaufnahmenraum mit RLT 2"]
[null,64314,"Angiographieraum mit RLT 2"]
[null,64315,"Magnetresonanz-Tomographieraum (NMR) mit RLT 3"]
[null,64316,"PET-CT"]
[null,64317,"PET-MRT"]
[{"$f":"SUM(A709:A710)","v":0},644,"Räume für Ultraschall-/Hochfrequenzdiagnostik"]
[null,64411,"Ultraschalldiagnostikraum mit RLT 1"]
[null,64412,"Ultraschalldiagnostikraum mit RLT 2"]
[{"$f":"SUM(A712:A713)","v":0},645,"Nuklearmedizinische Diagnostik für Tiermedizin"]
[null,64511,"Strahlendiagnostikraum Tiermedizin mit RLT 1"]
[null,64512,"Nuklearmedizinischer Meßraum für Tiere mit RLT 1"]
[{"$f":"SUM(A715:A716)","v":0},646,"Räume für Nuklearmedizin: Vorbereitung/ Nachbereitung Radionuklide"]
[null,64611,"Radionuklidlabor"]
[null,64612,"Tresor mit Schleuse (Heißlabor)"]
[{"$f":"A718","v":0},65,"Räume für Strahlentherapie"]
[{"$f":"SUM(A719:A727)","v":0},651,"Räume für nuklearmedizinische Therapie"]
[null,65111,"Oberflächenbestrahlung mit RLT 3"]
[null,65112,"Halbtiefen-/ Tiefenbestrahlung mit RLT 3"]
[null,65113,"Linearbeschleuniger mit RLT 3"]
[null,65114,"Bestrahlungsplanung mit RLT 3"]
[null,65115,"Bestrahlung mit offenen radioaktiven Stoffen und RLT 2"]
[null,65116,"Bestrahlung mit umschlossenen radioaktiven Stoffen und RLT 2"]
[null,65121,"Bestrahlung mit offenen Isotopen und RLT 2"]
[null,65122,"Bestrahlung mit umschlossenen Isotopen - Vorbereitung und RLT 2"]
[null,65123,"Bestrahlung mit umschlossenen Isotopen - Behandlung und RLT 2"]
[{"$f":"A729+A736+A742+A747+A751+A754","v":0},66,"Räume für Physiotherapie und Rehabilitation"]
[{"$f":"SUM(A730:A735)","v":0},661,"Räume für medizinische Bäder"]
[null,66111,"Medizinisches Wannenbad mit RLT 1"]
[null,66112,"Medizinisches Teilbad mit RLT 1"]
[null,66113,"Unterwasserdruckstrahlmassage mit RLT 1"]
[null,66114,"Kneipp'sche Anwendungen mit RLT 1"]
[null,66115,"Bewegungswannenbad mit RLT 1"]
[null,66116,"Schwimmbecken Naßtherapie mit RLT 1"]
[{"$f":"SUM(A737:A741)","v":0},662,"Räume für Hydro-, Bewegungstherapie sowie Kuranwendungen"]
[null,66211,"Schwitzbad mit RLT 1"]
[null,66212,"Packungen - Vorbereitung mit RLT 1"]
[null,66213,"Packungen - Behandlung mit RLT 1"]
[null,66221,"Laufschule"]
[null,66222,"Traktionsraum"]
[{"$f":"SUM(A743:A746)","v":0},663,"Elektrotherapieräume"]
[null,66311,"Bestrahlungen mit RLT 1"]
[null,66312,"Durchströmung mit RLT 1"]
[null,66313,"Vibrationsmassage mit RLT 1"]
[null,66314,"Hyperthermietherapie mit RLT 3"]
[{"$f":"SUM(A748:A750)","v":0},664,"Räume für Spiel-, Gruppen-, Arbeits- und Ergotherapie, Heilpädagogik"]
[null,66411,"Rehabilitationsraum Spieltherapie"]
[null,66412,"Snoezelraum mit RLT 2"]
[null,66421,"Rehabilitationsraum Arbeitstherapie"]
[{"$f":"SUM(A752:A753)","v":0},665,"Räume für Krankengymnastik und Massage"]
[null,66511,"Gymnastikraum mit RLT 1"]
[null,66521,"Massageraum mit RLT 1"]
[{"$f":"SUM(A755:A756)","v":0},666,"Inhalations- und Klimabehandlungsräume"]
[null,66611,"Einzelinhalation"]
[null,66612,"Rauminhalation mit RLT 1"]
[{"$f":"A758+A767","v":0},67,"Bettenräume mit allgemeiner Ausstattung in Krankenhäusern und Pflegeanstalten"]
[{"$f":"SUM(A759:A766)","v":0},671,"Normal-, Langzeit- und Leichtpflegeräume"]
[null,67111,"Normalpflegebettenraum"]
[null,67112,"Tagesklinischer Pflegeplatz"]
[null,67113,"Kinderpflegebettenraum mit RLT 1"]
[null,67114,"Pflegebettenraum, Raumklasse II"]
[null,67121,"Neugeborenenpflegebettenraum mit RLT 2"]
[null,67122,"Säuglingspflegebettenraum mit RLT 2"]
[null,67131,"Langzeitpflegebettenraum mit RLT 2"]
[null,67132,"Leichtpflegebettenraum mit RLT 1"]
[{"$f":"SUM(A768:A770)","v":0},672,"Psychiatrische Pflegebettenräume"]
[null,67211,"Psychiatrischer Pflegeraum mit RLT 1"]
[null,67212,"Psychiatrischer Pflegeraum mit Pflegestandard und RLT 1"]
[null,67213,"Time-Out-Raum mit RLT 2"]
[{"$f":"A772+A777+A785","v":0},68,"Bettenräume mit besonderer medizinischer Ausstattung"]
[{"$f":"SUM(A773:A776)","v":0},681,"Postoperative Überwachung, Intensivmedizin"]
[null,68111,"Bettenraum Intensivüberwachung (IMC) mit RLT 3"]
[null,68112,"Bettenraum Intensivbehandlung (ITS) mit RLT 3"]
[null,68121,"Aufwachraum (postoperativ) mit RLT 2"]
[null,68122,"Aufwachraum (postoperativ) mit RLT 3"]
[{"$f":"SUM(A778:A784)","v":0},682,"Räume mit besonderer med. Ausstattung"]
[null,68211,"Bettenraum für die Behandlung Brandverletzter/ Verbrennungsstation mit RLT 3"]
[null,68212,"Bettenraum für Reverse Isolation mit RLT 3"]
[null,68221,"Infektionspflegebettenraum mit RLT 1"]
[null,68231,"Bettenraum für Strahlenpatienten, offene Isotope und RLT 1"]
[null,68232,"Bettenraum für Strahlenpatienten, umschlossene Isotope und RLT 1"]
[null,68241,"Bettenraum für die Pflege Frühgeborener mit RLT 3"]
[null,68242,"Bettenraum für die Pflege Querschnittgelähmter"]
[{"$f":"SUM(A786:A787)","v":0},683,"Dialyseräume"]
[null,68311,"Behandlungsplatz Dialyse mit RLT 2"]
[null,68312,"Intensivbehandlung Akutdialyse mit RLT 3"]
[{"$f":"A789+A832+A864+A880+A896+A902+A910+A916+A961","v":0},7,"Sonstige Nutzungen"]
[{"$f":"A790+A794+A799+A804+A810+A814","v":0},71,"Nutzungsspezifische technische Anlagen oder Einrichtungen"]
[{"$f":"SUM(A791:A793)","v":0},711,"Räume mit tech. Anlagen zum Betrieb nutzungsspezifischer Geräte oder Anlagen"]
[null,71111,"Raum für Technik mit RLT 2"]
[null,71112,"Hydrauliktechnikraum für Geräte"]
[null,71113,"Hydrauliktechnikraum für Maschinen und Anlagen"]
[{"$f":"SUM(A795:A798)","v":0},712,"Räume für EDV-Anlagen"]
[null,71211,"DV-Kleinrechneranlagenraum mit RLT 1"]
[null,71212,"Raum für Serveranlagen-Bedienplatz mit RLT 1"]
[null,71221,"DV-Großrechneranlagenraum mit RLT 2"]
[null,71222,"Serverraum mit Sicherheitsanforderungen und RLT 2"]
[{"$f":"SUM(A800:A803)","v":0},713,"Schalträume für nutzungsspezifische technische Anlagen"]
[null,71311,"Schaltraum"]
[null,71312,"Schaltraum mit bes. bauk./ tech. Anf. und RLT 1"]
[null,71313,"Schaltraum für Förderanlagen mit RLT 1"]
[null,71314,"Schaltraum für Anlagen mit RLT 1"]
[{"$f":"SUM(A805:A809)","v":0},714,"Schaltwarten für nutzungsspezifische Anlagen angegliederter/ benachbarter Räume"]
[null,71411,"Schaltraum Radiologie mit RLT 2"]
[null,71412,"Schaltraum OP mit RLT 3"]
[null,71413,"Raum für Sonderbedienung Tierhaltung/ Versuchssteuerung mit RLT 2"]
[null,71414,"Raum für Sondersystem (z.B. Monitoring / GMP) mit RLT 2"]
[null,71415,"Bedien- / Auswertraum Röntgen mit RLT 2"]
[{"$f":"SUM(A811:A813)","v":0},715,"Regieräume, Vorführkabinen"]
[null,71511,"Regieraum mit RLT 2"]
[null,71521,"Projektionsraum mit RLT 1"]
[null,71522,"Filmvorführraum mit RLT 1"]
[{"$f":"SUM(A815:A831)","v":0},719,"Räume für nutzungsspezifische technische Ver- und Entsorgung"]
[null,71911,"Entsorgungsraum Abwasser für Geräte, Maschinen und Anlagen"]
[null,71912,"Abwasseraufbereitung und Neutralisation mit RLT1"]
[null,71921,"Raum für Wasseraufbereitung"]
[null,71941,"Versorgungsraum Gase für Geräte, Maschinen und Anlagen"]
[null,71942,"Versorgungsraum Flüssigkeiten für Geräte, Maschinen und Anlagen"]
[null,71943,"Versorgungsraum Druckluft für Geräte, Maschinen und Anlagen"]
[null,71944,"Schwarzdampf-Erzeugung"]
[null,71945,"Reindampf-Erzeugung"]
[null,71951,"Versorgungsraum Strom für Geräte, Maschinen und Anlagen"]
[null,71952,"Raum für Notstromversorgung"]
[null,71953,"Raum für Dieselaggregat"]
[null,71954,"Batterieraum"]
[null,71961,"Versorgungsraum Fernmeldetechnik für Geräte, Maschinen und Anlagen"]
[null,71962,"Versorgungsraum Datentechnik für Geräte, Maschinen und Anlagen"]
[null,71963,"Meldeanlageraum (Brandmeldeanlage, Einbruchmeldeanlage, etc.)"]
[null,71973,"Versorgungsraum Kälte für Geräte, Maschinen und Anlagen"]
[null,71981,"Maschinenraum für Rohrpostanlage"]
[{"$f":"A833+A836+A839+A843+A849+A854+A857+A860+A862","v":0},72,"Technische Anlagen zur Ver- und Entsorgung anderer Bauwerke sowie notwendige Ergänzungsflä"]
[{"$f":"SUM(A834:A835)","v":0},721,"Räume für Abwasseraufbereitung und -beseitigung"]
[null,72111,"Raum für Abwasserbeseitigung"]
[null,72112,"Abwasseraufbereitung und Neutralisation mit RLT 1"]
[{"$f":"SUM(A837:A838)","v":0},722,"Räume für Wasserversorgung"]
[null,72211,"Raum für Wasserversorgung"]
[null,72212,"Raum für Wasseraufbereitung"]
[{"$f":"SUM(A840:A842)","v":0},723,"Räume für Wärmeversorgung"]
[null,72311,"Zentraler Versorgungsraum Wärme"]
[null,72312,"Zentraler Raum für Heizbrennstoffe fest"]
[null,72313,"Zentraler Raum für Heizbrennstoffe flüssig"]
[{"$f":"SUM(A844:A848)","v":0},724,"Räume zur Versorgung mit Gasen und Flüssigkeiten"]
[null,72411,"Schwarzdampf-Erzeugung"]
[null,72412,"Reindampf-Erzeugung"]
[null,72413,"Versorgungsraum Gase"]
[null,72414,"Versorgungsraum Flüssigkeiten"]
[null,72415,"Versorgungsraum Druckluft"]
[{"$f":"SUM(A850:A853)","v":0},725,"Räume für Stromversorgung"]
[null,72511,"Raum für elektrische Stromversorgung"]
[null,72512,"Raum für Notstromversorgung"]
[null,72513,"Raum für Dieselaggregat"]
[null,72514,"Batterieraum"]
[{"$f":"SUM(A855:A856)","v":0},726,"Räume für Fernmelde-/Datentechnik"]
[null,72611,"Raum für Fernmeldetechnik"]
[null,72612,"Raum für Datentechnik"]
[{"$f":"SUM(A858:A859)","v":0},727,"Räume für Luft-/ Kälteversorgung"]
[null,72711,"Zentraler Versorgungsraum Luft ohne Kälte"]
[null,72712,"Zentraler Versorgungsraum Luft mit Kälte"]
[{"$f":"SUM(A861)","v":0},728,"Räume für Förderanlagen"]
[null,72811,"Zentraler Versorgungsraum Förderanlagen"]
[{"$f":"SUM(A863)","v":0},729,"Raum für sonstige Ver- und Entsorgung"]
[null,72911,"Sonstiger Zentraler Ver- u. Entsorgungsraum"]
[{"$f":"A865+A869+A872+A876","v":0},73,"Abstellräume"]
[{"$f":"SUM(A866:A868)","v":0},731,"Abstellraum sowie Dach- und Kellerabstellraum"]
[null,73111,"Abstellraum, einfacher Ausbau"]
[null,73112,"Abstellraum"]
[null,73113,"Abstellraum mit RLT 1"]
[{"$f":"SUM(A870:A871)","v":0},732,"Fahrrad-/ Kinderwagenabstellräume"]
[null,73211,"Fahrradabstellraum"]
[null,73221,"Kinderwagenabstellraum"]
[{"$f":"SUM(A873:A875)","v":0},733,"Müllsammelräume"]
[null,73311,"Müllsammelraum"]
[null,73312,"Müllsammelraum mit RLT 1"]
[null,73313,"Müllsammelraum gekühlt mit RLT 2"]
[{"$f":"SUM(A877:A879)","v":0},734,"Transportgeräteabstellräume"]
[null,73411,"KFA/ AWT- Container-Stauraum"]
[null,73412,"KFA/ AWT-Station und Containerbahnhof"]
[null,73421,"Krankentransportgeräteraum"]
[{"$f":"A881+A887","v":0},74,"Fahrzeugabstellflächen"]
[{"$f":"SUM(A882:A886)","v":0},741,"Garagen aller Art, mittlere Höhe < 4,50 m"]
[null,74111,"Abstellfläche für Kfz, einfach"]
[null,74112,"Abstellfläche für Kfz"]
[null,74121,"Abstellfläche für Kfz im Gebäude integriert"]
[null,74122,"Abstellfläche für Kfz im Gebäude integriert mit RLT 1"]
[null,74131,"KFZ-Abstellfläche mit Sicherheitsanforderungen"]
[{"$f":"SUM(A888:A895)","v":0},742,"Hallen für Schienen-, Straßen-,Wasser-, Luftfahrzeuge, landwirt. Fahrzeuge, mittlere Höhe"]
[null,74211,"Großgeräteabstellfläche"]
[null,74212,"Großgeräteabstellfläche mit RLT 1"]
[null,74221,"Kettenfahrzeugabstellfläche"]
[null,74231,"Schienenfahrzeugabstellfläche"]
[null,74232,"Schienenfahrzeugabstellfläche für kraftstoffbetriebeneFahrzeuge mit RLT 1"]
[null,74241,"Luftfahrzeugabstellfläche"]
[null,74251,"Wasserfahrzeugabstellfläche landseitig"]
[null,74252,"Wasserfahrzeugabstellfläche seeseitig"]
[{"$f":"A897","v":0},75,"Fahrgastflächen"]
[{"$f":"SUM(A898:A901)","v":0},751,"Fahrgastflächen"]
[null,75111,"Bahnsteig"]
[null,75112,"Fahrsteig"]
[null,75113,"Flugsteig"]
[null,75114,"Landesteg"]
[{"$f":"A903+A907","v":0},76,"Schutzräume"]
[{"$f":"SUM(A904:A906)","v":0},761,"Schutzraum"]
[null,76111,"Ziviler Schutzraum"]
[null,76112,"Militärischer Schutzraum"]
[null,76113,"ABC Schutzraum"]
[{"$f":"SUM(A908:A909)","v":0},762,"Mehrzweckschutzraum"]
[null,76211,"Ziviler Schutzraum als Mehrzweckraum"]
[null,76212,"Militärischer Schutzraum als Mehrzweckraum"]
[{"$f":"A911","v":0},77,"Sonstige Räume"]
[{"$f":"SUM(A912:A915)","v":0},771,"Nicht ausgebaute Nutzungsfläche"]
[null,77111,"nicht ausgebaute Aufenhaltsfläche"]
[null,77112,"nicht ausgebaute Bürofläche"]
[null,77113,"nicht ausgebaute Laborfläche"]
[null,77114,"nicht ausgebaute Lagerfläche"]
[{"$f":"A917+A923+A932+A953+A956","v":0},78,"Sanitärräume"]
[{"$f":"SUM(A918:A922)","v":0},781,"Toiletten"]
[null,78111,"Toilette"]
[null,78112,"Toilette mit RLT 1"]
[null,78113,"Toilette barrierefrei mit RLT 1"]
[null,78114,"Patiententoilette mit RLT 1"]
[null,78115,"Toilette mit Strahlenschutzmaßnahmen und RLT 2"]
[{"$f":"SUM(A924:A931)","v":0},782,"Wickelräume/ Schminkräume/ Wellnessbereich"]
[null,78211,"Wickelraum"]
[null,78212,"Wickelraum mit Waschtisch"]
[null,78213,"Wickelraum mit Waschtisch und RLT 1"]
[null,78221,"Schminkraum"]
[null,78222,"Schminkraum mit Waschtisch"]
[null,78223,"Schminkraum mit Waschbecken und RLT 1"]
[null,78231,"Saunaraum"]
[null,78232,"Wellnessraum"]
[{"$f":"SUM(A933:A952)","v":0},783,"Sanitärräume/ -flächen: duschen, baden, waschen"]
[null,78311,"Sanitärraum"]
[null,78312,"Sanitärraum mit RLT 1"]
[null,78313,"Sanitärzelle Patientenzimmer mit RLT 1"]
[null,78314,"Sanitärzelle Patientenzimmmer mit bes. hygienischen Anf. mit RLT 1"]
[null,78315,"Sanitärzelle mit Strahlenschutzmaßnahmen und RLT 2"]
[null,78316,"Waschraum"]
[null,78317,"Waschraum mit RLT 1"]
[null,78318,"Waschraum barrierefrei mit RLT 1"]
[null,78319,"Waschraum mit Strahlenschutzmaßnahmen und RLT 1"]
[null,78321,"Duschraum / Baderaum"]
[null,78322,"Duschraum / Baderaum mit RLT 1"]
[null,78323,"Duschraum / Baderaum barrierefrei mit RLT 1"]
[null,78324,"Patientendusche / Patientenbad mit RLT 1"]
[null,78325,"Duschraum mit Strahlenschutzmaßnahmen mit RLT 1"]
[null,78331,"Waschraum"]
[null,78332,"Waschraum mit RLT 1"]
[null,78333,"Duschraum"]
[null,78334,"Duschraum mit RLT 1"]
[null,78341,"Badezimmer in Wohnungen"]
[null,78342,"Badezimmer in Wohnungen mit RLT 1"]
[{"$f":"SUM(A954:A955)","v":0},784,"Reinigungsschleusen"]
[null,78411,"Zwangsdusche mit RLT 1"]
[null,78412,"Zwangsdusche im strahlengeschützten, hygienisch abgeschlossenen Bereich und RLT 2"]
[{"$f":"SUM(A957:A960)","v":0},785,"Putzräume"]
[null,78511,"Putzraum mit Ausguß"]
[null,78512,"Putzraum mit Ausguß und RLT 1"]
[null,78513,"Putzraum mit Ausguß, bes. hygienischen Anf. und RLT 1"]
[null,78514,"Putzraum mit Ausguß, Raumklasse II im OP-Bereich"]
[{"$f":"A962+A970+A979+A984","v":0},79,"Garderoben / Umkleiden"]
[{"$f":"SUM(A963:A969)","v":0},791,"Umkleideräume"]
[null,79111,"Einzelumkleideraum"]
[null,79112,"Einzelumkleideraum mit Waschbecken"]
[null,79113,"Einzelumkleideraum mit RLT1"]
[null,79114,"Einzelumkleideraum mit Waschbecken und RLT1"]
[null,79115,"Patientenumkleide U+B-Raum mit RLT1"]
[null,79121,"Gruppenumkleideraum"]
[null,79122,"Gruppenumkleideraum mit Waschtisch und RLT 1"]
[{"$f":"SUM(A971:A978)","v":0},792,"Umkleideschleusen"]
[null,79211,"Umkleideschleuse"]
[null,79212,"Umkleideschleuse mit Waschtisch"]
[null,79213,"Umkleideschleuse mit Waschtisch und RLT 1"]
[null,79221,"Umkleideschleuse im OP-Bereich, Raumklasse II"]
[null,79231,"Personalschleuse mit hygienischen Anf. und RLT 1"]
[null,79241,"Umkleideschleuse im strahlengeschützten Bereich undRLT 1"]
[null,79242,"Personalschleuse im strahlengeschützten Bereich mit Dekontaminationsdusche und RLT 1"]
[null,79243,"Personalschleuse m. bes. baukonstr., hygien., RLT-Anforderungen u. Strahlenschutz"]
[{"$f":"SUM(A980:A983)","v":0},793,"Garderoben"]
[null,79311,"Garderobe"]
[null,79312,"Garderobe mit RLT 1"]
[null,79321,"Künstlergarderobe"]
[null,79322,"Künstlergarderobe mit Waschtisch und RLT 1"]
[{"$f":"SUM(A985:A986)","v":0},794,"Schrankräume in Wohngebäuden"]
[null,79411,"Schrankraum"]
[null,79412,"Schrankraum mit RLT 1"]
[null,8,"Technikflächen sowie notwendige Ergänzungsflächen"]
[{"$f":"A989+A992","v":0},81,"Abwasseraufbereitung und -beseitigung"]
[{"$f":"SUM(A990:A991)","v":0},811,"Räume für Abwasseraufbereitung und -beseitigung"]
[null,81111,"Raum für Abwasserhebeanlage"]
[null,81121,"Raum für Abwasseraufbereitung und Neutralisation mit RLT 1"]
[{"$f":"A993","v":0},819,"Referenzraum Abwasseraufbereitung und -beseitigung"]
[null,81911,"Referenzraum für Abwasseraufbereitung und -beseitigung"]
[{"$f":"A995+A998","v":0},82,"Wasserversorgung"]
[{"$f":"SUM(A996:A997)","v":0},821,"Räume für Wasserversorgung"]
[null,82111,"Raum für Wasserversorgung"]
[null,82121,"Raum für Wasseraufbereitung"]
[{"$f":"A999","v":0},829,"Referenzraum Wasserversorgung"]
[null,82911,"Referenzraum Wasserversorgung"]
[{"$f":"A1001+A1006","v":0},83,"Heizung und Brauchwassererwärmung"]
[{"$f":"SUM(A1002:A1005)","v":0},831,"Räume für Heizung und Brauchwassererwärmung"]
[null,83111,"Raum für Heizung und Brauchwassererwärmung"]
[null,83121,"Lagerraum für Heizbrennstoffe fest"]
[null,83122,"Lagerraum für Heizbrennstoffe flüssig"]
[null,83123,"Lagerraum für Heizbrennstoffe gasförmig"]
[{"$f":"A1007","v":0},839,"Referenzraum Heizung und Brauchwassererwärmung"]
[null,83911,"Referenzraum Heizung und Brauchwassererwärmung"]
[{"$f":"A1009+A1015","v":0},84,"Gase und Flüssigkeiten (ausser für Heizzwecke)"]
[{"$f":"SUM(A1010:A1014)","v":0},841,"Gase und Flüssigkeiten (ausser für Heizzwecke)"]
[null,84111,"Schwarzdampf-Erzeugung"]
[null,84112,"Reindampf-Erzeugung"]
[null,84121,"Versorgungsraum Gase"]
[null,84122,"Versorgungsraum Flüssigkeiten"]
[null,84123,"Versorgungsraum Druckluft"]
[{"$f":"A1016","v":0},849,"Referenzraum Gase und Flüssigkeiten"]
[null,84911,"Referenzraum Gase und Flüssigkeiten"]
[{"$f":"A1018+A1023","v":0},85,"Elektrische Stromversorgung"]
[{"$f":"SUM(A1019:A1022)","v":0},851,"Räume für elektrische Stromversorgung"]
[null,85111,"Elektrische Stromversorgung"]
[null,85121,"Notstromversorgung"]
[null,85122,"Raum für Dieselaggregat"]
[null,85123,"Batterieraum"]
[{"$f":"A1024","v":0},859,"Referenzraum elektrische Stromversorgung"]
[null,85911,"Referenzraum elektrische Stromversorgung"]
[{"$f":"A1026+A1031","v":0},86,"Fernmelde-/ Gebäudeleittechnik"]
[{"$f":"SUM(A1027:A1030)","v":0},861,"Räume für Fernmeldetechnik"]
[null,86111,"Fernmeldetechnik"]
[null,86112,"DV-Verteilerraum"]
[null,86121,"Gebäudeleittechnik (GLT)"]
[null,86122,"Meldeanlageraum (Brandmeldeanlage, Einbruchmeldeanlage, etc.)"]
[{"$f":"A1032","v":0},869,"Referenzraum Fernmelde- und Gebäudeleittechnik"]
[null,86911,"Referenzraum Fernmelde- und Gebäudeleittechnik"]
[{"$f":"A1034+A1037","v":0},87,"Raumlufttechnische Anlagen"]
[{"$f":"SUM(A1035:A1036)","v":0},871,"Raumlufttechnische Anlagen"]
[null,87111,"Versorgungsraum Luft ohne Kälte"]
[null,87112,"Versorgungsraum Luft u. Kälte"]
[{"$f":"A1038","v":0},879,"Referenzraum Raumlufttechnik"]
[null,87911,"Referenzraum Raumlufttechnik"]
[{"$f":"A1040+A1043","v":0},88,"Aufzug- und Förderanlagen"]
[{"$f":"SUM(A1041:A1042)","v":0},881,"Aufzug- und Förderanlagen"]
[null,88111,"Maschinenraum für Aufzuganlagen"]
[null,88121,"Maschinenraum für Förderanlagen"]
[{"$f":"A1044","v":0},889,"Referenzraum Aufzug- und Förderanlagen"]
[null,88911,"Referenzraum Aufzug- und Förderanlagen"]
[{"$f":"A1046+A1051+A1055","v":0},89,"Sonstige betriebstechnische Anlagen"]
[{"$f":"SUM(A1047:A1050)","v":0},891,"Räume für sonstige betriebs. Anlagen"]
[null,89111,"Hausanschlußraum"]
[null,89121,"Installationsraum"]
[null,89131,"Abfallverbrennungsraum"]
[null,89141,"Sonstiger Zentraler Ver- u. Entsorgungsraum"]
[{"$f":"SUM(A1052:A1054)","v":0},892,"Schächte, Kanäle, Flächen"]
[null,89211,"Installationsschacht"]
[null,89221,"Installationskanal"]
[null,89231,"Wartungsfläche"]
[{"$f":"A1056","v":0},899,"Referenzraum sonstige betriebs. Anlagen"]
[null,89911,"Referenzraum sonstige betriebs. Anlagen"]
[{"$f":"A1058+A1081+A1094+A1105","v":0},9,"Verkehrserschließung und -sicherung"]
[{"$f":"A1059+A1070+A1077+A1079","v":0},91,"Flure und Hallen"]
[{"$f":"SUM(A1060:A1069)","v":0},911,"Flure"]
[null,91111,"Flur"]
[null,91112,"Flur mit RLT 1"]
[null,91113,"Flur in Wohnungen"]
[null,91114,"Vorraum"]
[null,91115,"Verbindungssteg"]
[null,91121,"Flur im Klinikbereich, Raumklasse II"]
[null,91122,"Flur im Laborbereich ab S3"]
[null,91123,"Flur in Tierhaltung, hochinstalliert"]
[null,91131,"Flur als Fluchtweg"]
[null,91132,"Fluchtbalkon"]
[{"$f":"SUM(A1071:A1076)","v":0},912,"Schleusen"]
[null,91211,"Windfang"]
[null,91212,"Schleuse (Durchgang)"]
[null,91221,"Schleuse Tierhaltung SpezifiziertPathogenFrei"]
[null,91222,"Schleuse mit Sicherheitsanforderungen S3"]
[null,91223,"Schleuse mit Sicherheitsanforderungen Strahlenschutz"]
[null,91224,"Schleuse mit Vereinzelungsanlage"]
[{"$f":"A1078","v":0},913,"Hallen"]
[null,91311,"Eingangshalle"]
[{"$f":"A1080","v":0},919,"Referenzraum Flure und Hallen"]
[null,91911,"Referenzraum Flure und Hallen"]
[{"$f":"A1082+A1090+A1092","v":0},92,"Treppen"]
[{"$f":"SUM(A1083:A1089)","v":0},921,"Treppenraum"]
[null,92111,"Treppenraum, -lauf, Rampe"]
[null,92112,"Treppenraum, -lauf, Rampe mit RLT 1"]
[null,92114,"Treppe in Wohnungen"]
[null,92121,"Sicherheitstreppenraum"]
[null,92122,"Übungstreppenhaus IGT (Integrationstraining)"]
[null,92131,"Fluchttreppenraum, -lauf"]
[null,92132,"Fluchtrampe als zweiter Rettungswegweg"]
[{"$f":"A1091","v":0},922,"Rollsteige"]
[null,92211,"Rolltreppe, -rampe"]
[{"$f":"A1093","v":0},929,"Referenzraum Treppe"]
[null,92911,"Referenzraum Treppe"]
[{"$f":"A1095+A1103","v":0},93,"Schächte für Förderanlagen"]
[{"$f":"SUM(A1096:A1102)","v":0},931,"Aufzug-/ Abwurfschächte"]
[null,93111,"Schacht für Personenaufzug"]
[null,93121,"Schacht mit Lieferaufzug"]
[null,93122,"Schacht mit Materialaufzug"]
[null,93123,"Schacht für Rohrpost"]
[null,93124,"Schacht für Allgemeinen WarenTransport (AWT)"]
[null,93125,"Tunnel für Materialförderanlagen (AWT)"]
[null,93131,"Abwurfschacht"]
[{"$f":"A1104","v":0},939,"Referenz Schächte für Förderanlagen"]
[null,93911,"Referenz Schächte für Förderanlagen"]
[{"$f":"A1106+A1111","v":0},94,"Fahrzeugverkehrsflächen"]
[{"$f":"SUM(A1107:A1110)","v":0},941,"Durchfahrten"]
[null,94111,"Fahrzeugverkehrsfläche horizontal"]
[null,94112,"Fahrzeugverkehrsfläche horizontal mit RLT 1"]
[null,94121,"Fahrzeugverkehrsfläche geneigt (Rampe)"]
[null,94122,"Fahrzeugverkehrsfläche geneigt (Rampe) mit RLT 1"]
[{"$f":"A1112","v":0},949,"Referenz Fahrzeugverkehrsflächen"]
[null,94911,"Referenz Fahrzeugverkehrsflächen"]

{"sheet":"Hintergrund","index":6,"n_rows":11,"n_cols":2,"rows_kept":11,"cut":false,"hidden":true,"merged":[]}
["LPH","LOI"]
["-","-"]
[1,0]
[2,100]
[3,200]
[4,200]
[5,300]
[6,400]
[7,400]
[8,500]
[9,500]

{"sheet":"Tabelle1","index":7,"n_rows":4,"n_cols":27,"rows_kept":4,"cut":false,"hidden":true,"merged":[[0,1,0,9],[0,12,0,19],[0,20,0,26]]}
["Bestandserfassung","Planung",null,null,null,null,null,null,null,null,"Genehmigung","Vergabe","Ausführungsplanung und Ausführung",null,null,null,null,null,null,null,"Betrieb"]
["AWF 1","AWF 2","AWF 3","AWF 4","AWF 5","AWF 6","AWF 7","AWF 8","AWF 9","AWF 10","AWF 11","AWF 12","AWF 13","AWF 14","AWF 15","AWF 16","AWF 17","AWF 18","AWF 19","AWF 20","AWF 21","21 a) Basic","21 b) Krankenhaus","21 c) Office","21 d) Schule","21 e) Advanced","21 f) Customized"]
["Bestandserfassung (Umgebung und Gebäude)","Planungsvariantenuntersuchung","Visualisierungen","Bemessung und Nachweisführung","Koordination der Fachgewerke","Fortschrittkontrolle der Planung","Erstellung von Entwurfs- und Genehmigungsplänen","Arbeits- und Gesundheitsschutz: Planung und Prüfung","Kostenschätzung und Kostenberechnung","Modellgestütztes Raumbuch","Planungsfreigabe","Leistungsverzeichnis, Ausschreibung, Vergabe","Terminplanung der Ausführung","Logistikplanung","Erstellung von Ausführungsplänen","Baufortschrittskontrolle","Änderungsmanagement","Abrechnung von Bauleistungen","Mängelmanagement","Bauwerksdokumentation","Nutzung für Betrieb und Erhalt","Nutzung für Betrieb und Erhalt","Nutzung für Betrieb und Erhalt","Nutzung für Betrieb und Erhalt","Nutzung für Betrieb und Erhalt","Nutzung für Betrieb und Erhalt","Nutzung für Betrieb und Erhalt"]
[{"$f":"VLOOKUP(\"ja\",#REF!,1,FALSE)","v":{"$error":"#REF!"}},{"$f":"VLOOKUP(\"ja\",#REF!,1,FALSE)","v":{"$error":"#REF!"}},{"$f":"VLOOKUP(\"ja\",#REF!,1,FALSE)","v":{"$error":"#REF!"}},{"$f":"VLOOKUP(\"ja\",#REF!,1,FALSE)","v":{"$error":"#REF!"}},{"$f":"VLOOKUP(\"ja\",#REF!,1,FALSE)","v":{"$error":"#REF!"}},{"$f":"VLOOKUP(\"ja\",#REF!,1,FALSE)","v":{"$error":"#REF!"}},{"$f":"VLOOKUP(\"ja\",#REF!,1,FALSE)","v":{"$error":"#REF!"}},{"$f":"VLOOKUP(\"ja\",#REF!,1,FALSE)","v":{"$error":"#REF!"}},{"$f":"VLOOKUP(\"ja\",#REF!,1,FALSE)","v":{"$error":"#REF!"}},{"$f":"VLOOKUP(\"ja\",#REF!,1,FALSE)","v":{"$error":"#REF!"}},{"$f":"VLOOKUP(\"ja\",#REF!,1,FALSE)","v":{"$error":"#REF!"}},{"$f":"VLOOKUP(\"ja\",#REF!,1,FALSE)","v":{"$error":"#REF!"}},{"$f":"VLOOKUP(\"ja\",#REF!,1,FALSE)","v":{"$error":"#REF!"}},{"$f":"VLOOKUP(\"ja\",#REF!,1,FALSE)","v":{"$error":"#REF!"}},{"$f":"VLOOKUP(\"ja\",#REF!,1,FALSE)","v":{"$error":"#REF!"}},{"$f":"VLOOKUP(\"ja\",#REF!,1,FALSE)","v":{"$error":"#REF!"}},{"$f":"VLOOKUP(\"ja\",#REF!,1,FALSE)","v":{"$error":"#REF!"}},{"$f":"VLOOKUP(\"ja\",#REF!,1,FALSE)","v":{"$error":"#REF!"}},{"$f":"VLOOKUP(\"ja\",#REF!,1,FALSE)","v":{"$error":"#REF!"}},{"$f":"VLOOKUP(\"ja\",#REF!,1,FALSE)","v":{"$error":"#REF!"}},{"$f":"VLOOKUP(\"ja\",#REF!,1,FALSE)","v":{"$error":"#REF!"}},{"$f":"VLOOKUP(\"ja\",#REF!,1,FALSE)","v":{"$error":"#REF!"}},{"$f":"VLOOKUP(\"ja\",#REF!,1,FALSE)","v":{"$error":"#REF!"}},{"$f":"VLOOKUP(\"ja\",#REF!,1,FALSE)","v":{"$error":"#REF!"}},{"$f":"VLOOKUP(\"ja\",#REF!,1,FALSE)","v":{"$error":"#REF!"}},{"$f":"VLOOKUP(\"ja\",#REF!,1,FALSE)","v":{"$error":"#REF!"}},{"$f":"VLOOKUP(\"ja\",#REF!,1,FALSE)","v":{"$error":"#REF!"}}]

{"sheet":"Tabelle3","index":8,"n_rows":2,"n_cols":1,"rows_kept":2,"cut":false,"hidden":true,"merged":[]}
["ja"]
["nein"]

{"sheet":"Katalog - Allgemeine Attribute","index":9,"n_rows":14,"n_cols":15,"rows_kept":14,"cut":false,"hidden":true,"merged":[]}
[null,null,"Attribut","Bezeichnung Englisch",null,"IFC Datentyp","Einheit","Beispielwert","Autor","Modell","Quelle","ifc property","LPH3","LPH5","LPH8"]
[null,null,"AKS",null,null,"IfcText","-","+14022_02_U1_02=THP_005","ARC","CAFM","Modell",null,null,"x"]
[null,null,"Baujahr",null,null,"IfcText","Jahr",2020,"ARC","CAFM","Modell",null,null,null,"x"]
[null,null,"Hersteller",null,null,"IfcText","-","Musterfirma","ARC","CAFM","Modell",null,null,null,"x"]
[null,null,"Lieferant",null,null,"IfcText","-","Musterfirma","ARC","CAFM","Modell",null,null,null,"x"]
[null,null,"Modellnummer",null,null,"IfcText","-",123456789,"ARC","CAFM","Modell",null,null,null,"x"]
[null,null,"Inbetriebnahme",null,null,"IfcDate","Datum","2019-01-01","ARC","CAFM","Modell",null,null,null,"x"]
[null,null,"Gewährleistungsbeginn",null,null,"IfcDate","Datum","2019-01-01","ARC","CAFM","Modell",null,null,null,"x"]
[null,null,"Gewährleistungsende",null,null,"IfcDate","Datum","2024-01-01","ARC","CAFM","Modell",null,null,null,"x"]
[null,null,"Lebensdauer",null,null,"IfcInteger","Jahr",30,"ARC","CAFM","Modell",null,null,null,"x"]
[null,null,"Anschaffungskosten",null,null,"IfcReal","€",2000,"ARC","CAFM","Modell",null,null,null,"x"]
[null,null,"Wartungsfirma",null,null,"IfcText","-","FM AG","FM","CAFM","Modell",null,null,null,"x"]
[null,null,"Wartungszyklus",null,null,"IfcDuration",null,"P2Y0M0DT0H0M0S","FM","CAFM","Modell",null,null,null,"x"]
[null,null,"Wartungsvertrags-Nr.",null,null,"IfcText",null,15463,"FM","CAFM","Modell",null,null,null,"x"]

{"sheet":"Katalog - spez. Attribute","index":10,"n_rows":1807,"n_cols":15,"rows_kept":1807,"cut":false,"hidden":true,"merged":[]}
[]
[null,"Planungsattribute",null,null,null,null,null,null,null,null,null,"Abgleich mit prop aus 3_ifc prop. (Nummer)"]
[]
[null,"Lfd. Nr.","Attribut",null,null,"IFC Datentyp","Einheit","Beispielwert","Autor","Modellanwendung","CAFM-Connect","ifc property"]
[null,"23.","Besondere Anfoderungen",null,null,"IfcText","-"]
[null,"3.","AGFS",null,null,null,"St.",null,"Medizintechnik"]
[null,"4.","Anw.gruppe VDE0100/710",null,null,null,null,null,"Medizintechnik"]
[null,"537.","Bogenradius",null,null,"IfcLengthMeasure","mm",null,null,null,null,280]
[null,"661.","Breite ",null,null,"IfcPositiveLengthMeasure","-",null,null,null,null,"lichte Breite (126)"]
[null,"24.","besondere Anforderung Schallschutz",null,null,"IfcLogical",null,null,"Medizintechnik"]
[null,"25.","Biegemoment",null,null,null,"Nm",null,"Medizintechnik"]
[null,"582.","Dicke Promat",null,null,null,"-"]
[null,"27.","Biostoffverordnung",null,null,"IfcText",null,"Bio-S1, Bio-S2, Bio-S3, Bio-S4"]
[null,"527.","DU-Wert",null,null,null,"-"]
[null,"33.","Eintransportgröße",null,null,"IfcText",null,"Anzahl [St.], Breite [mm], Tiefe [mm], Höhe [mm]","Medizintechnik"]
[null,"30.","CO2 Entnahmestelle",null,null,"IfcText","-"]
[null,"34.","Element ID",null,null,"IfcText","-","…","ARC"]
[null,"32.","Direkte Kühlung --> Anschlüsse Medizin oder IT",null,null,null,"St."]
[null,"438.","Finish",null,null,"IfcText",null,null,null,null,null,"Oberflächengüte (196)"]
[null,"35.","EMV Massnahmen",null,null,"IfcLogical"]
[null,"6.","Entnahmestelle DL4 Anzahl ",null,null,"IfcReal","-",1]
[null,"7.","Entnahmestelle DL8 Anzahl",null,null,"IfcReal","-",1]
[null,"8.","Entnahmestelle NGA Anzahl ",null,null,"IfcReal","-",1]
[null,"9.","Entnahmestelle O2 Anzahl",null,null,"IfcReal","-",1]
[null,"44.","Gebäude ID",null,null,"IfcText","-","A1 = Gebäudeteil/ Trakt/ Einzugsbereich","ARC"]
[null,"37.","Feuchtraum",null,null,"IfcText","-","ja"]
[null,"526.","Gefälle / Neigung",null,null,null,"%",0.02,null,null,null,"Dachflächenneigung (43); Neigungswinke (154)"]
[null,"46.","Geschoss ID",null,null,"IfcText","-","gemäß Pflichtenheft: U2, U1, EG(=Ebene 0), 01 (=1.OG), 02, 03, 04 etc.","ARC"]
[null,"535.","Gewerk",null,null,"IfcText","-","Sanitär"]
[null,"531.","Gewerkekennung",null,null,"IfcText","-"]
[null,"592.","GUID",null,null,null,"-"]
[null,"593.","Höhenlage ",null,null,null,"-"]
[null,"189.","ifcGUID",null,null,"IfcText","-",null,"TGA"]
[null,"594.","Isolationsdicke ",null,null,null,"-"]
[null,"40.","Flächenanteil Kostenstelle",null,null,null,"%",10]
[null,"511.","Konstruktion",null,null,"IfcText","-"]
[null,"42.","Funktionsbereich",null,null,"IfcText","-","1.00 Diagnostik und Therapie","ARC"]
[null,"43.","Funktionsstelle",null,null,"IfcText","-","1.09 Operation","ARC"]
[null,"623.","Kosten ",null,null,null,"€",1000]
[null,"45.","gentechnische Anlagen",null,null,"IfcText","-","Gen-S1, Gen-S2, Gen-S3, Gen-S4"]
[null,"315.","Lichte Höhe ",null,null,"IfcLengthMeasure","mm",4500,"ARC",null,null,"lichte Höhe (127)"]
[null,"600.","Material ",null,null,"IfcText, IfcMaterialDefinition","-",null,null,null,null,"Dichtungsmaterial (48), Karosseriematerial (108), Rahmenmaterial (210)"]
[null,"48.","Hygieneanforderung",null,null,"IfcText","-"]
[null,"49.","Insektenschutzanforderung",null,null,"IfcLogical",null,null,"ARC"]
[null,"544.","Module Anzahl ",null,null,null,"-",null,null,"CAFM"]
[null,"509.","OK",null,null,"IfcLengthMeasure","m"]
[null,"52.","Kennzeichnung des Raumes nach RöV/StrSchV",null,null,"IfcText",null,null,"Medizintechnik"]
[null,"53.","KFA (Kostenflächenart)",null,null,"IfcText","-",null,"ARC"]
[null,"54.","Kostenstelle",null,null,"IfcText","-","3.3","ARC"]
[null,"436.","OmniClass-Nummer"]
[null,"437.","OmniClass-Titel",null,null,"IfcText"]
[null,"512.","Thermischer Widerstand (R) ",null,null,null,"W/(m²K)"]
[null,"58.","Laserschutzanforderung",null,null,"IfcText","-","…"]
[null,"510.","UK",null,null,"IfcLengthMeasure","m"]
[null,"567."," Linien Anzahl",null,null,null,"St.",null,null,"CAFM"]
[null,"555.","(Unter-)Stationen Anzahl ",null,null,null,"St.",null,null,"CAFM"]
[null,"556.","Abgänge Anzahl ",null,null,null,"St.",null,null,"CAFM"]
[null,"557.","Ampeln Anzahl ",null,null,null,"St.",null,null,"CAFM"]
[null,"558.","Außensprechstellen Anzahl ",null,null,null,"St.",null,null,"CAFM"]
[null,"578.","BACnet-Eignung",null,null,"IfcLogical","-",null,null,"CAFM"]
[null,"579.","Balkenlänge",null,null,"IfcLengthMeasure","m",null,null,"CAFM"]
[null,"559.","Beleuchtungsmodule Anzahl ",null,null,null,"St.",null,null,"CAFM"]
[null,"546.","Elektrische Leistung ",null,null,null,"kW",null,null,"CAFM"]
[null,"587.","Feldgröße",null,null,null,null,null,null,"CAFM"]
[null,"560.","Fühler Anzahl ",null,null,null,"St.",null,null,"CAFM"]
[null,"562.","Innensprechstellen Anzahl ",null,null,null,"St.",null,null,"CAFM"]
[null,"563.","Kameras Anzahl ",null,null,null,"St.",null,null,"CAFM"]
[null,"564.","Kartenleser Anzahl ",null,null,null,"St.",null,null,"CAFM"]
[null,"565.","Kondensatoren Anzahl ",null,null,null,"St.",null,null,"CAFM"]
[null,"566.","Lautsprecher Anzahl",null,null,null,"St.",null,null,"CAFM"]
[null,"633.","Leistung",null,null,null,"kW"]
[null,"534.","Leistung/Beleuchtung",null,null,"IfcPowerMeasure","W","…"]
[null,"77.","Raum-und Funktionsprogrammnummer",null,null,"IfcText","-","1.09.01.1","Bauherr"]
[null,"596.","Leuchtmittelanzahl pro Leuchte",null,null,null,"St.",null,null,"CAFM"]
[null,"597.","Leuchtmittelart",null,null,"IfcText","-","LED, LL",null,"CAFM"]
[null,"568.","Meldelinien Anzahl ",null,null,null,"St.",null,null,"CAFM"]
[null,"82.","Reinraumklasse",null,null,"IfcText","-",null,"ARC"]
[null,"576.","Module Anzahl/Art ",null,null,null,"St.",null,null,"CAFM"]
[null,"603.","Nennkapazität Batterie",null,null,null,"Ah",null,null,"CAFM"]
[null,"532.","Netzart",null,null,"IfcText","-","NN/DN/SDN"]
[null,"569.","Relaisstationen Anzahl ",null,null,null,"St.",null,null,"CAFM"]
[null,"571.","Signalgeber  Anzahl ",null,null,null,"St.",null,null,"CAFM"]
[null,"612.","Spannungsebene",null,null,null,"V",null,null,"CAFM"]
[null,"572.","Sprechstellen Anzahl ",null,null,null,"St.",null,null,"CAFM"]
[null,"533.","Stromkreis",null,null,"IfcText","-","F12"]
[null,"634.","Stromstärke",null,null,"IfcElectricCurrentMeasure","A",null,null,null,null,"maximale Stromstärke (138)"]
[null,"573.","Terminals Anzahl ",null,null,null,"St.",null,null,"CAFM"]
[null,"574.","Uhren Anzahl ",null,null,null,"St.",null,null,"CAFM"]
[null,"616.","Verlustleistung",null,null,null,"kW"]
[null,"617.","Vernetzung der Unterzentralen",null,null,"IfcLogical","-",null,null,"CAFM"]
[null,"90.","Strahlenschutzanforderung",null,null,"IfcText","-","StrlSch-RK1, StrlSch-RK2, StrlSch-RK3","ARC"]
[null,"618.","Videokamera",null,null,"IfcLogical","-",null,null,"CAFM"]
[null,"92.","Teilstelle",null,null,"IfcText","-","1.09.01 Betriebszone","ARC"]
[null,"575.","Zentralen Anzahl ",null,null,null,"St.",null,null,"CAFM"]
[null,"94.","Unterteilstelle",null,null,"IfcText",null,"Gefäßchirurgie","ARC"]
[null,"577.","Zentralen Anzahl/Art ",null,null,null,"St.",null,null,"CAFM"]
[null,"439.","Automatischer Antrieb",null,null,"IfcBoolean","-",null,"ARC","CAFM","Automatischer Antrieb",91]
[null,"97.","Wärmeabgabe, Aggregateraum",null,null,"IfcText",null,"Anzahl [St.], Leistung [kJ/s], Gleichzeitigkeitsfaktor","Medizintechnik"]
[null,"98.","Wärmeabgabe, reine Seite",null,null,"IfcText",null,"Anzahl [St.], Leistung [kJ/s], Gleichzeitigkeitsfaktor","Medizintechnik"]
[null,"99.","Wärmeabgabe, unreine Seite",null,null,"IfcText",null,"Anzahl [St.], Leistung [kJ/s], Gleichzeitigkeitsfaktor","Medizintechnik"]
[null,"431.","Breite Montagefuge",null,null,null,"mm"]
[null,"103.","Boden antistatisch",null,null,"IfcLogical",null,null,"Medizintechnik"]
[null,"104.","Bodenlast",null,null,null,"kN/m2",null,"Medizintechnik"]
[null,"428.","Einbautiefe",null,null,null,"cm"]
[null,"435.","Glasfläche",null,null,"IfcReal","m²",null,null,"CAFM","Glasfläche"]
[null,"429.","Glasmaterial",null,null,null,"-"]
[null,"430.","Glasstärke",null,null,null,"mm"]
[null,"440.","Material Beschlag",null,null,null,"-"]
[null,"111.","Boden Ableitfähigkeit",null,null,"IfcText","-",null,"ARC"]
[null,"112.","Boden Abriebfest",null,null,"IfcText","-",null,"ARC"]
[null,"113.","Boden Chemikalienbeständig",null,null,"IfcText","-",null,"ARC"]
[null,"114.","Boden Desinfektionsmittelbeständig",null,null,"IfcText","-",null,"ARC"]
[null,"115.","Boden Stuhlrollengeeignet",null,null,"IfcText","-",null,"ARC"]
[null,"466.","Tür Breite Gehflügel",null,null,null,"cm"]
[null,"467.","Tür Breite Gehflügel Limit",null,null,null,"cm"]
[null,"119.","Deckenlast ",null,null,null,"kN/m2",null,"Medizintechnik"]
[null,"120.","Deckenlast Biegemoment",null,null,null,"Nm",null,"Medizintechnik"]
[null,"468.","Tür Breite Stehflügel",null,null,null,"cm"]
[null,"469.","Tür Breite Stehflügel Limit",null,null,null,"cm"]
[null,"470.","Tür Höhe",null,null,null,"cm"]
[null,"480.","Tür lichte Höhe",null,null,null,"cm"]
[null,"481.","Tür Montagefugen Breite",null,null,null,"mm"]
[null,"482.","Tür Montagefugen Material ",null,null,null,"-"]
[null,"483.","Tür Oberlicht Füllung",null,null,null,"-"]
[null,"484.","Tür Offenhaltung",null,null,null,"-"]
[null,"505.","Tür stocklichte Breite",null,null,null,"cm"]
[null,"475.","Tür/GL/ Stärke",null,null,null,"cm"]
[null,"485.","Tür/OL/ Füllung Material",null,null,null,"-"]
[null,"486.","Tür/OL/Höhe",null,null,null,"cm"]
[null,"487.","Tür/OL/Zargenbreite L",null,null,null,"cm"]
[null,"488.","Tür/OL/Zargenbreite O",null,null,null,"cm"]
[null,"489.","Tür/OL/Zargenbreite R",null,null,null,"cm"]
[null,"490.","Tür/OL/Zargenbreite U",null,null,null,"cm"]
[null,"495.","Tür/SL/Breite gleich Show",null,null,null,"cm"]
[null,"496.","Tür/SL/Füllung L Material",null,null,null,"-"]
[null,"143.","Wand Desinfizierbar",null,null,"IfcLogical",null,null,"ARC"]
[null,"497.","Tür/SL/Füllung R Material",null,null,null,"-"]
[null,"498.","Tür/SL/Gehflügel Breite",null,null,null,"cm"]
[null,"501.","Tür/SL/Zargenbreite L",null,null,null,"cm"]
[null,"502.","Tür/SL/Zargenbreite O",null,null,null,"cm"]
[null,"503.","Tür/SL/Zargenbreite R",null,null,null,"cm"]
[null,"504.","Tür/SL/Zargenbreite U",null,null,null,"cm"]
[null,"442.","Türblatt Material ",null,null,null,"-"]
[null,"441.","Türblatt Material Füllung",null,null,null,"-"]
[null,"154.","Wandverstärkung",null,null,"IfcLogical",null,null,"Medizintechnik"]
[null,"449.","Türblatt Typ",null,null,null,"-"]
[null,"157.","Türbreite im Lichten",null,null,null,null,null,"Medizintechnik"]
[null,"443.","Türblattrahmen Breite L",null,null,null,"cm"]
[null,"444.","Türblattrahmen Breite O",null,null,null,"cm"]
[null,"445.","Türblattrahmen Breite R",null,null,null,"cm"]
[null,"446.","Türblattrahmen Breite U ",null,null,null,"cm"]
[null,"447.","Türblattstärke ",null,null,null,"cm"]
[null,"448.","Türblattstehflügel Typ ",null,null,null,"-"]
[null,"450.","Türblick/FE/Breite",null,null,null,"cm"]
[null,"451.","Türblick/FE/GL/Material ",null,null,null,"-"]
[null,"452.","Türblick/FE/GL/Stärke ",null,null,null,"cm"]
[null,"453.","Türblick/FE/Höhe ",null,null,null,"cm"]
[null,"454.","Türblick/FE/Pos/Vert",null,null,null,null,null,"ARC"]
[null,"455.","Türblindstock Breite L",null,null,null,"cm"]
[null,"456.","Türblindstock Breite O",null,null,null,"cm"]
[null,"457.","Türblindstock Breite R",null,null,null,"cm"]
[null,"458.","Türblindstock Breite U",null,null,null,"cm"]
[null,"460.","Türblindstock O/L/R/Material ",null,null,null,"-"]
[null,"461.","Türblindstock Tiefe",null,null,null,"cm"]
[null,"177.","Sichtfenster / Glaswand",null,null,"IfcLogical",null,null,"Medizintechnik"]
[null,"462.","Türblindstock U/Material ",null,null,null,"-"]
[null,"179.","Betriebsgeräusch",null,null,"IfcText",null,"Anzahl [St.], Schalldruckpegel [dB (A)]","Medizintechnik"]
[null,"464.","Türbreite Gehflügel",null,null,null,"cm"]
[null,"465.","Türbreite Stehflügel",null,null,null,"cm"]
[null,"472.","Türfalz Breite",null,null,null,"cm"]
[null,"473.","Türfalz Tiefe",null,null,null,"cm"]
[null,"184.","Patienten im Raum Anzahl ",null,null,"IfcReal","-",1,"FM","CAFM"]
[null,"474.","Türfußboden Aufbau",null,null,null,"-"]
[null,"476.","Türgriff/Pos/Vert ",null,null,null,"-"]
[null,"190.","Abblaseleitung für Dampf",null,null,"IfcText",null,"Anzahl [St.], DN","Medizintechnik"]
[null,"477.","Türkämpfer Breite",null,null,null,"cm"]
[null,"191.","Allpolig trennender Hauptschalter",null,null,"IfcText",null,"Anzahl [St.]","Medizintechnik"]
[null,"192.","Anästhesiegas-Fortleitungssystem",null,null,"IfcText",null,"Anzahl [St.], DN","Medizintechnik"]
[null,"478.","Türleibung Material",null,null,null,"-"]
[null,"194.","Antennenanschluß",null,null,"IfcLogical",null,null,"Medizintechnik"]
[null,"195.","Anwendungsgruppe DIN VDE 0100/710",null,null,"IfcText","-",null,"TGA"]
[null,"238.","Augendusche",null,null,"IfcText",null,"Anzahl [St.]","Medizintechnik"]
[null,"479.","Türleibung Stärke",null,null,null,"cm"]
[null,"491.","Türpanel Anzahl",null,null,null,"St."]
[null,"241.","Ausgussbecken",null,null,"IfcLogical","-",null,"TGA"]
[null,"492.","Türpanel Breite",null,null,null,"cm"]
[null,"493.","Türpanel Höhe",null,null,null,"cm"]
[null,"494.","Türpanel Material",null,null,null,"-"]
[null,"245.","Behindertennotruf",null,null,null,"St.",null,"Medizintechnik"]
[null,"197.","Bettenleuchten Anzahl ",null,null,null,"-",null,"TGA"]
[null,"506.","Türzarge Breite",null,null,null,"cm"]
[null,"248.","Bodenkanal",null,null,"IfcLogical",null,null,"Medizintechnik"]
[null,"249.","CEE 230V, 32A, AV",null,null,null,"St.",null,"Medizintechnik"]
[null,"250.","CEE 230V, 32A, SV",null,null,null,"St.",null,"Medizintechnik"]
[null,"251.","CEE 400V, 32A, AV",null,null,null,"St.",null,"Medizintechnik"]
[null,"252.","CEE 400V, 32A, SV",null,null,null,"St.",null,"Medizintechnik"]
[null,"253.","Dampf (Rein) bar",null,null,null,"bar",null,"Medizintechnik"]
[null,"254.","Dampf (Rein) kg/h",null,null,"IfcVolumetricFlowRateMeasure","kg/h",null,"Medizintechnik"]
[null,"255.","Dampf (Schwarz) bar",null,null,null,"bar",null,"Medizintechnik"]
[null,"256.","Dampf (Schwarz) kg/h",null,null,"IfcVolumetricFlowRateMeasure","kg/h",null,"Medizintechnik"]
[null,"507.","Türzarge Material",null,null,null,"-"]
[null,"508.","Türzarge Tiefe",null,null,null,"cm"]
[null,"432.","Wandstärke",null,null,null,"cm"]
[null,"259.","Dialyseanschlusskasten",null,null,"IfcText",null,"Anzahl [St.]","Medizintechnik"]
[null,"260.","DL med.",null,null,null,"St.",null,"Medizintechnik"]
[null,"261.","DL med. Air-Motor",null,null,null,"St.",null,"Medizintechnik"]
[null,"262.","DL techn.",null,null,null,"St.",null,"Medizintechnik"]
[null,"433.","Zargenbreite",null,null,null,"cm"]
[null,"264.","Druckluft, mit Rückführung",null,null,"IfcText",null,"Anzahl [St.], DN","Medizintechnik"]
[null,"434.","Zargentiefe",null,null,null,"cm"]
[null,"545.","Brennstoff",null,null,null,"-",null,null,"CAFM",null,41]
[null,"588.","Förderhöhe ",null,null,"IfcVolumetricFlowRateMeasure","m³/h ",null,null,"CAFM"]
[null,"589.","Förderstrom",null,null,"IfcVolumetricFlowRateMeasure","m³/h ",null,null,"CAFM"]
[null,"269.","Entbindungswanne",null,null,"IfcLogical","-",null,"TGA"]
[null,"270.","Entnahmestelle AGFS",null,null,"IfcLogical","-",null,"TGA"]
[null,"271.","Entnahmestelle AIR",null,null,"IfcLogical","-",null,"TGA"]
[null,"272.","Entnahmestelle AIR Tech",null,null,"IfcLogical","-",null,"TGA"]
[null,"273.","Entnahmestelle CO2",null,null,"IfcLogical","-",null,"TGA"]
[null,"274.","Entnahmestelle N20 Lachgas",null,null,"IfcLogical","-",null,"TGA"]
[null,"275.","Entnahmestelle O2",null,null,"IfcLogical","-",null,"TGA"]
[null,"276.","Entnahmestelle Sondergas",null,null,"IfcLogical","-",null,"TGA"]
[null,"277.","Entnahmestelle VAC",null,null,"IfcLogical","-",null,"TGA"]
[null,"591.","Geschwindigkeit",null,null,null,"m/s"]
[null,"561.","Heizkreise Anzahl ",null,null,null,null,null,null,"CAFM"]
[null,"547.","Heizleistung",null,null,"IfcPowerMeasure","W"]
[null,"280.","Festanschluss",null,null,null,"St.",null,"Medizintechnik"]
[null,"601.","Medium",null,null,"IfcText","-","Strom, Warmwasser",null,"CAFM"]
[null,"602.","Nenninhalt",null,null,null,"l",null,null,"CAFM"]
[null,"615.","Thermostatventil",null,null,null,"ja / nein",null,null,"CAFM"]
[null,"552.","Wärmeleistung",null,null,null,"kW",null,null,"CAFM"]
[null,"637.","Kühlung",null,null,null,"-"]
[null,"638.","Kühlung Leistung",null,null,"IfcPowerMeasure","W"]
[null,"639.","Wärme (Lüftung)",null,null,"IfcVolumetricFlowRateMeasure","m³/h/m²"]
[null,"641.","19''-Schrank zur Montage 19''-ICT-Komponenten",null,null,"IfcLogical"]
[null,"642.","Benötigte Höheneinheiten",null,null,null,"St."]
[null,"536.","Bezeichnung Datenverteiler",null,null,"IfcText","-","DV 123"]
[null,"283.","Filterklasse nach DIN EN ISO 16890-1",null,null,"IfcText","-","ePM1, ePM2,5, ePM10 …","TGA"]
[null,"257.","Datenanschlus Cat6A 1fach",null,null,"IfcLogical","-",null,"TGA"]
[null,"258.","Datenanschlus Cat6A 2fach",null,null,"IfcLogical","-",null,"TGA"]
[null,"644.","Davon Anzahl PoE-Anschlüsse",null,null,null,"St."]
[null,"287.","Freies Leitungsende",null,null,null,null,null,"Medizintechnik"]
[null,"266.","EDV Netzanschluß",null,null,"IfcText","-",null,"TGA"]
[null,"289.","Gasentnahmestelle (mit Gasartbezeichnung)",null,null,"IfcText",null,"Anzahl [St.]","Medizintechnik"]
[null,"643.","ICT-Anschluss an zentrales LAN",null,null,null,"St."]
[null,"416.","WLAN",null,null,"IfcLogical","-",null,"TGA"]
[null,"548.","Kälteleistung ",null,null,null,"kW",null,null,"CAFM"]
[null,"294.","GLT",null,null,null,"St.",null,"Medizintechnik"]
[null,"549.","Kältemittel",null,null,"IfcText",null,null,null,"CAFM"]
[null,"550.","Kältemittelmenge",null,null,null,"kg",null,null,"CAFM"]
[null,"528.","Kanalabmessungen (DU)",null,null,"IfcLengthMeasure","mm"]
[null,"297.","Human Centric Light",null,null,"IfcLogical","-",null,"TGA"]
[null,"298.","Hygienespülung",null,null,"IfcLogical","-",null,"TGA"]
[null,"529.","Kanalart",null,null,"IfcText","-"]
[null,"598.","Luftart ",null,null,null,"-"]
[null,"599.","Luftgeschwindigkeit",null,null,null,"m/s"]
[null,"606.","Passlänge ",null,null,null,"-"]
[null,"302.","Kaltwasseranschluss enthärtet",null,null,"IfcText",null,"Anzahl [St.], DN, Auslegeleistung [m³/h], max. Härte [°dH]","Medizintechnik"]
[null,"303.","Kohlendioxid (CO2)",null,null,null,"St.",null,"Medizintechnik"]
[null,"530.","Volumenstrom ",null,null,"IfcVolumetricFlowRateMeasure","m³/h",null,null,null,null,"Außenluftvolumenstrom (30)"]
[null,"2.","Abteilung",null,null,"IfcText",null,null,"ARC","ja/nein"]
[null,"5.","Arbeitsplätze Anzahl ",null,null,"IfcReal",null,10,"ARC"]
[null,"304.","Kondensat",null,null,"IfcLogical","-",null,"TGA"]
[null,"305.","Kondensatanschluss",null,null,"IfcLogical",null,null,"Medizintechnik"]
[null,"306.","Kondensatleitung, gegendruckfrei",null,null,"IfcText",null,"Anzahl [St.], DN, Menge [l/h]","Medizintechnik"]
[null,"239.","AU-Luftwechsel",null,null,null,"1/h",null,"TGA"]
[null,"243.","Befeuchtung max.",null,null,null,"%",null,"TGA"]
[null,"309.","Kühlwasseranschluss",null,null,"IfcLogical",null,null,"Medizintechnik"]
[null,"310.","Lachgas (N2O)",null,null,null,"St.",null,"Medizintechnik"]
[null,"244.","Befeuchtung min.",null,null,null,"%",null,"TGA"]
[null,"26.","Bildschirmarbeitsplatz",null,null,"IfcText","-",null,"ARC"]
[null,"28.","Blendschutzanforderung",null,null,"IfcText","-","Verdunklung","ARC"]
[null,"29.","Bodenkanäle",null,null,"IfcText","-","Bodenkanal"]
[null,"31.","Dezentrale Kühlung",null,null,"IfcLogical"]
[null,"263.","Drehstrom, 400 V",null,null,"IfcText",null,"Anzahl [St.], Absicherung [A], Leistung [kVA], Stromversorgung (AV/SV/BSV)","Medizintechnik"]
[null,"317.","Lichtruf-Abstelltaster",null,null,null,"St.",null,"Medizintechnik"]
[null,"318.","Lichtruf-Display",null,null,null,"St.",null,"Medizintechnik"]
[null,"319.","Lichtruftaster",null,null,null,"St.",null,"Medizintechnik"]
[null,"268.","Einzelraumregelung",null,null,"IfcLogical","-",null,"TGA"]
[null,"320.","Luftfeuchtigkeit, relativ (keine Kondensation)",null,null,"IfcText",null,"Anzahl [St.], min./max. Anteil [%]","Medizintechnik"]
[null,"278.","Entrauchung",null,null,"IfcLogical","-",null,"TGA"]
[null,"36.","Explosionsschutz",null,null,"IfcText",null,"EX1, EX2"]
[null,"323.","Luftwechselrate",null,null,null,"x/h",null,"Medizintechnik"]
[null,"279.","Fassadenheizung",null,null,"IfcLogical","-",null,"TGA"]
[null,"325.","Medienversorgungsschiene je Bett",null,null,null,"-",null,"TGA"]
[null,"282.","Feuerlöscher",null,null,"IfcLogical","-",null,"TGA"]
[null,"38.","Fläche Ist",null,null,"IfcAreaMeasure","m²",21.1,"ARC"]
[null,"328.","Notdusche",null,null,"IfcText",null,"Anzahl [St.]","Medizintechnik"]
[null,"39.","Fläche Soll",null,null,"IfcAreaMeasure","m²",20.5,"ARC"]
[null,"331.","OP-Tableau",null,null,"IfcLogical","-",null,"TGA"]
[null,"332.","OP-Uhr",null,null,"IfcLogical","-",null,"TGA"]
[null,"41.","Flächenkühlung",null,null,"IfcLogical"]
[null,"286.","Fortluft",null,null,"IfcText",null,"Anzahl [St.], DN, Auslegeleistung [m³/h], max. Pressung [Pa]","Medizintechnik"]
[null,"290.","Gaslöschanlage",null,null,"IfcLogical","-",null,"TGA"]
[null,"292.","Gleichstrom, 24 V",null,null,"IfcText",null,"Anzahl [St.], Absicherung [A], Leistung [kW], Stromversorgung (BSV)","Medizintechnik"]
[null,"333.","Pflegearbeitskombination (PAK)",null,null,"IfcLogical","-",null,"TGA"]
[null,"334.","pneumatischer Ruftaster",null,null,"IfcLogical","-",null,"TGA"]
[null,"293.","Gleichstrom, 48 V",null,null,"IfcText",null,"Anzahl [St.], Absicherung [A], Leistung [kW], Stromversorgung (BSV)","Medizintechnik"]
[null,"296.","Heizlast",null,null,"IfcPowerMeasure","W","2500 W","TGA"]
[null,"47.","Heizung",null,null,"IfcText","-","20° Raumtemperatur, Heizung Normalbetrieb"]
[null,"301.","Kaltwasseranschluss",null,null,"IfcText",null,"Anzahl [St.], DN, Auslegeleistung [m³/h]","Medizintechnik"]
[null,"336.","Prozess Kühlwasser",null,null,"IfcLogical","-",null,"TGA"]
[null,"308.","Kühllast",null,null,"IfcPowerMeasure","W",null,"TGA"]
[null,"311.","LAN-Port (passiv/ davon aktiv)",null,null,"IfcText",null,"Anzahl [St.], Ausführung (RJ45, LWL)","Medizintechnik"]
[null,"312.","Leerdose",null,null,"IfcText",null,"Anzahl [St.]","Medizintechnik"]
[null,"313.","Leerrohr",null,null,"IfcText",null,"Anzahl [St.], DN, Länge [m]","Medizintechnik"]
[null,"314.","Licht dimmbar",null,null,"IfcText",null,"Anzahl [St.]","Medizintechnik"]
[null,"63.","lichte Raumhöhe",null,null,"IfcLengthMeasure","m",null,"ARC"]
[null,"343.","Raum-Drucküberwachung",null,null,"IfcLogical","-",null,"TGA"]
[null,"344.","Raumklasse DIN1946-4",null,null,null,null,null,"Medizintechnik"]
[null,"345.","Raumklasse nach DIN 1946T4",null,null,"IfcText","-","1a, 1b, 2","TGA"]
[null,"214.","Luftauslässe Anzahl ",null,null,null,"-",1,"TGA"]
[null,"64.","Lüftung Kühlart",null,null,null,null,null,"TGA"]
[null,"65.","Lüftung Solltemperatur",null,null,"IfcReal","°C","22 C°","TGA"]
[null,"321.","Luftwechsel",null,null,"IfcText",null,"Anzahl [St.], Luftwechselrate [n/h]","Medizintechnik"]
[null,"350.","REA-Ruf",null,null,"IfcLogical",null,null,"Medizintechnik"]
[null,"351.","Rettungszeichenleuchte",null,null,"IfcLogical","-",null,"TGA"]
[null,"352.","Röntgenmontagedecke",null,null,"IfcText",null,null,"Medizintechnik"]
[null,"322.","Luftwechsel ist",null,null,null,"1/h",null,"TGA"]
[null,"66.","Max. Personenanzahl",null,null,null,null,10,"ARC"]
[null,"67.","Meldeanlage",null,null,null,"-",2]
[null,"68.","Mietbereich",null,null,"IfcText","-",1,"ARC"]
[null,"357.","Sauerstoff (O2)",null,null,null,"St.",null,"Medizintechnik"]
[null,"358.","Säuglingsbadewanne",null,null,"IfcLogical","-",null,"TGA"]
[null,"327.","Not-Ausschalter",null,null,"IfcText",null,"Anzahl [St.]","Medizintechnik"]
[null,"69.","Nutzer",null,null,"IfcText",null,"Klinik für Urologie, Institut für Rechtsmedizin","ARC"]
[null,"70.","Nutzlast",null,null,null,"kN/m2",null,"TWP"]
[null,"71.","Nutzungsart DIN277",null,null,"IfcText","-","NF,VF, TF","ARC"]
[null,"363.","Sonderabluft",null,null,"IfcLogical",null,null,"Medizintechnik"]
[null,"364.","Sondergas",null,null,"IfcText",null,"Anzahl [St.], DN, Auslegeleistung [m³/h]","Medizintechnik"]
[null,"72.","Punktlast",null,null,null,"KN",300,"TWP"]
[null,"365.","Sprechanlage / Notruf",null,null,"IfcText","-",null,"TGA"]
[null,"341.","Raum gehört zu Lüftungs Anlage Nr.",null,null,"IfcText","-","…","TGA"]
[null,"73.","Raum ID",null,null,"IfcText","-",null,"ARC"]
[null,"368.","Stationsabfrageplatz",null,null,"IfcLogical","-",null,"TGA"]
[null,"369.","Steckbeckenspülanlage",null,null,"IfcLogical","-",null,"TGA"]
[null,"342.","Raumbediengerät",null,null,"IfcLogical","-",null,"TGA"]
[null,"371.","Steckdosen 230V, 16A, AV",null,null,null,"St.",null,"Medizintechnik"]
[null,"372.","Steckdosen 230V, 16A, BSV",null,null,null,"St.",null,"Medizintechnik"]
[null,"373.","Steckdosen 230V, 16A, SV",null,null,null,"St.",null,"Medizintechnik"]
[null,"374.","Steckdosen 230V, 16A, USV",null,null,null,"St.",null,"Medizintechnik"]
[null,"74.","Raumbezeichnung",null,null,"IfcText","-","Labor","ARC"]
[null,"75.","Raumnummer ",null,null,"IfcText","-",null,"ARC"]
[null,"78.","Raumtemperatur",null,null,"IfcText",null,"Anzahl [St.], min./max. Temperatur [°C]","Medizintechnik"]
[null,"347.","Raumtemperatur Sommer max.",null,null,"IfcReal","°C",null,"TGA"]
[null,"348.","Raumtemperatur Winter min.",null,null,"IfcReal","°C",null,"TGA"]
[null,"349.","Raum-Temperaturüberwachung",null,null,"IfcLogical","-",null,"TGA"]
[null,"76.","Raumtyp",null,null,"IfcText, IfcIdentifier","-","Büro (Standard-Raum)","ARC",null,null,"Bauteiltyp/Raumtyp (32)"]
[null,"79.","Raumvolumen",null,null,"IfcVolumeMeasure","m³",null,"ARC"]
[null,"80.","Raumvolumen Rohbau",null,null,"IfcVolumeMeasure","m³",65.099999999999994,"TWP"]
[null,"83.","Rohbau Raumhöhe",null,null,"IfcLengthMeasure","m",3.1,"TWP"]
[null,"84.","Schallschutzanforderung",null,null,"IfcText","-","erhöht","ARC"]
[null,"361.","Schwachstromeinbauten (Aufzählung im Textfeld)",null,null,"IfcText",null,"Anzahl [St.]","Medizintechnik"]
[null,"85.","Sicherheitsanforderung",null,null,"IfcText","-","Hoch","ARC"]
[null,"377.","Steuerleitung/GLT MedTech",null,null,"IfcLogical","-",null,"TGA"]
[null,"378.","Stickstoff (N2)",null,null,null,"St.",null,"Medizintechnik"]
[null,"86.","Sichtschutzanforderung",null,null,"IfcText","-",null,"ARC"]
[null,"87.","Sockelleiste",null,null,"IfcLogical",null,null,"ARC"]
[null,"88.","Sonnenschutzanforderung",null,null,"IfcText","-","Motorantrieb Raumsteuerung; automatische Regelung nach Lichtintensität","ARC"]
[null,"382.","Türsprechanlage",null,null,"IfcLogical",null,null,"Medizintechnik"]
[null,"366.","Sprinkler",null,null,"IfcLogical","-",null,"TGA"]
[null,"89.","Sprinklerschutzanforderung",null,null,"IfcText","-","…","ARC"]
[null,"385.","Über-/Unterdruck wechselbar",null,null,"IfcLogical",null,null,"Medizintechnik"]
[null,"370.","Steckdose, 230 V",null,null,"IfcText",null,"Anzahl [St.], Absicherung [A], Leistung [kW], Stromversorgung (AV/SV/BSV)","Medizintechnik"]
[null,"375.","Steckdosenanschluss CEE-Form, 230 V",null,null,"IfcText",null,"Anzahl [St.], Absicherung [A], Leistung [kW], Stromversorgung (AV/SV/BSV)","Medizintechnik"]
[null,"388.","UKV / RJ45-Anschluss DD",null,null,null,"St.",null,"Medizintechnik"]
[null,"376.","Steckdosenanschluss CEE-Form, 400 V",null,null,"IfcText",null,"Anzahl [St.], Absicherung [A], Leistung [kVA], Stromversorgung (AV/SV/BSV)","Medizintechnik"]
[null,"390.","Vakuumverbindungsleitung",null,null,"IfcText",null,"Anzahl [St.], DN","Medizintechnik"]
[null,"391.","Verbrauch VE Wasser",null,null,null,"l/h",null,"TGA"]
[null,"392.","VE-Wasser",null,null,null,"St.",null,"Medizintechnik"]
[null,"393.","Videosprechanlage",null,null,"IfcLogical",null,null,"Medizintechnik"]
[null,"91.","Tageslichtanforderung",null,null,"IfcText","-",null,"ARC"]
[null,"384.","Überströmung",null,null,"IfcLogical","-",null,"TGA"]
[null,"396.","vollentsaltztes Wasser",null,null,"IfcLogical","-",null,"TGA"]
[null,"387.","ULK",null,null,"IfcLogical","-",null,"TGA"]
[null,"93.","Umfang",null,null,"IfcLengthMeasure","m",null,"ARC"]
[null,"95.","Verdunklungsanforderung",null,null,"IfcText","-","ja","ARC"]
[null,"96.","Vertraulichkeitsanforderung",null,null,"IfcText","-",null,"ARC"]
[null,"395.","Videoüberwachung",null,null,"IfcText",null,"Anzahl [St.]","Medizintechnik"]
[null,"397.","Volumenstrom 24h-Abluft",null,null,"IfcVolumetricFlowRateMeasure","m³/h",null,"TGA"]
[null,"398.","Volumenstrom Abluft",null,null,"IfcVolumetricFlowRateMeasure","m³/h",null,"TGA"]
[null,"399.","Volumenstrom Sonderabluft",null,null,"IfcVolumetricFlowRateMeasure","m³/h",null,"TGA"]
[null,"400.","Volumenstrom Sonstige Abulft",null,null,"IfcVolumetricFlowRateMeasure","m³/h",null,"TGA"]
[null,"405.","Wärmelast Geräte (direkt)",null,null,"IfcPowerMeasure","W",null,"Medizintechnik"]
[null,"406.","Wärmelast Geräte (Raum)",null,null,"IfcPowerMeasure","W",null,"Medizintechnik"]
[null,"401.","Volumenstrom Umluft",null,null,"IfcVolumetricFlowRateMeasure","m³/h",null,"TGA"]
[null,"402.","Volumenstrom Zuluft",null,null,"IfcVolumetricFlowRateMeasure","m³/h",null,"TGA"]
[null,"407.","Warmwasseranschluss",null,null,"IfcText",null,"Anzahl [St.], DN, Auslegeleistung [m³/h]","Medizintechnik"]
[null,"410.","Wasserabfluss",null,null,"IfcText",null,"Anzahl [St.], DN, max. Temperatur [°C], pH-Wert","Medizintechnik",null,null,4]
[null,"408.","Warmwasseranschluss enthärtet",null,null,"IfcText",null,"Anzahl [St.], DN, Auslegeleistung [m³/h], max. Härte [°dH]","Medizintechnik"]
[null,"415.","Wechselstrom, 230 V",null,null,"IfcText",null,"Anzahl [St.], Absicherung [A], Leistung [kW], Stromversorgung (AV/SV/BSV)","Medizintechnik"]
[null,"424.","Zuluft",null,null,"IfcText",null,"Anzahl [St.], DN, Auslegeleistung [m³/h]","Medizintechnik"]
[null,"411.","Wasserabfluss über Abklinganlage",null,null,"IfcText",null,"Anzahl [St.], DN, Menge [l/h], Aktivität [Bq]","Medizintechnik"]
[null,"412.","Wasserabfluss über Neutralisation",null,null,"IfcText",null,"Anzahl [St.], DN, Menge [l/h], pH-Wert","Medizintechnik"]
[null,"413.","Wasseranschluss vollentsalzt",null,null,"IfcText",null,"Anzahl [St.], DN, Auslegeleistung [l/h], max. Leitf. [µS/cm]","Medizintechnik"]
[null,"187.","Außenglasfläche",null,null,"IfcAreaMeasure","m²","Aufaddierte Außenglasfläche Fenster, Oberlichter & Glasfläche der Türen","ARC","CAFM",null,"27, 29"]
[null,"186.","Innenglasfläche",null,null,"IfcAreaMeasure","m²","Aufaddierte Innenglasfläche Fenster, Oberlichter & Glasfläche der Türen","ARC","CAFM"]
[null,"180.","Nutzungszeit Werktags Beginn",null,null,"IfcText","-",null,"FM","CAFM"]
[null,"181.","Nutzungszeit Werktags Ende",null,null,"IfcText","-",null,"FM","CAFM"]
[null,"417.","Zimmersignalleuchte",null,null,"IfcLogical","-",null,"TGA"]
[null,"182.","Nutzungszeit Wochenende Beginn",null,null,"IfcText","-",null,"FM","CAFM"]
[null,"183.","Nutzungszeit Wochenende Ende",null,null,"IfcText","-",null,"FM","CAFM"]
[null,"420.","ZLT",null,null,null,"St.",null,"Medizintechnik"]
[null,"421.","Zugangskontrolle",null,null,"IfcLogical",null,null,"Medizintechnik"]
[null,"185.","Personen (Mitarbeiter + Personen) im Raum Anzahl ",null,null,"IfcReal","-",1,"FM","CAFM"]
[null,"109.","Boden Ausbildung Sockel",null,null,"IfcText","-","Hohlkehlsockel","ARC"]
[null,"106.","Boden Belag",null,null,"IfcText","-","Parkett, Linoleum, PVC usw.","ARC"]
[null,"108.","Boden Farbe",null,null,"IfcText","-","Anthrazit","ARC"]
[null,"110.","Boden Gefälle",null,null,"IfcText","-",null,"ARC"]
[null,"102.","Bodenabsenkung",null,null,"IfcText",null,"Anzahl [St.], Breite [mm], Länge [mm], Höhe [mm]","Medizintechnik"]
[null,"105.","Bodenaufbau Konstruktion",null,null,"IfcText","-","Doppelboden","ARC"]
[null,"116.","Estrichaussparung",null,null,"IfcText",null,"Anzahl [St.], Breite [mm], Länge [mm], Höhe [mm]","Medizintechnik"]
[null,"288.","Fußbodenheizung",null,null,"IfcLogical","-",null,"TGA"]
[null,"117.","Fußbodenlast/Moment",null,null,"IfcText",null,"Anzahl [St.], Belastung [N/m²], Moment [Nm]","Medizintechnik"]
[null,"131.","Decke Einzellasten",null,null,null,"t",1.2,"ARC"]
[null,"128.","Decke Farbe",null,null,"IfcText","-","Weiss","ARC"]
[null,"122.","Decke Konstruktion",null,null,"IfcText","-","RDF - Rasterdecke mit (fensterseitigem) GK-Fries/Abkofferung","ARC"]
[null,"125.","Decke Lichte Abhanghöhe",null,null,"IfcLengthMeasure","mm",500,"ARC"]
[null,"123.","Decke Material",null,null,"IfcText","-","Parkett, Linoleum, PVC usw.","ARC"]
[null,"129.","Decke Raumakustische Anforderungen",null,null,null,"R´w, res",null,"ARC"]
[null,"130.","Decke Revisionierbar",null,null,null,"Ja/Nein",null,"ARC"]
[null,"127.","Deckenflächenmaterial",null,null,"IfcAreaMeasure","m²",null,"ARC"]
[null,"121.","Deckenlast/Moment",null,null,"IfcText",null,"Anzahl [St.], Belastung [N], Moment [Nm]","Medizintechnik"]
[null,"307.","Kühldecke",null,null,"IfcLogical","-",null,"TGA"]
[null,"132.","Unterkonstruktion Decke",null,null,"IfcText",null,"Anzahl [St.], Belastung [N/m²]","Medizintechnik"]
[null,"196.","akustischer Signalgeber Anzahl ",null,null,null,"-",null,"TGA"]
[null,"193.","Anschluß BMA",null,null,"IfcText","-",null,"TGA"]
[null,"240.","Aus-/ Wechselschaltung",null,null,"IfcLogical","-",null,"TGA"]
[null,"198.","Deckenleuchten Anzahl ",null,null,null,"-",null,"TGA"]
[null,"267.","Einbruchmeldeanlage Raumabsicherung",null,null,"IfcLogical","-",null,"TGA"]
[null,"199.","Erdungssteckdose Anzahl ",null,null,null,"-",null,"TGA"]
[null,"10.","Festanschluss 230V Anzahl ",null,null,"IfcReal","-",1]
[null,"11.","Festanschluss 230V NEA Anzahl ",null,null,"IfcReal","-",1]
[null,"12.","Festanschluss 230V USV Anzahl ",null,null,"IfcReal","-",1]
[null,"13.","Festanschluss 400V Anzahl ",null,null,"IfcReal","-",1]
[null,"14.","Festanschluss 400V NEA Anzahl ",null,null,"IfcReal","-",1]
[null,"15.","Festanschluss 400V USV Anzahl ",null,null,"IfcReal","-",1]
[null,"200.","Festanschlüsse AV 230V Anzahl ",null,null,null,"-",null,"TGA"]
[null,"201.","Festanschlüsse AV 400V Anzahl ",null,null,null,"-",null,"TGA"]
[null,"202.","Festanschlüsse BSV 230V Anzahl ",null,null,null,"-",null,"TGA"]
[null,"203.","Festanschlüsse BSV-IT 230V Anzahl ",null,null,null,"-",null,"TGA"]
[null,"204.","Festanschlüsse SV 230V Anzahl ",null,null,null,"-",null,"TGA"]
[null,"205.","Festanschlüsse SV 400V Anzahl ",null,null,null,"-",null,"TGA"]
[null,"206.","Festanschlüsse SV-IT 230V Anzahl ",null,null,null,"-",null,"TGA"]
[null,"207.","Festanschlüsse USV 230V Anzahl",null,null,null,"-",null,"TGA"]
[null,"284.","Fluchttürterminal",null,null,"IfcLogical","-",null,"TGA"]
[null,"285.","Flurdisplay",null,null,"IfcLogical","-",null,"TGA"]
[null,"208.","Handfeuermelder Anzahl ",null,null,null,"-",null,"TGA"]
[null,"50.","IT-System SV/ZBV",null,null,null,null,null,"TGA"]
[null,"51.","IT-System XV/SV",null,null,null,null,null,"TGA"]
[null,"299.","IT-Tableau",null,null,"IfcLogical","-",null,"TGA"]
[null,"209.","Jalousieschalter Anzahl ",null,null,null,"-",null,"TGA"]
[null,"210.","Jalousietaster Anzahl ",null,null,null,"-",null,"TGA"]
[null,"211.","Kombimelder Anzahl ",null,null,null,"-",null,"TGA"]
[null,"212.","Kombimelder mit Signalgeber akustisch Anzahl ",null,null,null,"-",null,"TGA"]
[null,"213.","Kombimelder mit Signalgeber optisch Anzahl ",null,null,null,"-",null,"TGA"]
[null,"55.","Kraftstrom Allgemeinversorgung",null,null,"IfcLogical"]
[null,"56.","Kraftstrom Sicherheitsversorgung",null,null,"IfcLogical"]
[null,"57.","Kraftstrom Unterbrechungsheizversorgung",null,null,"IfcLogical"]
[null,"59.","Licht Belichtungsstärke",null,null,"IfcText","-","200 Lux"]
[null,"60.","Licht Leuchten",null,null,"IfcText","-","Deckenleuchten normal"]
[null,"61.","Licht Leuchtmittel",null,null,"IfcText","-","LED"]
[null,"62.","Licht Schalter",null,null,"IfcText","-","Präsenzmelder"]
[null,"316.","Lichtfarbe",null,null,"IfcText","-",null,"TGA"]
[null,"324.","Max. Kabelquerschnitt Schaltschrank",null,null,"IfcText","-",null,"TGA"]
[null,"16.","Netzwerkanschluss RJ45 Anzahl ",null,null,"IfcReal","-",1]
[null,"330.","Notstromfolgesteuerung",null,null,"IfcText","-",null,"TGA"]
[null,"215.","optischer Rauchmelder Anzahl ",null,null,null,"-",null,"TGA"]
[null,"216.","optischer Rauchmelder mit Signalgeber akustisch Anzahl ",null,null,null,"-",null,"TGA"]
[null,"217.","optischer Rauchmelder mit Signalgeber optisch Anzahl ",null,null,null,"-",null,"TGA"]
[null,"218.","optischer Signalgeber Anzahl ",null,null,null,"-",null,"TGA"]
[null,"219.","Potentialausgleich 16 mm Anzahl ",null,null,null,"-",null,"TGA"]
[null,"220.","Potentialausgleich 4mm Anzahl ",null,null,null,"-",null,"TGA"]
[null,"221.","Potentialausgleich 6 mm Anzahl ",null,null,null,"-",null,"TGA"]
[null,"335.","Präsenzabhängige Beleuchtungsteuerung",null,null,"IfcLogical","-",null,"TGA"]
[null,"337.","RAS Brandmeldekabel",null,null,"IfcText","-",null,"TGA"]
[null,"338.","RAS Netzverkabelung 230 V / 50 Hz",null,null,"IfcText","-",null,"TGA"]
[null,"339.","Rauchmelder im Schachtkopf",null,null,"IfcText","-",null,"TGA"]
[null,"340.","Rauchmelder im Triebwerksraum",null,null,"IfcText","-",null,"TGA"]
[null,"346.","Raumsprechstelle",null,null,"IfcLogical","-",null,"TGA"]
[null,"353.","Ruf- und Abstelltaster mit Steckverbinder/ Birntaster",null,null,"IfcLogical","-",null,"TGA"]
[null,"354.","Ruf-/Abstelltaster",null,null,"IfcLogical","-",null,"TGA"]
[null,"355.","Rufzugtaster",null,null,"IfcLogical","-",null,"TGA"]
[null,"356.","RWA-Taster",null,null,"IfcLogical","-",null,"TGA"]
[null,"359.","Schachtlicht",null,null,"IfcText","-",null,"TGA"]
[null,"362.","separates Netz (Licht/Steckdose im TWR)",null,null,"IfcText","-",null,"TGA"]
[null,"222.","Sondermelder Anzahl ",null,null,null,"-",null,"TGA"]
[null,"17.","Steckdose 230V Anzahl",null,null,"IfcReal","-",1]
[null,"18.","Steckdose 230V NEA Anzahl ",null,null,"IfcReal","-",1]
[null,"19.","Steckdose 230V USV Anzahl ",null,null,"IfcReal","-",1]
[null,"20.","Steckdose 400V Anzahl ",null,null,"IfcReal","-",1]
[null,"21.","Steckdose 400V NEA Anzahl ",null,null,"IfcReal","-",1]
[null,"22.","Steckdose 400V USV Anzahl ",null,null,"IfcReal","-",1]
[null,"223.","Steckdose CEE 400V/16A AV Anzahl ",null,null,null,"-",null,"TGA"]
[null,"224.","Steckdose CEE 400V/16A SV Anzahl ",null,null,null,"-",null,"TGA"]
[null,"225.","Steckdose CEE 400V/32A AV Anzahl ",null,null,null,"-",null,"TGA"]
[null,"226.","Steckdose CEE 400V/32A SV Anzahl ",null,null,null,"-",null,"TGA"]
[null,"227.","Steckdosen 230V AV Anzahl ",null,null,null,"-",null,"TGA"]
[null,"228.","Steckdosen 230V BSV-IT Anzahl ",null,null,null,"-",null,"TGA"]
[null,"229.","Steckdosen 230V SV Anzahl ",null,null,null,"-",null,"TGA"]
[null,"230.","Steckdosen 230V SV-IT Anzahl",null,null,null,"-",null,"TGA"]
[null,"231.","Steckdosen 230V USVAnzahl ",null,null,null,"-",null,"TGA"]
[null,"232.","Steckdosen CEE 230V/16A AV Anzahl ",null,null,null,"-",null,"TGA"]
[null,"233.","Steckdosen CEE 230V/16A SV Anzahl ",null,null,null,"-",null,"TGA"]
[null,"379.","Störmeldungen GA/GLT ",null,null,"IfcText","-",null,"TGA"]
[null,"380.","Tageslichtabh. Beleuchtungssteuer",null,null,"IfcLogical","-",null,"TGA"]
[null,"381.","Tasterschaltung",null,null,"IfcLogical","-",null,"TGA"]
[null,"383.","Türsprechstelle",null,null,"IfcLogical","-",null,"TGA"]
[null,"386.","Uhr",null,null,"IfcLogical","-",null,"TGA"]
[null,"394.","Videosprechstelle",null,null,"IfcLogical","-",null,"TGA"]
[null,"403.","Vorsicherung 400 V Haupzuleitung",null,null,"IfcText","-",null,"TGA"]
[null,"234.","Wandleuchten Anzahl ",null,null,null,"-",null,"TGA"]
[null,"235.","Wärmemelder Anzahl",null,null,null,"-",null,"TGA"]
[null,"236.","Wärmemelder mit Signalgeber akustisch Anzahl ",null,null,null,"-",null,"TGA"]
[null,"237.","Wärmemelder mit Signalgeber optisch Anzahl ",null,null,null,"-",null,"TGA"]
[null,"418.","Zimmerterminal mit Sprechen",null,null,"IfcLogical","-",null,"TGA"]
[null,"422.","Zuleitung 230 V",null,null,"IfcText","-",null,"TGA"]
[null,"423.","Zuleitung Schaltschrank 400 V",null,null,"IfcText","-",null,"TGA"]
[null,"425.","Zutritts- / Vorrangsteuerung",null,null,"IfcText","-",null,"TGA"]
[null,"170.","Fenster Behang",null,null,"IfcText","-","Raffstore "]
[null,"169.","Fenster Farbe",null,null,"IfcText","-","Aluminium natur","ARC"]
[null,"176.","Fenster Konstruktion",null,null,"IfcText","-","Alu-Fenster","ARC"]
[null,"171.","Fenster Material",null,null,"IfcText","-","Aluminium natur","ARC"]
[null,"172.","Fenster Schallschutz",null,null,null,"dB",37,"ARC"]
[null,"173.","Fenster Verglasung",null,null,"IfcText","-","VSG I","ARC"]
[null,"174.","Fensterbank",null,null,"IfcText, IfcBoolean","-","Kusntstein, wisch- und desinfektionsbeständig","ARC",null,null,"Fensterbank außen (71), Fensterbank innen (72)"]
[null,"175.","Fensterflügel",null,null,"IfcLogical","-",null,"ARC"]
[null,"242.","Badewanne",null,null,"IfcLogical","-",null,"TGA"]
[null,"247.","Bidet",null,null,"IfcLogical","-",null,"TGA"]
[null,"265.","Dusche",null,null,"IfcLogical","-",null,"TGA"]
[null,"281.","Fetthaltiges Abwasser",null,null,"IfcLogical","-",null,"TGA"]
[null,"295.","Hebeanlage",null,null,"IfcLogical","-",null,"TGA"]
[null,"326.","Nicht-Trinkwasser",null,null,"IfcLogical","-",null,"TGA"]
[null,"360.","Schmutzwasser",null,null,"IfcLogical","-",null,"TGA"]
[null,"367.","Spüle",null,null,"IfcLogical","-",null,"TGA"]
[null,"389.","Urinal",null,null,"IfcLogical","-",null,"TGA"]
[null,"409.","Waschtisch",null,null,"IfcLogical","-",null,"TGA"]
[null,"414.","WC ",null,null,"IfcLogical","-",null,"TGA"]
[null,"246.","WC Beh.",null,null,"IfcLogical","-",null,"TGA"]
[null,"419.","Zirkulation",null,null,"IfcLogical","-",null,"TGA"]
[null,"156.","Tür Automatik",null,null,"IfcLogical","-",null,"ARC"]
[null,"158.","Tür Drückergarnitur",null,null,"IfcLogical","-","Türdrücker, Edelstahl","ARC"]
[null,"159.","Tür Farbe",null,null,"IfcText","-","Aluminium natur","ARC"]
[null,"167.","Tür Konstruktion",null,null,"IfcText","-","Drehtür","ARC"]
[null,"160.","Tür Material",null,null,"IfcText","-","Aluminium natur","ARC"]
[null,"161.","Tür Obentürschließer",null,null,"IfcLogical","-",null,"ARC"]
[null,"162.","Tür Schallschutz",null,null,null,"dB",40,"ARC"]
[null,"163.","Tür Sichtfenster",null,null,"IfcText","-","VSG I","ARC"]
[null,"164.","Tür Taster",null,null,"IfcLogical","-",null,"ARC"]
[null,"165.","Türschwelle",null,null,"IfcText","-","Kusntstein, wisch- und desinfektionsbeständig","ARC"]
[null,"166.","Türstopper",null,null,"IfcLogical","-",null,"ARC"]
[null,"134.","Unterkonsruktion Wand",null,null,"IfcText",null,"Anzahl [St.], Belastung [N/m]","Medizintechnik"]
[null,"142.","Wand abwaschbar",null,null,"IfcLogical",null,null,"ARC"]
[null,"138.","Wand Farbe",null,null,null,null,null,"ARC"]
[null,"153.","Wand Handlauf Farbe",null,null,"IfcText",null,null,"ARC"]
[null,"151.","Wand Handlauf Konstruktion",null,null,"IfcText","-",null,"ARC"]
[null,"152.","Wand Handlauf Material",null,null,"IfcText",null,null,"ARC"]
[null,"141.","Wand Höhe Fliesenspiegel",null,null,"IfcLengthMeasure","m",1.75,"ARC"]
[null,"150.","Wand Kantenschutz Farbe",null,null,"IfcText",null,null,"ARC"]
[null,"148.","Wand Kantenschutz Konstruktion",null,null,"IfcText","-",null,"ARC"]
[null,"149.","Wand Kantenschutz Material",null,null,"IfcText",null,null,"ARC"]
[null,"136.","Wand Konstruktion",null,null,"IfcText","-","Metallständerwerk, GK beidseitig doppelt beplankt","ARC"]
[null,"137.","Wand Oberflächenmaterial",null,null,null,"-","GF Glasgewebe mit Anstrich","ARC"]
[null,"139.","Wand Schallschutz",null,null,null,"dB",55,"ARC"]
[null,"404.","Wandflächenheizung",null,null,"IfcLogical","-",null,"TGA"]
[null,"135.","Wandkanäle",null,null,"IfcText","-","Fensterbrüstungskanal","ARC"]
[null,"144.","Wandlast/Moment",null,null,"IfcText",null,"Anzahl [St.], Belastung [N], Moment [Nm]","Medizintechnik"]
[null,"147.","Wandschutz Farbe",null,null,"IfcText",null,null,"ARC"]
[null,"145.","Wandschutz Konstruktion",null,null,"IfcText","-",null,"ARC"]
[null,"146.","Wandschutz Material",null,null,"IfcText",null,null,"ARC"]
[null,"580.","Behälterinhalt",null,null,null,"l",null,null,"CAFM"]
[null,"583.","Dosiermenge",null,null,null,"ml/m³",null,null,"CAFM"]
[null,"584.","Durchflussmenge",null,null,"IfcVolumetricFlowRateMeasure","m³/h",null,null,"CAFM",null,"Abflussmenge (1)"]
[null,"595.","Länge Abgang ",null,null,null,"-"]
[null,"604.","Nennleistung ",null,null,null,"l/h",null,null,"CAFM"]
[null,"605.","Nennweite DN",null,null,null,"DN",null,null,"CAFM"]
[null,"610.","Schichtdicke",null,null,"IfcLengthMeasure","cm",null,null,"CAFM"]
[null,"611.","Schlammfang",null,null,null,"l",null,null,"CAFM"]
[null,"613.","Speichervolumen",null,null,null,"l",null,null,"CAFM"]
[null,"614.","Strang ",null,null,null,"-"]
[null,"554.","Anlage",null,null,null,"-"]
[null,"586.","Einstecklänge ",null,null,null,"-"]
[null,"608.","Rahmen ",null,null,null,"-"]
[null,"609.","Rahmenverbindung fix ",null,null,null,"-"]
[null,"570.","Segmente für Segmentbogen Anzahl ",null,null,null,"-"]
[null,"619.","Wärmeleistung ",null,null,null,"kW",null,null,"CAFM"]
[null,"620.","Wasserart: [fäkalienfrei, fäkalienhaltig]",null,null,null,"-",null,null,"CAFM"]
[null,"541.","Haltestellen Anzahl",null,null,null,"St."]
[null,"542.","Nennlast ",null,null,null,"kg"]
[null,"514.","Auftrittsbreite",null,null,"IfcLengthMeasure, IfcPositiveLengthMeasure","cm",28,null,null,null,"Auftritt (21)"]
[null,"624.","Anschluss Kaltwasser 0-3°dH, 80 µS",null,null,null,"DN"]
[null,"625.","Verbrauch Kaltwasser  0-3°dH, 80 µS",null,null,null,"l/h"]
[null,"626.","Anschluss Kaltwasser 0-3°dH, 250 µS",null,null,null,"DN"]
[null,"627.","Verbrauch Kaltwasser  0-3°dH, 250 µS",null,null,null,"l/h"]
[null,"628.","Anschluss Dampf",null,null,null,"DN"]
[null,"629.","Verbrauch Dampf",null,null,"IfcVolumetricFlowRateMeasure","kg/h"]
[null,"630.","Anschluss Dampf-Kondensat",null,null,null,"DN"]
[null,"631.","Anschluss Chemie",null,null,null,"DN"]
[null,"517.","Geländer Handlauf (Material)",null,null,"IfcText","-","Holz"]
[null,"519.","Geländer Material",null,null,"IfcText","-","Stahl, pulverbeschichtet "]
[null,"635.","Kaltwasser weich",null,null,null,"DN"]
[null,"636.","Kaltwasser weich Osmose",null,null,null,"DN"]
[null,"518.","Geländer Typ",null,null,"IfcText","-"]
[null,"515.","Laufbreite",null,null,"IfcLengthMeasure","m"]
[null,"513.","Stufenhöhe",null,null,"IfcLengthMeasure","cm",18.5]
[null,"524.","Positionsnummer",null,null,null,"-"]
[null,"523.","Querschnittsform",null,null,null,"-"]
[null,"521.","Stützenpositionsmarkierung",null,null,"IfcText","-"]
[null,"522.","Stützenstil",null,null,"IfcText","-"]
[null,"646.","AC separate Absicherung",null,null,"IfcText"]
[null,"647.","Anschluss an Zentrale Leittechnik",null,null,"IfcText"]
[null,"648.","Drehmomente und Gewichtskräfte",null,null,"IfcText"]
[null,"649.","Drehstrom",null,null,"IfcText"]
[null,"650.","Druckluft  mit AL-Rückführung"]
[null,"651.","EDV Netzanschluss"]
[null,"652.","Ein-Aus-Taster für die gesamte Anlage"]
[null,"653.","feste, raumbestimmt lose, lose MT"]
[null,"654.","Finanzierungsart"]
[null,"655.","Fremddampf"]
[null,"656.","Kondensat-Rückleitung"]
[null,"657.","Kühlwasserkreislauf"]
[null,"658.","Lasten, bspw. erforderliche Wandverst."]
[null,"659.","Vollentsalztes Wasser"]
[null,"660.","Wechselstrom (AC)"]
[null,"538.","ISP-Nummer",null,null,"IfcText","-"]
[null,"662.","Lichte Eintransporthöhe",null,null,"IfcLengthMeasure","mm"]
[null,"663.","Lichte Eintransportweite",null,null,"IfcLengthMeasure","mm"]
[null,"664.","Layer"]
[null,"665.","Wärmelast an Raumluft",null,null,null,"kW"]
[null,"666.","Kommentar Wärme/Kühlung",null,null,"IfcText"]
[null,"667.","Sauerstoff (O2) Anschluss",null,null,null,"St."]
[null,"668.","Sauerstoff (O2) Anschluss Verbrauch",null,null,"IfcVolumetricFlowRateMeasure","m³/h"]
[null,"669.","Kohlendioxid (CO2) Anschluss",null,null,null,"St."]
[null,"670.","Kohlendioxid (CO2) Anschluss Verbrauch",null,null,"IfcVolumetricFlowRateMeasure","m³/h"]
[null,"671.","Vakuum Anschluss",null,null,null,"St."]
[null,"672.","Vakuum Anschluss Verbrauch",null,null,"IfcVolumetricFlowRateMeasure","m³/h"]
[null,"673.","Stickstoff (N2) Anschluss",null,null,null,"St."]
[null,"674.","Stickstoff (N2) Anschluss Verbrauch",null,null,"IfcVolumetricFlowRateMeasure","m³/h"]
[null,"675.","Lachgas (NOx) Anschluss",null,null,null,"St."]
[null,"676.","Lachgas (NOx) Anschluss Verbrauch",null,null,"IfcVolumetricFlowRateMeasure","m³/h"]
[null,"677.","Brenngas Anschluss",null,null,null,"St."]
[null,"678.","Brenngas Anschluss Verbrauch",null,null,"IfcVolumetricFlowRateMeasure","m³/h"]
[null,"679.","Argon Anschluss",null,null,null,"St."]
[null,"680.","Argon Anschluss Verbrauch",null,null,"IfcVolumetricFlowRateMeasure","m³/h"]
[null,"681.","sonstiges / Kommentar Anschlüsse",null,null,"IfcText"]
[null,"682.","Sauerstoff (O2) Entnahmestelle",null,null,null,"St."]
[null,"683.","Vakuum Entnahmestelle",null,null,null,"St."]
[null,"684.","Druckluft (DL) Entnahmestelle",null,null,null,"St."]
[null,"685.","Lachgas (NOx) Entnahmestelle",null,null,null,"St."]
[null,"686.","AGFS Entnahmestelle",null,null,null,"St."]
[null,"687.","Airmotor Entnahmestelle",null,null,null,"St."]
[null,"688.","Technische Druckluft",null,null,null,"-","Anzahl [St.], DN, bar, Verbrauch [kg/h], Kommentar"]
[null,"689.","Medizinische Druckluft",null,null,null,"-","Anzahl [St.], DN, bar, Verbrauch [kg/h], Kommentar"]
[null,"690.","Abluft",null,null,null,"-","Anschluss [DN], Menge [m³/h], Temperatur [°C], Sicherheitsablaseleitung [St.], Kommentar"]
[null,"691.","Narkosegasabsaugung Anzahl",null,null,null,"-","Anzahl [St.], Kommentar"]
[null,"692.","Anschluss Kaltwasser Anzahl",null,null,null,"St."]
[null,"693.","Anschluss Kaltwasser DN",null,null,null,"DN"]
[null,"694.","Anschluss Kaltwasser m3/h",null,null,"IfcVolumetricFlowRateMeasure","m³/h"]
[null,"695.","Anschluss Warmwasser Anzahl",null,null,null,"St."]
[null,"696.","Anschluss Warmwasser DN",null,null,null,"DN"]
[null,"697.","Anschluss Warmwasser m3/h",null,null,"IfcVolumetricFlowRateMeasure","m³/h"]
[null,"698.","Enthärtetes Wasser Anzahl",null,null,null,"St."]
[null,"699.","Enthärtetes Wasser dH",null,null,null,"dH"]
[null,"700.","Enthärtetes Wasser DN",null,null,null,"DN"]
[null,"701.","Enthärtetes Wasser m3/h",null,null,"IfcVolumetricFlowRateMeasure","m³/h"]
[null,"702.","VE-Wasser, <20 µS Anzahl",null,null,null,"St."]
[null,"703.","VE-Wasser, <20 µS m3/h",null,null,"IfcVolumetricFlowRateMeasure","m³/h"]
[null,"704.","VE-Wasser, <0,2 µS Anzahl",null,null,null,"St."]
[null,"705.","VE-Wasser, <0,2 µS m3/h",null,null,"IfcVolumetricFlowRateMeasure","m³/h"]
[null,"706.","Abwasser Anzahl",null,null,null,"St."]
[null,"707.","Abwasser DN",null,null,null,"DN"]
[null,"708.","Abwasser l/min",null,null,null,"l/min"]
[null,"709.","Belastetes Abwasser Anzahl",null,null,null,"St."]
[null,"710.","Belastetes Abwasser DN",null,null,null,"DN"]
[null,"711.","Belastetes Abwasser Menge",null,null,null,"l/min"]
[null,"712.","Bodenablauf Anzahl",null,null,null,"St."]
[null,"713.","Dampfqualität"]
[null,"714.","Anschluss Dampf Anzahl",null,null,null,"St."]
[null,"715.","Anschluss Dampf DN",null,null,null,"DN"]
[null,"716.","Anschluss Dampf Verbrauch",null,null,"IfcVolumetricFlowRateMeasure","kg/h"]
[null,"717.","Anschluss Dampf Druck",null,null,null,"bar"]
[null,"718.","Dampf-Kondensat Anzahl",null,null,null,"St."]
[null,"719.","Dampf-Kondensat DN",null,null,null,"DN"]
[null,"720.","Dampf-Kondensat Verbrauch",null,null,null,"l/h"]
[null,"721.","Anschluss Chemie Anzahl",null,null,null,"St."]
[null,"722.","Anschluss Chemie DN",null,null,null,"DN"]
[null,"723.","Anschluss Chemie Kommentar",null,null,"IfcText"]
[null,"724.","Kühlwasserkreislauf Vor-/Rück Temp.",null,null,"IfcReal","°C"]
[null,"725.","Kühlwasserkreislauf Vor-/Rück Temp. Kommentar",null,null,"IfcText"]
[null,"726.","Not-Aus-Taster Anzahl",null,null,null,"St."]
[null,"727.","Not-Aus-Taster Kommentar",null,null,"IfcText"]
[null,"728.","Potentialausgleich Anzahl",null,null,null,"St."]
[null,"729.","Warnleuchte Anzahl",null,null,null,"St."]
[null,"730.","Warnleuchte Kommentar",null,null,"IfcText"]
[null,"731.","Anschluss an Schwesternruf Anzahl",null,null,null,"St."]
[null,"732.","Anschluss an Schwesternruf Kommentar",null,null,"IfcText"]
[null,"733.","Kommentar Elektro Allgemein",null,null,"IfcText"]
[null,"734.","Anschluss Elektro "]
[null,"735.","Anzahl Anschlüsse",null,null,null,"St."]
[null,"736.","Spannung (230 V, 400 V)",null,null,null,"V"]
[null,"737.","Sicherungstyp (flink, träge)"]
[null,"738.","Versorgungsart (AV, SV, BSV)"]
[null,"739.","Anschluss Elektro"]
[null,"740.","Sicherungstyp"]
[null,"741.","Kommentar ",null,null,"IfcText"]
[null,"742.","Entnahmestelle 230V, 16A, AV",null,null,null,"St.","Anzahl [St.]"]
[null,"743.","Entnahmestelle 230V, 16A, SV",null,null,null,"St."]
[null,"744.","Entnahmestelle 230V, 16A, BSV",null,null,null,"St."]
[null,"745.","Entnahmestelle 230V, 16A, USV",null,null,null,"St."]
[null,"746.","Doppeldose UKV/RJ45",null,null,null,"St."]
[null,"747.","Leerrohrverbindung mit Zugdraht Anzahl",null,null,null,"St."]
[null,"748.","Leerrohrverbindung mit Zugdraht Kommentar",null,null,"IfcText"]
[null,"749.","ICT-Anschlüsse Gerät",null,null,null,"St."]
[null,"750.","Anschluss an ZLT Anzahl",null,null,null,"St.","Anzahl [St.], Kommentar"]
[null,"751.","Anschluss an GLT Anzahl",null,null,null,"St.","Anzahl [St.], Kommentar"]
[null,"752.","Telefonanschluss (ISDN S0) Anzahl",null,null,null,"St.","Anzahl [St.], Kommentar"]
[null,"753.","Anmerkungen",null,null,"IfcText","-","allg, Statik, Elektro, EDV, Gase, HLK, Sanitär"]
[null,"Betrieblich relevante Attribute"]
[]
["Referenz \nBauteil",null,"Attribut",null,"Bezeichnung Englisch","IFC Datentyp","Einheit","Beispielwert","Autor","Modellanwendung","Quelle","ifc property","LPH3","LPH5","LPH8"]
["334.10",null,"Bauart",null,null,"IfcText"," -","Freitext",{"$f":"IF(VLOOKUP(A720,Klassifizierung!$E$4:$W$577,18,FALSE)=0,\"\",VLOOKUP(A720,Klassifizierung!$E$4:$W$577,18,FALSE))","v":"ARC"},"CAFM","Modell",null,null,"x"]
["334.10",null,"Anzahl Antriebe",null,null,"IfcReal","Stück","Zahl",{"$f":"IF(VLOOKUP(A721,Klassifizierung!$E$4:$W$577,18,FALSE)=0,\"\",VLOOKUP(A721,Klassifizierung!$E$4:$W$577,18,FALSE))","v":"ARC"},"CAFM","Modell",null,null,"x"]
["334.10",null,"Antrieb",null,null,"IfcText"," -","elektrisch / mechanisch",{"$f":"IF(VLOOKUP(A722,Klassifizierung!$E$4:$W$577,18,FALSE)=0,\"\",VLOOKUP(A722,Klassifizierung!$E$4:$W$577,18,FALSE))","v":"ARC"},"CAFM","Modell",null,null,"x"]
["334.10",null,"Steuerung",null,null,"IfcText"," -"," zentral / dezentral",{"$f":"IF(VLOOKUP(A723,Klassifizierung!$E$4:$W$577,18,FALSE)=0,\"\",VLOOKUP(A723,Klassifizierung!$E$4:$W$577,18,FALSE))","v":"ARC"},"CAFM","Modell",null,null,"x"]
["334.10",null,"Anzahl Flügel",null,null,"IfcText"," -","einflügelig / 2-flügelig / mehrflüglig",{"$f":"IF(VLOOKUP(A724,Klassifizierung!$E$4:$W$577,18,FALSE)=0,\"\",VLOOKUP(A724,Klassifizierung!$E$4:$W$577,18,FALSE))","v":"ARC"},"CAFM","Modell",null,null,"x"]
["334.10",null,"Feststellanlage",null,null,"IfcText"," -","nein|manuell|elektrisch",{"$f":"IF(VLOOKUP(A725,Klassifizierung!$E$4:$W$577,18,FALSE)=0,\"\",VLOOKUP(A725,Klassifizierung!$E$4:$W$577,18,FALSE))","v":"ARC"},"CAFM","Modell",null,null,"x"]
["334.10",null,"Öffnungsart",null,null,"IfcText"," -","Drehtür|Falttür|Hebedrehtür|Hebeschiebetür|Pendeltür|Schiebetür|Karusselltür",{"$f":"IF(VLOOKUP(A726,Klassifizierung!$E$4:$W$577,18,FALSE)=0,\"\",VLOOKUP(A726,Klassifizierung!$E$4:$W$577,18,FALSE))","v":"ARC"},"CAFM","Modell",null,null,"x"]
["334.10",null,"Obertürschließer",null,null,"IfcBoolean"," -","ja|nein",{"$f":"IF(VLOOKUP(A727,Klassifizierung!$E$4:$W$577,18,FALSE)=0,\"\",VLOOKUP(A727,Klassifizierung!$E$4:$W$577,18,FALSE))","v":"ARC"},"CAFM","Modell",null,null,"x"]
["334.10",null,"Notausgangsverschluss",null,null,"IfcBoolean"," -","ja|nein",{"$f":"IF(VLOOKUP(A728,Klassifizierung!$E$4:$W$577,18,FALSE)=0,\"\",VLOOKUP(A728,Klassifizierung!$E$4:$W$577,18,FALSE))","v":"ARC"},"CAFM","Modell",null,null,"x"]
["334.10",null,"Feuerwiderstandsklasse",null,null,"IfcText"," -","T 30-1|T 30-2|T 90-1|T 90-2",{"$f":"IF(VLOOKUP(A729,Klassifizierung!$E$4:$W$577,18,FALSE)=0,\"\",VLOOKUP(A729,Klassifizierung!$E$4:$W$577,18,FALSE))","v":"ARC"},"CAFM","Modell",null,null,"x"]
["334.10",null,"Schutzanforderung",null,null,"IfcText"," -","ohne besondere Schutzanforderung|Brandschutztür|Rauchschutztür|Schallschutztür|Brand-Rauchschutztür",{"$f":"IF(VLOOKUP(A730,Klassifizierung!$E$4:$W$577,18,FALSE)=0,\"\",VLOOKUP(A730,Klassifizierung!$E$4:$W$577,18,FALSE))","v":"ARC"},"CAFM","Modell",null,null,"x"]
["334.10",null,"Zugang",null,null,"IfcText"," -","öffenbar / nicht öffenbar",{"$f":"IF(VLOOKUP(A731,Klassifizierung!$E$4:$W$577,18,FALSE)=0,\"\",VLOOKUP(A731,Klassifizierung!$E$4:$W$577,18,FALSE))","v":"ARC"},"CAFM","Modell",null,null,"x"]
["334.10",null,"Schließrichtung",null,null,"IfcText"," -","innen / aussen",{"$f":"IF(VLOOKUP(A732,Klassifizierung!$E$4:$W$577,18,FALSE)=0,\"\",VLOOKUP(A732,Klassifizierung!$E$4:$W$577,18,FALSE))","v":"ARC"},"CAFM","Modell",null,null,"x"]
["334.10",null,"RWA-Zugehörigkeit",null,null,"IfcBoolean"," -","ja|nein",{"$f":"IF(VLOOKUP(A733,Klassifizierung!$E$4:$W$577,18,FALSE)=0,\"\",VLOOKUP(A733,Klassifizierung!$E$4:$W$577,18,FALSE))","v":"ARC"},"CAFM","Modell",null,null,"x"]
["334.10",null,"Fluchttür",null,null,"IfcBoolean"," -","ja|nein",{"$f":"IF(VLOOKUP(A734,Klassifizierung!$E$4:$W$577,18,FALSE)=0,\"\",VLOOKUP(A734,Klassifizierung!$E$4:$W$577,18,FALSE))","v":"ARC"},"CAFM","Modell",null,null,"x"]
["334.10",null,"Material",null,null,"IfcText"," -","Einglas / Doppelverglaseung / Mehrglas / CCV",{"$f":"IF(VLOOKUP(A735,Klassifizierung!$E$4:$W$577,18,FALSE)=0,\"\",VLOOKUP(A735,Klassifizierung!$E$4:$W$577,18,FALSE))","v":"ARC"},"CAFM","Modell",null,null,"x"]
["334.10",null,"Glasfläche ",null,null,"IfcReal","m2","Zahl",{"$f":"IF(VLOOKUP(A736,Klassifizierung!$E$4:$W$577,18,FALSE)=0,\"\",VLOOKUP(A736,Klassifizierung!$E$4:$W$577,18,FALSE))","v":"ARC"},"CAFM","Modell",null,null,"x"]
["334.10",null,"Hersteller Antrieb",null,null,"IfcText"," -","Freitext",{"$f":"IF(VLOOKUP(A737,Klassifizierung!$E$4:$W$577,18,FALSE)=0,\"\",VLOOKUP(A737,Klassifizierung!$E$4:$W$577,18,FALSE))","v":"ARC"},"CAFM","Modell",null,null,null,"x"]
["334.10",null,"Breite",null,null,"IfcReal","m","Zahl",{"$f":"IF(VLOOKUP(A738,Klassifizierung!$E$4:$W$577,18,FALSE)=0,\"\",VLOOKUP(A738,Klassifizierung!$E$4:$W$577,18,FALSE))","v":"ARC"},"CAFM","Modell",null,null,"x"]
["334.10",null,"Höhe",null,null,"IfcReal","m","Zahl",{"$f":"IF(VLOOKUP(A739,Klassifizierung!$E$4:$W$577,18,FALSE)=0,\"\",VLOOKUP(A739,Klassifizierung!$E$4:$W$577,18,FALSE))","v":"ARC"},"CAFM","Modell",null,null,"x"]
["334.20",null,"Bauart",null,null,"IfcText"," -","Kipptor|Rolltor|Sektionaltor|Schiebetor|Schnellauftor|Drehtor",{"$f":"IF(VLOOKUP(A740,Klassifizierung!$E$4:$W$577,18,FALSE)=0,\"\",VLOOKUP(A740,Klassifizierung!$E$4:$W$577,18,FALSE))","v":"ARC"},"CAFM","Modell",null,null,"x"]
["334.20",null,"Anzahl Antriebe",null,null,"IfcReal","Stück","Zahl",{"$f":"IF(VLOOKUP(A741,Klassifizierung!$E$4:$W$577,18,FALSE)=0,\"\",VLOOKUP(A741,Klassifizierung!$E$4:$W$577,18,FALSE))","v":"ARC"},"CAFM","Modell",null,null,"x"]
["334.20",null,"Antrieb",null,null,"IfcText"," - ","elektrisch / mechanisch",{"$f":"IF(VLOOKUP(A742,Klassifizierung!$E$4:$W$577,18,FALSE)=0,\"\",VLOOKUP(A742,Klassifizierung!$E$4:$W$577,18,FALSE))","v":"ARC"},"CAFM","Modell",null,null,"x"]
["334.20",null,"Steuerung",null,null,"IfcText"," - ","zentral / dezentral",{"$f":"IF(VLOOKUP(A743,Klassifizierung!$E$4:$W$577,18,FALSE)=0,\"\",VLOOKUP(A743,Klassifizierung!$E$4:$W$577,18,FALSE))","v":"ARC"},"CAFM","Modell",null,null,"x"]
["334.20",null,"Anzahl Flügel",null,null,"IfcText"," - ","einflügelig / 2-flügelig / mehrflüglig",{"$f":"IF(VLOOKUP(A744,Klassifizierung!$E$4:$W$577,18,FALSE)=0,\"\",VLOOKUP(A744,Klassifizierung!$E$4:$W$577,18,FALSE))","v":"ARC"},"CAFM","Modell",null,null,"x"]
["334.20",null,"Feststellanlage",null,null,"IfcText"," -","nein|manuell|elektrisch",{"$f":"IF(VLOOKUP(A745,Klassifizierung!$E$4:$W$577,18,FALSE)=0,\"\",VLOOKUP(A745,Klassifizierung!$E$4:$W$577,18,FALSE))","v":"ARC"},"CAFM","Modell",null,null,"x"]
["334.20",null,"Öffnungsart",null,null,"IfcText"," -","vertikal|horizontal",{"$f":"IF(VLOOKUP(A746,Klassifizierung!$E$4:$W$577,18,FALSE)=0,\"\",VLOOKUP(A746,Klassifizierung!$E$4:$W$577,18,FALSE))","v":"ARC"},"CAFM","Modell",null,null,"x"]
["334.20",null,"Schließrichtung",null,null,"IfcText"," -","innen / aussen",{"$f":"IF(VLOOKUP(A747,Klassifizierung!$E$4:$W$577,18,FALSE)=0,\"\",VLOOKUP(A747,Klassifizierung!$E$4:$W$577,18,FALSE))","v":"ARC"},"CAFM","Modell",null,null,"x"]
["334.20",null,"Notausgangsverschluss",null,null,"IfcBoolean"," -","ja|nein",{"$f":"IF(VLOOKUP(A748,Klassifizierung!$E$4:$W$577,18,FALSE)=0,\"\",VLOOKUP(A748,Klassifizierung!$E$4:$W$577,18,FALSE))","v":"ARC"},"CAFM","Modell",null,null,"x"]
["334.20",null,"Feuerwiderstandsklasse",null,null,"IfcText"," -","T 30-1|T 30-2|T 90-1|T 90-2",{"$f":"IF(VLOOKUP(A749,Klassifizierung!$E$4:$W$577,18,FALSE)=0,\"\",VLOOKUP(A749,Klassifizierung!$E$4:$W$577,18,FALSE))","v":"ARC"},"CAFM","Modell",null,null,"x"]
["334.20",null,"Schutzanforderung",null,null,"IfcText"," -","ohne besondere Schutzanforderung|Brandschutztor|Rauchschutztor|Brand-Rauchschutztor",{"$f":"IF(VLOOKUP(A750,Klassifizierung!$E$4:$W$577,18,FALSE)=0,\"\",VLOOKUP(A750,Klassifizierung!$E$4:$W$577,18,FALSE))","v":"ARC"},"CAFM","Modell",null,null,"x"]
["334.20",null,"Zugang",null,null,"IfcText"," -","öffenbar / nicht öffenbar",{"$f":"IF(VLOOKUP(A751,Klassifizierung!$E$4:$W$577,18,FALSE)=0,\"\",VLOOKUP(A751,Klassifizierung!$E$4:$W$577,18,FALSE))","v":"ARC"},"CAFM","Modell",null,null,"x"]
["334.20",null,"RWA-Zugehörigkeit",null,null,"IfcBoolean"," -","ja|nein",{"$f":"IF(VLOOKUP(A752,Klassifizierung!$E$4:$W$577,18,FALSE)=0,\"\",VLOOKUP(A752,Klassifizierung!$E$4:$W$577,18,FALSE))","v":"ARC"},"CAFM","Modell",null,null,"x"]
["334.20",null,"Fluchttor",null,null,"IfcBoolean"," -","ja|nein",{"$f":"IF(VLOOKUP(A753,Klassifizierung!$E$4:$W$577,18,FALSE)=0,\"\",VLOOKUP(A753,Klassifizierung!$E$4:$W$577,18,FALSE))","v":"ARC"},"CAFM","Modell",null,null,"x"]
["334.20",null,"Material",null,null,"IfcText"," -","Kunststoff|Holz|Aluminium|Sonstiges",{"$f":"IF(VLOOKUP(A754,Klassifizierung!$E$4:$W$577,18,FALSE)=0,\"\",VLOOKUP(A754,Klassifizierung!$E$4:$W$577,18,FALSE))","v":"ARC"},"CAFM","Modell",null,null,"x"]
["334.20",null,"Glasfläche",null,null,"IfcReal","m2","Zahl",{"$f":"IF(VLOOKUP(A755,Klassifizierung!$E$4:$W$577,18,FALSE)=0,\"\",VLOOKUP(A755,Klassifizierung!$E$4:$W$577,18,FALSE))","v":"ARC"},"CAFM","Modell",null,null,"x"]
["334.20",null,"Hersteller Antrieb",null,null,"IfcText"," -","Freitext",{"$f":"IF(VLOOKUP(A756,Klassifizierung!$E$4:$W$577,18,FALSE)=0,\"\",VLOOKUP(A756,Klassifizierung!$E$4:$W$577,18,FALSE))","v":"ARC"},"CAFM","Modell",null,null,null,"x"]
["334.20",null,"Breite",null,null,"IfcReal","m","Zahl",{"$f":"IF(VLOOKUP(A757,Klassifizierung!$E$4:$W$577,18,FALSE)=0,\"\",VLOOKUP(A757,Klassifizierung!$E$4:$W$577,18,FALSE))","v":"ARC"},"CAFM","Modell",null,null,"x"]
["334.20",null,"Höhe",null,null,"IfcReal","m","Zahl",{"$f":"IF(VLOOKUP(A758,Klassifizierung!$E$4:$W$577,18,FALSE)=0,\"\",VLOOKUP(A758,Klassifizierung!$E$4:$W$577,18,FALSE))","v":"ARC"},"CAFM","Modell",null,null,"x"]
["334.30",null,"Bauart",null,null,"IfcText"," -","Freitext",{"$f":"IF(VLOOKUP(A759,Klassifizierung!$E$4:$W$577,18,FALSE)=0,\"\",VLOOKUP(A759,Klassifizierung!$E$4:$W$577,18,FALSE))","v":"ARC"},"CAFM","Modell",null,null,"x"]
["334.30",null,"Anzahl Antriebe",null,null,"IfcReal","Stück","Zahl",{"$f":"IF(VLOOKUP(A760,Klassifizierung!$E$4:$W$577,18,FALSE)=0,\"\",VLOOKUP(A760,Klassifizierung!$E$4:$W$577,18,FALSE))","v":"ARC"},"CAFM","Modell",null,null,"x"]
["334.30",null,"Antrieb",null,null,"IfcText"," -","elektrisch / mechanisch",{"$f":"IF(VLOOKUP(A761,Klassifizierung!$E$4:$W$577,18,FALSE)=0,\"\",VLOOKUP(A761,Klassifizierung!$E$4:$W$577,18,FALSE))","v":"ARC"},"CAFM","Modell",null,null,"x"]
["334.30",null,"Steuerung",null,null,"IfcText"," -","zentral / dezentral",{"$f":"IF(VLOOKUP(A762,Klassifizierung!$E$4:$W$577,18,FALSE)=0,\"\",VLOOKUP(A762,Klassifizierung!$E$4:$W$577,18,FALSE))","v":"ARC"},"CAFM","Modell",null,null,"x"]
["334.30",null,"Anzahl Flügel",null,null,"IfcText"," -","einflügelig / 2-flügelig / mehrflüglig",{"$f":"IF(VLOOKUP(A763,Klassifizierung!$E$4:$W$577,18,FALSE)=0,\"\",VLOOKUP(A763,Klassifizierung!$E$4:$W$577,18,FALSE))","v":"ARC"},"CAFM","Modell",null,null,"x"]
["334.30",null,"Feststellanlage",null,null,"IfcText"," -","nein|manuell|elektrisch",{"$f":"IF(VLOOKUP(A764,Klassifizierung!$E$4:$W$577,18,FALSE)=0,\"\",VLOOKUP(A764,Klassifizierung!$E$4:$W$577,18,FALSE))","v":"ARC"},"CAFM","Modell",null,null,"x"]
["334.30",null,"Öffnungsart",null,null,"IfcText"," -","vertikal|horizontal",{"$f":"IF(VLOOKUP(A765,Klassifizierung!$E$4:$W$577,18,FALSE)=0,\"\",VLOOKUP(A765,Klassifizierung!$E$4:$W$577,18,FALSE))","v":"ARC"},"CAFM","Modell",null,null,"x"]
["334.30",null,"Feuerwiderstandsklasse",null,null,"IfcText"," -","T 30-1|T 30-2|T 90-1|T 90-2",{"$f":"IF(VLOOKUP(A766,Klassifizierung!$E$4:$W$577,18,FALSE)=0,\"\",VLOOKUP(A766,Klassifizierung!$E$4:$W$577,18,FALSE))","v":"ARC"},"CAFM","Modell",null,null,"x"]
["334.30",null,"Schutzanforderung",null,null,"IfcText"," -","ohne besondere Schutzanforderung|Brandschutzfenster|Rauchschutzfenster|Schallschutzfenster|Brand-Rauchschutzfenster",{"$f":"IF(VLOOKUP(A767,Klassifizierung!$E$4:$W$577,18,FALSE)=0,\"\",VLOOKUP(A767,Klassifizierung!$E$4:$W$577,18,FALSE))","v":"ARC"},"CAFM","Modell",null,null,"x"]
["334.30",null,"Zugang",null,null,"IfcText"," -","öffenbar / nicht öffenbar",{"$f":"IF(VLOOKUP(A768,Klassifizierung!$E$4:$W$577,18,FALSE)=0,\"\",VLOOKUP(A768,Klassifizierung!$E$4:$W$577,18,FALSE))","v":"ARC"},"CAFM","Modell",null,null,"x"]
["334.30",null,"Schließrichtung",null,null,"IfcText"," -","innen / aussen",{"$f":"IF(VLOOKUP(A769,Klassifizierung!$E$4:$W$577,18,FALSE)=0,\"\",VLOOKUP(A769,Klassifizierung!$E$4:$W$577,18,FALSE))","v":"ARC"},"CAFM","Modell",null,null,"x"]
["334.30",null,"RWA-Zugehörigkeit",null,null,"IfcBoolean"," -","ja|nein",{"$f":"IF(VLOOKUP(A770,Klassifizierung!$E$4:$W$577,18,FALSE)=0,\"\",VLOOKUP(A770,Klassifizierung!$E$4:$W$577,18,FALSE))","v":"ARC"},"CAFM","Modell",null,null,"x"]
["334.30",null,"Material",null,null,"IfcText"," -","Kunststoff|Holz|Aluminium|Sonstiges",{"$f":"IF(VLOOKUP(A771,Klassifizierung!$E$4:$W$577,18,FALSE)=0,\"\",VLOOKUP(A771,Klassifizierung!$E$4:$W$577,18,FALSE))","v":"ARC"},"CAFM","Modell",null,null,"x"]
["334.30",null,"Glasfläche",null,null,"IfcReal","m2","Zahl",{"$f":"IF(VLOOKUP(A772,Klassifizierung!$E$4:$W$577,18,FALSE)=0,\"\",VLOOKUP(A772,Klassifizierung!$E$4:$W$577,18,FALSE))","v":"ARC"},"CAFM","Modell",null,null,"x"]
["334.30",null,"Hersteller Antrieb",null,null,"IfcText"," -","Freitext",{"$f":"IF(VLOOKUP(A773,Klassifizierung!$E$4:$W$577,18,FALSE)=0,\"\",VLOOKUP(A773,Klassifizierung!$E$4:$W$577,18,FALSE))","v":"ARC"},"CAFM","Modell",null,null,null,"x"]
["334.30",null,"Breite",null,null,"IfcReal","m","Zahl",{"$f":"IF(VLOOKUP(A774,Klassifizierung!$E$4:$W$577,18,FALSE)=0,\"\",VLOOKUP(A774,Klassifizierung!$E$4:$W$577,18,FALSE))","v":"ARC"},"CAFM","Modell",null,null,"x"]
["334.30",null,"Höhe",null,null,"IfcReal","m","Zahl",{"$f":"IF(VLOOKUP(A775,Klassifizierung!$E$4:$W$577,18,FALSE)=0,\"\",VLOOKUP(A775,Klassifizierung!$E$4:$W$577,18,FALSE))","v":"ARC"},"CAFM","Modell",null,null,"x"]
["335",null,"Bauart",null,null,"IfcText"," -","Freitext",{"$f":"IF(VLOOKUP(A776,Klassifizierung!$E$4:$W$577,18,FALSE)=0,\"\",VLOOKUP(A776,Klassifizierung!$E$4:$W$577,18,FALSE))","v":"ARC"},"CAFM","Modell",null,null,"x"]
["336",null,"Bauart",null,null,"IfcText"," -","Freitext",{"$f":"IF(VLOOKUP(A777,Klassifizierung!$E$4:$W$577,18,FALSE)=0,\"\",VLOOKUP(A777,Klassifizierung!$E$4:$W$577,18,FALSE))","v":"ARC"},"CAFM","Modell",null,null,"x"]
["338",null,"Bauart",null,null,"IfcText"," -","Rollläden, Markisen und Jalousien",{"$f":"IF(VLOOKUP(A778,Klassifizierung!$E$4:$W$577,18,FALSE)=0,\"\",VLOOKUP(A778,Klassifizierung!$E$4:$W$577,18,FALSE))","v":"ARC"},"CAFM","Modell",null,null,"x"]
["338",null,"Anzahl Antriebe",null,null,"IfcReal","Stück","Zahl",{"$f":"IF(VLOOKUP(A779,Klassifizierung!$E$4:$W$577,18,FALSE)=0,\"\",VLOOKUP(A779,Klassifizierung!$E$4:$W$577,18,FALSE))","v":"ARC"},"CAFM","Modell",null,null,"x"]
["338",null,"Antrieb",null,null,"IfcText"," -","elektrisch / mechanisch",{"$f":"IF(VLOOKUP(A780,Klassifizierung!$E$4:$W$577,18,FALSE)=0,\"\",VLOOKUP(A780,Klassifizierung!$E$4:$W$577,18,FALSE))","v":"ARC"},"CAFM","Modell",null,null,"x"]
["338",null,"Steuerung",null,null,"IfcText"," -","zentral / dezentral",{"$f":"IF(VLOOKUP(A781,Klassifizierung!$E$4:$W$577,18,FALSE)=0,\"\",VLOOKUP(A781,Klassifizierung!$E$4:$W$577,18,FALSE))","v":"ARC"},"CAFM","Modell",null,null,"x"]
["338",null,"Fläche",null,null,"IfcReal","m2","Zahl",{"$f":"IF(VLOOKUP(A782,Klassifizierung!$E$4:$W$577,18,FALSE)=0,\"\",VLOOKUP(A782,Klassifizierung!$E$4:$W$577,18,FALSE))","v":"ARC"},"CAFM","Modell",null,null,"x"]
["339.90",null,"Bauart",null,null,"IfcText"," -","Gitter|Stoßabweiser|Handlauf|Berührungsschutz",{"$f":"IF(VLOOKUP(A783,Klassifizierung!$E$4:$W$577,18,FALSE)=0,\"\",VLOOKUP(A783,Klassifizierung!$E$4:$W$577,18,FALSE))","v":"ARC"},"CAFM","Modell",null,null,"x"]
["343",null,"Bauart",null,null,"IfcText"," -","Stütze|Säule|Pylon|Pfeiler",{"$f":"IF(VLOOKUP(A784,Klassifizierung!$E$4:$W$577,18,FALSE)=0,\"\",VLOOKUP(A784,Klassifizierung!$E$4:$W$577,18,FALSE))","v":"TWP"},"CAFM","Modell",null,null,"x"]
["344.10",null,"Bauart",null,null,"IfcText"," -","Freitext",{"$f":"IF(VLOOKUP(A785,Klassifizierung!$E$4:$W$577,18,FALSE)=0,\"\",VLOOKUP(A785,Klassifizierung!$E$4:$W$577,18,FALSE))","v":"ARC"},"CAFM","Modell",null,null,"x"]
["344.10",null,"Anzahl Antriebe",null,null,"IfcReal","Stück","Zahl",{"$f":"IF(VLOOKUP(A786,Klassifizierung!$E$4:$W$577,18,FALSE)=0,\"\",VLOOKUP(A786,Klassifizierung!$E$4:$W$577,18,FALSE))","v":"ARC"},"CAFM","Modell",null,null,"x"]
["344.10",null,"Antrieb",null,null,"IfcText"," -","elektrisch / mechanisch",{"$f":"IF(VLOOKUP(A787,Klassifizierung!$E$4:$W$577,18,FALSE)=0,\"\",VLOOKUP(A787,Klassifizierung!$E$4:$W$577,18,FALSE))","v":"ARC"},"CAFM","Modell",null,null,"x"]
["344.10",null,"Steuerung",null,null,"IfcText"," -"," zentral / dezentral",{"$f":"IF(VLOOKUP(A788,Klassifizierung!$E$4:$W$577,18,FALSE)=0,\"\",VLOOKUP(A788,Klassifizierung!$E$4:$W$577,18,FALSE))","v":"ARC"},"CAFM","Modell",null,null,"x"]
["344.10",null,"Anzahl Flügel",null,null,"IfcText"," -","einflügelig / 2-flügelig / mehrflüglig",{"$f":"IF(VLOOKUP(A789,Klassifizierung!$E$4:$W$577,18,FALSE)=0,\"\",VLOOKUP(A789,Klassifizierung!$E$4:$W$577,18,FALSE))","v":"ARC"},"CAFM","Modell",null,null,"x"]
["344.10",null,"Feststellanlage",null,null,"IfcText"," -","nein|manuell|elektrisch",{"$f":"IF(VLOOKUP(A790,Klassifizierung!$E$4:$W$577,18,FALSE)=0,\"\",VLOOKUP(A790,Klassifizierung!$E$4:$W$577,18,FALSE))","v":"ARC"},"CAFM","Modell",null,null,"x"]
["344.10",null,"Öffnungsart",null,null,"IfcText"," -","Drehtür|Falttür|Hebedrehtür|Hebeschiebetür|Pendeltür|Schiebetür|Karusselltür",{"$f":"IF(VLOOKUP(A791,Klassifizierung!$E$4:$W$577,18,FALSE)=0,\"\",VLOOKUP(A791,Klassifizierung!$E$4:$W$577,18,FALSE))","v":"ARC"},"CAFM","Modell",null,null,"x"]
["344.10",null,"Obertürschließer",null,null,"IfcBoolean"," -","ja|nein",{"$f":"IF(VLOOKUP(A792,Klassifizierung!$E$4:$W$577,18,FALSE)=0,\"\",VLOOKUP(A792,Klassifizierung!$E$4:$W$577,18,FALSE))","v":"ARC"},"CAFM","Modell",null,null,"x"]
["344.10",null,"Notausgangsverschluss",null,null,"IfcBoolean"," -","ja|nein",{"$f":"IF(VLOOKUP(A793,Klassifizierung!$E$4:$W$577,18,FALSE)=0,\"\",VLOOKUP(A793,Klassifizierung!$E$4:$W$577,18,FALSE))","v":"ARC"},"CAFM","Modell",null,null,"x"]
["344.10",null,"Feuerwiderstandsklasse",null,null,"IfcText"," -","T 30-1|T 30-2|T 90-1|T 90-2",{"$f":"IF(VLOOKUP(A794,Klassifizierung!$E$4:$W$577,18,FALSE)=0,\"\",VLOOKUP(A794,Klassifizierung!$E$4:$W$577,18,FALSE))","v":"ARC"},"CAFM","Modell",null,null,"x"]
["344.10",null,"Schutzanforderung",null,null,"IfcText"," -","ohne besondere Schutzanforderung|Brandschutztür|Rauchschutztür|Schallschutztür|Brand-Rauchschutztür",{"$f":"IF(VLOOKUP(A795,Klassifizierung!$E$4:$W$577,18,FALSE)=0,\"\",VLOOKUP(A795,Klassifizierung!$E$4:$W$577,18,FALSE))","v":"ARC"},"CAFM","Modell",null,null,"x"]
["344.10",null,"Zugang",null,null,"IfcText"," -","öffenbar / nicht öffenbar",{"$f":"IF(VLOOKUP(A796,Klassifizierung!$E$4:$W$577,18,FALSE)=0,\"\",VLOOKUP(A796,Klassifizierung!$E$4:$W$577,18,FALSE))","v":"ARC"},"CAFM","Modell",null,null,"x"]
["344.10",null,"Schließrichtung",null,null,"IfcText"," -","innen / aussen",{"$f":"IF(VLOOKUP(A797,Klassifizierung!$E$4:$W$577,18,FALSE)=0,\"\",VLOOKUP(A797,Klassifizierung!$E$4:$W$577,18,FALSE))","v":"ARC"},"CAFM","Modell",null,null,"x"]
["344.10",null,"RWA-Zugehörigkeit",null,null,"IfcBoolean"," -","ja|nein",{"$f":"IF(VLOOKUP(A798,Klassifizierung!$E$4:$W$577,18,FALSE)=0,\"\",VLOOKUP(A798,Klassifizierung!$E$4:$W$577,18,FALSE))","v":"ARC"},"CAFM","Modell",null,null,"x"]
["344.10",null,"Fluchttür",null,null,"IfcBoolean"," -","ja|nein",{"$f":"IF(VLOOKUP(A799,Klassifizierung!$E$4:$W$577,18,FALSE)=0,\"\",VLOOKUP(A799,Klassifizierung!$E$4:$W$577,18,FALSE))","v":"ARC"},"CAFM","Modell",null,null,"x"]
["344.10",null,"Material",null,null,"IfcText"," -","Einglas / Doppelverglaseung / Mehrglas / CCV",{"$f":"IF(VLOOKUP(A800,Klassifizierung!$E$4:$W$577,18,FALSE)=0,\"\",VLOOKUP(A800,Klassifizierung!$E$4:$W$577,18,FALSE))","v":"ARC"},"CAFM","Modell",null,null,"x"]
["344.10",null,"Glasfläche ",null,null,"IfcReal","m2","Zahl",{"$f":"IF(VLOOKUP(A801,Klassifizierung!$E$4:$W$577,18,FALSE)=0,\"\",VLOOKUP(A801,Klassifizierung!$E$4:$W$577,18,FALSE))","v":"ARC"},"CAFM","Modell",null,null,"x"]
["344.10",null,"Hersteller Antrieb",null,null,"IfcText"," -","Freitext",{"$f":"IF(VLOOKUP(A802,Klassifizierung!$E$4:$W$577,18,FALSE)=0,\"\",VLOOKUP(A802,Klassifizierung!$E$4:$W$577,18,FALSE))","v":"ARC"},"CAFM","Modell",null,null,null,"x"]
["344.10",null,"Breite",null,null,"IfcReal","m","Zahl",{"$f":"IF(VLOOKUP(A803,Klassifizierung!$E$4:$W$577,18,FALSE)=0,\"\",VLOOKUP(A803,Klassifizierung!$E$4:$W$577,18,FALSE))","v":"ARC"},"CAFM","Modell",null,null,"x"]
["344.10",null,"Höhe",null,null,"IfcReal","m","Zahl",{"$f":"IF(VLOOKUP(A804,Klassifizierung!$E$4:$W$577,18,FALSE)=0,\"\",VLOOKUP(A804,Klassifizierung!$E$4:$W$577,18,FALSE))","v":"ARC"},"CAFM","Modell",null,null,"x"]
["344.20",null,"Bauart",null,null,"IfcText"," -","Kipptor|Rolltor|Sektionaltor|Schiebetor|Schnellauftor|Drehtor",{"$f":"IF(VLOOKUP(A805,Klassifizierung!$E$4:$W$577,18,FALSE)=0,\"\",VLOOKUP(A805,Klassifizierung!$E$4:$W$577,18,FALSE))","v":"ARC"},"CAFM","Modell",null,null,"x"]
["344.20",null,"Anzahl Antriebe",null,null,"IfcReal","Stück","Zahl",{"$f":"IF(VLOOKUP(A806,Klassifizierung!$E$4:$W$577,18,FALSE)=0,\"\",VLOOKUP(A806,Klassifizierung!$E$4:$W$577,18,FALSE))","v":"ARC"},"CAFM","Modell",null,null,"x"]
["344.20",null,"Antrieb",null,null,"IfcText"," -","elektrisch / mechanisch",{"$f":"IF(VLOOKUP(A807,Klassifizierung!$E$4:$W$577,18,FALSE)=0,\"\",VLOOKUP(A807,Klassifizierung!$E$4:$W$577,18,FALSE))","v":"ARC"},"CAFM","Modell",null,null,"x"]
["344.20",null,"Steuerung",null,null,"IfcText"," -","zentral / dezentral",{"$f":"IF(VLOOKUP(A808,Klassifizierung!$E$4:$W$577,18,FALSE)=0,\"\",VLOOKUP(A808,Klassifizierung!$E$4:$W$577,18,FALSE))","v":"ARC"},"CAFM","Modell",null,null,"x"]
["344.20",null,"Anzahl Flügel",null,null,"IfcText"," -","einflügelig / 2-flügelig / mehrflüglig",{"$f":"IF(VLOOKUP(A809,Klassifizierung!$E$4:$W$577,18,FALSE)=0,\"\",VLOOKUP(A809,Klassifizierung!$E$4:$W$577,18,FALSE))","v":"ARC"},"CAFM","Modell",null,null,"x"]
["344.20",null,"Feststellanlage",null,null,"IfcText"," -","nein|manuell|elektrisch",{"$f":"IF(VLOOKUP(A810,Klassifizierung!$E$4:$W$577,18,FALSE)=0,\"\",VLOOKUP(A810,Klassifizierung!$E$4:$W$577,18,FALSE))","v":"ARC"},"CAFM","Modell",null,null,"x"]
["344.20",null,"Öffnungsart",null,null,"IfcText"," -","vertikal|horizontal",{"$f":"IF(VLOOKUP(A811,Klassifizierung!$E$4:$W$577,18,FALSE)=0,\"\",VLOOKUP(A811,Klassifizierung!$E$4:$W$577,18,FALSE))","v":"ARC"},"CAFM","Modell",null,null,"x"]
["344.20",null,"Schließrichtung",null,null,"IfcText"," -","innen / aussen",{"$f":"IF(VLOOKUP(A812,Klassifizierung!$E$4:$W$577,18,FALSE)=0,\"\",VLOOKUP(A812,Klassifizierung!$E$4:$W$577,18,FALSE))","v":"ARC"},"CAFM","Modell",null,null,"x"]
["344.20",null,"Notausgangsverschluss",null,null,"IfcBoolean"," -","ja|nein",{"$f":"IF(VLOOKUP(A813,Klassifizierung!$E$4:$W$577,18,FALSE)=0,\"\",VLOOKUP(A813,Klassifizierung!$E$4:$W$577,18,FALSE))","v":"ARC"},"CAFM","Modell",null,null,"x"]
["344.20",null,"Feuerwiderstandsklasse",null,null,"IfcText"," -","T 30-1|T 30-2|T 90-1|T 90-2",{"$f":"IF(VLOOKUP(A814,Klassifizierung!$E$4:$W$577,18,FALSE)=0,\"\",VLOOKUP(A814,Klassifizierung!$E$4:$W$577,18,FALSE))","v":"ARC"},"CAFM","Modell",null,null,"x"]
["344.20",null,"Schutzanforderung",null,null,"IfcText"," -","ohne besondere Schutzanforderung|Brandschutztor|Rauchschutztor|Brand-Rauchschutztor",{"$f":"IF(VLOOKUP(A815,Klassifizierung!$E$4:$W$577,18,FALSE)=0,\"\",VLOOKUP(A815,Klassifizierung!$E$4:$W$577,18,FALSE))","v":"ARC"},"CAFM","Modell",null,null,"x"]
["344.20",null,"Zugang",null,null,"IfcText"," -","öffenbar / nicht öffenbar",{"$f":"IF(VLOOKUP(A816,Klassifizierung!$E$4:$W$577,18,FALSE)=0,\"\",VLOOKUP(A816,Klassifizierung!$E$4:$W$577,18,FALSE))","v":"ARC"},"CAFM","Modell",null,null,"x"]
["344.20",null,"RWA-Zugehörigkeit",null,null,"IfcBoolean"," -","ja|nein",{"$f":"IF(VLOOKUP(A817,Klassifizierung!$E$4:$W$577,18,FALSE)=0,\"\",VLOOKUP(A817,Klassifizierung!$E$4:$W$577,18,FALSE))","v":"ARC"},"CAFM","Modell",null,null,"x"]
["344.20",null,"Fluchttor",null,null,"IfcBoolean"," -","ja|nein",{"$f":"IF(VLOOKUP(A818,Klassifizierung!$E$4:$W$577,18,FALSE)=0,\"\",VLOOKUP(A818,Klassifizierung!$E$4:$W$577,18,FALSE))","v":"ARC"},"CAFM","Modell",null,null,"x"]
["344.20",null,"Material",null,null,"IfcText"," -","Kunststoff|Holz|Aluminium|Sonstiges",{"$f":"IF(VLOOKUP(A819,Klassifizierung!$E$4:$W$577,18,FALSE)=0,\"\",VLOOKUP(A819,Klassifizierung!$E$4:$W$577,18,FALSE))","v":"ARC"},"CAFM","Modell",null,null,"x"]
["344.20",null,"Glasfläche",null,null,"IfcReal","m2","Zahl",{"$f":"IF(VLOOKUP(A820,Klassifizierung!$E$4:$W$577,18,FALSE)=0,\"\",VLOOKUP(A820,Klassifizierung!$E$4:$W$577,18,FALSE))","v":"ARC"},"CAFM","Modell",null,null,"x"]
["344.20",null,"Hersteller Antrieb",null,null,"IfcText"," -","Freitext",{"$f":"IF(VLOOKUP(A821,Klassifizierung!$E$4:$W$577,18,FALSE)=0,\"\",VLOOKUP(A821,Klassifizierung!$E$4:$W$577,18,FALSE))","v":"ARC"},"CAFM","Modell",null,null,null,"x"]
["344.20",null,"Breite",null,null,"IfcReal","m","Zahl",{"$f":"IF(VLOOKUP(A822,Klassifizierung!$E$4:$W$577,18,FALSE)=0,\"\",VLOOKUP(A822,Klassifizierung!$E$4:$W$577,18,FALSE))","v":"ARC"},"CAFM","Modell",null,null,"x"]
["344.20",null,"Höhe",null,null,"IfcReal","m","Zahl",{"$f":"IF(VLOOKUP(A823,Klassifizierung!$E$4:$W$577,18,FALSE)=0,\"\",VLOOKUP(A823,Klassifizierung!$E$4:$W$577,18,FALSE))","v":"ARC"},"CAFM","Modell",null,null,"x"]
["344.30",null,"Bauart",null,null,"IfcText"," -","Freitext",{"$f":"IF(VLOOKUP(A824,Klassifizierung!$E$4:$W$577,18,FALSE)=0,\"\",VLOOKUP(A824,Klassifizierung!$E$4:$W$577,18,FALSE))","v":"ARC"},"CAFM","Modell",null,null,"x"]
["344.30",null,"Anzahl Antriebe",null,null,"IfcReal","Stück","Zahl",{"$f":"IF(VLOOKUP(A825,Klassifizierung!$E$4:$W$577,18,FALSE)=0,\"\",VLOOKUP(A825,Klassifizierung!$E$4:$W$577,18,FALSE))","v":"ARC"},"CAFM","Modell",null,null,"x"]
["344.30",null,"Antrieb",null,null,"IfcText"," -","elektrisch / mechanisch",{"$f":"IF(VLOOKUP(A826,Klassifizierung!$E$4:$W$577,18,FALSE)=0,\"\",VLOOKUP(A826,Klassifizierung!$E$4:$W$577,18,FALSE))","v":"ARC"},"CAFM","Modell",null,null,"x"]
["344.30",null,"Steuerung",null,null,"IfcText"," -","zentral / dezentral",{"$f":"IF(VLOOKUP(A827,Klassifizierung!$E$4:$W$577,18,FALSE)=0,\"\",VLOOKUP(A827,Klassifizierung!$E$4:$W$577,18,FALSE))","v":"ARC"},"CAFM","Modell",null,null,"x"]
["344.30",null,"Anzahl Flügel",null,null,"IfcText"," -","einflügelig / 2-flügelig / mehrflüglig",{"$f":"IF(VLOOKUP(A828,Klassifizierung!$E$4:$W$577,18,FALSE)=0,\"\",VLOOKUP(A828,Klassifizierung!$E$4:$W$577,18,FALSE))","v":"ARC"},"CAFM","Modell",null,null,"x"]
["344.30",null,"Feststellanlage",null,null,"IfcText"," -","nein|manuell|elektrisch",{"$f":"IF(VLOOKUP(A829,Klassifizierung!$E$4:$W$577,18,FALSE)=0,\"\",VLOOKUP(A829,Klassifizierung!$E$4:$W$577,18,FALSE))","v":"ARC"},"CAFM","Modell",null,null,"x"]
["344.30",null,"Öffnungsart",null,null,"IfcText"," -","vertikal|horizontal",{"$f":"IF(VLOOKUP(A830,Klassifizierung!$E$4:$W$577,18,FALSE)=0,\"\",VLOOKUP(A830,Klassifizierung!$E$4:$W$577,18,FALSE))","v":"ARC"},"CAFM","Modell",null,null,"x"]
["344.30",null,"Feuerwiderstandsklasse",null,null,"IfcText"," -","T 30-1|T 30-2|T 90-1|T 90-2",{"$f":"IF(VLOOKUP(A831,Klassifizierung!$E$4:$W$577,18,FALSE)=0,\"\",VLOOKUP(A831,Klassifizierung!$E$4:$W$577,18,FALSE))","v":"ARC"},"CAFM","Modell",null,null,"x"]
["344.30",null,"Schutzanforderung",null,null,"IfcText"," -","ohne besondere Schutzanforderung|Brandschutzfenster|Rauchschutzfenster|Schallschutzfenster|Brand-Rauchschutzfenster",{"$f":"IF(VLOOKUP(A832,Klassifizierung!$E$4:$W$577,18,FALSE)=0,\"\",VLOOKUP(A832,Klassifizierung!$E$4:$W$577,18,FALSE))","v":"ARC"},"CAFM","Modell",null,null,"x"]
["344.30",null,"Zugang",null,null,"IfcText"," -","öffenbar / nicht öffenbar",{"$f":"IF(VLOOKUP(A833,Klassifizierung!$E$4:$W$577,18,FALSE)=0,\"\",VLOOKUP(A833,Klassifizierung!$E$4:$W$577,18,FALSE))","v":"ARC"},"CAFM","Modell",null,null,"x"]
["344.30",null,"Schließrichtung",null,null,"IfcText"," -","innen / aussen",{"$f":"IF(VLOOKUP(A834,Klassifizierung!$E$4:$W$577,18,FALSE)=0,\"\",VLOOKUP(A834,Klassifizierung!$E$4:$W$577,18,FALSE))","v":"ARC"},"CAFM","Modell",null,null,"x"]
["344.30",null,"RWA-Zugehörigkeit",null,null,"IfcBoolean"," -","ja|nein",{"$f":"IF(VLOOKUP(A835,Klassifizierung!$E$4:$W$577,18,FALSE)=0,\"\",VLOOKUP(A835,Klassifizierung!$E$4:$W$577,18,FALSE))","v":"ARC"},"CAFM","Modell",null,null,"x"]
["344.30",null,"Material",null,null,"IfcText"," -","Kunststoff|Holz|Aluminium|Sonstiges",{"$f":"IF(VLOOKUP(A836,Klassifizierung!$E$4:$W$577,18,FALSE)=0,\"\",VLOOKUP(A836,Klassifizierung!$E$4:$W$577,18,FALSE))","v":"ARC"},"CAFM","Modell",null,null,"x"]
["344.30",null,"Glasfläche",null,null,"IfcReal","m2","Zahl",{"$f":"IF(VLOOKUP(A837,Klassifizierung!$E$4:$W$577,18,FALSE)=0,\"\",VLOOKUP(A837,Klassifizierung!$E$4:$W$577,18,FALSE))","v":"ARC"},"CAFM","Modell",null,null,"x"]
["344.30",null,"Hersteller Antrieb",null,null,"IfcText"," -","Freitext",{"$f":"IF(VLOOKUP(A838,Klassifizierung!$E$4:$W$577,18,FALSE)=0,\"\",VLOOKUP(A838,Klassifizierung!$E$4:$W$577,18,FALSE))","v":"ARC"},"CAFM","Modell",null,null,null,"x"]
["344.30",null,"Breite",null,null,"IfcReal","m","Zahl",{"$f":"IF(VLOOKUP(A839,Klassifizierung!$E$4:$W$577,18,FALSE)=0,\"\",VLOOKUP(A839,Klassifizierung!$E$4:$W$577,18,FALSE))","v":"ARC"},"CAFM","Modell",null,null,"x"]
["344.30",null,"Höhe",null,null,"IfcReal","m","Zahl",{"$f":"IF(VLOOKUP(A840,Klassifizierung!$E$4:$W$577,18,FALSE)=0,\"\",VLOOKUP(A840,Klassifizierung!$E$4:$W$577,18,FALSE))","v":"ARC"},"CAFM","Modell",null,null,"x"]
["345",null,"Bauart",null,null,"IfcText"," -","Schiebewand|Faltwand|Trennvorhang|Sonstiges",{"$f":"IF(VLOOKUP(A841,Klassifizierung!$E$4:$W$577,18,FALSE)=0,\"\",VLOOKUP(A841,Klassifizierung!$E$4:$W$577,18,FALSE))","v":"ARC"},"CAFM","Modell",null,null,"x"]
["345",null,"Material",null,null,"IfcText"," -","Glas|Holz|Verbundstoff|Sonstiges",{"$f":"IF(VLOOKUP(A842,Klassifizierung!$E$4:$W$577,18,FALSE)=0,\"\",VLOOKUP(A842,Klassifizierung!$E$4:$W$577,18,FALSE))","v":"ARC"},"CAFM","Modell",null,null,"x"]
["345",null,"Oberfläche",null,null,"IfcText"," -","glatt / strukturiert",{"$f":"IF(VLOOKUP(A843,Klassifizierung!$E$4:$W$577,18,FALSE)=0,\"\",VLOOKUP(A843,Klassifizierung!$E$4:$W$577,18,FALSE))","v":"ARC"},"CAFM","Modell",null,null,"x"]
["346",null,"Bauart",null,null,"IfcText"," -","Schiebewand|Faltwand|Trennvorhang|Sonstiges",{"$f":"IF(VLOOKUP(A844,Klassifizierung!$E$4:$W$577,18,FALSE)=0,\"\",VLOOKUP(A844,Klassifizierung!$E$4:$W$577,18,FALSE))","v":"ARC"},"CAFM","Modell",null,null,"x"]
["346",null,"Material",null,null,"IfcText"," -","Glas|Holz|Verbundstoff|Sonstiges",{"$f":"IF(VLOOKUP(A845,Klassifizierung!$E$4:$W$577,18,FALSE)=0,\"\",VLOOKUP(A845,Klassifizierung!$E$4:$W$577,18,FALSE))","v":"ARC"},"CAFM","Modell",null,null,"x"]
["346",null,"Oberfläche",null,null,"IfcText"," -","glatt / strukturiert",{"$f":"IF(VLOOKUP(A846,Klassifizierung!$E$4:$W$577,18,FALSE)=0,\"\",VLOOKUP(A846,Klassifizierung!$E$4:$W$577,18,FALSE))","v":"ARC"},"CAFM","Modell",null,null,"x"]
["349",null,"Bauart",null,null,"IfcText"," -","Gitter|Stoßabweiser|Handlauf|Berührungsschutz",{"$f":"IF(VLOOKUP(A847,Klassifizierung!$E$4:$W$577,18,FALSE)=0,\"\",VLOOKUP(A847,Klassifizierung!$E$4:$W$577,18,FALSE))","v":"ARC"},"CAFM","Modell",null,null,"x"]
["351",null,"Bauart",null,null,"IfcText"," -","Freitext",{"$f":"IF(VLOOKUP(A848,Klassifizierung!$E$4:$W$577,18,FALSE)=0,\"\",VLOOKUP(A848,Klassifizierung!$E$4:$W$577,18,FALSE))","v":"TWP"},"CAFM","Modell",null,null,"x"]
["361",null,"Bauart",null,null,"IfcText"," -","Freitext",{"$f":"IF(VLOOKUP(A849,Klassifizierung!$E$4:$W$577,18,FALSE)=0,\"\",VLOOKUP(A849,Klassifizierung!$E$4:$W$577,18,FALSE))","v":"ARC"},"CAFM","Modell",null,null,"x"]
["362",null,"Bauart",null,null,"IfcText"," -","Freitext",{"$f":"IF(VLOOKUP(A850,Klassifizierung!$E$4:$W$577,18,FALSE)=0,\"\",VLOOKUP(A850,Klassifizierung!$E$4:$W$577,18,FALSE))","v":"ARC"},"CAFM","Modell",null,null,"x"]
["362",null,"Anzahl Antriebe",null,null,"IfcReal","Stück","Zahl",{"$f":"IF(VLOOKUP(A851,Klassifizierung!$E$4:$W$577,18,FALSE)=0,\"\",VLOOKUP(A851,Klassifizierung!$E$4:$W$577,18,FALSE))","v":"ARC"},"CAFM","Modell",null,null,"x"]
["362",null,"Antrieb ",null,null,"IfcText"," -","elektrisch / mechanisch",{"$f":"IF(VLOOKUP(A852,Klassifizierung!$E$4:$W$577,18,FALSE)=0,\"\",VLOOKUP(A852,Klassifizierung!$E$4:$W$577,18,FALSE))","v":"ARC"},"CAFM","Modell",null,null,"x"]
["362",null,"Steuerung",null,null,"IfcText"," -","zentral / dezentral",{"$f":"IF(VLOOKUP(A853,Klassifizierung!$E$4:$W$577,18,FALSE)=0,\"\",VLOOKUP(A853,Klassifizierung!$E$4:$W$577,18,FALSE))","v":"ARC"},"CAFM","Modell",null,null,"x"]
["362",null,"Anzahl Flügel",null,null,"IfcText"," -","einflügelig / 2-flügelig / mehrflüglig",{"$f":"IF(VLOOKUP(A854,Klassifizierung!$E$4:$W$577,18,FALSE)=0,\"\",VLOOKUP(A854,Klassifizierung!$E$4:$W$577,18,FALSE))","v":"ARC"},"CAFM","Modell",null,null,"x"]
["362",null,"Feuerwiderstandsklasse",null,null,"IfcText"," -","T 30-1|T 30-2|T 90-1|T 90-2",{"$f":"IF(VLOOKUP(A855,Klassifizierung!$E$4:$W$577,18,FALSE)=0,\"\",VLOOKUP(A855,Klassifizierung!$E$4:$W$577,18,FALSE))","v":"ARC"},"CAFM","Modell",null,null,"x"]
["362",null,"Schutzanforderung",null,null,"IfcText"," -","ohne besondere Schutzanforderung|Brandschutzfenster|Rauchschutzfenster|Schallschutzfenster|Brand-Rauchschutzfenster",{"$f":"IF(VLOOKUP(A856,Klassifizierung!$E$4:$W$577,18,FALSE)=0,\"\",VLOOKUP(A856,Klassifizierung!$E$4:$W$577,18,FALSE))","v":"ARC"},"CAFM","Modell",null,null,"x"]
["362",null,"Zugang",null,null,"IfcText"," -","öffenbar / nicht öffenbar",{"$f":"IF(VLOOKUP(A857,Klassifizierung!$E$4:$W$577,18,FALSE)=0,\"\",VLOOKUP(A857,Klassifizierung!$E$4:$W$577,18,FALSE))","v":"ARC"},"CAFM","Modell",null,null,"x"]
["362",null,"RWA-Zugehörigkeit",null,null,"IfcBoolean"," -","ja|nein",{"$f":"IF(VLOOKUP(A858,Klassifizierung!$E$4:$W$577,18,FALSE)=0,\"\",VLOOKUP(A858,Klassifizierung!$E$4:$W$577,18,FALSE))","v":"ARC"},"CAFM","Modell",null,null,"x"]
["362",null,"Material",null,null,"IfcText"," -","Einglas / Doppelverglaseung / Mehrglas / CCV",{"$f":"IF(VLOOKUP(A859,Klassifizierung!$E$4:$W$577,18,FALSE)=0,\"\",VLOOKUP(A859,Klassifizierung!$E$4:$W$577,18,FALSE))","v":"ARC"},"CAFM","Modell",null,null,"x"]
["362",null,"Glasfläche",null,null,"IfcReal","m2","Zahl",{"$f":"IF(VLOOKUP(A860,Klassifizierung!$E$4:$W$577,18,FALSE)=0,\"\",VLOOKUP(A860,Klassifizierung!$E$4:$W$577,18,FALSE))","v":"ARC"},"CAFM","Modell",null,null,"x"]
["362",null,"Hersteller Antrieb",null,null,"IfcText"," -","Freitext",{"$f":"IF(VLOOKUP(A861,Klassifizierung!$E$4:$W$577,18,FALSE)=0,\"\",VLOOKUP(A861,Klassifizierung!$E$4:$W$577,18,FALSE))","v":"ARC"},"CAFM","Modell",null,null,null,"x"]
["362",null,"Breite",null,null,"IfcReal","m","Zahl",{"$f":"IF(VLOOKUP(A862,Klassifizierung!$E$4:$W$577,18,FALSE)=0,\"\",VLOOKUP(A862,Klassifizierung!$E$4:$W$577,18,FALSE))","v":"ARC"},"CAFM","Modell",null,null,"x"]
["362",null,"Höhe",null,null,"IfcReal","m","Zahl",{"$f":"IF(VLOOKUP(A863,Klassifizierung!$E$4:$W$577,18,FALSE)=0,\"\",VLOOKUP(A863,Klassifizierung!$E$4:$W$577,18,FALSE))","v":"ARC"},"CAFM","Modell",null,null,"x"]
["362",null,"Bauart",null,null,"IfcText"," -","Freitext",{"$f":"IF(VLOOKUP(A864,Klassifizierung!$E$4:$W$577,18,FALSE)=0,\"\",VLOOKUP(A864,Klassifizierung!$E$4:$W$577,18,FALSE))","v":"ARC"},"CAFM","Modell",null,null,"x"]
["369.10",null,"Bauart",null,null,"IfcText"," -","Freitext",{"$f":"IF(VLOOKUP(A865,Klassifizierung!$E$4:$W$577,18,FALSE)=0,\"\",VLOOKUP(A865,Klassifizierung!$E$4:$W$577,18,FALSE))","v":"ARC"},"CAFM","Modell",null,null,"x"]
["369.10",null,"Anzahl Elemente",null,null,"IfcReal","Stück","Zahl",{"$f":"IF(VLOOKUP(A866,Klassifizierung!$E$4:$W$577,18,FALSE)=0,\"\",VLOOKUP(A866,Klassifizierung!$E$4:$W$577,18,FALSE))","v":"ARC"},"CAFM","Modell",null,null,"x"]
["369.20",null,"Bauart",null,null,"IfcText"," -","Freitext",{"$f":"IF(VLOOKUP(A867,Klassifizierung!$E$4:$W$577,18,FALSE)=0,\"\",VLOOKUP(A867,Klassifizierung!$E$4:$W$577,18,FALSE))","v":"ARC"},"CAFM","Modell",null,null,"x"]
["369.20",null,"Anzahl Elemente",null,null,"IfcReal","Stück","Zahl",{"$f":"IF(VLOOKUP(A868,Klassifizierung!$E$4:$W$577,18,FALSE)=0,\"\",VLOOKUP(A868,Klassifizierung!$E$4:$W$577,18,FALSE))","v":"ARC"},"CAFM","Modell",null,null,"x"]
["391.10",null,"Bauart",null,null,"IfcText"," -","Freitext",{"$f":"IF(VLOOKUP(A869,Klassifizierung!$E$4:$W$577,18,FALSE)=0,\"\",VLOOKUP(A869,Klassifizierung!$E$4:$W$577,18,FALSE))","v":"ARC"},"CAFM","Modell",null,null,"x"]
["391.10",null,"Zugang",null,null,"IfcText"," -","fix / öffenbar",{"$f":"IF(VLOOKUP(A870,Klassifizierung!$E$4:$W$577,18,FALSE)=0,\"\",VLOOKUP(A870,Klassifizierung!$E$4:$W$577,18,FALSE))","v":"ARC"},"CAFM","Modell",null,null,"x"]
["391.10",null,"Feuerwiderstandsklasse",null,null,"IfcText"," -","F30|F60|F90|F120|F180",{"$f":"IF(VLOOKUP(A871,Klassifizierung!$E$4:$W$577,18,FALSE)=0,\"\",VLOOKUP(A871,Klassifizierung!$E$4:$W$577,18,FALSE))","v":"ARC"},"CAFM","Modell",null,null,"x"]
["411.10",null,"Nennweite DN",null,null,"IfcText"," -","mit Rückstauverschluss|ohne Rückstauverschluss",{"$f":"IF(VLOOKUP(A872,Klassifizierung!$E$4:$W$577,18,FALSE)=0,\"\",VLOOKUP(A872,Klassifizierung!$E$4:$W$577,18,FALSE))","v":"TGA-SA"},"CAFM","Modell",null,null,"x"]
["411.10",null,"Begleitheizung",null,null,"IfcBoolean"," -","ja|nein",{"$f":"IF(VLOOKUP(A873,Klassifizierung!$E$4:$W$577,18,FALSE)=0,\"\",VLOOKUP(A873,Klassifizierung!$E$4:$W$577,18,FALSE))","v":"TGA-SA"},"CAFM","Modell",null,null,"x"]
["411.10",null,"Brandschutzgeeignet",null,null,"IfcBoolean"," -","ja|nein",{"$f":"IF(VLOOKUP(A874,Klassifizierung!$E$4:$W$577,18,FALSE)=0,\"\",VLOOKUP(A874,Klassifizierung!$E$4:$W$577,18,FALSE))","v":"TGA-SA"},"CAFM","Modell",null,null,"x"]
["411.20",null,"Bauart",null,null,"IfcText"," -","Freitext",{"$f":"IF(VLOOKUP(A875,Klassifizierung!$E$4:$W$577,18,FALSE)=0,\"\",VLOOKUP(A875,Klassifizierung!$E$4:$W$577,18,FALSE))","v":"TGA-SA"},"CAFM","Modell",null,null,"x"]
["411.20",null,"Anzahl Abläufe",null,null,"IfcReal","Stück","Zahl",{"$f":"IF(VLOOKUP(A876,Klassifizierung!$E$4:$W$577,18,FALSE)=0,\"\",VLOOKUP(A876,Klassifizierung!$E$4:$W$577,18,FALSE))","v":"TGA-SA"},"CAFM","Modell",null,null,"x"]
["411.20",null,"Rosttyp",null,null,"IfcText"," -","Freitext",{"$f":"IF(VLOOKUP(A877,Klassifizierung!$E$4:$W$577,18,FALSE)=0,\"\",VLOOKUP(A877,Klassifizierung!$E$4:$W$577,18,FALSE))","v":"TGA-SA"},"CAFM","Modell",null,null,"x"]
["411.30",null,"Bauart",null,null,"IfcText"," -","Freitext",{"$f":"IF(VLOOKUP(A878,Klassifizierung!$E$4:$W$577,18,FALSE)=0,\"\",VLOOKUP(A878,Klassifizierung!$E$4:$W$577,18,FALSE))","v":"TGA-SA"},"CAFM","Modell",null,null,"x"]
["411.30",null,"Nennweite DN",null,null,"IfcReal","DN","Zahl",{"$f":"IF(VLOOKUP(A879,Klassifizierung!$E$4:$W$577,18,FALSE)=0,\"\",VLOOKUP(A879,Klassifizierung!$E$4:$W$577,18,FALSE))","v":"TGA-SA"},"CAFM","Modell",null,null,"x"]
["411.40",null,"Bauart",null,null,"IfcText","-","Einpumpenanlage|Doppelpumpenanlage (parallel)|Mehrpumpenanlage (parallel)",{"$f":"IF(VLOOKUP(A880,Klassifizierung!$E$4:$W$577,18,FALSE)=0,\"\",VLOOKUP(A880,Klassifizierung!$E$4:$W$577,18,FALSE))","v":"TGA-SA"},"CAFM","Modell",null,null,"x"]
["411.40",null,"elektrische Leistung",null,null,"IfcReal","W","Zahl",{"$f":"IF(VLOOKUP(A881,Klassifizierung!$E$4:$W$577,18,FALSE)=0,\"\",VLOOKUP(A881,Klassifizierung!$E$4:$W$577,18,FALSE))","v":"TGA-SA"},"CAFM","Modell",null,null,"x"]
["411.40",null,"Sekundärleistung ",null,null,"IfcReal","W","Zahl",{"$f":"IF(VLOOKUP(A882,Klassifizierung!$E$4:$W$577,18,FALSE)=0,\"\",VLOOKUP(A882,Klassifizierung!$E$4:$W$577,18,FALSE))","v":"TGA-SA"},"CAFM","Modell",null,null,"x"]
["411.40",null,"Primärmedium",null,null,"IfcText"," -","Luft / Wasser",{"$f":"IF(VLOOKUP(A883,Klassifizierung!$E$4:$W$577,18,FALSE)=0,\"\",VLOOKUP(A883,Klassifizierung!$E$4:$W$577,18,FALSE))","v":"TGA-SA"},"CAFM","Modell",null,null,"x"]
["411.40",null,"Anzahl Pumpen",null,null,"IfcReal","Stück","Zahl",{"$f":"IF(VLOOKUP(A884,Klassifizierung!$E$4:$W$577,18,FALSE)=0,\"\",VLOOKUP(A884,Klassifizierung!$E$4:$W$577,18,FALSE))","v":"TGA-SA"},"CAFM","Modell",null,null,"x"]
["411.40",null,"Förderhöhe",null,null,"IfcReal","m","Zahl",{"$f":"IF(VLOOKUP(A885,Klassifizierung!$E$4:$W$577,18,FALSE)=0,\"\",VLOOKUP(A885,Klassifizierung!$E$4:$W$577,18,FALSE))","v":"TGA-SA"},"CAFM","Modell",null,null,"x"]
["411.40",null,"Mögliche Betriebsarten",null,null,"IfcText"," -","einfach / bivalent",{"$f":"IF(VLOOKUP(A886,Klassifizierung!$E$4:$W$577,18,FALSE)=0,\"\",VLOOKUP(A886,Klassifizierung!$E$4:$W$577,18,FALSE))","v":"TGA-SA"},"CAFM","Modell",null,null,"x"]
["411.40",null,"Fäkalienhaltig",null,null,"IfcBoolean"," -","ja|nein",{"$f":"IF(VLOOKUP(A887,Klassifizierung!$E$4:$W$577,18,FALSE)=0,\"\",VLOOKUP(A887,Klassifizierung!$E$4:$W$577,18,FALSE))","v":"TGA-SA"},"CAFM","Modell",null,null,"x"]
["411.60",null,"Bauart",null,null,"IfcText"," -","Erdeinbau|Freiaufstellung",{"$f":"IF(VLOOKUP(A888,Klassifizierung!$E$4:$W$577,18,FALSE)=0,\"\",VLOOKUP(A888,Klassifizierung!$E$4:$W$577,18,FALSE))","v":"TGA-SA"},"CAFM","Modell",null,null,"x"]
["411.60",null,"Abscheidertyp",null,null,"IfcText"," -","Fettabscheider|Stärkeabscheider|Leichtflüssigkeitsabscheider|Schlammfang|Sonstiges",{"$f":"IF(VLOOKUP(A889,Klassifizierung!$E$4:$W$577,18,FALSE)=0,\"\",VLOOKUP(A889,Klassifizierung!$E$4:$W$577,18,FALSE))","v":"TGA-SA"},"CAFM","Modell",null,null,"x"]
["411.60",null,"Nenngröße NG",null,null,"IfcReal","NG","Zahl",{"$f":"IF(VLOOKUP(A890,Klassifizierung!$E$4:$W$577,18,FALSE)=0,\"\",VLOOKUP(A890,Klassifizierung!$E$4:$W$577,18,FALSE))","v":"TGA-SA"},"CAFM","Modell",null,null,"x"]
["411.60",null,"Nenninhalt",null,null,"IfcReal","l","Zahl",{"$f":"IF(VLOOKUP(A891,Klassifizierung!$E$4:$W$577,18,FALSE)=0,\"\",VLOOKUP(A891,Klassifizierung!$E$4:$W$577,18,FALSE))","v":"TGA-SA"},"CAFM","Modell",null,null,"x"]
["411.60",null,"Schichtdicke",null,null,"IfcReal","mm","Zahl",{"$f":"IF(VLOOKUP(A892,Klassifizierung!$E$4:$W$577,18,FALSE)=0,\"\",VLOOKUP(A892,Klassifizierung!$E$4:$W$577,18,FALSE))","v":"TGA-SA"},"CAFM","Modell",null,null,"x"]
["411.60",null,"Nennvolumenstrom",null,null,"IfcReal","m3/h","Zahl",{"$f":"IF(VLOOKUP(A893,Klassifizierung!$E$4:$W$577,18,FALSE)=0,\"\",VLOOKUP(A893,Klassifizierung!$E$4:$W$577,18,FALSE))","v":"TGA-SA"},"CAFM","Modell",null,null,"x"]
["411.70",null,"Bauart",null,null,"IfcText"," -","Erdeinbau|Freiaufstellung",{"$f":"IF(VLOOKUP(A894,Klassifizierung!$E$4:$W$577,18,FALSE)=0,\"\",VLOOKUP(A894,Klassifizierung!$E$4:$W$577,18,FALSE))","v":"TGA-SA"},"CAFM","Modell",null,null,"x"]
["411.70",null,"Nennleistung",null,null,"IfcReal","m3/h","Zahl",{"$f":"IF(VLOOKUP(A895,Klassifizierung!$E$4:$W$577,18,FALSE)=0,\"\",VLOOKUP(A895,Klassifizierung!$E$4:$W$577,18,FALSE))","v":"TGA-SA"},"CAFM","Modell",null,null,"x"]
["411.70",null,"Neutralisierungsmedium",null,null,"IfcText"," -","Freitext",{"$f":"IF(VLOOKUP(A896,Klassifizierung!$E$4:$W$577,18,FALSE)=0,\"\",VLOOKUP(A896,Klassifizierung!$E$4:$W$577,18,FALSE))","v":"TGA-SA"},"CAFM","Modell",null,null,"x"]
["411.80",null,"Bauart",null,null,"IfcText"," -","Erdeinbau|Freiaufstellung",{"$f":"IF(VLOOKUP(A897,Klassifizierung!$E$4:$W$577,18,FALSE)=0,\"\",VLOOKUP(A897,Klassifizierung!$E$4:$W$577,18,FALSE))","v":"TGA-SA"},"CAFM","Modell",null,null,"x"]
["411.80",null,"Durchmesser",null,null,"IfcReal","m","Zahl",{"$f":"IF(VLOOKUP(A898,Klassifizierung!$E$4:$W$577,18,FALSE)=0,\"\",VLOOKUP(A898,Klassifizierung!$E$4:$W$577,18,FALSE))","v":"TGA-SA"},"CAFM","Modell",null,null,"x"]
["411.80",null,"Volumen",null,null,"IfcReal","m3","Zahl",{"$f":"IF(VLOOKUP(A899,Klassifizierung!$E$4:$W$577,18,FALSE)=0,\"\",VLOOKUP(A899,Klassifizierung!$E$4:$W$577,18,FALSE))","v":"TGA-SA"},"CAFM","Modell",null,null,"x"]
["412.10",null,"Beschreibung",null,null,"IfcText"," -","Freitext",{"$f":"IF(VLOOKUP(A900,Klassifizierung!$E$4:$W$577,18,FALSE)=0,\"\",VLOOKUP(A900,Klassifizierung!$E$4:$W$577,18,FALSE))","v":"TGA-SA"},"CAFM","Modell",null,null,"x"]
["412.10",null,"Nennleistung",null,null,"IfcReal","kW","Zahl",{"$f":"IF(VLOOKUP(A901,Klassifizierung!$E$4:$W$577,18,FALSE)=0,\"\",VLOOKUP(A901,Klassifizierung!$E$4:$W$577,18,FALSE))","v":"TGA-SA"},"CAFM","Modell",null,null,"x"]
["412.10",null,"Nennspannung",null,null,"IfcReal","kV","Zahl",{"$f":"IF(VLOOKUP(A902,Klassifizierung!$E$4:$W$577,18,FALSE)=0,\"\",VLOOKUP(A902,Klassifizierung!$E$4:$W$577,18,FALSE))","v":"TGA-SA"},"CAFM","Modell",null,null,"x"]
["412.11",null,"Nennweite DN",null,null,"IfcReal","DN","Zahl",{"$f":"IF(VLOOKUP(A903,Klassifizierung!$E$4:$W$577,18,FALSE)=0,\"\",VLOOKUP(A903,Klassifizierung!$E$4:$W$577,18,FALSE))","v":"TGA-SA"},"CAFM","Modell",null,null,"x"]
["412.11",null,"Begleitheizung",null,null,"IfcBoolean"," -","ja|nein",{"$f":"IF(VLOOKUP(A904,Klassifizierung!$E$4:$W$577,18,FALSE)=0,\"\",VLOOKUP(A904,Klassifizierung!$E$4:$W$577,18,FALSE))","v":"TGA-SA"},"CAFM","Modell",null,null,"x"]
["412.11",null,"Brandschutzgeeignet",null,null,"IfcBoolean"," -","ja|nein",{"$f":"IF(VLOOKUP(A905,Klassifizierung!$E$4:$W$577,18,FALSE)=0,\"\",VLOOKUP(A905,Klassifizierung!$E$4:$W$577,18,FALSE))","v":"TGA-SA"},"CAFM","Modell",null,null,"x"]
["412.12",null,"Armaturentypen",null,null,"IfcText"," -","Absperrarmatur|Regelarmatur|Entnahmearmatur|Sicherheitsarmatur|Sicherungs- und Ringleitungsarmatur|Sonstiges",{"$f":"IF(VLOOKUP(A906,Klassifizierung!$E$4:$W$577,18,FALSE)=0,\"\",VLOOKUP(A906,Klassifizierung!$E$4:$W$577,18,FALSE))","v":"TGA-SA"},"CAFM","Modell",null,null,"x"]
["412.13",null,"Bauart",null,null,"IfcText"," -","Trinkwasser|Löschwasser",{"$f":"IF(VLOOKUP(A907,Klassifizierung!$E$4:$W$577,18,FALSE)=0,\"\",VLOOKUP(A907,Klassifizierung!$E$4:$W$577,18,FALSE))","v":"TGA-SA"},"CAFM","Modell",null,null,"x"]
["412.13",null,"Anzahl Pumpen",null,null,"IfcReal","Stück","Zahl",{"$f":"IF(VLOOKUP(A908,Klassifizierung!$E$4:$W$577,18,FALSE)=0,\"\",VLOOKUP(A908,Klassifizierung!$E$4:$W$577,18,FALSE))","v":"TGA-SA"},"CAFM","Modell",null,null,"x"]
["412.13",null,"Fördermenge",null,null,"IfcReal","m3/h","Zahl",{"$f":"IF(VLOOKUP(A909,Klassifizierung!$E$4:$W$577,18,FALSE)=0,\"\",VLOOKUP(A909,Klassifizierung!$E$4:$W$577,18,FALSE))","v":"TGA-SA"},"CAFM","Modell",null,null,"x"]
["412.13",null,"Nenndruck",null,null,"IfcReal","bar","Zahl",{"$f":"IF(VLOOKUP(A910,Klassifizierung!$E$4:$W$577,18,FALSE)=0,\"\",VLOOKUP(A910,Klassifizierung!$E$4:$W$577,18,FALSE))","v":"TGA-SA"},"CAFM","Modell",null,null,"x"]
["412.13",null,"Nennleistung",null,null,"IfcReal","W","Zahl",{"$f":"IF(VLOOKUP(A911,Klassifizierung!$E$4:$W$577,18,FALSE)=0,\"\",VLOOKUP(A911,Klassifizierung!$E$4:$W$577,18,FALSE))","v":"TGA-SA"},"CAFM","Modell",null,null,"x"]
["412.13",null,"Vorgeschaltetes Membranausdehnungsgefäß",null,null,"IfcBoolean"," -","ja|nein",{"$f":"IF(VLOOKUP(A912,Klassifizierung!$E$4:$W$577,18,FALSE)=0,\"\",VLOOKUP(A912,Klassifizierung!$E$4:$W$577,18,FALSE))","v":"TGA-SA"},"CAFM","Modell",null,null,"x"]
["412.14",null,"Bauart",null,null,"IfcText"," -","Einpumpenanlage|Doppelpumpenanlage (parallel)|Mehrpumpenanlage (parallel)",{"$f":"IF(VLOOKUP(A913,Klassifizierung!$E$4:$W$577,18,FALSE)=0,\"\",VLOOKUP(A913,Klassifizierung!$E$4:$W$577,18,FALSE))","v":"TGA-SA"},"CAFM","Modell",null,null,"x"]
["412.14",null,"elektrische Leistung",null,null,"IfcReal","kW","Zahl",{"$f":"IF(VLOOKUP(A914,Klassifizierung!$E$4:$W$577,18,FALSE)=0,\"\",VLOOKUP(A914,Klassifizierung!$E$4:$W$577,18,FALSE))","v":"TGA-SA"},"CAFM","Modell",null,null,"x"]
["412.14",null,"Sekundärleistung",null,null,"IfcReal","kW","Zahl",{"$f":"IF(VLOOKUP(A915,Klassifizierung!$E$4:$W$577,18,FALSE)=0,\"\",VLOOKUP(A915,Klassifizierung!$E$4:$W$577,18,FALSE))","v":"TGA-SA"},"CAFM","Modell",null,null,"x"]
["412.14",null,"Primärmedium",null,null,"IfcText"," -","Luft / Wasser",{"$f":"IF(VLOOKUP(A916,Klassifizierung!$E$4:$W$577,18,FALSE)=0,\"\",VLOOKUP(A916,Klassifizierung!$E$4:$W$577,18,FALSE))","v":"TGA-SA"},"CAFM","Modell",null,null,"x"]
["412.14",null,"Anzahl Pumpen",null,null,"IfcReal","Stück","Zahl",{"$f":"IF(VLOOKUP(A917,Klassifizierung!$E$4:$W$577,18,FALSE)=0,\"\",VLOOKUP(A917,Klassifizierung!$E$4:$W$577,18,FALSE))","v":"TGA-SA"},"CAFM","Modell",null,null,"x"]
["412.14",null,"Förderhöhe",null,null,"IfcReal","cm","Zahl",{"$f":"IF(VLOOKUP(A918,Klassifizierung!$E$4:$W$577,18,FALSE)=0,\"\",VLOOKUP(A918,Klassifizierung!$E$4:$W$577,18,FALSE))","v":"TGA-SA"},"CAFM","Modell",null,null,"x"]
["412.14",null,"Mögliche Betriebsarten",null,null,"IfcText"," -","einfach / bivalent",{"$f":"IF(VLOOKUP(A919,Klassifizierung!$E$4:$W$577,18,FALSE)=0,\"\",VLOOKUP(A919,Klassifizierung!$E$4:$W$577,18,FALSE))","v":"TGA-SA"},"CAFM","Modell",null,null,"x"]
["412.15",null,"Bauart",null,null,"IfcText"," -","Freitext",{"$f":"IF(VLOOKUP(A920,Klassifizierung!$E$4:$W$577,18,FALSE)=0,\"\",VLOOKUP(A920,Klassifizierung!$E$4:$W$577,18,FALSE))","v":"TGA-SA"},"CAFM","Modell",null,null,"x"]
["412.15",null,"Nenndurchflussmenge",null,null,"IfcReal","m3/h","Zahl",{"$f":"IF(VLOOKUP(A921,Klassifizierung!$E$4:$W$577,18,FALSE)=0,\"\",VLOOKUP(A921,Klassifizierung!$E$4:$W$577,18,FALSE))","v":"TGA-SA"},"CAFM","Modell",null,null,"x"]
["412.15",null,"Nennweite DN",null,null,"IfcReal","DN","Zahl",{"$f":"IF(VLOOKUP(A922,Klassifizierung!$E$4:$W$577,18,FALSE)=0,\"\",VLOOKUP(A922,Klassifizierung!$E$4:$W$577,18,FALSE))","v":"TGA-SA"},"CAFM","Modell",null,null,"x"]
["412.16",null,"Filtertyp",null,null,"IfcText"," -","Freitext",{"$f":"IF(VLOOKUP(A923,Klassifizierung!$E$4:$W$577,18,FALSE)=0,\"\",VLOOKUP(A923,Klassifizierung!$E$4:$W$577,18,FALSE))","v":"TGA-SA"},"CAFM","Modell",null,null,"x"]
["412.16",null,"Nenndurchflussmenge",null,null,"IfcReal","m3/h","Zahl",{"$f":"IF(VLOOKUP(A924,Klassifizierung!$E$4:$W$577,18,FALSE)=0,\"\",VLOOKUP(A924,Klassifizierung!$E$4:$W$577,18,FALSE))","v":"TGA-SA"},"CAFM","Modell",null,null,"x"]
["412.16",null,"Nennweite DN",null,null,"IfcReal","Stück","Zahl",{"$f":"IF(VLOOKUP(A925,Klassifizierung!$E$4:$W$577,18,FALSE)=0,\"\",VLOOKUP(A925,Klassifizierung!$E$4:$W$577,18,FALSE))","v":"TGA-SA"},"CAFM","Modell",null,null,"x"]
["412.16",null,"Rückspülbar",null,null,"IfcText"," -","ja|nein|automatisch",{"$f":"IF(VLOOKUP(A926,Klassifizierung!$E$4:$W$577,18,FALSE)=0,\"\",VLOOKUP(A926,Klassifizierung!$E$4:$W$577,18,FALSE))","v":"TGA-SA"},"CAFM","Modell",null,null,"x"]
["412.21",null,"Beschreibung",null,null,"IfcText"," -","Freitext",{"$f":"IF(VLOOKUP(A927,Klassifizierung!$E$4:$W$577,18,FALSE)=0,\"\",VLOOKUP(A927,Klassifizierung!$E$4:$W$577,18,FALSE))","v":"TGA-SA"},"CAFM","Modell",null,null,"x"]
["412.21",null,"Typ",null,null,"IfcText"," -","Freitext",{"$f":"IF(VLOOKUP(A928,Klassifizierung!$E$4:$W$577,18,FALSE)=0,\"\",VLOOKUP(A928,Klassifizierung!$E$4:$W$577,18,FALSE))","v":"TGA-SA"},"CAFM","Modell",null,null,"x"]
["412.22",null,"Beschreibung",null,null,"IfcText"," -","WC|Waschtisch|Ausgussbecken|Urinal|Bidet|Dusche|Badewanne",{"$f":"IF(VLOOKUP(A929,Klassifizierung!$E$4:$W$577,18,FALSE)=0,\"\",VLOOKUP(A929,Klassifizierung!$E$4:$W$577,18,FALSE))","v":"TGA-SA"},"CAFM","Modell",null,null,"x"]
["412.22",null,"Typ",null,null,"IfcText"," -","barrierefrei|höhenverstellbar|barrierefrei , höhenverstellbar|Eckelement",{"$f":"IF(VLOOKUP(A930,Klassifizierung!$E$4:$W$577,18,FALSE)=0,\"\",VLOOKUP(A930,Klassifizierung!$E$4:$W$577,18,FALSE))","v":"TGA-SA"},"CAFM","Modell",null,null,"x"]
["412.23",null,"Bauart",null,null,"IfcText"," -","Freitext",{"$f":"IF(VLOOKUP(A931,Klassifizierung!$E$4:$W$577,18,FALSE)=0,\"\",VLOOKUP(A931,Klassifizierung!$E$4:$W$577,18,FALSE))","v":"TGA-SA"},"CAFM","Modell",null,null,"x"]
["412.23",null,"Betätigungsauslösung",null,null,"IfcText"," -","manuelle|elektronisch (Netz)|elektronisch (Batterie und Akku)|pneumatisch|hydraulisch",{"$f":"IF(VLOOKUP(A932,Klassifizierung!$E$4:$W$577,18,FALSE)=0,\"\",VLOOKUP(A932,Klassifizierung!$E$4:$W$577,18,FALSE))","v":"TGA-SA"},"CAFM","Modell",null,null,"x"]
["412.23",null,"Elektrischer Anschluss",null,null,"IfcReal","V","Zahl",{"$f":"IF(VLOOKUP(A933,Klassifizierung!$E$4:$W$577,18,FALSE)=0,\"\",VLOOKUP(A933,Klassifizierung!$E$4:$W$577,18,FALSE))","v":"TGA-SA"},"CAFM","Modell",null,null,"x"]
["412.24",null,"Bauart",null,null,"IfcText"," -","Freitext",{"$f":"IF(VLOOKUP(A934,Klassifizierung!$E$4:$W$577,18,FALSE)=0,\"\",VLOOKUP(A934,Klassifizierung!$E$4:$W$577,18,FALSE))","v":"TGA-SA"},"CAFM","Modell",null,null,"x"]
["412.24",null,"Betätigungsauslösung",null,null,"IfcText","-","manuelle|elektronisch (Netz)|elektronisch (Batterie)|pneumatisch|hydraulisch",{"$f":"IF(VLOOKUP(A935,Klassifizierung!$E$4:$W$577,18,FALSE)=0,\"\",VLOOKUP(A935,Klassifizierung!$E$4:$W$577,18,FALSE))","v":"TGA-SA"},"CAFM","Modell",null,null,"x"]
["412.24",null,"Elektrischer Anschluss",null,null,"IfcReal","V","Zahl",{"$f":"IF(VLOOKUP(A936,Klassifizierung!$E$4:$W$577,18,FALSE)=0,\"\",VLOOKUP(A936,Klassifizierung!$E$4:$W$577,18,FALSE))","v":"TGA-SA"},"CAFM","Modell",null,null,"x"]
["412.30",null,"Bauart",null,null,"IfcText"," -","Freitext",{"$f":"IF(VLOOKUP(A937,Klassifizierung!$E$4:$W$577,18,FALSE)=0,\"\",VLOOKUP(A937,Klassifizierung!$E$4:$W$577,18,FALSE))","v":"TGA-SA"},"CAFM","Modell",null,null,"x"]
["412.30",null,"Durchlauferhitzer",null,null,"IfcBoolean"," -","ja|nein",{"$f":"IF(VLOOKUP(A938,Klassifizierung!$E$4:$W$577,18,FALSE)=0,\"\",VLOOKUP(A938,Klassifizierung!$E$4:$W$577,18,FALSE))","v":"TGA-SA"},"CAFM","Modell",null,null,"x"]
["412.30",null,"Nennleistung",null,null,"IfcReal","kW","Zahl",{"$f":"IF(VLOOKUP(A939,Klassifizierung!$E$4:$W$577,18,FALSE)=0,\"\",VLOOKUP(A939,Klassifizierung!$E$4:$W$577,18,FALSE))","v":"TGA-SA"},"CAFM","Modell",null,null,"x"]
["412.30",null,"Maximaltemperatur",null,null,"IfcReal","°C","Zahl",{"$f":"IF(VLOOKUP(A940,Klassifizierung!$E$4:$W$577,18,FALSE)=0,\"\",VLOOKUP(A940,Klassifizierung!$E$4:$W$577,18,FALSE))","v":"TGA-SA"},"CAFM","Modell",null,null,"x"]
["412.40",null,"Bauart",null,null,"IfcText"," -","Entsalzung|Enthärtung|Entkeimung|Dosierung|sonstige",{"$f":"IF(VLOOKUP(A941,Klassifizierung!$E$4:$W$577,18,FALSE)=0,\"\",VLOOKUP(A941,Klassifizierung!$E$4:$W$577,18,FALSE))","v":"TGA-SA"},"CAFM","Modell",null,null,"x"]
["412.40",null,"Aufbereitungstyp",null,null,"IfcText"," -","physikalisch|chemisch",{"$f":"IF(VLOOKUP(A942,Klassifizierung!$E$4:$W$577,18,FALSE)=0,\"\",VLOOKUP(A942,Klassifizierung!$E$4:$W$577,18,FALSE))","v":"TGA-SA"},"CAFM","Modell",null,null,"x"]
["412.40",null,"Nennleistung",null,null,"IfcReal","kW","Zahl",{"$f":"IF(VLOOKUP(A943,Klassifizierung!$E$4:$W$577,18,FALSE)=0,\"\",VLOOKUP(A943,Klassifizierung!$E$4:$W$577,18,FALSE))","v":"TGA-SA"},"CAFM","Modell",null,null,"x"]
["412.60",null,"Filtrationsleitung",null,null,"IfcReal","m3/h","Zahl",{"$f":"IF(VLOOKUP(A944,Klassifizierung!$E$4:$W$577,18,FALSE)=0,\"\",VLOOKUP(A944,Klassifizierung!$E$4:$W$577,18,FALSE))","v":"TGA-SA"},"CAFM","Modell",null,null,"x"]
["412.60",null,"Nennweite DN",null,null,"IfcReal","DN","Zahl",{"$f":"IF(VLOOKUP(A945,Klassifizierung!$E$4:$W$577,18,FALSE)=0,\"\",VLOOKUP(A945,Klassifizierung!$E$4:$W$577,18,FALSE))","v":"TGA-SA"},"CAFM","Modell",null,null,"x"]
["412.61",null,"Nennweite DN",null,null,"IfcReal","DN","Zahl",{"$f":"IF(VLOOKUP(A946,Klassifizierung!$E$4:$W$577,18,FALSE)=0,\"\",VLOOKUP(A946,Klassifizierung!$E$4:$W$577,18,FALSE))","v":"TGA-SA"},"CAFM","Modell",null,null,"x"]
["412.61",null,"Begleitheizung",null,null,"IfcBoolean"," -","ja|nein",{"$f":"IF(VLOOKUP(A947,Klassifizierung!$E$4:$W$577,18,FALSE)=0,\"\",VLOOKUP(A947,Klassifizierung!$E$4:$W$577,18,FALSE))","v":"TGA-SA"},"CAFM","Modell",null,null,"x"]
["412.61",null,"Brandschutzgeeignet",null,null,"IfcBoolean"," -","ja|nein",{"$f":"IF(VLOOKUP(A948,Klassifizierung!$E$4:$W$577,18,FALSE)=0,\"\",VLOOKUP(A948,Klassifizierung!$E$4:$W$577,18,FALSE))","v":"TGA-SA"},"CAFM","Modell",null,null,"x"]
["412.62",null,"Armaturentypen",null,null,"IfcText"," -","Absperrarmatur|Regelarmatur|Entnahmearmatur|Sicherheitsarmatur|Sicherungs- und Ringleitungsarmatur|Sonstiges",{"$f":"IF(VLOOKUP(A949,Klassifizierung!$E$4:$W$577,18,FALSE)=0,\"\",VLOOKUP(A949,Klassifizierung!$E$4:$W$577,18,FALSE))","v":"TGA-SA"},"CAFM","Modell",null,null,"x"]
["412.64",null,"Anzahl Pumpen",null,null,"IfcReal","Stück","Zahl",{"$f":"IF(VLOOKUP(A950,Klassifizierung!$E$4:$W$577,18,FALSE)=0,\"\",VLOOKUP(A950,Klassifizierung!$E$4:$W$577,18,FALSE))","v":"TGA-SA"},"CAFM","Modell",null,null,"x"]
["412.64",null,"Durchmesser",null,null,"IfcReal","DN","Zahl",{"$f":"IF(VLOOKUP(A951,Klassifizierung!$E$4:$W$577,18,FALSE)=0,\"\",VLOOKUP(A951,Klassifizierung!$E$4:$W$577,18,FALSE))","v":"TGA-SA"},"CAFM","Modell",null,null,"x"]
["412.64",null,"Volumen",null,null,"IfcReal","m3","Zahl",{"$f":"IF(VLOOKUP(A952,Klassifizierung!$E$4:$W$577,18,FALSE)=0,\"\",VLOOKUP(A952,Klassifizierung!$E$4:$W$577,18,FALSE))","v":"TGA-SA"},"CAFM","Modell",null,null,"x"]
["412.65",null,"Anzahl Pumpen",null,null,"IfcReal","Stück","Zahl",{"$f":"IF(VLOOKUP(A953,Klassifizierung!$E$4:$W$577,18,FALSE)=0,\"\",VLOOKUP(A953,Klassifizierung!$E$4:$W$577,18,FALSE))","v":"TGA-SA"},"CAFM","Modell",null,null,"x"]
["412.65",null,"Durchmesser",null,null,"IfcReal","cm","Zahl",{"$f":"IF(VLOOKUP(A954,Klassifizierung!$E$4:$W$577,18,FALSE)=0,\"\",VLOOKUP(A954,Klassifizierung!$E$4:$W$577,18,FALSE))","v":"TGA-SA"},"CAFM","Modell",null,null,"x"]
["412.65",null,"Volumen",null,null,"IfcReal","m3","Zahl",{"$f":"IF(VLOOKUP(A955,Klassifizierung!$E$4:$W$577,18,FALSE)=0,\"\",VLOOKUP(A955,Klassifizierung!$E$4:$W$577,18,FALSE))","v":"TGA-SA"},"CAFM","Modell",null,null,"x"]
["412.70",null,"Filtrationsleitung",null,null,"IfcReal","m3/h","Zahl",{"$f":"IF(VLOOKUP(A956,Klassifizierung!$E$4:$W$577,18,FALSE)=0,\"\",VLOOKUP(A956,Klassifizierung!$E$4:$W$577,18,FALSE))","v":"TGA-SA"},"CAFM","Modell",null,null,"x"]
["412.70",null,"Nennweite DN",null,null,"IfcReal","DN","Zahl",{"$f":"IF(VLOOKUP(A957,Klassifizierung!$E$4:$W$577,18,FALSE)=0,\"\",VLOOKUP(A957,Klassifizierung!$E$4:$W$577,18,FALSE))","v":"TGA-SA"},"CAFM","Modell",null,null,"x"]
["412.70",null,"Volumenstrom Förderpumpe",null,null,"IfcReal","m3/h","Zahl",{"$f":"IF(VLOOKUP(A958,Klassifizierung!$E$4:$W$577,18,FALSE)=0,\"\",VLOOKUP(A958,Klassifizierung!$E$4:$W$577,18,FALSE))","v":"TGA-SA"},"CAFM","Modell",null,null,"x"]
["412.80",null,"Nennweite DN",null,null,"IfcReal","DN","Zahl",{"$f":"IF(VLOOKUP(A959,Klassifizierung!$E$4:$W$577,18,FALSE)=0,\"\",VLOOKUP(A959,Klassifizierung!$E$4:$W$577,18,FALSE))","v":"TGA-SA"},"CAFM","Modell",null,null,"x"]
["412.80",null,"Trinkwasser Filter rückspülbar",null,null,"IfcText","-","ja|nein|automatisch",{"$f":"IF(VLOOKUP(A960,Klassifizierung!$E$4:$W$577,18,FALSE)=0,\"\",VLOOKUP(A960,Klassifizierung!$E$4:$W$577,18,FALSE))","v":"TGA-SA"},"CAFM","Modell",null,null,"x"]
["413.10",null,"Material",null,null,"IfcText","-","Grauguss (SML-Rohre)|Kupfer|Kunststoff|Glas|Stahl|Edelstahl (nicht rostender Stahl)",{"$f":"IF(VLOOKUP(A961,Klassifizierung!$E$4:$W$577,18,FALSE)=0,\"\",VLOOKUP(A961,Klassifizierung!$E$4:$W$577,18,FALSE))","v":"TGA-SA"},"CAFM","Modell",null,null,"x"]
["413.10",null,"Nennweite DN",null,null,"IfcReal","DN","Zahl",{"$f":"IF(VLOOKUP(A962,Klassifizierung!$E$4:$W$577,18,FALSE)=0,\"\",VLOOKUP(A962,Klassifizierung!$E$4:$W$577,18,FALSE))","v":"TGA-SA"},"CAFM","Modell",null,null,"x"]
["413.10",null,"Begleitheizung",null,null,"IfcBoolean"," -","ja|nein",{"$f":"IF(VLOOKUP(A963,Klassifizierung!$E$4:$W$577,18,FALSE)=0,\"\",VLOOKUP(A963,Klassifizierung!$E$4:$W$577,18,FALSE))","v":"TGA-SA"},"CAFM","Modell",null,null,"x"]
["413.10",null,"Brandschutzgeeignet",null,null,"IfcBoolean"," -","ja|nein",{"$f":"IF(VLOOKUP(A964,Klassifizierung!$E$4:$W$577,18,FALSE)=0,\"\",VLOOKUP(A964,Klassifizierung!$E$4:$W$577,18,FALSE))","v":"TGA-SA"},"CAFM","Modell",null,null,"x"]
["413.20",null,"Armaturentypen",null,null,"IfcText","-","Absperrarmatur|Regelarmatur|Sicherheitsarmaturen|Filter|Entnahmearmaturen|Sicherungsarmatur",{"$f":"IF(VLOOKUP(A965,Klassifizierung!$E$4:$W$577,18,FALSE)=0,\"\",VLOOKUP(A965,Klassifizierung!$E$4:$W$577,18,FALSE))","v":"TGA-SA"},"CAFM","Modell",null,null,"x"]
["413.30",null,"Bauart",null,null,"IfcText","-","Erdeinbau|Freiaufstellung",{"$f":"IF(VLOOKUP(A966,Klassifizierung!$E$4:$W$577,18,FALSE)=0,\"\",VLOOKUP(A966,Klassifizierung!$E$4:$W$577,18,FALSE))","v":"TGA-SA"},"CAFM","Modell",null,null,"x"]
["413.30",null,"Brennstoffart",null,null,"IfcText"," -","Freitext",{"$f":"IF(VLOOKUP(A967,Klassifizierung!$E$4:$W$577,18,FALSE)=0,\"\",VLOOKUP(A967,Klassifizierung!$E$4:$W$577,18,FALSE))","v":"TGA-SA"},"CAFM","Modell",null,null,"x"]
["413.30",null,"Volumen",null,null,"IfcReal","m3","Zahl",{"$f":"IF(VLOOKUP(A968,Klassifizierung!$E$4:$W$577,18,FALSE)=0,\"\",VLOOKUP(A968,Klassifizierung!$E$4:$W$577,18,FALSE))","v":"TGA-SA"},"CAFM","Modell",null,null,"x"]
["413.30",null,"Nenndruck",null,null,"IfcReal","bar","Zahl",{"$f":"IF(VLOOKUP(A969,Klassifizierung!$E$4:$W$577,18,FALSE)=0,\"\",VLOOKUP(A969,Klassifizierung!$E$4:$W$577,18,FALSE))","v":"TGA-SA"},"CAFM","Modell",null,null,"x"]
["419.71",null,"Nennweite DN",null,null,"IfcReal","DN","Zahl",{"$f":"IF(VLOOKUP(A970,Klassifizierung!$E$4:$W$577,18,FALSE)=0,\"\",VLOOKUP(A970,Klassifizierung!$E$4:$W$577,18,FALSE))","v":"TGA-SA"},"CAFM","Modell",null,null,"x"]
["419.71",null,"Begleitheizung",null,null,"IfcBoolean"," -","ja|nein",{"$f":"IF(VLOOKUP(A971,Klassifizierung!$E$4:$W$577,18,FALSE)=0,\"\",VLOOKUP(A971,Klassifizierung!$E$4:$W$577,18,FALSE))","v":"TGA-SA"},"CAFM","Modell",null,null,"x"]
["419.71",null,"Brandschutzgeeignet",null,null,"IfcBoolean"," -","ja|nein",{"$f":"IF(VLOOKUP(A972,Klassifizierung!$E$4:$W$577,18,FALSE)=0,\"\",VLOOKUP(A972,Klassifizierung!$E$4:$W$577,18,FALSE))","v":"TGA-SA"},"CAFM","Modell",null,null,"x"]
["419.72",null,"Bauart",null,null,"IfcText","-","Absperrarmatur|Regelarmatur|Entnahmearmatur|Sicherheitsarmatur|Sicherungs- und Ringleitungsarmatur|Sonstiges",{"$f":"IF(VLOOKUP(A973,Klassifizierung!$E$4:$W$577,18,FALSE)=0,\"\",VLOOKUP(A973,Klassifizierung!$E$4:$W$577,18,FALSE))","v":"TGA-SA"},"CAFM","Modell",null,null,"x"]
["419.72",null,"Nennweite DN",null,null,"IfcReal","DN","Zahl",{"$f":"IF(VLOOKUP(A974,Klassifizierung!$E$4:$W$577,18,FALSE)=0,\"\",VLOOKUP(A974,Klassifizierung!$E$4:$W$577,18,FALSE))","v":"TGA-SA"},"CAFM","Modell",null,null,"x"]
["419.73",null,"Bauart",null,null,"IfcText"," -","Freitext",{"$f":"IF(VLOOKUP(A975,Klassifizierung!$E$4:$W$577,18,FALSE)=0,\"\",VLOOKUP(A975,Klassifizierung!$E$4:$W$577,18,FALSE))","v":"TGA-SA"},"CAFM","Modell",null,null,"x"]
["419.74",null,"Bauart",null,null,"IfcText","-","UV|Elektrolytisch|Ozon|Membran|Chlordioxid|Calciumhypochlorid|Schwerkraftfilter|thermisch|Sonstiges",{"$f":"IF(VLOOKUP(A976,Klassifizierung!$E$4:$W$577,18,FALSE)=0,\"\",VLOOKUP(A976,Klassifizierung!$E$4:$W$577,18,FALSE))","v":"TGA-SA"},"CAFM","Modell",null,null,"x"]
["419.74",null,"Bautyp",null,null,"IfcText"," -","Freitext",{"$f":"IF(VLOOKUP(A977,Klassifizierung!$E$4:$W$577,18,FALSE)=0,\"\",VLOOKUP(A977,Klassifizierung!$E$4:$W$577,18,FALSE))","v":"TGA-SA"},"CAFM","Modell",null,null,"x"]
["419.74",null,"Desinfektionsmittel",null,null,"IfcText"," -","Freitext",{"$f":"IF(VLOOKUP(A978,Klassifizierung!$E$4:$W$577,18,FALSE)=0,\"\",VLOOKUP(A978,Klassifizierung!$E$4:$W$577,18,FALSE))","v":"TGA-SA"},"CAFM","Modell",null,null,"x"]
["419.74",null,"Nenninhalt",null,null,"IfcReal","m3","Zahl",{"$f":"IF(VLOOKUP(A979,Klassifizierung!$E$4:$W$577,18,FALSE)=0,\"\",VLOOKUP(A979,Klassifizierung!$E$4:$W$577,18,FALSE))","v":"TGA-SA"},"CAFM","Modell",null,null,"x"]
["419.74",null,"Nennvolumenstrom",null,null,"IfcReal","m3/h","Zahl",{"$f":"IF(VLOOKUP(A980,Klassifizierung!$E$4:$W$577,18,FALSE)=0,\"\",VLOOKUP(A980,Klassifizierung!$E$4:$W$577,18,FALSE))","v":"TGA-SA"},"CAFM","Modell",null,null,"x"]
["419.82",null,"Bauart",null,null,"IfcText"," -","Freitext",{"$f":"IF(VLOOKUP(A981,Klassifizierung!$E$4:$W$577,18,FALSE)=0,\"\",VLOOKUP(A981,Klassifizierung!$E$4:$W$577,18,FALSE))","v":"TGA-SA"},"CAFM","Modell",null,null,"x"]
["419.82",null,"Bautyp",null,null,"IfcText"," -","Freitext",{"$f":"IF(VLOOKUP(A982,Klassifizierung!$E$4:$W$577,18,FALSE)=0,\"\",VLOOKUP(A982,Klassifizierung!$E$4:$W$577,18,FALSE))","v":"TGA-SA"},"CAFM","Modell",null,null,"x"]
["419.82",null,"Nennleistung",null,null,"IfcReal","kW","Zahl",{"$f":"IF(VLOOKUP(A983,Klassifizierung!$E$4:$W$577,18,FALSE)=0,\"\",VLOOKUP(A983,Klassifizierung!$E$4:$W$577,18,FALSE))","v":"TGA-SA"},"CAFM","Modell",null,null,"x"]
["419.82",null,"Nennspannung",null,null,"IfcReal","kV","Zahl",{"$f":"IF(VLOOKUP(A984,Klassifizierung!$E$4:$W$577,18,FALSE)=0,\"\",VLOOKUP(A984,Klassifizierung!$E$4:$W$577,18,FALSE))","v":"TGA-SA"},"CAFM","Modell",null,null,"x"]
["419.82",null,"Explosionsgeschützt",null,null,"IfcBoolean"," -","ja|nein",{"$f":"IF(VLOOKUP(A985,Klassifizierung!$E$4:$W$577,18,FALSE)=0,\"\",VLOOKUP(A985,Klassifizierung!$E$4:$W$577,18,FALSE))","v":"TGA-SA"},"CAFM","Modell",null,null,"x"]
["419.83",null,"Bauart",null,null,"IfcText"," -","Freitext",{"$f":"IF(VLOOKUP(A986,Klassifizierung!$E$4:$W$577,18,FALSE)=0,\"\",VLOOKUP(A986,Klassifizierung!$E$4:$W$577,18,FALSE))","v":"TGA-SA"},"CAFM","Modell",null,null,"x"]
["419.83",null,"Bautyp",null,null,"IfcText"," -","Freitext",{"$f":"IF(VLOOKUP(A987,Klassifizierung!$E$4:$W$577,18,FALSE)=0,\"\",VLOOKUP(A987,Klassifizierung!$E$4:$W$577,18,FALSE))","v":"TGA-SA"},"CAFM","Modell",null,null,"x"]
["419.84",null,"Bauart",null,null,"IfcText"," -","Freitext",{"$f":"IF(VLOOKUP(A988,Klassifizierung!$E$4:$W$577,18,FALSE)=0,\"\",VLOOKUP(A988,Klassifizierung!$E$4:$W$577,18,FALSE))","v":"TGA-SA"},"CAFM","Modell",null,null,"x"]
["419.84",null,"Bautyp",null,null,"IfcText"," -","Freitext",{"$f":"IF(VLOOKUP(A989,Klassifizierung!$E$4:$W$577,18,FALSE)=0,\"\",VLOOKUP(A989,Klassifizierung!$E$4:$W$577,18,FALSE))","v":"TGA-SA"},"CAFM","Modell",null,null,"x"]
["419.85",null,"Bauart",null,null,"IfcText"," -","Freitext",{"$f":"IF(VLOOKUP(A990,Klassifizierung!$E$4:$W$577,18,FALSE)=0,\"\",VLOOKUP(A990,Klassifizierung!$E$4:$W$577,18,FALSE))","v":"TGA-SA"},"CAFM","Modell",null,null,"x"]
["419.85",null,"Bautyp",null,null,"IfcText"," -","Freitext",{"$f":"IF(VLOOKUP(A991,Klassifizierung!$E$4:$W$577,18,FALSE)=0,\"\",VLOOKUP(A991,Klassifizierung!$E$4:$W$577,18,FALSE))","v":"TGA-SA"},"CAFM","Modell",null,null,"x"]
["419.86",null,"Bauart",null,null,"IfcText"," -","Freitext",{"$f":"IF(VLOOKUP(A992,Klassifizierung!$E$4:$W$577,18,FALSE)=0,\"\",VLOOKUP(A992,Klassifizierung!$E$4:$W$577,18,FALSE))","v":"TGA-SA"},"CAFM","Modell",null,null,"x"]
["419.86",null,"Bautyp",null,null,"IfcText"," -","Freitext",{"$f":"IF(VLOOKUP(A993,Klassifizierung!$E$4:$W$577,18,FALSE)=0,\"\",VLOOKUP(A993,Klassifizierung!$E$4:$W$577,18,FALSE))","v":"TGA-SA"},"CAFM","Modell",null,null,"x"]
["419.91",null,"Betätigungsauslösung",null,null,"IfcText","-","manuelle|elektronisch (Netz)|elektronisch (Batterie und Akku)|pneumatisch|hydraulisch",{"$f":"IF(VLOOKUP(A994,Klassifizierung!$E$4:$W$577,18,FALSE)=0,\"\",VLOOKUP(A994,Klassifizierung!$E$4:$W$577,18,FALSE))","v":"TGA-SA"},"CAFM","Modell",null,null,"x"]
["419.91",null,"Elektrischer Anschluss",null,null,"IfcReal","V","Zahl",{"$f":"IF(VLOOKUP(A995,Klassifizierung!$E$4:$W$577,18,FALSE)=0,\"\",VLOOKUP(A995,Klassifizierung!$E$4:$W$577,18,FALSE))","v":"TGA-SA"},"CAFM","Modell",null,null,"x"]
["419.91",null,"Nennleistung",null,null,"IfcReal","kW","Zahl",{"$f":"IF(VLOOKUP(A996,Klassifizierung!$E$4:$W$577,18,FALSE)=0,\"\",VLOOKUP(A996,Klassifizierung!$E$4:$W$577,18,FALSE))","v":"TGA-SA"},"CAFM","Modell",null,null,"x"]
["419.91",null,"Nennspannung",null,null,"IfcReal","kV","Zahl",{"$f":"IF(VLOOKUP(A997,Klassifizierung!$E$4:$W$577,18,FALSE)=0,\"\",VLOOKUP(A997,Klassifizierung!$E$4:$W$577,18,FALSE))","v":"TGA-SA"},"CAFM","Modell",null,null,"x"]
["419.92",null,"Betätigungsauslösung",null,null,"IfcText"," -","Freitext",{"$f":"IF(VLOOKUP(A998,Klassifizierung!$E$4:$W$577,18,FALSE)=0,\"\",VLOOKUP(A998,Klassifizierung!$E$4:$W$577,18,FALSE))","v":"TGA-SA"},"CAFM","Modell",null,null,"x"]
["419.92",null,"Elektrischer Anschluss",null,null,"IfcReal","V","Zahl",{"$f":"IF(VLOOKUP(A999,Klassifizierung!$E$4:$W$577,18,FALSE)=0,\"\",VLOOKUP(A999,Klassifizierung!$E$4:$W$577,18,FALSE))","v":"TGA-SA"},"CAFM","Modell",null,null,"x"]
["419.92",null,"Nennleistung",null,null,"IfcReal","kW","Zahl",{"$f":"IF(VLOOKUP(A1000,Klassifizierung!$E$4:$W$577,18,FALSE)=0,\"\",VLOOKUP(A1000,Klassifizierung!$E$4:$W$577,18,FALSE))","v":"TGA-SA"},"CAFM","Modell",null,null,"x"]
["419.92",null,"Nennspannung",null,null,"IfcReal","kV","Zahl",{"$f":"IF(VLOOKUP(A1001,Klassifizierung!$E$4:$W$577,18,FALSE)=0,\"\",VLOOKUP(A1001,Klassifizierung!$E$4:$W$577,18,FALSE))","v":"TGA-SA"},"CAFM","Modell",null,null,"x"]
["419.93",null,"Betätigungsauslösung",null,null,"IfcText"," -","Freitext",{"$f":"IF(VLOOKUP(A1002,Klassifizierung!$E$4:$W$577,18,FALSE)=0,\"\",VLOOKUP(A1002,Klassifizierung!$E$4:$W$577,18,FALSE))","v":"TGA-SA"},"CAFM","Modell",null,null,"x"]
["419.93",null,"Elektrischer Anschluss",null,null,"IfcReal","V","Zahl",{"$f":"IF(VLOOKUP(A1003,Klassifizierung!$E$4:$W$577,18,FALSE)=0,\"\",VLOOKUP(A1003,Klassifizierung!$E$4:$W$577,18,FALSE))","v":"TGA-SA"},"CAFM","Modell",null,null,"x"]
["419.93",null,"Nennleistung",null,null,"IfcReal","kW","Zahl",{"$f":"IF(VLOOKUP(A1004,Klassifizierung!$E$4:$W$577,18,FALSE)=0,\"\",VLOOKUP(A1004,Klassifizierung!$E$4:$W$577,18,FALSE))","v":"TGA-SA"},"CAFM","Modell",null,null,"x"]
["419.93",null,"Nennspannung",null,null,"IfcReal","kV","Zahl",{"$f":"IF(VLOOKUP(A1005,Klassifizierung!$E$4:$W$577,18,FALSE)=0,\"\",VLOOKUP(A1005,Klassifizierung!$E$4:$W$577,18,FALSE))","v":"TGA-SA"},"CAFM","Modell",null,null,"x"]
["421.11",null,"Bauart",null,null,"IfcText","-","Standard-Kessel|Niedertemperatur-Kessel|Brennwert-Kessel|Standard-Kombi-Kessel|Niedertemperatur-Kombi-Kessel|Brennwert-Kombi-Kessel|Durchlauferhitzer für TW-Bereitung|Trinkwasser-Speicher|Hochdruck-Heißwasser-Kessel",{"$f":"IF(VLOOKUP(A1006,Klassifizierung!$E$4:$W$577,18,FALSE)=0,\"\",VLOOKUP(A1006,Klassifizierung!$E$4:$W$577,18,FALSE))","v":"TGA-HZ"},"CAFM","Modell",null,null,"x"]
["421.11",null,"Brennstoff",null,null,"IfcText"," -","Gas|Öl|Gas/Öl|Holz|Pellets",{"$f":"IF(VLOOKUP(A1007,Klassifizierung!$E$4:$W$577,18,FALSE)=0,\"\",VLOOKUP(A1007,Klassifizierung!$E$4:$W$577,18,FALSE))","v":"TGA-HZ"},"CAFM","Modell",null,null,"x"]
["421.11",null,"Thermische Leistung",null,null,"IfcReal","kW","Zahl",{"$f":"IF(VLOOKUP(A1008,Klassifizierung!$E$4:$W$577,18,FALSE)=0,\"\",VLOOKUP(A1008,Klassifizierung!$E$4:$W$577,18,FALSE))","v":"TGA-HZ"},"CAFM","Modell",null,null,"x"]
["421.11",null,"Nennvolumen",null,null,"IfcReal","m3","Zahl",{"$f":"IF(VLOOKUP(A1009,Klassifizierung!$E$4:$W$577,18,FALSE)=0,\"\",VLOOKUP(A1009,Klassifizierung!$E$4:$W$577,18,FALSE))","v":"TGA-HZ"},"CAFM","Modell",null,null,"x"]
["421.11",null,"Nennleistung",null,null,"IfcReal","kW","Zahl",{"$f":"IF(VLOOKUP(A1010,Klassifizierung!$E$4:$W$577,18,FALSE)=0,\"\",VLOOKUP(A1010,Klassifizierung!$E$4:$W$577,18,FALSE))","v":"TGA-HZ"},"CAFM","Modell",null,null,"x"]
["421.11",null,"Nennspannung",null,null,"IfcReal","kV","Zahl",{"$f":"IF(VLOOKUP(A1011,Klassifizierung!$E$4:$W$577,18,FALSE)=0,\"\",VLOOKUP(A1011,Klassifizierung!$E$4:$W$577,18,FALSE))","v":"TGA-HZ"},"CAFM","Modell",null,null,"x"]
["421.11",null,"Nenndruck",null,null,"IfcReal","bar","Zahl",{"$f":"IF(VLOOKUP(A1012,Klassifizierung!$E$4:$W$577,18,FALSE)=0,\"\",VLOOKUP(A1012,Klassifizierung!$E$4:$W$577,18,FALSE))","v":"TGA-HZ"},"CAFM","Modell",null,null,"x"]
["421.11",null,"Termperatur",null,null,"IfcReal","°C","Zahl",{"$f":"IF(VLOOKUP(A1013,Klassifizierung!$E$4:$W$577,18,FALSE)=0,\"\",VLOOKUP(A1013,Klassifizierung!$E$4:$W$577,18,FALSE))","v":"TGA-HZ"},"CAFM","Modell",null,null,"x"]
["421.12",null,"Bauart",null,null,"IfcText","-","Niederdruck-Dampferzeuger (NDD)|Hochdruck-Dampferzeuger (HDD)",{"$f":"IF(VLOOKUP(A1014,Klassifizierung!$E$4:$W$577,18,FALSE)=0,\"\",VLOOKUP(A1014,Klassifizierung!$E$4:$W$577,18,FALSE))","v":"TGA-HZ"},"CAFM","Modell",null,null,"x"]
["421.12",null,"Brennstoff",null,null,"IfcText"," -","Gas|Öl|Gas/Öl|Holz|Pellets",{"$f":"IF(VLOOKUP(A1015,Klassifizierung!$E$4:$W$577,18,FALSE)=0,\"\",VLOOKUP(A1015,Klassifizierung!$E$4:$W$577,18,FALSE))","v":"TGA-HZ"},"CAFM","Modell",null,null,"x"]
["421.12",null,"Thermische Leistung",null,null,"IfcReal","kW","Zahl",{"$f":"IF(VLOOKUP(A1016,Klassifizierung!$E$4:$W$577,18,FALSE)=0,\"\",VLOOKUP(A1016,Klassifizierung!$E$4:$W$577,18,FALSE))","v":"TGA-HZ"},"CAFM","Modell",null,null,"x"]
["421.12",null,"Nennvolumen",null,null,"IfcReal","m3","Zahl",{"$f":"IF(VLOOKUP(A1017,Klassifizierung!$E$4:$W$577,18,FALSE)=0,\"\",VLOOKUP(A1017,Klassifizierung!$E$4:$W$577,18,FALSE))","v":"TGA-HZ"},"CAFM","Modell",null,null,"x"]
["421.12",null,"Nennleistung",null,null,"IfcReal","kW","Zahl",{"$f":"IF(VLOOKUP(A1018,Klassifizierung!$E$4:$W$577,18,FALSE)=0,\"\",VLOOKUP(A1018,Klassifizierung!$E$4:$W$577,18,FALSE))","v":"TGA-HZ"},"CAFM","Modell",null,null,"x"]
["421.12",null,"Nennspannung",null,null,"IfcReal","kV","Zahl",{"$f":"IF(VLOOKUP(A1019,Klassifizierung!$E$4:$W$577,18,FALSE)=0,\"\",VLOOKUP(A1019,Klassifizierung!$E$4:$W$577,18,FALSE))","v":"TGA-HZ"},"CAFM","Modell",null,null,"x"]
["421.12",null,"Nenndruck",null,null,"IfcReal","bar","Zahl",{"$f":"IF(VLOOKUP(A1020,Klassifizierung!$E$4:$W$577,18,FALSE)=0,\"\",VLOOKUP(A1020,Klassifizierung!$E$4:$W$577,18,FALSE))","v":"TGA-HZ"},"CAFM","Modell",null,null,"x"]
["421.12",null,"Termperatur",null,null,"IfcReal","°C","Zahl",{"$f":"IF(VLOOKUP(A1021,Klassifizierung!$E$4:$W$577,18,FALSE)=0,\"\",VLOOKUP(A1021,Klassifizierung!$E$4:$W$577,18,FALSE))","v":"TGA-HZ"},"CAFM","Modell",null,null,"x"]
["421.13",null,"Bauart",null,null,"IfcText"," -","Freitext",{"$f":"IF(VLOOKUP(A1022,Klassifizierung!$E$4:$W$577,18,FALSE)=0,\"\",VLOOKUP(A1022,Klassifizierung!$E$4:$W$577,18,FALSE))","v":"TGA-HZ"},"CAFM","Modell",null,null,"x"]
["421.13",null,"Bautyp",null,null,"IfcText","-","Sole-Wasser|Wasser-Wasser|Luft-Wasser|Luft-Luft|Direktverdampfer",{"$f":"IF(VLOOKUP(A1023,Klassifizierung!$E$4:$W$577,18,FALSE)=0,\"\",VLOOKUP(A1023,Klassifizierung!$E$4:$W$577,18,FALSE))","v":"TGA-HZ"},"CAFM","Modell",null,null,"x"]
["421.13",null,"Antriebsenergie",null,null,"IfcText","-","Strom|Gas|Öl",{"$f":"IF(VLOOKUP(A1024,Klassifizierung!$E$4:$W$577,18,FALSE)=0,\"\",VLOOKUP(A1024,Klassifizierung!$E$4:$W$577,18,FALSE))","v":"TGA-HZ"},"CAFM","Modell",null,null,"x"]
["421.13",null,"Sekundärleistung",null,null,"IfcReal","kW","Zahl",{"$f":"IF(VLOOKUP(A1025,Klassifizierung!$E$4:$W$577,18,FALSE)=0,\"\",VLOOKUP(A1025,Klassifizierung!$E$4:$W$577,18,FALSE))","v":"TGA-HZ"},"CAFM","Modell",null,null,"x"]
["421.13",null,"Primärmedium",null,null,"IfcText"," -","Luft / Wasser",{"$f":"IF(VLOOKUP(A1026,Klassifizierung!$E$4:$W$577,18,FALSE)=0,\"\",VLOOKUP(A1026,Klassifizierung!$E$4:$W$577,18,FALSE))","v":"TGA-HZ"},"CAFM","Modell",null,null,"x"]
["421.13",null,"Thermische Leistung",null,null,"IfcReal","kW","Zahl",{"$f":"IF(VLOOKUP(A1027,Klassifizierung!$E$4:$W$577,18,FALSE)=0,\"\",VLOOKUP(A1027,Klassifizierung!$E$4:$W$577,18,FALSE))","v":"TGA-HZ"},"CAFM","Modell",null,null,"x"]
["421.13",null,"Elektrische Leistung",null,null,"IfcReal","kW","Zahl",{"$f":"IF(VLOOKUP(A1028,Klassifizierung!$E$4:$W$577,18,FALSE)=0,\"\",VLOOKUP(A1028,Klassifizierung!$E$4:$W$577,18,FALSE))","v":"TGA-HZ"},"CAFM","Modell",null,null,"x"]
["421.13",null,"Mögliche Betriebsarten",null,null,"IfcText"," -","einfach / bivalent",{"$f":"IF(VLOOKUP(A1029,Klassifizierung!$E$4:$W$577,18,FALSE)=0,\"\",VLOOKUP(A1029,Klassifizierung!$E$4:$W$577,18,FALSE))","v":"TGA-HZ"},"CAFM","Modell",null,null,"x"]
["421.13",null,"Kältemittel",null,null,"IfcText"," -","R 1234yf|R 22 - aufbereitet|*R 22 (Chlordifluormethan)|R 23 (Trifluormethan) Ersatz für R 13/503|*R 123 (Dichlortrifluorethan)|*R 124 (Chlortetrafluorethan)|R 125 (Pentafluorethan)|R 134a (Tetrafluorethan) Ersatz für R 12|R 170 (Ethan)|HFKW 227 (Heptafluorpropan) Ersatz für R114|R 290 1.5 (Propan)|R 290 2.5 (Propan)|*R 401A (MP 39)|*R 401B (MP 66)|*R 402A (HP 80)|*R 403B (ISCEON MO69)|R 404A (HP 62/FX 70) Ersatz für R 22/502|R 407A|R 407C (Klea 66/AC 9000) Ersatz für R 22|R 407F|*R 408A (FX 10)|*R 409A (FX 56)|R 410A (AZ 20) Ersatz für R 22/13B1|R 413A (ISCEON MO49) Ersatz für R 12|R 417A (ISCEON MO59) Ersatz für R 22|R 422A (ISCEON MO79) Ersatz für R 22|R 422D (ISCEON MO29) Ersatz für R 22|R 437A (ISCEON MO49 PLUS)|R 507 (AZ 50) Ersatz für R 22/502|R 600a 1.5 (Isobutan)|R 600a 2.5 (Isobutan)|R 717 (Ammoniak)|R 744 (Kohlendioxid)|R 1270 (Propen)|ISCEON MO89 Ersatz für R13 B1|-nicht erkennbar-",{"$f":"IF(VLOOKUP(A1030,Klassifizierung!$E$4:$W$577,18,FALSE)=0,\"\",VLOOKUP(A1030,Klassifizierung!$E$4:$W$577,18,FALSE))","v":"TGA-HZ"},"CAFM","Modell",null,null,"x"]
["421.13",null,"Kältemittel Menge",null,null,"IfcReal","kg","Zahl",{"$f":"IF(VLOOKUP(A1031,Klassifizierung!$E$4:$W$577,18,FALSE)=0,\"\",VLOOKUP(A1031,Klassifizierung!$E$4:$W$577,18,FALSE))","v":"TGA-HZ"},"CAFM","Modell",null,null,"x"]
["421.14",null,"Bauart",null,null,"IfcText","-","Aufdach|Indach|Fassade|Flachdach|Freistehend|Sonstiges",{"$f":"IF(VLOOKUP(A1032,Klassifizierung!$E$4:$W$577,18,FALSE)=0,\"\",VLOOKUP(A1032,Klassifizierung!$E$4:$W$577,18,FALSE))","v":"TGA-HZ"},"CAFM","Modell",null,null,"x"]
["421.14",null,"Art der Nutzung Solaranlage",null,null,"IfcText","-","Heizung|Warmwasser|Pufferspeicher|Sonstiges",{"$f":"IF(VLOOKUP(A1033,Klassifizierung!$E$4:$W$577,18,FALSE)=0,\"\",VLOOKUP(A1033,Klassifizierung!$E$4:$W$577,18,FALSE))","v":"TGA-HZ"},"CAFM","Modell",null,null,"x"]
["421.14",null,"Nennleistung",null,null,"IfcReal","kW","Zahl",{"$f":"IF(VLOOKUP(A1034,Klassifizierung!$E$4:$W$577,18,FALSE)=0,\"\",VLOOKUP(A1034,Klassifizierung!$E$4:$W$577,18,FALSE))","v":"TGA-HZ"},"CAFM","Modell",null,null,"x"]
["421.14",null,"Nennspannung",null,null,"IfcReal","V","Zahl",{"$f":"IF(VLOOKUP(A1035,Klassifizierung!$E$4:$W$577,18,FALSE)=0,\"\",VLOOKUP(A1035,Klassifizierung!$E$4:$W$577,18,FALSE))","v":"TGA-HZ"},"CAFM","Modell",null,null,"x"]
["421.14",null,"Module",null,null,"IfcReal","Stück","Zahl",{"$f":"IF(VLOOKUP(A1036,Klassifizierung!$E$4:$W$577,18,FALSE)=0,\"\",VLOOKUP(A1036,Klassifizierung!$E$4:$W$577,18,FALSE))","v":"TGA-HZ"},"CAFM","Modell",null,null,"x"]
["421.14",null,"Typ Kollektor",null,null,"IfcText"," -","Flachkollektor|Röhrenkollektor|Schwimmbadabsorber|Sonderkonstruktion/ Sonstiges",{"$f":"IF(VLOOKUP(A1037,Klassifizierung!$E$4:$W$577,18,FALSE)=0,\"\",VLOOKUP(A1037,Klassifizierung!$E$4:$W$577,18,FALSE))","v":"TGA-HZ"},"CAFM","Modell",null,null,"x"]
["421.14",null,"Kollektorfläche",null,null,"IfcReal","m2","Zahl",{"$f":"IF(VLOOKUP(A1038,Klassifizierung!$E$4:$W$577,18,FALSE)=0,\"\",VLOOKUP(A1038,Klassifizierung!$E$4:$W$577,18,FALSE))","v":"TGA-HZ"},"CAFM","Modell",null,null,"x"]
["421.15",null,"Bauart",null,null,"IfcText"," -","Freitext",{"$f":"IF(VLOOKUP(A1039,Klassifizierung!$E$4:$W$577,18,FALSE)=0,\"\",VLOOKUP(A1039,Klassifizierung!$E$4:$W$577,18,FALSE))","v":"TGA-HZ"},"CAFM","Modell",null,null,"x"]
["421.15",null,"Brennstoff",null,null,"IfcText"," -","Gas|Öl|Gas/Öl|Holz|Pellets",{"$f":"IF(VLOOKUP(A1040,Klassifizierung!$E$4:$W$577,18,FALSE)=0,\"\",VLOOKUP(A1040,Klassifizierung!$E$4:$W$577,18,FALSE))","v":"TGA-HZ"},"CAFM","Modell",null,null,"x"]
["421.15",null,"Leistung elektrisch",null,null,"IfcReal","kW","Zahl",{"$f":"IF(VLOOKUP(A1041,Klassifizierung!$E$4:$W$577,18,FALSE)=0,\"\",VLOOKUP(A1041,Klassifizierung!$E$4:$W$577,18,FALSE))","v":"TGA-HZ"},"CAFM","Modell",null,null,"x"]
["421.15",null,"Leistung thermisch",null,null,"IfcReal","kW","Zahl",{"$f":"IF(VLOOKUP(A1042,Klassifizierung!$E$4:$W$577,18,FALSE)=0,\"\",VLOOKUP(A1042,Klassifizierung!$E$4:$W$577,18,FALSE))","v":"TGA-HZ"},"CAFM","Modell",null,null,"x"]
["421.15",null,"Nennspannung",null,null,"IfcReal","kV","Zahl",{"$f":"IF(VLOOKUP(A1043,Klassifizierung!$E$4:$W$577,18,FALSE)=0,\"\",VLOOKUP(A1043,Klassifizierung!$E$4:$W$577,18,FALSE))","v":"TGA-HZ"},"CAFM","Modell",null,null,"x"]
["421.16",null,"Bauart",null,null,"IfcText"," -","Freitext",{"$f":"IF(VLOOKUP(A1044,Klassifizierung!$E$4:$W$577,18,FALSE)=0,\"\",VLOOKUP(A1044,Klassifizierung!$E$4:$W$577,18,FALSE))","v":"TGA-HZ"},"CAFM","Modell",null,null,"x"]
["421.16",null,"Leistung elektrisch",null,null,"IfcReal","kW","Zahl",{"$f":"IF(VLOOKUP(A1045,Klassifizierung!$E$4:$W$577,18,FALSE)=0,\"\",VLOOKUP(A1045,Klassifizierung!$E$4:$W$577,18,FALSE))","v":"TGA-HZ"},"CAFM","Modell",null,null,"x"]
["421.16",null,"Leistung thermisch",null,null,"IfcReal","kW","Zahl",{"$f":"IF(VLOOKUP(A1046,Klassifizierung!$E$4:$W$577,18,FALSE)=0,\"\",VLOOKUP(A1046,Klassifizierung!$E$4:$W$577,18,FALSE))","v":"TGA-HZ"},"CAFM","Modell",null,null,"x"]
["421.16",null,"Nennspannung",null,null,"IfcReal","kV","Zahl",{"$f":"IF(VLOOKUP(A1047,Klassifizierung!$E$4:$W$577,18,FALSE)=0,\"\",VLOOKUP(A1047,Klassifizierung!$E$4:$W$577,18,FALSE))","v":"TGA-HZ"},"CAFM","Modell",null,null,"x"]
["421.17",null,"Bauart",null,null,"IfcText"," -","Freitext",{"$f":"IF(VLOOKUP(A1048,Klassifizierung!$E$4:$W$577,18,FALSE)=0,\"\",VLOOKUP(A1048,Klassifizierung!$E$4:$W$577,18,FALSE))","v":"TGA-HZ"},"CAFM","Modell",null,null,"x"]
["421.17",null,"Leistung elektrisch",null,null,"IfcReal","kW","Zahl",{"$f":"IF(VLOOKUP(A1049,Klassifizierung!$E$4:$W$577,18,FALSE)=0,\"\",VLOOKUP(A1049,Klassifizierung!$E$4:$W$577,18,FALSE))","v":"TGA-HZ"},"CAFM","Modell",null,null,"x"]
["421.17",null,"Leistung thermisch",null,null,"IfcReal","kW","Zahl",{"$f":"IF(VLOOKUP(A1050,Klassifizierung!$E$4:$W$577,18,FALSE)=0,\"\",VLOOKUP(A1050,Klassifizierung!$E$4:$W$577,18,FALSE))","v":"TGA-HZ"},"CAFM","Modell",null,null,"x"]
["421.17",null,"Nennspannung",null,null,"IfcReal","kV","Zahl",{"$f":"IF(VLOOKUP(A1051,Klassifizierung!$E$4:$W$577,18,FALSE)=0,\"\",VLOOKUP(A1051,Klassifizierung!$E$4:$W$577,18,FALSE))","v":"TGA-HZ"},"CAFM","Modell",null,null,"x"]
["421.17",null,"Elektrischer Anschluss",null,null,"IfcReal","kW","Zahl",{"$f":"IF(VLOOKUP(A1052,Klassifizierung!$E$4:$W$577,18,FALSE)=0,\"\",VLOOKUP(A1052,Klassifizierung!$E$4:$W$577,18,FALSE))","v":"TGA-HZ"},"CAFM","Modell",null,null,"x"]
["421.18",null,"Bauart",null,null,"IfcText","-","Rohrbündelwärmetauscher|Plattenwärmetauscher",{"$f":"IF(VLOOKUP(A1053,Klassifizierung!$E$4:$W$577,18,FALSE)=0,\"\",VLOOKUP(A1053,Klassifizierung!$E$4:$W$577,18,FALSE))","v":"TGA-HZ"},"CAFM","Modell",null,null,"x"]
["421.18",null,"Typ Wärmetauscher",null,null,"IfcText","-","Wasser|Sole|Öl|Wasserdampf|Kältemittel",{"$f":"IF(VLOOKUP(A1054,Klassifizierung!$E$4:$W$577,18,FALSE)=0,\"\",VLOOKUP(A1054,Klassifizierung!$E$4:$W$577,18,FALSE))","v":"TGA-HZ"},"CAFM","Modell",null,null,"x"]
["421.18",null,"Anzahl Abgänge",null,null,"IfcReal","Stück","Zahl",{"$f":"IF(VLOOKUP(A1055,Klassifizierung!$E$4:$W$577,18,FALSE)=0,\"\",VLOOKUP(A1055,Klassifizierung!$E$4:$W$577,18,FALSE))","v":"TGA-HZ"},"CAFM","Modell",null,null,"x"]
["421.18",null,"Anzahl Pumpen",null,null,"IfcReal","Stück","Zahl",{"$f":"IF(VLOOKUP(A1056,Klassifizierung!$E$4:$W$577,18,FALSE)=0,\"\",VLOOKUP(A1056,Klassifizierung!$E$4:$W$577,18,FALSE))","v":"TGA-HZ"},"CAFM","Modell",null,null,"x"]
["421.18",null,"Anzahl Deckenelemente",null,null,"IfcReal","Stück","Zahl",{"$f":"IF(VLOOKUP(A1057,Klassifizierung!$E$4:$W$577,18,FALSE)=0,\"\",VLOOKUP(A1057,Klassifizierung!$E$4:$W$577,18,FALSE))","v":"TGA-HZ"},"CAFM","Modell",null,null,"x"]
["421.19",null,"Bauart",null,null,"IfcText"," -","Freitext",{"$f":"IF(VLOOKUP(A1058,Klassifizierung!$E$4:$W$577,18,FALSE)=0,\"\",VLOOKUP(A1058,Klassifizierung!$E$4:$W$577,18,FALSE))","v":"TGA-HZ"},"CAFM","Modell",null,null,"x"]
["421.19",null,"Leistung elektrisch",null,null,"IfcReal","kW","Zahl",{"$f":"IF(VLOOKUP(A1059,Klassifizierung!$E$4:$W$577,18,FALSE)=0,\"\",VLOOKUP(A1059,Klassifizierung!$E$4:$W$577,18,FALSE))","v":"TGA-HZ"},"CAFM","Modell",null,null,"x"]
["421.19",null,"Nennleistung",null,null,"IfcReal","kW","Zahl",{"$f":"IF(VLOOKUP(A1060,Klassifizierung!$E$4:$W$577,18,FALSE)=0,\"\",VLOOKUP(A1060,Klassifizierung!$E$4:$W$577,18,FALSE))","v":"TGA-HZ"},"CAFM","Modell",null,null,"x"]
["421.19",null,"Nennspannung",null,null,"IfcReal","kV","Zahl",{"$f":"IF(VLOOKUP(A1061,Klassifizierung!$E$4:$W$577,18,FALSE)=0,\"\",VLOOKUP(A1061,Klassifizierung!$E$4:$W$577,18,FALSE))","v":"TGA-HZ"},"CAFM","Modell",null,null,"x"]
["421.19",null,"Tauschertyp",null,null,"IfcText","-","Rohrbündelwärmetauscher|Plattenwärmetauscher",{"$f":"IF(VLOOKUP(A1062,Klassifizierung!$E$4:$W$577,18,FALSE)=0,\"\",VLOOKUP(A1062,Klassifizierung!$E$4:$W$577,18,FALSE))","v":"TGA-HZ"},"CAFM","Modell",null,null,"x"]
["421.21",null,"Bauart",null,null,"IfcText"," -","Freitext",{"$f":"IF(VLOOKUP(A1063,Klassifizierung!$E$4:$W$577,18,FALSE)=0,\"\",VLOOKUP(A1063,Klassifizierung!$E$4:$W$577,18,FALSE))","v":"TGA-HZ"},"CAFM","Modell",null,null,"x"]
["421.21",null,"Nennvolumen (Gefäß)",null,null,"IfcReal","m3","Zahl",{"$f":"IF(VLOOKUP(A1064,Klassifizierung!$E$4:$W$577,18,FALSE)=0,\"\",VLOOKUP(A1064,Klassifizierung!$E$4:$W$577,18,FALSE))","v":"TGA-HZ"},"CAFM","Modell",null,null,"x"]
["421.21",null,"Mögliche Betriebsarten",null,null,"IfcText"," -","passiv / druckreguliert",{"$f":"IF(VLOOKUP(A1065,Klassifizierung!$E$4:$W$577,18,FALSE)=0,\"\",VLOOKUP(A1065,Klassifizierung!$E$4:$W$577,18,FALSE))","v":"TGA-HZ"},"CAFM","Modell",null,null,"x"]
["421.22",null,"Bauart",null,null,"IfcText"," -","Freitext",{"$f":"IF(VLOOKUP(A1066,Klassifizierung!$E$4:$W$577,18,FALSE)=0,\"\",VLOOKUP(A1066,Klassifizierung!$E$4:$W$577,18,FALSE))","v":"TGA-HZ"},"CAFM","Modell",null,null,"x"]
["421.22",null,"Automatische Nachspeisung",null,null,"IfcBoolean"," -","ja|nein",{"$f":"IF(VLOOKUP(A1067,Klassifizierung!$E$4:$W$577,18,FALSE)=0,\"\",VLOOKUP(A1067,Klassifizierung!$E$4:$W$577,18,FALSE))","v":"TGA-HZ"},"CAFM","Modell",null,null,"x"]
["421.22",null,"Nenndruck",null,null,"IfcReal","bar","Zahl",{"$f":"IF(VLOOKUP(A1068,Klassifizierung!$E$4:$W$577,18,FALSE)=0,\"\",VLOOKUP(A1068,Klassifizierung!$E$4:$W$577,18,FALSE))","v":"TGA-HZ"},"CAFM","Modell",null,null,"x"]
["421.23",null,"Bauart",null,null,"IfcText"," -","Freitext",{"$f":"IF(VLOOKUP(A1069,Klassifizierung!$E$4:$W$577,18,FALSE)=0,\"\",VLOOKUP(A1069,Klassifizierung!$E$4:$W$577,18,FALSE))","v":"TGA-HZ"},"CAFM","Modell",null,null,"x"]
["421.23",null,"Nennleistung",null,null,"IfcReal","kW","Zahl",{"$f":"IF(VLOOKUP(A1070,Klassifizierung!$E$4:$W$577,18,FALSE)=0,\"\",VLOOKUP(A1070,Klassifizierung!$E$4:$W$577,18,FALSE))","v":"TGA-HZ"},"CAFM","Modell",null,null,"x"]
["421.23",null,"Nenndruck",null,null,"IfcReal","bar","Zahl",{"$f":"IF(VLOOKUP(A1071,Klassifizierung!$E$4:$W$577,18,FALSE)=0,\"\",VLOOKUP(A1071,Klassifizierung!$E$4:$W$577,18,FALSE))","v":"TGA-HZ"},"CAFM","Modell",null,null,"x"]
["421.23",null,"Kühlung ",null,null,"IfcText"," -","Umgebungsluft / Wärmerückgewinnung",{"$f":"IF(VLOOKUP(A1072,Klassifizierung!$E$4:$W$577,18,FALSE)=0,\"\",VLOOKUP(A1072,Klassifizierung!$E$4:$W$577,18,FALSE))","v":"TGA-HZ"},"CAFM","Modell",null,null,"x"]
["421.24",null,"Bauart",null,null,"IfcText"," -","Freitext",{"$f":"IF(VLOOKUP(A1073,Klassifizierung!$E$4:$W$577,18,FALSE)=0,\"\",VLOOKUP(A1073,Klassifizierung!$E$4:$W$577,18,FALSE))","v":"TGA-HZ"},"CAFM","Modell",null,null,"x"]
["421.24",null,"Anzahl Abgänge",null,null,"IfcReal","Stück","Zahl",{"$f":"IF(VLOOKUP(A1074,Klassifizierung!$E$4:$W$577,18,FALSE)=0,\"\",VLOOKUP(A1074,Klassifizierung!$E$4:$W$577,18,FALSE))","v":"TGA-HZ"},"CAFM","Modell",null,null,"x"]
["421.31",null,"Bauart",null,null,"IfcText"," -","Ölbrenner|Gasbrenner|Straubverfeuerung|Kombibrenner (Gas/Öl)",{"$f":"IF(VLOOKUP(A1075,Klassifizierung!$E$4:$W$577,18,FALSE)=0,\"\",VLOOKUP(A1075,Klassifizierung!$E$4:$W$577,18,FALSE))","v":"TGA-HZ"},"CAFM","Modell",null,null,"x"]
["421.31",null,"Brennstoff",null,null,"IfcText"," -","Gas|Öl|Gas/öl|Kohlestraub",{"$f":"IF(VLOOKUP(A1076,Klassifizierung!$E$4:$W$577,18,FALSE)=0,\"\",VLOOKUP(A1076,Klassifizierung!$E$4:$W$577,18,FALSE))","v":"TGA-HZ"},"CAFM","Modell",null,null,"x"]
["421.31",null,"Nennleistung",null,null,"IfcReal","kW","Zahl",{"$f":"IF(VLOOKUP(A1077,Klassifizierung!$E$4:$W$577,18,FALSE)=0,\"\",VLOOKUP(A1077,Klassifizierung!$E$4:$W$577,18,FALSE))","v":"TGA-HZ"},"CAFM","Modell",null,null,"x"]
["421.31",null,"Integriertes Gebläse",null,null,"IfcBoolean"," -","ja|nein",{"$f":"IF(VLOOKUP(A1078,Klassifizierung!$E$4:$W$577,18,FALSE)=0,\"\",VLOOKUP(A1078,Klassifizierung!$E$4:$W$577,18,FALSE))","v":"TGA-HZ"},"CAFM","Modell",null,null,"x"]
["421.36",null,"Brennstoff",null,null,"IfcText","-","Gas|Öl",{"$f":"IF(VLOOKUP(A1079,Klassifizierung!$E$4:$W$577,18,FALSE)=0,\"\",VLOOKUP(A1079,Klassifizierung!$E$4:$W$577,18,FALSE))","v":""},"CAFM","Modell",null,null,"x"]
["421.36",null,"Leistung thermisch",null,null,"IfcReal","kW","Zahl",{"$f":"IF(VLOOKUP(A1080,Klassifizierung!$E$4:$W$577,18,FALSE)=0,\"\",VLOOKUP(A1080,Klassifizierung!$E$4:$W$577,18,FALSE))","v":""},"CAFM","Modell",null,null,"x"]
["421.41",null,"Bauart",null,null,"IfcText","-","Einschalig|Mehrschalig",{"$f":"IF(VLOOKUP(A1081,Klassifizierung!$E$4:$W$577,18,FALSE)=0,\"\",VLOOKUP(A1081,Klassifizierung!$E$4:$W$577,18,FALSE))","v":"TGA-HZ"},"CAFM","Modell",null,null,"x"]
["421.41",null,"Material",null,null,"IfcText","-","Kunststoff|Stahl|Edelstahl (nicht rostender Stahl)|Gemauert|Sonstiges",{"$f":"IF(VLOOKUP(A1082,Klassifizierung!$E$4:$W$577,18,FALSE)=0,\"\",VLOOKUP(A1082,Klassifizierung!$E$4:$W$577,18,FALSE))","v":"TGA-HZ"},"CAFM","Modell",null,null,"x"]
["421.41",null,"Laufmeter",null,null,"IfcReal","m","Zahl",{"$f":"IF(VLOOKUP(A1083,Klassifizierung!$E$4:$W$577,18,FALSE)=0,\"\",VLOOKUP(A1083,Klassifizierung!$E$4:$W$577,18,FALSE))","v":"TGA-HZ"},"CAFM","Modell",null,null,"x"]
["421.41",null,"Durchmesser",null,null,"IfcReal","m","Zahl",{"$f":"IF(VLOOKUP(A1084,Klassifizierung!$E$4:$W$577,18,FALSE)=0,\"\",VLOOKUP(A1084,Klassifizierung!$E$4:$W$577,18,FALSE))","v":"TGA-HZ"},"CAFM","Modell",null,null,"x"]
["421.41",null,"Nenndurchfluss",null,null,"IfcReal","m3/h","Zahl",{"$f":"IF(VLOOKUP(A1085,Klassifizierung!$E$4:$W$577,18,FALSE)=0,\"\",VLOOKUP(A1085,Klassifizierung!$E$4:$W$577,18,FALSE))","v":"TGA-HZ"},"CAFM","Modell",null,null,"x"]
["421.42",null,"Bauart",null,null,"IfcText"," -","Freitext",{"$f":"IF(VLOOKUP(A1086,Klassifizierung!$E$4:$W$577,18,FALSE)=0,\"\",VLOOKUP(A1086,Klassifizierung!$E$4:$W$577,18,FALSE))","v":"TGA-HZ"},"CAFM","Modell",null,null,"x"]
["421.42",null,"Durchmesser",null,null,"IfcReal","cm","Zahl",{"$f":"IF(VLOOKUP(A1087,Klassifizierung!$E$4:$W$577,18,FALSE)=0,\"\",VLOOKUP(A1087,Klassifizierung!$E$4:$W$577,18,FALSE))","v":"TGA-HZ"},"CAFM","Modell",null,null,"x"]
["421.43",null,"Bauart",null,null,"IfcText"," -","Freitext",{"$f":"IF(VLOOKUP(A1088,Klassifizierung!$E$4:$W$577,18,FALSE)=0,\"\",VLOOKUP(A1088,Klassifizierung!$E$4:$W$577,18,FALSE))","v":"TGA-HZ"},"CAFM","Modell",null,null,"x"]
["421.43",null,"Luftleistung",null,null,"IfcReal","kW","Zahl",{"$f":"IF(VLOOKUP(A1089,Klassifizierung!$E$4:$W$577,18,FALSE)=0,\"\",VLOOKUP(A1089,Klassifizierung!$E$4:$W$577,18,FALSE))","v":"TGA-HZ"},"CAFM","Modell",null,null,"x"]
["421.43",null,"Typ Wärmetauscher",null,null,"IfcText","-","Rohrbündelwärmetauscher|Plattenwärmetauscher",{"$f":"IF(VLOOKUP(A1090,Klassifizierung!$E$4:$W$577,18,FALSE)=0,\"\",VLOOKUP(A1090,Klassifizierung!$E$4:$W$577,18,FALSE))","v":"TGA-HZ"},"CAFM","Modell",null,null,"x"]
["421.43",null,"Typ Filter ",null,null,"IfcText","-","Filterklasse",{"$f":"IF(VLOOKUP(A1091,Klassifizierung!$E$4:$W$577,18,FALSE)=0,\"\",VLOOKUP(A1091,Klassifizierung!$E$4:$W$577,18,FALSE))","v":"TGA-HZ"},"CAFM","Modell",null,null,"x"]
["421.44",null,"Beschreibung",null,null,"IfcText"," -","Freitext",{"$f":"IF(VLOOKUP(A1092,Klassifizierung!$E$4:$W$577,18,FALSE)=0,\"\",VLOOKUP(A1092,Klassifizierung!$E$4:$W$577,18,FALSE))","v":"TGA-HZ"},"CAFM","Modell",null,null,"x"]
["421.44",null,"Anzahl Endpunkte",null,null,"IfcReal","Stück","Zahl",{"$f":"IF(VLOOKUP(A1093,Klassifizierung!$E$4:$W$577,18,FALSE)=0,\"\",VLOOKUP(A1093,Klassifizierung!$E$4:$W$577,18,FALSE))","v":"TGA-HZ"},"CAFM","Modell",null,null,"x"]
["421.45",null,"Bauart",null,null,"IfcText"," -","Freitext",{"$f":"IF(VLOOKUP(A1094,Klassifizierung!$E$4:$W$577,18,FALSE)=0,\"\",VLOOKUP(A1094,Klassifizierung!$E$4:$W$577,18,FALSE))","v":"TGA-HZ"},"CAFM","Modell",null,null,"x"]
["421.45",null,"Optimaler Volumenstrom",null,null,"IfcReal","m3/h","Zahl",{"$f":"IF(VLOOKUP(A1095,Klassifizierung!$E$4:$W$577,18,FALSE)=0,\"\",VLOOKUP(A1095,Klassifizierung!$E$4:$W$577,18,FALSE))","v":"TGA-HZ"},"CAFM","Modell",null,null,"x"]
["421.45",null,"Explosionsgeschützt",null,null,"IfcBoolean"," -","ja|nein",{"$f":"IF(VLOOKUP(A1096,Klassifizierung!$E$4:$W$577,18,FALSE)=0,\"\",VLOOKUP(A1096,Klassifizierung!$E$4:$W$577,18,FALSE))","v":"TGA-HZ"},"CAFM","Modell",null,null,"x"]
["421.45",null,"Nennleistung",null,null,"IfcReal","kW","Zahl",{"$f":"IF(VLOOKUP(A1097,Klassifizierung!$E$4:$W$577,18,FALSE)=0,\"\",VLOOKUP(A1097,Klassifizierung!$E$4:$W$577,18,FALSE))","v":"TGA-HZ"},"CAFM","Modell",null,null,"x"]
["421.45",null,"Nennspannung",null,null,"IfcReal","V","Zahl",{"$f":"IF(VLOOKUP(A1098,Klassifizierung!$E$4:$W$577,18,FALSE)=0,\"\",VLOOKUP(A1098,Klassifizierung!$E$4:$W$577,18,FALSE))","v":"TGA-HZ"},"CAFM","Modell",null,null,"x"]
["421.46",null,"Bauart",null,null,"IfcText","-","dreischalige Schornsteine (Mantelstein, Dämmung u. Innenrohr)|zweischalige Schornsteine (Schacht mit Innenrohr)|doppelwandige Edelstahl-Schornsteine (dreischalig)|einschalige Schornsteine (mineralischen Schacht)",{"$f":"IF(VLOOKUP(A1099,Klassifizierung!$E$4:$W$577,18,FALSE)=0,\"\",VLOOKUP(A1099,Klassifizierung!$E$4:$W$577,18,FALSE))","v":"TGA-HZ"},"CAFM","Modell",null,null,"x"]
["421.46",null,"Höhe",null,null,"IfcReal","cm","Zahl",{"$f":"IF(VLOOKUP(A1100,Klassifizierung!$E$4:$W$577,18,FALSE)=0,\"\",VLOOKUP(A1100,Klassifizierung!$E$4:$W$577,18,FALSE))","v":"TGA-HZ"},"CAFM","Modell",null,null,"x"]
["421.46",null,"Material",null,null,"IfcText"," -","Freitext",{"$f":"IF(VLOOKUP(A1101,Klassifizierung!$E$4:$W$577,18,FALSE)=0,\"\",VLOOKUP(A1101,Klassifizierung!$E$4:$W$577,18,FALSE))","v":"TGA-HZ"},"CAFM","Modell",null,null,"x"]
["421.47",null,"Bauart",null,null,"IfcText"," -","Freitext",{"$f":"IF(VLOOKUP(A1102,Klassifizierung!$E$4:$W$577,18,FALSE)=0,\"\",VLOOKUP(A1102,Klassifizierung!$E$4:$W$577,18,FALSE))","v":"TGA-HZ"},"CAFM","Modell",null,null,"x"]
["421.47",null,"Kondensatpumpe",null,null,"IfcBoolean"," -","ja|nein",{"$f":"IF(VLOOKUP(A1103,Klassifizierung!$E$4:$W$577,18,FALSE)=0,\"\",VLOOKUP(A1103,Klassifizierung!$E$4:$W$577,18,FALSE))","v":"TGA-HZ"},"CAFM","Modell",null,null,"x"]
["421.47",null,"Nenndurchfluss",null,null,"IfcReal","m3/h","Zahl",{"$f":"IF(VLOOKUP(A1104,Klassifizierung!$E$4:$W$577,18,FALSE)=0,\"\",VLOOKUP(A1104,Klassifizierung!$E$4:$W$577,18,FALSE))","v":"TGA-HZ"},"CAFM","Modell",null,null,"x"]
["421.48",null,"Beschreibung",null,null,"IfcText"," -","Freitext",{"$f":"IF(VLOOKUP(A1105,Klassifizierung!$E$4:$W$577,18,FALSE)=0,\"\",VLOOKUP(A1105,Klassifizierung!$E$4:$W$577,18,FALSE))","v":"TGA-HZ"},"CAFM","Modell",null,null,"x"]
["421.48",null,"Zähler Typ",null,null,"IfcText"," -","Freitext",{"$f":"IF(VLOOKUP(A1106,Klassifizierung!$E$4:$W$577,18,FALSE)=0,\"\",VLOOKUP(A1106,Klassifizierung!$E$4:$W$577,18,FALSE))","v":"TGA-HZ"},"CAFM","Modell",null,null,"x"]
["421.48",null,"Anzahl Zähler",null,null,"IfcReal","Stück","Zahl",{"$f":"IF(VLOOKUP(A1107,Klassifizierung!$E$4:$W$577,18,FALSE)=0,\"\",VLOOKUP(A1107,Klassifizierung!$E$4:$W$577,18,FALSE))","v":"TGA-HZ"},"CAFM","Modell",null,null,"x"]
["421.50",null,"Beschreibung",null,null,"IfcText"," -","Freitext",{"$f":"IF(VLOOKUP(A1108,Klassifizierung!$E$4:$W$577,18,FALSE)=0,\"\",VLOOKUP(A1108,Klassifizierung!$E$4:$W$577,18,FALSE))","v":"TGA-HZ"},"CAFM","Modell",null,null,"x"]
["421.50",null,"Beheizungsart",null,null,"IfcText"," -","Rohrbündel innenliegend|Speicher-/ Ladesystem|Direktbefeuert|elektrisch|sonstige",{"$f":"IF(VLOOKUP(A1109,Klassifizierung!$E$4:$W$577,18,FALSE)=0,\"\",VLOOKUP(A1109,Klassifizierung!$E$4:$W$577,18,FALSE))","v":"TGA-HZ"},"CAFM","Modell",null,null,"x"]
["421.50",null,"Elektrische Anschlussleistung",null,null,"IfcReal","kW","Zahl",{"$f":"IF(VLOOKUP(A1110,Klassifizierung!$E$4:$W$577,18,FALSE)=0,\"\",VLOOKUP(A1110,Klassifizierung!$E$4:$W$577,18,FALSE))","v":"TGA-HZ"},"CAFM","Modell",null,null,"x"]
["421.50",null,"Erwärmungszweck",null,null,"IfcText","-","Freitext",{"$f":"IF(VLOOKUP(A1111,Klassifizierung!$E$4:$W$577,18,FALSE)=0,\"\",VLOOKUP(A1111,Klassifizierung!$E$4:$W$577,18,FALSE))","v":"TGA-HZ"},"CAFM","Modell",null,null,"x"]
["421.50",null,"Leistung thermisch",null,null,"IfcReal","kW","Zahl",{"$f":"IF(VLOOKUP(A1112,Klassifizierung!$E$4:$W$577,18,FALSE)=0,\"\",VLOOKUP(A1112,Klassifizierung!$E$4:$W$577,18,FALSE))","v":"TGA-HZ"},"CAFM","Modell",null,null,"x"]
["421.50",null,"Nenndruck",null,null,"IfcReal","bar","Zahl",{"$f":"IF(VLOOKUP(A1113,Klassifizierung!$E$4:$W$577,18,FALSE)=0,\"\",VLOOKUP(A1113,Klassifizierung!$E$4:$W$577,18,FALSE))","v":"TGA-HZ"},"CAFM","Modell",null,null,"x"]
["421.50",null,"Speicherart",null,null,"IfcText"," -","Trinkwasser|Heizungswasser|Trinkwasser/Heizungswasser|Elektro-Warmwasser|Frischwasserstationen|Durchlauferhitzer",{"$f":"IF(VLOOKUP(A1114,Klassifizierung!$E$4:$W$577,18,FALSE)=0,\"\",VLOOKUP(A1114,Klassifizierung!$E$4:$W$577,18,FALSE))","v":"TGA-HZ"},"CAFM","Modell",null,null,"x"]
["421.50",null,"Speicherinhalt",null,null,"IfcReal","m3","Zahl",{"$f":"IF(VLOOKUP(A1115,Klassifizierung!$E$4:$W$577,18,FALSE)=0,\"\",VLOOKUP(A1115,Klassifizierung!$E$4:$W$577,18,FALSE))","v":"TGA-HZ"},"CAFM","Modell",null,null,"x"]
["421.50",null,"Vorgeschaltetes Membranausdehnungsgefäß",null,null,"IfcBoolean"," -","ja|nein",{"$f":"IF(VLOOKUP(A1116,Klassifizierung!$E$4:$W$577,18,FALSE)=0,\"\",VLOOKUP(A1116,Klassifizierung!$E$4:$W$577,18,FALSE))","v":"TGA-HZ"},"CAFM","Modell",null,null,"x"]
["421.60",null,"Beschreibung",null,null,"IfcText"," -","Freitext",{"$f":"IF(VLOOKUP(A1117,Klassifizierung!$E$4:$W$577,18,FALSE)=0,\"\",VLOOKUP(A1117,Klassifizierung!$E$4:$W$577,18,FALSE))","v":"TGA-HZ"},"CAFM","Modell",null,null,"x"]
["421.71",null,"Beschreibung",null,null,"IfcText"," -","Freitext",{"$f":"IF(VLOOKUP(A1118,Klassifizierung!$E$4:$W$577,18,FALSE)=0,\"\",VLOOKUP(A1118,Klassifizierung!$E$4:$W$577,18,FALSE))","v":"TGA-HZ"},"CAFM","Modell",null,null,"x"]
["421.71",null,"Nennleistung",null,null,"IfcReal","kW","Zahl",{"$f":"IF(VLOOKUP(A1119,Klassifizierung!$E$4:$W$577,18,FALSE)=0,\"\",VLOOKUP(A1119,Klassifizierung!$E$4:$W$577,18,FALSE))","v":"TGA-HZ"},"CAFM","Modell",null,null,"x"]
["421.71",null,"Nennspannung ",null,null,"IfcReal","V","Zahl",{"$f":"IF(VLOOKUP(A1120,Klassifizierung!$E$4:$W$577,18,FALSE)=0,\"\",VLOOKUP(A1120,Klassifizierung!$E$4:$W$577,18,FALSE))","v":"TGA-HZ"},"CAFM","Modell",null,null,"x"]
["421.71",null,"Explosionsgeschützt",null,null,"IfcBoolean"," -","ja|nein",{"$f":"IF(VLOOKUP(A1121,Klassifizierung!$E$4:$W$577,18,FALSE)=0,\"\",VLOOKUP(A1121,Klassifizierung!$E$4:$W$577,18,FALSE))","v":"TGA-HZ"},"CAFM","Modell",null,null,"x"]
["421.72",null,"Beschreibung",null,null,"IfcText"," -","Freitext",{"$f":"IF(VLOOKUP(A1122,Klassifizierung!$E$4:$W$577,18,FALSE)=0,\"\",VLOOKUP(A1122,Klassifizierung!$E$4:$W$577,18,FALSE))","v":"TGA-HZ"},"CAFM","Modell",null,null,"x"]
["421.73",null,"Beschreibung",null,null,"IfcText"," -","Freitext",{"$f":"IF(VLOOKUP(A1123,Klassifizierung!$E$4:$W$577,18,FALSE)=0,\"\",VLOOKUP(A1123,Klassifizierung!$E$4:$W$577,18,FALSE))","v":"TGA-HZ"},"CAFM","Modell",null,null,"x"]
["421.74",null,"Beschreibung",null,null,"IfcText"," -","Freitext",{"$f":"IF(VLOOKUP(A1124,Klassifizierung!$E$4:$W$577,18,FALSE)=0,\"\",VLOOKUP(A1124,Klassifizierung!$E$4:$W$577,18,FALSE))","v":"TGA-HZ"},"CAFM","Modell",null,null,"x"]
["421.75",null,"Beschreibung",null,null,"IfcText"," -","Freitext",{"$f":"IF(VLOOKUP(A1125,Klassifizierung!$E$4:$W$577,18,FALSE)=0,\"\",VLOOKUP(A1125,Klassifizierung!$E$4:$W$577,18,FALSE))","v":"TGA-HZ"},"CAFM","Modell",null,null,"x"]
["421.90",null,"Bauart",null,null,"IfcText"," -","Freitext",{"$f":"IF(VLOOKUP(A1126,Klassifizierung!$E$4:$W$577,18,FALSE)=0,\"\",VLOOKUP(A1126,Klassifizierung!$E$4:$W$577,18,FALSE))","v":"TGA-HZ"},"CAFM","Modell",null,null,"x"]
["421.90",null,"Aufstellung",null,null,"IfcText","-","Erdeinbau|Freiaufstellung",{"$f":"IF(VLOOKUP(A1127,Klassifizierung!$E$4:$W$577,18,FALSE)=0,\"\",VLOOKUP(A1127,Klassifizierung!$E$4:$W$577,18,FALSE))","v":"TGA-HZ"},"CAFM","Modell",null,null,"x"]
["421.90",null,"Anzahl Behälter",null,null,"IfcReal","Stück","Zahl",{"$f":"IF(VLOOKUP(A1128,Klassifizierung!$E$4:$W$577,18,FALSE)=0,\"\",VLOOKUP(A1128,Klassifizierung!$E$4:$W$577,18,FALSE))","v":"TGA-HZ"},"CAFM","Modell",null,null,"x"]
["421.90",null,"Lagermenge",null,null,"IfcText","-","Heizölläger < 10.000 l|Heizölläger >10.000 l",{"$f":"IF(VLOOKUP(A1129,Klassifizierung!$E$4:$W$577,18,FALSE)=0,\"\",VLOOKUP(A1129,Klassifizierung!$E$4:$W$577,18,FALSE))","v":"TGA-HZ"},"CAFM","Modell",null,null,"x"]
["421.90",null,"Brennstoffart",null,null,"IfcText"," -","Freitext",{"$f":"IF(VLOOKUP(A1130,Klassifizierung!$E$4:$W$577,18,FALSE)=0,\"\",VLOOKUP(A1130,Klassifizierung!$E$4:$W$577,18,FALSE))","v":"TGA-HZ"},"CAFM","Modell",null,null,"x"]
["422.81",null,"Bauart",null,null,"IfcText","-","Einpumpenanlage|Doppelpumpenanlage (parallel)|Mehrpumpenanlage (parallel)",{"$f":"IF(VLOOKUP(A1131,Klassifizierung!$E$4:$W$577,18,FALSE)=0,\"\",VLOOKUP(A1131,Klassifizierung!$E$4:$W$577,18,FALSE))","v":"TGA-HZ"},"CAFM","Modell",null,null,"x"]
["422.81",null,"Nenndruck",null,null,"IfcReal","bar","Zahl",{"$f":"IF(VLOOKUP(A1132,Klassifizierung!$E$4:$W$577,18,FALSE)=0,\"\",VLOOKUP(A1132,Klassifizierung!$E$4:$W$577,18,FALSE))","v":"TGA-HZ"},"CAFM","Modell",null,null,"x"]
["422.81",null,"Maximalvolumenstrom",null,null,"IfcReal","m3/h","Zahl",{"$f":"IF(VLOOKUP(A1133,Klassifizierung!$E$4:$W$577,18,FALSE)=0,\"\",VLOOKUP(A1133,Klassifizierung!$E$4:$W$577,18,FALSE))","v":"TGA-HZ"},"CAFM","Modell",null,null,"x"]
["422.81",null,"Nennleistung",null,null,"IfcReal","kW","Zahl",{"$f":"IF(VLOOKUP(A1134,Klassifizierung!$E$4:$W$577,18,FALSE)=0,\"\",VLOOKUP(A1134,Klassifizierung!$E$4:$W$577,18,FALSE))","v":"TGA-HZ"},"CAFM","Modell",null,null,"x"]
["422.81",null,"Mögliche Betriebsarten",null,null,"IfcText"," -","einfach / druckreguliert",{"$f":"IF(VLOOKUP(A1135,Klassifizierung!$E$4:$W$577,18,FALSE)=0,\"\",VLOOKUP(A1135,Klassifizierung!$E$4:$W$577,18,FALSE))","v":"TGA-HZ"},"CAFM","Modell",null,null,"x"]
["422.82",null,"Armaturentyp",null,null,"IfcText","-","Absperr- und Regelarmaturen|Sicherungs- und Sicherheitsarmaturen",{"$f":"IF(VLOOKUP(A1136,Klassifizierung!$E$4:$W$577,18,FALSE)=0,\"\",VLOOKUP(A1136,Klassifizierung!$E$4:$W$577,18,FALSE))","v":"TGA-HZ"},"CAFM","Modell",null,null,"x"]
["422.83",null,"Bauart",null,null,"IfcText"," -","Freitext",{"$f":"IF(VLOOKUP(A1137,Klassifizierung!$E$4:$W$577,18,FALSE)=0,\"\",VLOOKUP(A1137,Klassifizierung!$E$4:$W$577,18,FALSE))","v":"TGA-HZ"},"CAFM","Modell",null,null,"x"]
["422.84",null,"Begleitheizung",null,null,"IfcBoolean"," -","ja|nein",{"$f":"IF(VLOOKUP(A1138,Klassifizierung!$E$4:$W$577,18,FALSE)=0,\"\",VLOOKUP(A1138,Klassifizierung!$E$4:$W$577,18,FALSE))","v":"TGA-HZ"},"CAFM","Modell",null,null,"x"]
["422.84",null,"Material",null,null,"IfcText","-","Grauguss|Kupfer|Kunststoff|Glas|Stahl|Edelstahl (nicht rostender Stahl)",{"$f":"IF(VLOOKUP(A1139,Klassifizierung!$E$4:$W$577,18,FALSE)=0,\"\",VLOOKUP(A1139,Klassifizierung!$E$4:$W$577,18,FALSE))","v":"TGA-HZ"},"CAFM","Modell",null,null,"x"]
["422.84",null,"Laufmeter",null,null,"IfcReal","m","Zahl",{"$f":"IF(VLOOKUP(A1140,Klassifizierung!$E$4:$W$577,18,FALSE)=0,\"\",VLOOKUP(A1140,Klassifizierung!$E$4:$W$577,18,FALSE))","v":"TGA-HZ"},"CAFM","Modell",null,null,"x"]
["423.16",null,"Bauart",null,null,"IfcText"," -","Freitext",{"$f":"IF(VLOOKUP(A1141,Klassifizierung!$E$4:$W$577,18,FALSE)=0,\"\",VLOOKUP(A1141,Klassifizierung!$E$4:$W$577,18,FALSE))","v":"TGA-HZ"},"CAFM","Modell",null,null,"x"]
["423.16",null,"Anzahl Endpunkte",null,null,"IfcReal","Stück","Zahl",{"$f":"IF(VLOOKUP(A1142,Klassifizierung!$E$4:$W$577,18,FALSE)=0,\"\",VLOOKUP(A1142,Klassifizierung!$E$4:$W$577,18,FALSE))","v":"TGA-HZ"},"CAFM","Modell",null,null,"x"]
["423.17",null,"Heizkörperart",null,null,"IfcText","-","Flachheizkörper|Bad-Heizkörper|Gliederheizkörper|Konvektoren|Gebläsekonvektoren|Heizwände|Designheizkörper|Elektroheizkörper",{"$f":"IF(VLOOKUP(A1143,Klassifizierung!$E$4:$W$577,18,FALSE)=0,\"\",VLOOKUP(A1143,Klassifizierung!$E$4:$W$577,18,FALSE))","v":"TGA-HZ"},"CAFM","Modell",null,null,"x"]
["423.17",null,"Nennleistung",null,null,"IfcReal","kW","Zahl",{"$f":"IF(VLOOKUP(A1144,Klassifizierung!$E$4:$W$577,18,FALSE)=0,\"\",VLOOKUP(A1144,Klassifizierung!$E$4:$W$577,18,FALSE))","v":"TGA-HZ"},"CAFM","Modell",null,null,"x"]
["423.17",null,"Funktionsart ",null,null,"IfcText"," -","passiv / aktiv mit Ventilator",{"$f":"IF(VLOOKUP(A1145,Klassifizierung!$E$4:$W$577,18,FALSE)=0,\"\",VLOOKUP(A1145,Klassifizierung!$E$4:$W$577,18,FALSE))","v":"TGA-HZ"},"CAFM","Modell",null,null,"x"]
["423.18",null,"Bauart",null,null,"IfcText"," -","Freitext",{"$f":"IF(VLOOKUP(A1146,Klassifizierung!$E$4:$W$577,18,FALSE)=0,\"\",VLOOKUP(A1146,Klassifizierung!$E$4:$W$577,18,FALSE))","v":"TGA-HZ"},"CAFM","Modell",null,null,"x"]
["423.18",null,"Nennleistung",null,null,"IfcReal","kW","Zahl",{"$f":"IF(VLOOKUP(A1147,Klassifizierung!$E$4:$W$577,18,FALSE)=0,\"\",VLOOKUP(A1147,Klassifizierung!$E$4:$W$577,18,FALSE))","v":"TGA-HZ"},"CAFM","Modell",null,null,"x"]
["423.18",null,"Heizfläche ",null,null,"IfcReal","m2","Zahl",{"$f":"IF(VLOOKUP(A1148,Klassifizierung!$E$4:$W$577,18,FALSE)=0,\"\",VLOOKUP(A1148,Klassifizierung!$E$4:$W$577,18,FALSE))","v":"TGA-HZ"},"CAFM","Modell",null,null,"x"]
["430.10",null,"Bauart",null,null,"IfcText","-","Zuluftventilator|Abluftventilator",{"$f":"IF(VLOOKUP(A1149,Klassifizierung!$E$4:$W$577,18,FALSE)=0,\"\",VLOOKUP(A1149,Klassifizierung!$E$4:$W$577,18,FALSE))","v":"TGA-LÜ"},"CAFM","Modell",null,null,"x"]
["430.10",null,"Drehzahlregelung",null,null,"IfcText"," -","Freitext",{"$f":"IF(VLOOKUP(A1150,Klassifizierung!$E$4:$W$577,18,FALSE)=0,\"\",VLOOKUP(A1150,Klassifizierung!$E$4:$W$577,18,FALSE))","v":"TGA-LÜ"},"CAFM","Modell",null,null,"x"]
["430.10",null,"Geräteausführung",null,null,"IfcText"," -","Freitext",{"$f":"IF(VLOOKUP(A1151,Klassifizierung!$E$4:$W$577,18,FALSE)=0,\"\",VLOOKUP(A1151,Klassifizierung!$E$4:$W$577,18,FALSE))","v":"TGA-LÜ"},"CAFM","Modell",null,null,"x"]
["430.10",null,"Optimaler Volumenstrom",null,null,"IfcReal","m3/h","Zahl",{"$f":"IF(VLOOKUP(A1152,Klassifizierung!$E$4:$W$577,18,FALSE)=0,\"\",VLOOKUP(A1152,Klassifizierung!$E$4:$W$577,18,FALSE))","v":"TGA-LÜ"},"CAFM","Modell",null,null,"x"]
["430.10",null,"Nennleistung",null,null,"IfcReal","kW","Zahl",{"$f":"IF(VLOOKUP(A1153,Klassifizierung!$E$4:$W$577,18,FALSE)=0,\"\",VLOOKUP(A1153,Klassifizierung!$E$4:$W$577,18,FALSE))","v":"TGA-LÜ"},"CAFM","Modell",null,null,"x"]
["430.10",null,"Nennspannung",null,null,"IfcReal","V","Zahl",{"$f":"IF(VLOOKUP(A1154,Klassifizierung!$E$4:$W$577,18,FALSE)=0,\"\",VLOOKUP(A1154,Klassifizierung!$E$4:$W$577,18,FALSE))","v":"TGA-LÜ"},"CAFM","Modell",null,null,"x"]
["430.21",null,"Beschreibung",null,null,"IfcText"," -","Freitext",{"$f":"IF(VLOOKUP(A1155,Klassifizierung!$E$4:$W$577,18,FALSE)=0,\"\",VLOOKUP(A1155,Klassifizierung!$E$4:$W$577,18,FALSE))","v":"TGA-LÜ"},"CAFM","Modell",null,null,"x"]
["430.21",null,"Thermische Leistung",null,null,"IfcReal","kW","Zahl",{"$f":"IF(VLOOKUP(A1156,Klassifizierung!$E$4:$W$577,18,FALSE)=0,\"\",VLOOKUP(A1156,Klassifizierung!$E$4:$W$577,18,FALSE))","v":"TGA-LÜ"},"CAFM","Modell",null,null,"x"]
["430.22",null,"Beschreibung",null,null,"IfcText"," -","Freitext",{"$f":"IF(VLOOKUP(A1157,Klassifizierung!$E$4:$W$577,18,FALSE)=0,\"\",VLOOKUP(A1157,Klassifizierung!$E$4:$W$577,18,FALSE))","v":"TGA-LÜ"},"CAFM","Modell",null,null,"x"]
["430.22",null,"Thermische Leistung",null,null,"IfcReal","kW","Zahl",{"$f":"IF(VLOOKUP(A1158,Klassifizierung!$E$4:$W$577,18,FALSE)=0,\"\",VLOOKUP(A1158,Klassifizierung!$E$4:$W$577,18,FALSE))","v":"TGA-LÜ"},"CAFM","Modell",null,null,"x"]
["430.22",null,"Elektrische Leistung",null,null,"IfcReal","kW","Zahl",{"$f":"IF(VLOOKUP(A1159,Klassifizierung!$E$4:$W$577,18,FALSE)=0,\"\",VLOOKUP(A1159,Klassifizierung!$E$4:$W$577,18,FALSE))","v":"TGA-LÜ"},"CAFM","Modell",null,null,"x"]
["430.22",null,"Nennspannung",null,null,"IfcReal","V","Zahl",{"$f":"IF(VLOOKUP(A1160,Klassifizierung!$E$4:$W$577,18,FALSE)=0,\"\",VLOOKUP(A1160,Klassifizierung!$E$4:$W$577,18,FALSE))","v":"TGA-LÜ"},"CAFM","Modell",null,null,"x"]
["430.23",null,"Beschreibung",null,null,"IfcText"," -","Freitext",{"$f":"IF(VLOOKUP(A1161,Klassifizierung!$E$4:$W$577,18,FALSE)=0,\"\",VLOOKUP(A1161,Klassifizierung!$E$4:$W$577,18,FALSE))","v":"TGA-LÜ"},"CAFM","Modell",null,null,"x"]
["430.23",null,"Thermische Leistung",null,null,"IfcReal","kW","Zahl",{"$f":"IF(VLOOKUP(A1162,Klassifizierung!$E$4:$W$577,18,FALSE)=0,\"\",VLOOKUP(A1162,Klassifizierung!$E$4:$W$577,18,FALSE))","v":"TGA-LÜ"},"CAFM","Modell",null,null,"x"]
["430.23",null,"Elektrische Leistung",null,null,"IfcReal","kW","Zahl",{"$f":"IF(VLOOKUP(A1163,Klassifizierung!$E$4:$W$577,18,FALSE)=0,\"\",VLOOKUP(A1163,Klassifizierung!$E$4:$W$577,18,FALSE))","v":"TGA-LÜ"},"CAFM","Modell",null,null,"x"]
["430.23",null,"Nennspannung",null,null,"IfcReal","V","Zahl",{"$f":"IF(VLOOKUP(A1164,Klassifizierung!$E$4:$W$577,18,FALSE)=0,\"\",VLOOKUP(A1164,Klassifizierung!$E$4:$W$577,18,FALSE))","v":"TGA-LÜ"},"CAFM","Modell",null,null,"x"]
["430.24",null,"Beschreibung",null,null,"IfcText"," -","Freitext",{"$f":"IF(VLOOKUP(A1165,Klassifizierung!$E$4:$W$577,18,FALSE)=0,\"\",VLOOKUP(A1165,Klassifizierung!$E$4:$W$577,18,FALSE))","v":"TGA-LÜ"},"CAFM","Modell",null,null,"x"]
["430.24",null,"Thermische Leistung",null,null,"IfcReal","kW","Zahl",{"$f":"IF(VLOOKUP(A1166,Klassifizierung!$E$4:$W$577,18,FALSE)=0,\"\",VLOOKUP(A1166,Klassifizierung!$E$4:$W$577,18,FALSE))","v":"TGA-LÜ"},"CAFM","Modell",null,null,"x"]
["430.24",null,"Kältemittel",null,null,"IfcText"," -","Freitext",{"$f":"IF(VLOOKUP(A1167,Klassifizierung!$E$4:$W$577,18,FALSE)=0,\"\",VLOOKUP(A1167,Klassifizierung!$E$4:$W$577,18,FALSE))","v":"TGA-LÜ"},"CAFM","Modell",null,null,"x"]
["430.24",null,"Elektrische Leistung",null,null,"IfcReal","kW","Zahl",{"$f":"IF(VLOOKUP(A1168,Klassifizierung!$E$4:$W$577,18,FALSE)=0,\"\",VLOOKUP(A1168,Klassifizierung!$E$4:$W$577,18,FALSE))","v":"TGA-LÜ"},"CAFM","Modell",null,null,"x"]
["430.24",null,"Nennspannung",null,null,"IfcReal","V","Zahl",{"$f":"IF(VLOOKUP(A1169,Klassifizierung!$E$4:$W$577,18,FALSE)=0,\"\",VLOOKUP(A1169,Klassifizierung!$E$4:$W$577,18,FALSE))","v":"TGA-LÜ"},"CAFM","Modell",null,null,"x"]
["430.25",null,"Beschreibung",null,null,"IfcText"," -","Freitext",{"$f":"IF(VLOOKUP(A1170,Klassifizierung!$E$4:$W$577,18,FALSE)=0,\"\",VLOOKUP(A1170,Klassifizierung!$E$4:$W$577,18,FALSE))","v":"TGA-LÜ"},"CAFM","Modell",null,null,"x"]
["430.25",null,"Thermische Leistung",null,null,"IfcReal","kW","Zahl",{"$f":"IF(VLOOKUP(A1171,Klassifizierung!$E$4:$W$577,18,FALSE)=0,\"\",VLOOKUP(A1171,Klassifizierung!$E$4:$W$577,18,FALSE))","v":"TGA-LÜ"},"CAFM","Modell",null,null,"x"]
["430.25",null,"Elektrische Leistung",null,null,"IfcReal","kW","Zahl",{"$f":"IF(VLOOKUP(A1172,Klassifizierung!$E$4:$W$577,18,FALSE)=0,\"\",VLOOKUP(A1172,Klassifizierung!$E$4:$W$577,18,FALSE))","v":"TGA-LÜ"},"CAFM","Modell",null,null,"x"]
["430.25",null,"Nennspannung",null,null,"IfcReal","V","Zahl",{"$f":"IF(VLOOKUP(A1173,Klassifizierung!$E$4:$W$577,18,FALSE)=0,\"\",VLOOKUP(A1173,Klassifizierung!$E$4:$W$577,18,FALSE))","v":"TGA-LÜ"},"CAFM","Modell",null,null,"x"]
["430.26",null,"Beschreibung",null,null,"IfcText"," -","Freitext",{"$f":"IF(VLOOKUP(A1174,Klassifizierung!$E$4:$W$577,18,FALSE)=0,\"\",VLOOKUP(A1174,Klassifizierung!$E$4:$W$577,18,FALSE))","v":"TGA-LÜ"},"CAFM","Modell",null,null,"x"]
["430.26",null,"Thermische Leistung",null,null,"IfcReal","kW","Zahl",{"$f":"IF(VLOOKUP(A1175,Klassifizierung!$E$4:$W$577,18,FALSE)=0,\"\",VLOOKUP(A1175,Klassifizierung!$E$4:$W$577,18,FALSE))","v":"TGA-LÜ"},"CAFM","Modell",null,null,"x"]
["430.26",null,"Elektrische Leistung",null,null,"IfcReal","kW","Zahl",{"$f":"IF(VLOOKUP(A1176,Klassifizierung!$E$4:$W$577,18,FALSE)=0,\"\",VLOOKUP(A1176,Klassifizierung!$E$4:$W$577,18,FALSE))","v":"TGA-LÜ"},"CAFM","Modell",null,null,"x"]
["430.26",null,"Nennspannung",null,null,"IfcReal","V","Zahl",{"$f":"IF(VLOOKUP(A1177,Klassifizierung!$E$4:$W$577,18,FALSE)=0,\"\",VLOOKUP(A1177,Klassifizierung!$E$4:$W$577,18,FALSE))","v":"TGA-LÜ"},"CAFM","Modell",null,null,"x"]
["430.27",null,"Beschreibung",null,null,"IfcText"," -","Freitext",{"$f":"IF(VLOOKUP(A1178,Klassifizierung!$E$4:$W$577,18,FALSE)=0,\"\",VLOOKUP(A1178,Klassifizierung!$E$4:$W$577,18,FALSE))","v":"TGA-LÜ"},"CAFM","Modell",null,null,"x"]
["430.27",null,"Thermische Leistung",null,null,"IfcReal","kW","Zahl",{"$f":"IF(VLOOKUP(A1179,Klassifizierung!$E$4:$W$577,18,FALSE)=0,\"\",VLOOKUP(A1179,Klassifizierung!$E$4:$W$577,18,FALSE))","v":"TGA-LÜ"},"CAFM","Modell",null,null,"x"]
["430.27",null,"Medium",null,null,"IfcText"," -","Freitext",{"$f":"IF(VLOOKUP(A1180,Klassifizierung!$E$4:$W$577,18,FALSE)=0,\"\",VLOOKUP(A1180,Klassifizierung!$E$4:$W$577,18,FALSE))","v":"TGA-LÜ"},"CAFM","Modell",null,null,"x"]
["430.27",null,"Elektrische Leistung",null,null,"IfcReal","kW","Zahl",{"$f":"IF(VLOOKUP(A1181,Klassifizierung!$E$4:$W$577,18,FALSE)=0,\"\",VLOOKUP(A1181,Klassifizierung!$E$4:$W$577,18,FALSE))","v":"TGA-LÜ"},"CAFM","Modell",null,null,"x"]
["430.27",null,"Nennspannung",null,null,"IfcReal","V","Zahl",{"$f":"IF(VLOOKUP(A1182,Klassifizierung!$E$4:$W$577,18,FALSE)=0,\"\",VLOOKUP(A1182,Klassifizierung!$E$4:$W$577,18,FALSE))","v":"TGA-LÜ"},"CAFM","Modell",null,null,"x"]
["430.30",null,"Luftfilterart",null,null,"IfcText","-","Rollbandfilter|Trockenschichtfilter|Elektrofilter|Sorptionsfilter|Schwebstofffilter|Wrasenfilter",{"$f":"IF(VLOOKUP(A1183,Klassifizierung!$E$4:$W$577,18,FALSE)=0,\"\",VLOOKUP(A1183,Klassifizierung!$E$4:$W$577,18,FALSE))","v":"TGA-LÜ"},"CAFM","Modell",null,null,"x"]
["430.30",null,"Filterklasse",null,null,"IfcText"," -","Freitext",{"$f":"IF(VLOOKUP(A1184,Klassifizierung!$E$4:$W$577,18,FALSE)=0,\"\",VLOOKUP(A1184,Klassifizierung!$E$4:$W$577,18,FALSE))","v":"TGA-LÜ"},"CAFM","Modell",null,null,"x"]
["430.41",null,"Beschreibung",null,null,"IfcText"," -","Freitext",{"$f":"IF(VLOOKUP(A1185,Klassifizierung!$E$4:$W$577,18,FALSE)=0,\"\",VLOOKUP(A1185,Klassifizierung!$E$4:$W$577,18,FALSE))","v":"TGA-LÜ"},"CAFM","Modell",null,null,"x"]
["430.41",null,"Befeuchterleistung",null,null,"IfcReal","kW","Zahl",{"$f":"IF(VLOOKUP(A1186,Klassifizierung!$E$4:$W$577,18,FALSE)=0,\"\",VLOOKUP(A1186,Klassifizierung!$E$4:$W$577,18,FALSE))","v":"TGA-LÜ"},"CAFM","Modell",null,null,"x"]
["430.41",null,"Elektrische Leistung",null,null,"IfcReal","kW","Zahl",{"$f":"IF(VLOOKUP(A1187,Klassifizierung!$E$4:$W$577,18,FALSE)=0,\"\",VLOOKUP(A1187,Klassifizierung!$E$4:$W$577,18,FALSE))","v":"TGA-LÜ"},"CAFM","Modell",null,null,"x"]
["430.41",null,"Nennspannung",null,null,"IfcReal","V","Zahl",{"$f":"IF(VLOOKUP(A1188,Klassifizierung!$E$4:$W$577,18,FALSE)=0,\"\",VLOOKUP(A1188,Klassifizierung!$E$4:$W$577,18,FALSE))","v":"TGA-LÜ"},"CAFM","Modell",null,null,"x"]
["430.42",null,"Beschreibung",null,null,"IfcText"," -","Freitext",{"$f":"IF(VLOOKUP(A1189,Klassifizierung!$E$4:$W$577,18,FALSE)=0,\"\",VLOOKUP(A1189,Klassifizierung!$E$4:$W$577,18,FALSE))","v":"TGA-LÜ"},"CAFM","Modell",null,null,"x"]
["430.42",null,"Befeuchterleistung",null,null,"IfcReal","kW","Zahl",{"$f":"IF(VLOOKUP(A1190,Klassifizierung!$E$4:$W$577,18,FALSE)=0,\"\",VLOOKUP(A1190,Klassifizierung!$E$4:$W$577,18,FALSE))","v":"TGA-LÜ"},"CAFM","Modell",null,null,"x"]
["430.42",null,"Elektrische Leistung",null,null,"IfcReal","kW","Zahl",{"$f":"IF(VLOOKUP(A1191,Klassifizierung!$E$4:$W$577,18,FALSE)=0,\"\",VLOOKUP(A1191,Klassifizierung!$E$4:$W$577,18,FALSE))","v":"TGA-LÜ"},"CAFM","Modell",null,null,"x"]
["430.42",null,"Nennspannung",null,null,"IfcReal","V","Zahl",{"$f":"IF(VLOOKUP(A1192,Klassifizierung!$E$4:$W$577,18,FALSE)=0,\"\",VLOOKUP(A1192,Klassifizierung!$E$4:$W$577,18,FALSE))","v":"TGA-LÜ"},"CAFM","Modell",null,null,"x"]
["430.43",null,"Beschreibung",null,null,"IfcText"," -","Freitext",{"$f":"IF(VLOOKUP(A1193,Klassifizierung!$E$4:$W$577,18,FALSE)=0,\"\",VLOOKUP(A1193,Klassifizierung!$E$4:$W$577,18,FALSE))","v":"TGA-LÜ"},"CAFM","Modell",null,null,"x"]
["430.43",null,"Befeuchterleistung",null,null,"IfcReal","kW","Zahl",{"$f":"IF(VLOOKUP(A1194,Klassifizierung!$E$4:$W$577,18,FALSE)=0,\"\",VLOOKUP(A1194,Klassifizierung!$E$4:$W$577,18,FALSE))","v":"TGA-LÜ"},"CAFM","Modell",null,null,"x"]
["430.43",null,"Elektrische Leistung",null,null,"IfcReal","kW","Zahl",{"$f":"IF(VLOOKUP(A1195,Klassifizierung!$E$4:$W$577,18,FALSE)=0,\"\",VLOOKUP(A1195,Klassifizierung!$E$4:$W$577,18,FALSE))","v":"TGA-LÜ"},"CAFM","Modell",null,null,"x"]
["430.43",null,"Nennspannung",null,null,"IfcReal","V","Zahl",{"$f":"IF(VLOOKUP(A1196,Klassifizierung!$E$4:$W$577,18,FALSE)=0,\"\",VLOOKUP(A1196,Klassifizierung!$E$4:$W$577,18,FALSE))","v":"TGA-LÜ"},"CAFM","Modell",null,null,"x"]
["430.44",null,"Beschreibung",null,null,"IfcText"," -","Freitext",{"$f":"IF(VLOOKUP(A1197,Klassifizierung!$E$4:$W$577,18,FALSE)=0,\"\",VLOOKUP(A1197,Klassifizierung!$E$4:$W$577,18,FALSE))","v":"TGA-LÜ"},"CAFM","Modell",null,null,"x"]
["430.44",null,"Befeuchterleistung",null,null,"IfcReal","kW","Zahl",{"$f":"IF(VLOOKUP(A1198,Klassifizierung!$E$4:$W$577,18,FALSE)=0,\"\",VLOOKUP(A1198,Klassifizierung!$E$4:$W$577,18,FALSE))","v":"TGA-LÜ"},"CAFM","Modell",null,null,"x"]
["430.44",null,"Elektrische Leistung",null,null,"IfcReal","kW","Zahl",{"$f":"IF(VLOOKUP(A1199,Klassifizierung!$E$4:$W$577,18,FALSE)=0,\"\",VLOOKUP(A1199,Klassifizierung!$E$4:$W$577,18,FALSE))","v":"TGA-LÜ"},"CAFM","Modell",null,null,"x"]
["430.44",null,"Nennspannung",null,null,"IfcReal","V","Zahl",{"$f":"IF(VLOOKUP(A1200,Klassifizierung!$E$4:$W$577,18,FALSE)=0,\"\",VLOOKUP(A1200,Klassifizierung!$E$4:$W$577,18,FALSE))","v":"TGA-LÜ"},"CAFM","Modell",null,null,"x"]
["430.45",null,"Beschreibung",null,null,"IfcText"," -","Freitext",{"$f":"IF(VLOOKUP(A1201,Klassifizierung!$E$4:$W$577,18,FALSE)=0,\"\",VLOOKUP(A1201,Klassifizierung!$E$4:$W$577,18,FALSE))","v":"TGA-LÜ"},"CAFM","Modell",null,null,"x"]
["430.45",null,"Befeuchterleistung",null,null,"IfcReal","kW","Zahl",{"$f":"IF(VLOOKUP(A1202,Klassifizierung!$E$4:$W$577,18,FALSE)=0,\"\",VLOOKUP(A1202,Klassifizierung!$E$4:$W$577,18,FALSE))","v":"TGA-LÜ"},"CAFM","Modell",null,null,"x"]
["430.45",null,"Elektrische Leistung",null,null,"IfcReal","kW","Zahl",{"$f":"IF(VLOOKUP(A1203,Klassifizierung!$E$4:$W$577,18,FALSE)=0,\"\",VLOOKUP(A1203,Klassifizierung!$E$4:$W$577,18,FALSE))","v":"TGA-LÜ"},"CAFM","Modell",null,null,"x"]
["430.45",null,"Nennspannung",null,null,"IfcReal","V","Zahl",{"$f":"IF(VLOOKUP(A1204,Klassifizierung!$E$4:$W$577,18,FALSE)=0,\"\",VLOOKUP(A1204,Klassifizierung!$E$4:$W$577,18,FALSE))","v":"TGA-LÜ"},"CAFM","Modell",null,null,"x"]
["430.46",null,"Beschreibung",null,null,"IfcText"," -","Freitext",{"$f":"IF(VLOOKUP(A1205,Klassifizierung!$E$4:$W$577,18,FALSE)=0,\"\",VLOOKUP(A1205,Klassifizierung!$E$4:$W$577,18,FALSE))","v":"TGA-LÜ"},"CAFM","Modell",null,null,"x"]
["430.46",null,"Befeuchterleistung",null,null,"IfcReal","kW","Zahl",{"$f":"IF(VLOOKUP(A1206,Klassifizierung!$E$4:$W$577,18,FALSE)=0,\"\",VLOOKUP(A1206,Klassifizierung!$E$4:$W$577,18,FALSE))","v":"TGA-LÜ"},"CAFM","Modell",null,null,"x"]
["430.46",null,"Elektrische Leistung",null,null,"IfcReal","kW","Zahl",{"$f":"IF(VLOOKUP(A1207,Klassifizierung!$E$4:$W$577,18,FALSE)=0,\"\",VLOOKUP(A1207,Klassifizierung!$E$4:$W$577,18,FALSE))","v":"TGA-LÜ"},"CAFM","Modell",null,null,"x"]
["430.46",null,"Nennspannung",null,null,"IfcReal","V","Zahl",{"$f":"IF(VLOOKUP(A1208,Klassifizierung!$E$4:$W$577,18,FALSE)=0,\"\",VLOOKUP(A1208,Klassifizierung!$E$4:$W$577,18,FALSE))","v":"TGA-LÜ"},"CAFM","Modell",null,null,"x"]
["430.47",null,"Beschreibung",null,null,"IfcText"," -","Freitext",{"$f":"IF(VLOOKUP(A1209,Klassifizierung!$E$4:$W$577,18,FALSE)=0,\"\",VLOOKUP(A1209,Klassifizierung!$E$4:$W$577,18,FALSE))","v":"TGA-LÜ"},"CAFM","Modell",null,null,"x"]
["430.47",null,"Befeuchterleistung",null,null,"IfcReal","kW","Zahl",{"$f":"IF(VLOOKUP(A1210,Klassifizierung!$E$4:$W$577,18,FALSE)=0,\"\",VLOOKUP(A1210,Klassifizierung!$E$4:$W$577,18,FALSE))","v":"TGA-LÜ"},"CAFM","Modell",null,null,"x"]
["430.47",null,"Elektrische Leistung",null,null,"IfcReal","kW","Zahl",{"$f":"IF(VLOOKUP(A1211,Klassifizierung!$E$4:$W$577,18,FALSE)=0,\"\",VLOOKUP(A1211,Klassifizierung!$E$4:$W$577,18,FALSE))","v":"TGA-LÜ"},"CAFM","Modell",null,null,"x"]
["430.47",null,"Nennspannung",null,null,"IfcReal","V","Zahl",{"$f":"IF(VLOOKUP(A1212,Klassifizierung!$E$4:$W$577,18,FALSE)=0,\"\",VLOOKUP(A1212,Klassifizierung!$E$4:$W$577,18,FALSE))","v":"TGA-LÜ"},"CAFM","Modell",null,null,"x"]
["430.51",null,"Beschreibung",null,null,"IfcText"," -","Freitext",{"$f":"IF(VLOOKUP(A1213,Klassifizierung!$E$4:$W$577,18,FALSE)=0,\"\",VLOOKUP(A1213,Klassifizierung!$E$4:$W$577,18,FALSE))","v":"TGA-LÜ"},"CAFM","Modell",null,null,"x"]
["430.52",null,"Beschreibung",null,null,"IfcText"," -","Freitext",{"$f":"IF(VLOOKUP(A1214,Klassifizierung!$E$4:$W$577,18,FALSE)=0,\"\",VLOOKUP(A1214,Klassifizierung!$E$4:$W$577,18,FALSE))","v":"TGA-LÜ"},"CAFM","Modell",null,null,"x"]
["430.53",null,"Einbausituation",null,null,"IfcText","-","Massivwand|Massivdecke|Außerhalb einer Wand|Außerhalb einer Decke|Teilausmörtelung|Vorwandklappe|Leichtbauwand|Unterdecke",{"$f":"IF(VLOOKUP(A1215,Klassifizierung!$E$4:$W$577,18,FALSE)=0,\"\",VLOOKUP(A1215,Klassifizierung!$E$4:$W$577,18,FALSE))","v":"TGA-LÜ"},"CAFM","Modell",null,null,"x"]
["430.53",null,"In GLT aufgeschaltet",null,null,"IfcBoolean"," -","ja|nein",{"$f":"IF(VLOOKUP(A1216,Klassifizierung!$E$4:$W$577,18,FALSE)=0,\"\",VLOOKUP(A1216,Klassifizierung!$E$4:$W$577,18,FALSE))","v":"TGA-LÜ"},"CAFM","Modell",null,null,"x"]
["430.53",null,"Verwendbarkeitsnachweis Typ",null,null,"IfcText","-","Z-41.3|PA-X",{"$f":"IF(VLOOKUP(A1217,Klassifizierung!$E$4:$W$577,18,FALSE)=0,\"\",VLOOKUP(A1217,Klassifizierung!$E$4:$W$577,18,FALSE))","v":"TGA-LÜ"},"CAFM","Modell",null,null,"x"]
["430.53",null,"Nenndurchmesser",null,null,"IfcReal","m","Zahl",{"$f":"IF(VLOOKUP(A1218,Klassifizierung!$E$4:$W$577,18,FALSE)=0,\"\",VLOOKUP(A1218,Klassifizierung!$E$4:$W$577,18,FALSE))","v":"TGA-LÜ"},"CAFM","Modell",null,null,"x"]
["430.54",null,"Beschreibung",null,null,"IfcText"," -","Freitext",{"$f":"IF(VLOOKUP(A1219,Klassifizierung!$E$4:$W$577,18,FALSE)=0,\"\",VLOOKUP(A1219,Klassifizierung!$E$4:$W$577,18,FALSE))","v":"TGA-LÜ"},"CAFM","Modell",null,null,"x"]
["430.55",null,"Luftdichtheitsklasse Luftleitung",null,null,"IfcText","-","A|B|C|D",{"$f":"IF(VLOOKUP(A1220,Klassifizierung!$E$4:$W$577,18,FALSE)=0,\"\",VLOOKUP(A1220,Klassifizierung!$E$4:$W$577,18,FALSE))","v":"TGA-LÜ"},"CAFM","Modell",null,null,"x"]
["430.55",null,"Laufmeter",null,null,"IfcReal","m","Zahl",{"$f":"IF(VLOOKUP(A1221,Klassifizierung!$E$4:$W$577,18,FALSE)=0,\"\",VLOOKUP(A1221,Klassifizierung!$E$4:$W$577,18,FALSE))","v":"TGA-LÜ"},"CAFM","Modell",null,null,"x"]
["430.56",null,"Beschreibung",null,null,"IfcText"," -","Freitext",{"$f":"IF(VLOOKUP(A1222,Klassifizierung!$E$4:$W$577,18,FALSE)=0,\"\",VLOOKUP(A1222,Klassifizierung!$E$4:$W$577,18,FALSE))","v":"TGA-LÜ"},"CAFM","Modell",null,null,"x"]
["430.56",null,"Optimaler Volumenstrom",null,null,"IfcReal","m3/h","Zahl",{"$f":"IF(VLOOKUP(A1223,Klassifizierung!$E$4:$W$577,18,FALSE)=0,\"\",VLOOKUP(A1223,Klassifizierung!$E$4:$W$577,18,FALSE))","v":"TGA-LÜ"},"CAFM","Modell",null,null,"x"]
["430.56",null,"Durchmesser",null,null,"IfcReal","cm","Zahl",{"$f":"IF(VLOOKUP(A1224,Klassifizierung!$E$4:$W$577,18,FALSE)=0,\"\",VLOOKUP(A1224,Klassifizierung!$E$4:$W$577,18,FALSE))","v":"TGA-LÜ"},"CAFM","Modell",null,null,"x"]
["430.57",null,"Beschreibung",null,null,"IfcText"," -","Freitext",{"$f":"IF(VLOOKUP(A1225,Klassifizierung!$E$4:$W$577,18,FALSE)=0,\"\",VLOOKUP(A1225,Klassifizierung!$E$4:$W$577,18,FALSE))","v":"TGA-LÜ"},"CAFM","Modell",null,null,"x"]
["430.58",null,"Beschreibung",null,null,"IfcText"," -","Freitext",{"$f":"IF(VLOOKUP(A1226,Klassifizierung!$E$4:$W$577,18,FALSE)=0,\"\",VLOOKUP(A1226,Klassifizierung!$E$4:$W$577,18,FALSE))","v":"TGA-LÜ"},"CAFM","Modell",null,null,"x"]
["430.60",null,"Beschreibung",null,null,"IfcText"," -","Freitext",{"$f":"IF(VLOOKUP(A1227,Klassifizierung!$E$4:$W$577,18,FALSE)=0,\"\",VLOOKUP(A1227,Klassifizierung!$E$4:$W$577,18,FALSE))","v":"TGA-LÜ"},"CAFM","Modell",null,null,"x"]
["430.60",null,"Anzahl Eingänge",null,null,"IfcReal","Stück","Zahl",{"$f":"IF(VLOOKUP(A1228,Klassifizierung!$E$4:$W$577,18,FALSE)=0,\"\",VLOOKUP(A1228,Klassifizierung!$E$4:$W$577,18,FALSE))","v":"TGA-LÜ"},"CAFM","Modell",null,null,"x"]
["430.60",null,"Anzahl Ausgänge",null,null,"IfcReal","Stück","Zahl",{"$f":"IF(VLOOKUP(A1229,Klassifizierung!$E$4:$W$577,18,FALSE)=0,\"\",VLOOKUP(A1229,Klassifizierung!$E$4:$W$577,18,FALSE))","v":"TGA-LÜ"},"CAFM","Modell",null,null,"x"]
["430.60",null,"Nennspannung",null,null,"IfcReal","V","Zahl",{"$f":"IF(VLOOKUP(A1230,Klassifizierung!$E$4:$W$577,18,FALSE)=0,\"\",VLOOKUP(A1230,Klassifizierung!$E$4:$W$577,18,FALSE))","v":"TGA-LÜ"},"CAFM","Modell",null,null,"x"]
["430.60",null,"Anzahl USV-Module",null,null,"IfcReal","Stück","Zahl",{"$f":"IF(VLOOKUP(A1231,Klassifizierung!$E$4:$W$577,18,FALSE)=0,\"\",VLOOKUP(A1231,Klassifizierung!$E$4:$W$577,18,FALSE))","v":"TGA-LÜ"},"CAFM","Modell",null,null,"x"]
["430.71",null,"Beschreibung",null,null,"IfcText"," -","Freitext",{"$f":"IF(VLOOKUP(A1232,Klassifizierung!$E$4:$W$577,18,FALSE)=0,\"\",VLOOKUP(A1232,Klassifizierung!$E$4:$W$577,18,FALSE))","v":"TGA-LÜ"},"CAFM","Modell",null,null,"x"]
["430.71",null,"Nennleistung",null,null,"IfcReal","kW","Zahl",{"$f":"IF(VLOOKUP(A1233,Klassifizierung!$E$4:$W$577,18,FALSE)=0,\"\",VLOOKUP(A1233,Klassifizierung!$E$4:$W$577,18,FALSE))","v":"TGA-LÜ"},"CAFM","Modell",null,null,"x"]
["430.71",null,"Nennspannung ",null,null,"IfcReal","kV","Zahl",{"$f":"IF(VLOOKUP(A1234,Klassifizierung!$E$4:$W$577,18,FALSE)=0,\"\",VLOOKUP(A1234,Klassifizierung!$E$4:$W$577,18,FALSE))","v":"TGA-LÜ"},"CAFM","Modell",null,null,"x"]
["430.71",null,"Explosionsgeschützt",null,null,"IfcBoolean"," -","ja|nein",{"$f":"IF(VLOOKUP(A1235,Klassifizierung!$E$4:$W$577,18,FALSE)=0,\"\",VLOOKUP(A1235,Klassifizierung!$E$4:$W$577,18,FALSE))","v":"TGA-LÜ"},"CAFM","Modell",null,null,"x"]
["430.72",null,"Beschreibung",null,null,"IfcText"," -","Freitext",{"$f":"IF(VLOOKUP(A1236,Klassifizierung!$E$4:$W$577,18,FALSE)=0,\"\",VLOOKUP(A1236,Klassifizierung!$E$4:$W$577,18,FALSE))","v":"TGA-LÜ"},"CAFM","Modell",null,null,"x"]
["430.73",null,"Beschreibung",null,null,"IfcText"," -","Freitext",{"$f":"IF(VLOOKUP(A1237,Klassifizierung!$E$4:$W$577,18,FALSE)=0,\"\",VLOOKUP(A1237,Klassifizierung!$E$4:$W$577,18,FALSE))","v":"TGA-LÜ"},"CAFM","Modell",null,null,"x"]
["430.74",null,"Beschreibung",null,null,"IfcText"," -","Freitext",{"$f":"IF(VLOOKUP(A1238,Klassifizierung!$E$4:$W$577,18,FALSE)=0,\"\",VLOOKUP(A1238,Klassifizierung!$E$4:$W$577,18,FALSE))","v":"TGA-LÜ"},"CAFM","Modell",null,null,"x"]
["430.75",null,"Beschreibung",null,null,"IfcText"," -","Freitext",{"$f":"IF(VLOOKUP(A1239,Klassifizierung!$E$4:$W$577,18,FALSE)=0,\"\",VLOOKUP(A1239,Klassifizierung!$E$4:$W$577,18,FALSE))","v":"TGA-LÜ"},"CAFM","Modell",null,null,"x"]
["431.20",null,"Bauart",null,null,"IfcText"," -","Freitext",{"$f":"IF(VLOOKUP(A1240,Klassifizierung!$E$4:$W$577,18,FALSE)=0,\"\",VLOOKUP(A1240,Klassifizierung!$E$4:$W$577,18,FALSE))","v":"TGA-LÜ"},"CAFM","Modell",null,null,"x"]
["431.20",null,"Durchmesser",null,null,"IfcReal","m","Zahl",{"$f":"IF(VLOOKUP(A1241,Klassifizierung!$E$4:$W$577,18,FALSE)=0,\"\",VLOOKUP(A1241,Klassifizierung!$E$4:$W$577,18,FALSE))","v":"TGA-LÜ"},"CAFM","Modell",null,null,"x"]
["431.40",null,"Bauart",null,null,"IfcText"," -","Freitext",{"$f":"IF(VLOOKUP(A1242,Klassifizierung!$E$4:$W$577,18,FALSE)=0,\"\",VLOOKUP(A1242,Klassifizierung!$E$4:$W$577,18,FALSE))","v":"TGA-LÜ"},"CAFM","Modell",null,null,"x"]
["431.40",null,"Thermische Leistung",null,null,"IfcReal","kW","Zahl",{"$f":"IF(VLOOKUP(A1243,Klassifizierung!$E$4:$W$577,18,FALSE)=0,\"\",VLOOKUP(A1243,Klassifizierung!$E$4:$W$577,18,FALSE))","v":"TGA-LÜ"},"CAFM","Modell",null,null,"x"]
["431.40",null,"elektrische Leistung",null,null,"IfcReal","kW","Zahl",{"$f":"IF(VLOOKUP(A1244,Klassifizierung!$E$4:$W$577,18,FALSE)=0,\"\",VLOOKUP(A1244,Klassifizierung!$E$4:$W$577,18,FALSE))","v":"TGA-LÜ"},"CAFM","Modell",null,null,"x"]
["431.40",null,"Nennspannung",null,null,"IfcReal","V","Zahl",{"$f":"IF(VLOOKUP(A1245,Klassifizierung!$E$4:$W$577,18,FALSE)=0,\"\",VLOOKUP(A1245,Klassifizierung!$E$4:$W$577,18,FALSE))","v":"TGA-LÜ"},"CAFM","Modell",null,null,"x"]
["431.50",null,"Bauart",null,null,"IfcText","-","Einzelabsaugung|Dunstabzugshaube",{"$f":"IF(VLOOKUP(A1246,Klassifizierung!$E$4:$W$577,18,FALSE)=0,\"\",VLOOKUP(A1246,Klassifizierung!$E$4:$W$577,18,FALSE))","v":"TGA-LÜ"},"CAFM","Modell",null,null,"x"]
["431.50",null,"Volumenstrom",null,null,"IfcReal","m3/h","Zahl",{"$f":"IF(VLOOKUP(A1247,Klassifizierung!$E$4:$W$577,18,FALSE)=0,\"\",VLOOKUP(A1247,Klassifizierung!$E$4:$W$577,18,FALSE))","v":"TGA-LÜ"},"CAFM","Modell",null,null,"x"]
["431.50",null,"elektrische Leistung",null,null,"IfcReal","kW","Zahl",{"$f":"IF(VLOOKUP(A1248,Klassifizierung!$E$4:$W$577,18,FALSE)=0,\"\",VLOOKUP(A1248,Klassifizierung!$E$4:$W$577,18,FALSE))","v":"TGA-LÜ"},"CAFM","Modell",null,null,"x"]
["431.50",null,"Nennspannung",null,null,"IfcReal","V","Zahl",{"$f":"IF(VLOOKUP(A1249,Klassifizierung!$E$4:$W$577,18,FALSE)=0,\"\",VLOOKUP(A1249,Klassifizierung!$E$4:$W$577,18,FALSE))","v":"TGA-LÜ"},"CAFM","Modell",null,null,"x"]
["431.60",null,"Beschreibung",null,null,"IfcText"," -","Freitext",{"$f":"IF(VLOOKUP(A1250,Klassifizierung!$E$4:$W$577,18,FALSE)=0,\"\",VLOOKUP(A1250,Klassifizierung!$E$4:$W$577,18,FALSE))","v":"TGA-LÜ"},"CAFM","Modell",null,null,"x"]
["431.60",null,"Volumenstrom",null,null,"IfcReal","m3/h","Zahl",{"$f":"IF(VLOOKUP(A1251,Klassifizierung!$E$4:$W$577,18,FALSE)=0,\"\",VLOOKUP(A1251,Klassifizierung!$E$4:$W$577,18,FALSE))","v":"TGA-LÜ"},"CAFM","Modell",null,null,"x"]
["431.60",null,"elektrische Leistung",null,null,"IfcReal","kW","Zahl",{"$f":"IF(VLOOKUP(A1252,Klassifizierung!$E$4:$W$577,18,FALSE)=0,\"\",VLOOKUP(A1252,Klassifizierung!$E$4:$W$577,18,FALSE))","v":"TGA-LÜ"},"CAFM","Modell",null,null,"x"]
["431.60",null,"Nennspannung",null,null,"IfcReal","V","Zahl",{"$f":"IF(VLOOKUP(A1253,Klassifizierung!$E$4:$W$577,18,FALSE)=0,\"\",VLOOKUP(A1253,Klassifizierung!$E$4:$W$577,18,FALSE))","v":"TGA-LÜ"},"CAFM","Modell",null,null,"x"]
["431.80",null,"Beschreibung",null,null,"IfcText"," -","Freitext",{"$f":"IF(VLOOKUP(A1254,Klassifizierung!$E$4:$W$577,18,FALSE)=0,\"\",VLOOKUP(A1254,Klassifizierung!$E$4:$W$577,18,FALSE))","v":"TGA-LÜ"},"CAFM","Modell",null,null,"x"]
["431.80",null,"Anzahl Bedienstellen",null,null,"IfcReal","Stück","Zahl",{"$f":"IF(VLOOKUP(A1255,Klassifizierung!$E$4:$W$577,18,FALSE)=0,\"\",VLOOKUP(A1255,Klassifizierung!$E$4:$W$577,18,FALSE))","v":"TGA-LÜ"},"CAFM","Modell",null,null,"x"]
["431.80",null,"Anzahl Abzugsstellen",null,null,"IfcReal","Stück","Zahl",{"$f":"IF(VLOOKUP(A1256,Klassifizierung!$E$4:$W$577,18,FALSE)=0,\"\",VLOOKUP(A1256,Klassifizierung!$E$4:$W$577,18,FALSE))","v":"TGA-LÜ"},"CAFM","Modell",null,null,"x"]
["431.80",null,"Leistung Ventilatoren",null,null,"IfcReal","kW","Zahl",{"$f":"IF(VLOOKUP(A1257,Klassifizierung!$E$4:$W$577,18,FALSE)=0,\"\",VLOOKUP(A1257,Klassifizierung!$E$4:$W$577,18,FALSE))","v":"TGA-LÜ"},"CAFM","Modell",null,null,"x"]
["431.90",null,"Beschreibung",null,null,"IfcText"," -","Freitext",{"$f":"IF(VLOOKUP(A1258,Klassifizierung!$E$4:$W$577,18,FALSE)=0,\"\",VLOOKUP(A1258,Klassifizierung!$E$4:$W$577,18,FALSE))","v":"TGA-LÜ"},"CAFM","Modell",null,null,"x"]
["431.90",null,"Anzahl Bedienstellen",null,null,"IfcReal","Stück","Zahl",{"$f":"IF(VLOOKUP(A1259,Klassifizierung!$E$4:$W$577,18,FALSE)=0,\"\",VLOOKUP(A1259,Klassifizierung!$E$4:$W$577,18,FALSE))","v":"TGA-LÜ"},"CAFM","Modell",null,null,"x"]
["431.90",null,"Anzahl Ventilatoren",null,null,"IfcReal","Stück","Zahl",{"$f":"IF(VLOOKUP(A1260,Klassifizierung!$E$4:$W$577,18,FALSE)=0,\"\",VLOOKUP(A1260,Klassifizierung!$E$4:$W$577,18,FALSE))","v":"TGA-LÜ"},"CAFM","Modell",null,null,"x"]
["431.90",null,"Leistung Ventilatoren",null,null,"IfcReal"," -","Zahl",{"$f":"IF(VLOOKUP(A1261,Klassifizierung!$E$4:$W$577,18,FALSE)=0,\"\",VLOOKUP(A1261,Klassifizierung!$E$4:$W$577,18,FALSE))","v":"TGA-LÜ"},"CAFM","Modell",null,null,"x"]
["431.90",null,"Anzahl Öffnungselemente",null,null,"IfcReal"," -","Zahl",{"$f":"IF(VLOOKUP(A1262,Klassifizierung!$E$4:$W$577,18,FALSE)=0,\"\",VLOOKUP(A1262,Klassifizierung!$E$4:$W$577,18,FALSE))","v":"TGA-LÜ"},"CAFM","Modell",null,null,"x"]
["434.10",null,"Art der Kälteerzeugung",null,null,"IfcText"," -","Kompression|Absorption|Freie Kühlung|sonstige",{"$f":"IF(VLOOKUP(A1263,Klassifizierung!$E$4:$W$577,18,FALSE)=0,\"\",VLOOKUP(A1263,Klassifizierung!$E$4:$W$577,18,FALSE))","v":"TGA-LÜ"},"CAFM","Modell",null,null,"x"]
["434.10",null,"Nennleistung Kälte",null,null,"IfcReal","kW","Zahl",{"$f":"IF(VLOOKUP(A1264,Klassifizierung!$E$4:$W$577,18,FALSE)=0,\"\",VLOOKUP(A1264,Klassifizierung!$E$4:$W$577,18,FALSE))","v":"TGA-LÜ"},"CAFM","Modell",null,null,"x"]
["434.10",null,"Typ Kältemittel",null,null,"IfcText"," -","R 1234yf|R 22 - aufbereitet|*R 22 (Chlordifluormethan)|R 23 (Trifluormethan) Ersatz für R 13/503|*R 123 (Dichlortrifluorethan)|*R 124 (Chlortetrafluorethan)|R 125 (Pentafluorethan)|R 134a (Tetrafluorethan) Ersatz für R 12|R 170 (Ethan)|HFKW 227 (Heptafluorpropan) Ersatz für R114|R 290 1.5 (Propan)|R 290 2.5 (Propan)|*R 401A (MP 39)|*R 401B (MP 66)|*R 402A (HP 80)|*R 403B (ISCEON MO69)|R 404A (HP 62/FX 70) Ersatz für R 22/502|R 407A|R 407C (Klea 66/AC 9000) Ersatz für R 22|R 407F|*R 408A (FX 10)|*R 409A (FX 56)|R 410A (AZ 20) Ersatz für R 22/13B1|R 413A (ISCEON MO49) Ersatz für R 12|R 417A (ISCEON MO59) Ersatz für R 22|R 422A (ISCEON MO79) Ersatz für R 22|R 422D (ISCEON MO29) Ersatz für R 22|R 437A (ISCEON MO49 PLUS)|R 507 (AZ 50) Ersatz für R 22/502|R 600a 1.5 (Isobutan)|R 600a 2.5 (Isobutan)|R 717 (Ammoniak)|R 744 (Kohlendioxid)|R 1270 (Propen)|ISCEON MO89 Ersatz für R13 B1|-nicht erkennbar-",{"$f":"IF(VLOOKUP(A1265,Klassifizierung!$E$4:$W$577,18,FALSE)=0,\"\",VLOOKUP(A1265,Klassifizierung!$E$4:$W$577,18,FALSE))","v":"TGA-LÜ"},"CAFM","Modell",null,null,"x"]
["434.10",null,"Kältemittel Menge",null,null,"IfcReal"," -","Zahl",{"$f":"IF(VLOOKUP(A1266,Klassifizierung!$E$4:$W$577,18,FALSE)=0,\"\",VLOOKUP(A1266,Klassifizierung!$E$4:$W$577,18,FALSE))","v":"TGA-LÜ"},"CAFM","Modell",null,null,"x"]
["434.10",null,"Kältekreise",null,null,"IfcReal"," -","Zahl",{"$f":"IF(VLOOKUP(A1267,Klassifizierung!$E$4:$W$577,18,FALSE)=0,\"\",VLOOKUP(A1267,Klassifizierung!$E$4:$W$577,18,FALSE))","v":"TGA-LÜ"},"CAFM","Modell",null,null,"x"]
["434.10",null,"Verdichterart",null,null,"IfcText"," -","Kolbenverdichter|Schraubenverdichter|Turboverdichter",{"$f":"IF(VLOOKUP(A1268,Klassifizierung!$E$4:$W$577,18,FALSE)=0,\"\",VLOOKUP(A1268,Klassifizierung!$E$4:$W$577,18,FALSE))","v":"TGA-LÜ"},"CAFM","Modell",null,null,"x"]
["434.10",null,"Verdichter Stück",null,null,"IfcText"," -","Freitext",{"$f":"IF(VLOOKUP(A1269,Klassifizierung!$E$4:$W$577,18,FALSE)=0,\"\",VLOOKUP(A1269,Klassifizierung!$E$4:$W$577,18,FALSE))","v":"TGA-LÜ"},"CAFM","Modell",null,null,"x"]
["434.10",null,"Anschlussleistung",null,null,"IfcReal"," -","Zahl",{"$f":"IF(VLOOKUP(A1270,Klassifizierung!$E$4:$W$577,18,FALSE)=0,\"\",VLOOKUP(A1270,Klassifizierung!$E$4:$W$577,18,FALSE))","v":"TGA-LÜ"},"CAFM","Modell",null,null,"x"]
["434.10",null,"Temperaturniveau",null,null,"IfcReal"," -","Zahl",{"$f":"IF(VLOOKUP(A1271,Klassifizierung!$E$4:$W$577,18,FALSE)=0,\"\",VLOOKUP(A1271,Klassifizierung!$E$4:$W$577,18,FALSE))","v":"TGA-LÜ"},"CAFM","Modell",null,null,"x"]
["434.20",null,"Bauart",null,null,"IfcText"," -","Wassergekühlter Verflüssiger|Luftgekühlter Verflüssiger|Verdampfer (Flüssigkeit/Kältemittel)|Verdampfer (Luft/Kältemittel)|Verdunstungsverflüssiger",{"$f":"IF(VLOOKUP(A1272,Klassifizierung!$E$4:$W$577,18,FALSE)=0,\"\",VLOOKUP(A1272,Klassifizierung!$E$4:$W$577,18,FALSE))","v":"TGA-LÜ"},"CAFM","Modell",null,null,"x"]
["434.20",null,"Bauart Wärmetauscher",null,null,"IfcText"," -","Rohrbündelwärmetauscher|Plattenwärmetauscher",{"$f":"IF(VLOOKUP(A1273,Klassifizierung!$E$4:$W$577,18,FALSE)=0,\"\",VLOOKUP(A1273,Klassifizierung!$E$4:$W$577,18,FALSE))","v":"TGA-LÜ"},"CAFM","Modell",null,null,"x"]
["434.20",null,"Thermische Leistung",null,null,"IfcReal"," -","Zahl",{"$f":"IF(VLOOKUP(A1274,Klassifizierung!$E$4:$W$577,18,FALSE)=0,\"\",VLOOKUP(A1274,Klassifizierung!$E$4:$W$577,18,FALSE))","v":"TGA-LÜ"},"CAFM","Modell",null,null,"x"]
["434.20",null,"Heizfläche ",null,null,"IfcReal","m2","Zahl",{"$f":"IF(VLOOKUP(A1275,Klassifizierung!$E$4:$W$577,18,FALSE)=0,\"\",VLOOKUP(A1275,Klassifizierung!$E$4:$W$577,18,FALSE))","v":"TGA-LÜ"},"CAFM","Modell",null,null,"x"]
["434.31",null,"Bauart",null,null,"IfcText"," -","Einpumpenanlage|Doppelpumpenanlage (parallel)|Mehrpumpenanlage (parallel)",{"$f":"IF(VLOOKUP(A1276,Klassifizierung!$E$4:$W$577,18,FALSE)=0,\"\",VLOOKUP(A1276,Klassifizierung!$E$4:$W$577,18,FALSE))","v":"TGA-LÜ"},"CAFM","Modell",null,null,"x"]
["434.31",null,"Nenndruck",null,null,"IfcReal"," -","Zahl",{"$f":"IF(VLOOKUP(A1277,Klassifizierung!$E$4:$W$577,18,FALSE)=0,\"\",VLOOKUP(A1277,Klassifizierung!$E$4:$W$577,18,FALSE))","v":"TGA-LÜ"},"CAFM","Modell",null,null,"x"]
["434.31",null,"Maximalvolumenstrom",null,null,"IfcReal","m3/h","Zahl",{"$f":"IF(VLOOKUP(A1278,Klassifizierung!$E$4:$W$577,18,FALSE)=0,\"\",VLOOKUP(A1278,Klassifizierung!$E$4:$W$577,18,FALSE))","v":"TGA-LÜ"},"CAFM","Modell",null,null,"x"]
["434.31",null,"Nennleistung",null,null,"IfcReal","kW","Zahl",{"$f":"IF(VLOOKUP(A1279,Klassifizierung!$E$4:$W$577,18,FALSE)=0,\"\",VLOOKUP(A1279,Klassifizierung!$E$4:$W$577,18,FALSE))","v":"TGA-LÜ"},"CAFM","Modell",null,null,"x"]
["434.31",null,"Mögliche Betriebsarten",null,null,"IfcText"," -","einfach / druckreguliert",{"$f":"IF(VLOOKUP(A1280,Klassifizierung!$E$4:$W$577,18,FALSE)=0,\"\",VLOOKUP(A1280,Klassifizierung!$E$4:$W$577,18,FALSE))","v":"TGA-LÜ"},"CAFM","Modell",null,null,"x"]
["434.32",null,"Beschreibung",null,null,"IfcText"," -","Freitext",{"$f":"IF(VLOOKUP(A1281,Klassifizierung!$E$4:$W$577,18,FALSE)=0,\"\",VLOOKUP(A1281,Klassifizierung!$E$4:$W$577,18,FALSE))","v":"TGA-LÜ"},"CAFM","Modell",null,null,"x"]
["434.33",null,"Beschreibung",null,null,"IfcText"," -","Freitext",{"$f":"IF(VLOOKUP(A1282,Klassifizierung!$E$4:$W$577,18,FALSE)=0,\"\",VLOOKUP(A1282,Klassifizierung!$E$4:$W$577,18,FALSE))","v":"TGA-LÜ"},"CAFM","Modell",null,null,"x"]
["434.34",null,"Beschreibung",null,null,"IfcText"," -","Freitext",{"$f":"IF(VLOOKUP(A1283,Klassifizierung!$E$4:$W$577,18,FALSE)=0,\"\",VLOOKUP(A1283,Klassifizierung!$E$4:$W$577,18,FALSE))","v":"TGA-LÜ"},"CAFM","Modell",null,null,"x"]
["434.34",null,"Anzahl Endpunkte",null,null,"IfcReal"," -","Zahl",{"$f":"IF(VLOOKUP(A1284,Klassifizierung!$E$4:$W$577,18,FALSE)=0,\"\",VLOOKUP(A1284,Klassifizierung!$E$4:$W$577,18,FALSE))","v":"TGA-LÜ"},"CAFM","Modell",null,null,"x"]
["434.35",null,"Anzahl Pumpen",null,null,"IfcReal"," -","Zahl",{"$f":"IF(VLOOKUP(A1285,Klassifizierung!$E$4:$W$577,18,FALSE)=0,\"\",VLOOKUP(A1285,Klassifizierung!$E$4:$W$577,18,FALSE))","v":"TGA-LÜ"},"CAFM","Modell",null,null,"x"]
["434.35",null,"Automatische Nachspeisung",null,null,"IfcBoolean"," -","ja|nein",{"$f":"IF(VLOOKUP(A1286,Klassifizierung!$E$4:$W$577,18,FALSE)=0,\"\",VLOOKUP(A1286,Klassifizierung!$E$4:$W$577,18,FALSE))","v":"TGA-LÜ"},"CAFM","Modell",null,null,"x"]
["434.35",null,"Nennleistung",null,null,"IfcReal","kW","Zahl",{"$f":"IF(VLOOKUP(A1287,Klassifizierung!$E$4:$W$577,18,FALSE)=0,\"\",VLOOKUP(A1287,Klassifizierung!$E$4:$W$577,18,FALSE))","v":"TGA-LÜ"},"CAFM","Modell",null,null,"x"]
["434.35",null,"Nenndruck",null,null,"IfcReal"," -","Zahl",{"$f":"IF(VLOOKUP(A1288,Klassifizierung!$E$4:$W$577,18,FALSE)=0,\"\",VLOOKUP(A1288,Klassifizierung!$E$4:$W$577,18,FALSE))","v":"TGA-LÜ"},"CAFM","Modell",null,null,"x"]
["434.35",null,"Kühlung",null,null,"IfcText"," -","Umgebungsluft / Wärmerückgewinnung",{"$f":"IF(VLOOKUP(A1289,Klassifizierung!$E$4:$W$577,18,FALSE)=0,\"\",VLOOKUP(A1289,Klassifizierung!$E$4:$W$577,18,FALSE))","v":"TGA-LÜ"},"CAFM","Modell",null,null,"x"]
["434.36",null,"Beschreibung",null,null,"IfcText"," -","Freitext",{"$f":"IF(VLOOKUP(A1290,Klassifizierung!$E$4:$W$577,18,FALSE)=0,\"\",VLOOKUP(A1290,Klassifizierung!$E$4:$W$577,18,FALSE))","v":"TGA-LÜ"},"CAFM","Modell",null,null,"x"]
["434.36",null,"Begleitheizung",null,null,"IfcBoolean"," -","ja|nein",{"$f":"IF(VLOOKUP(A1291,Klassifizierung!$E$4:$W$577,18,FALSE)=0,\"\",VLOOKUP(A1291,Klassifizierung!$E$4:$W$577,18,FALSE))","v":"TGA-LÜ"},"CAFM","Modell",null,null,"x"]
["434.36",null,"Material",null,null,"IfcText"," -","Grauguss|Kupfer|Kunststoff|Glas|Stahl|Edelstahl (nicht rostender Stahl)",{"$f":"IF(VLOOKUP(A1292,Klassifizierung!$E$4:$W$577,18,FALSE)=0,\"\",VLOOKUP(A1292,Klassifizierung!$E$4:$W$577,18,FALSE))","v":"TGA-LÜ"},"CAFM","Modell",null,null,"x"]
["434.36",null,"Laufmeter",null,null,"IfcReal"," -","Zahl",{"$f":"IF(VLOOKUP(A1293,Klassifizierung!$E$4:$W$577,18,FALSE)=0,\"\",VLOOKUP(A1293,Klassifizierung!$E$4:$W$577,18,FALSE))","v":"TGA-LÜ"},"CAFM","Modell",null,null,"x"]
["434.36",null,"Brandschutzanforderungen",null,null,"IfcBoolean"," -","ja|nein",{"$f":"IF(VLOOKUP(A1294,Klassifizierung!$E$4:$W$577,18,FALSE)=0,\"\",VLOOKUP(A1294,Klassifizierung!$E$4:$W$577,18,FALSE))","v":"TGA-LÜ"},"CAFM","Modell",null,null,"x"]
["434.40",null,"Bauart Rückkühler",null,null,"IfcText"," -","offen|geschlossen",{"$f":"IF(VLOOKUP(A1295,Klassifizierung!$E$4:$W$577,18,FALSE)=0,\"\",VLOOKUP(A1295,Klassifizierung!$E$4:$W$577,18,FALSE))","v":"TGA-LÜ"},"CAFM","Modell",null,null,"x"]
["434.40",null,"Typ Rückkühlanlage",null,null,"IfcText"," -","Verdunstungsrückkühlanlagen (Kühltürme)|Trockenrückkühlanlagen",{"$f":"IF(VLOOKUP(A1296,Klassifizierung!$E$4:$W$577,18,FALSE)=0,\"\",VLOOKUP(A1296,Klassifizierung!$E$4:$W$577,18,FALSE))","v":"TGA-LÜ"},"CAFM","Modell",null,null,"x"]
["434.40",null,"Ventilatoren Stück",null,null,"IfcReal","Stück","Zahl",{"$f":"IF(VLOOKUP(A1297,Klassifizierung!$E$4:$W$577,18,FALSE)=0,\"\",VLOOKUP(A1297,Klassifizierung!$E$4:$W$577,18,FALSE))","v":"TGA-LÜ"},"CAFM","Modell",null,null,"x"]
["434.40",null,"Nennleistung",null,null,"IfcReal","kW","Zahl",{"$f":"IF(VLOOKUP(A1298,Klassifizierung!$E$4:$W$577,18,FALSE)=0,\"\",VLOOKUP(A1298,Klassifizierung!$E$4:$W$577,18,FALSE))","v":"TGA-LÜ"},"CAFM","Modell",null,null,"x"]
["434.40",null,"Mögliche Betriebsarten ",null,null,"IfcText"," -","trocken / nass",{"$f":"IF(VLOOKUP(A1299,Klassifizierung!$E$4:$W$577,18,FALSE)=0,\"\",VLOOKUP(A1299,Klassifizierung!$E$4:$W$577,18,FALSE))","v":"TGA-LÜ"},"CAFM","Modell",null,null,"x"]
["434.61",null,"Beschreibung",null,null,"IfcText"," -","Freitext",{"$f":"IF(VLOOKUP(A1300,Klassifizierung!$E$4:$W$577,18,FALSE)=0,\"\",VLOOKUP(A1300,Klassifizierung!$E$4:$W$577,18,FALSE))","v":"TGA-LÜ"},"CAFM","Modell",null,null,"x"]
["434.61",null,"Nennleistung",null,null,"IfcReal","kW","Zahl",{"$f":"IF(VLOOKUP(A1301,Klassifizierung!$E$4:$W$577,18,FALSE)=0,\"\",VLOOKUP(A1301,Klassifizierung!$E$4:$W$577,18,FALSE))","v":"TGA-LÜ"},"CAFM","Modell",null,null,"x"]
["434.61",null,"Nennspannung ",null,null,"IfcReal","V","Zahl",{"$f":"IF(VLOOKUP(A1302,Klassifizierung!$E$4:$W$577,18,FALSE)=0,\"\",VLOOKUP(A1302,Klassifizierung!$E$4:$W$577,18,FALSE))","v":"TGA-LÜ"},"CAFM","Modell",null,null,"x"]
["434.61",null,"Explosionsgeschützt",null,null,"IfcBoolean"," -","ja|nein",{"$f":"IF(VLOOKUP(A1303,Klassifizierung!$E$4:$W$577,18,FALSE)=0,\"\",VLOOKUP(A1303,Klassifizierung!$E$4:$W$577,18,FALSE))","v":"TGA-LÜ"},"CAFM","Modell",null,null,"x"]
["434.62",null,"Beschreibung",null,null,"IfcText"," -","Freitext",{"$f":"IF(VLOOKUP(A1304,Klassifizierung!$E$4:$W$577,18,FALSE)=0,\"\",VLOOKUP(A1304,Klassifizierung!$E$4:$W$577,18,FALSE))","v":"TGA-LÜ"},"CAFM","Modell",null,null,"x"]
["434.63",null,"Beschreibung",null,null,"IfcText"," -","Freitext",{"$f":"IF(VLOOKUP(A1305,Klassifizierung!$E$4:$W$577,18,FALSE)=0,\"\",VLOOKUP(A1305,Klassifizierung!$E$4:$W$577,18,FALSE))","v":"TGA-LÜ"},"CAFM","Modell",null,null,"x"]
["434.64",null,"Beschreibung",null,null,"IfcText"," -","Freitext",{"$f":"IF(VLOOKUP(A1306,Klassifizierung!$E$4:$W$577,18,FALSE)=0,\"\",VLOOKUP(A1306,Klassifizierung!$E$4:$W$577,18,FALSE))","v":"TGA-LÜ"},"CAFM","Modell",null,null,"x"]
["434.71",null,"Bauart",null,null,"IfcText"," -","Einpumpenanlage|Doppelpumpenanlage (parallel)|Mehrpumpenanlage (parallel)",{"$f":"IF(VLOOKUP(A1307,Klassifizierung!$E$4:$W$577,18,FALSE)=0,\"\",VLOOKUP(A1307,Klassifizierung!$E$4:$W$577,18,FALSE))","v":"TGA-LÜ"},"CAFM","Modell",null,null,"x"]
["434.71",null,"Nenndruck",null,null,"IfcReal"," -","Zahl",{"$f":"IF(VLOOKUP(A1308,Klassifizierung!$E$4:$W$577,18,FALSE)=0,\"\",VLOOKUP(A1308,Klassifizierung!$E$4:$W$577,18,FALSE))","v":"TGA-LÜ"},"CAFM","Modell",null,null,"x"]
["434.71",null,"Maximalvolumenstrom",null,null,"IfcReal","m3/h","Zahl",{"$f":"IF(VLOOKUP(A1309,Klassifizierung!$E$4:$W$577,18,FALSE)=0,\"\",VLOOKUP(A1309,Klassifizierung!$E$4:$W$577,18,FALSE))","v":"TGA-LÜ"},"CAFM","Modell",null,null,"x"]
["434.71",null,"Nennleistung",null,null,"IfcReal","kW","Zahl",{"$f":"IF(VLOOKUP(A1310,Klassifizierung!$E$4:$W$577,18,FALSE)=0,\"\",VLOOKUP(A1310,Klassifizierung!$E$4:$W$577,18,FALSE))","v":"TGA-LÜ"},"CAFM","Modell",null,null,"x"]
["434.71",null,"Mögliche Betriebsarten",null,null,"IfcText"," -","einfach / druckreguliert",{"$f":"IF(VLOOKUP(A1311,Klassifizierung!$E$4:$W$577,18,FALSE)=0,\"\",VLOOKUP(A1311,Klassifizierung!$E$4:$W$577,18,FALSE))","v":"TGA-LÜ"},"CAFM","Modell",null,null,"x"]
["434.73",null,"Bauart",null,null,"IfcText"," -","Freitext",{"$f":"IF(VLOOKUP(A1312,Klassifizierung!$E$4:$W$577,18,FALSE)=0,\"\",VLOOKUP(A1312,Klassifizierung!$E$4:$W$577,18,FALSE))","v":"TGA-LÜ"},"CAFM","Modell",null,null,"x"]
["434.74",null,"Bauart",null,null,"IfcText"," -","Freitext",{"$f":"IF(VLOOKUP(A1313,Klassifizierung!$E$4:$W$577,18,FALSE)=0,\"\",VLOOKUP(A1313,Klassifizierung!$E$4:$W$577,18,FALSE))","v":"TGA-LÜ"},"CAFM","Modell",null,null,"x"]
["434.74",null,"Begleitheizung",null,null,"IfcBoolean"," -","ja|nein",{"$f":"IF(VLOOKUP(A1314,Klassifizierung!$E$4:$W$577,18,FALSE)=0,\"\",VLOOKUP(A1314,Klassifizierung!$E$4:$W$577,18,FALSE))","v":"TGA-LÜ"},"CAFM","Modell",null,null,"x"]
["434.74",null,"Material",null,null,"IfcText"," -","Grauguss|Kupfer|Kunststoff|Glas|Stahl|Edelstahl (nicht rostender Stahl)",{"$f":"IF(VLOOKUP(A1315,Klassifizierung!$E$4:$W$577,18,FALSE)=0,\"\",VLOOKUP(A1315,Klassifizierung!$E$4:$W$577,18,FALSE))","v":"TGA-LÜ"},"CAFM","Modell",null,null,"x"]
["434.74",null,"Laufmeter",null,null,"IfcReal"," -","Zahl",{"$f":"IF(VLOOKUP(A1316,Klassifizierung!$E$4:$W$577,18,FALSE)=0,\"\",VLOOKUP(A1316,Klassifizierung!$E$4:$W$577,18,FALSE))","v":"TGA-LÜ"},"CAFM","Modell",null,null,"x"]
["434.75",null,"Brandschutzanforderungen",null,null,"IfcBoolean"," -","ja|nein",{"$f":"IF(VLOOKUP(A1317,Klassifizierung!$E$4:$W$577,18,FALSE)=0,\"\",VLOOKUP(A1317,Klassifizierung!$E$4:$W$577,18,FALSE))","v":"TGA-LÜ"},"CAFM","Modell",null,null,"x"]
["434.75",null,"Nennvolumen (Gefäß)",null,null,"IfcReal","m3","Zahl",{"$f":"IF(VLOOKUP(A1318,Klassifizierung!$E$4:$W$577,18,FALSE)=0,\"\",VLOOKUP(A1318,Klassifizierung!$E$4:$W$577,18,FALSE))","v":"TGA-LÜ"},"CAFM","Modell",null,null,"x"]
["434.75",null,"Mögliche Betriebsarten",null,null,"IfcText"," -","passiv / druckreguliert",{"$f":"IF(VLOOKUP(A1319,Klassifizierung!$E$4:$W$577,18,FALSE)=0,\"\",VLOOKUP(A1319,Klassifizierung!$E$4:$W$577,18,FALSE))","v":"TGA-LÜ"},"CAFM","Modell",null,null,"x"]
["434.76",null,"Bauart",null,null,"IfcText"," -","Freitext",{"$f":"IF(VLOOKUP(A1320,Klassifizierung!$E$4:$W$577,18,FALSE)=0,\"\",VLOOKUP(A1320,Klassifizierung!$E$4:$W$577,18,FALSE))","v":"TGA-LÜ"},"CAFM","Modell",null,null,"x"]
["434.76",null,"Nenndruck",null,null,"IfcReal"," -","Zahl",{"$f":"IF(VLOOKUP(A1321,Klassifizierung!$E$4:$W$577,18,FALSE)=0,\"\",VLOOKUP(A1321,Klassifizierung!$E$4:$W$577,18,FALSE))","v":"TGA-LÜ"},"CAFM","Modell",null,null,"x"]
["434.76",null,"Nennleistung",null,null,"IfcReal","kW","Zahl",{"$f":"IF(VLOOKUP(A1322,Klassifizierung!$E$4:$W$577,18,FALSE)=0,\"\",VLOOKUP(A1322,Klassifizierung!$E$4:$W$577,18,FALSE))","v":"TGA-LÜ"},"CAFM","Modell",null,null,"x"]
["434.76",null,"Anzahl Abgänge",null,null,"IfcReal"," -","Zahl",{"$f":"IF(VLOOKUP(A1323,Klassifizierung!$E$4:$W$577,18,FALSE)=0,\"\",VLOOKUP(A1323,Klassifizierung!$E$4:$W$577,18,FALSE))","v":"TGA-LÜ"},"CAFM","Modell",null,null,"x"]
["434.79",null,"Bauart",null,null,"IfcText"," -","Bodenkühlung|Wandkühlung|Deckenkühlung|kombiniert (horizontal + vertikal)",{"$f":"IF(VLOOKUP(A1324,Klassifizierung!$E$4:$W$577,18,FALSE)=0,\"\",VLOOKUP(A1324,Klassifizierung!$E$4:$W$577,18,FALSE))","v":"TGA-LÜ"},"CAFM","Modell",null,null,"x"]
["434.79",null,"Nennleistung ",null,null,"IfcReal","kW","Zahl",{"$f":"IF(VLOOKUP(A1325,Klassifizierung!$E$4:$W$577,18,FALSE)=0,\"\",VLOOKUP(A1325,Klassifizierung!$E$4:$W$577,18,FALSE))","v":"TGA-LÜ"},"CAFM","Modell",null,null,"x"]
["434.79",null,"Nennvolumenstrom",null,null,"IfcReal","m3/h","Zahl",{"$f":"IF(VLOOKUP(A1326,Klassifizierung!$E$4:$W$577,18,FALSE)=0,\"\",VLOOKUP(A1326,Klassifizierung!$E$4:$W$577,18,FALSE))","v":"TGA-LÜ"},"CAFM","Modell",null,null,"x"]
["434.79",null,"Fläche",null,null,"IfcReal","m2","Zahl",{"$f":"IF(VLOOKUP(A1327,Klassifizierung!$E$4:$W$577,18,FALSE)=0,\"\",VLOOKUP(A1327,Klassifizierung!$E$4:$W$577,18,FALSE))","v":"TGA-LÜ"},"CAFM","Modell",null,null,"x"]
["434.80",null,"Bauart",null,null,"IfcText"," -","Aufdach|Indach|Fassade|Flachdach|Freistehend|Sonstiges",{"$f":"IF(VLOOKUP(A1328,Klassifizierung!$E$4:$W$577,18,FALSE)=0,\"\",VLOOKUP(A1328,Klassifizierung!$E$4:$W$577,18,FALSE))","v":"TGA-LÜ"},"CAFM","Modell",null,null,"x"]
["434.80",null,"Anzahl Verdichter",null,null,"IfcReal"," -","Zahl",{"$f":"IF(VLOOKUP(A1329,Klassifizierung!$E$4:$W$577,18,FALSE)=0,\"\",VLOOKUP(A1329,Klassifizierung!$E$4:$W$577,18,FALSE))","v":"TGA-LÜ"},"CAFM","Modell",null,null,"x"]
["434.80",null,"Kältemittel Menge",null,null,"IfcReal"," -","Zahl",{"$f":"IF(VLOOKUP(A1330,Klassifizierung!$E$4:$W$577,18,FALSE)=0,\"\",VLOOKUP(A1330,Klassifizierung!$E$4:$W$577,18,FALSE))","v":"TGA-LÜ"},"CAFM","Modell",null,null,"x"]
["434.91",null,"Beschreibung",null,null,"IfcText"," -","Freitext",{"$f":"IF(VLOOKUP(A1331,Klassifizierung!$E$4:$W$577,18,FALSE)=0,\"\",VLOOKUP(A1331,Klassifizierung!$E$4:$W$577,18,FALSE))","v":"TGA-LÜ"},"CAFM","Modell",null,null,"x"]
["434.91",null,"Funktionsart (passiv / aktiv mit Ventilator)",null,null,"IfcText"," -","passiv / aktiv mit Ventilator",{"$f":"IF(VLOOKUP(A1332,Klassifizierung!$E$4:$W$577,18,FALSE)=0,\"\",VLOOKUP(A1332,Klassifizierung!$E$4:$W$577,18,FALSE))","v":"TGA-LÜ"},"CAFM","Modell",null,null,"x"]
["434.92",null,"Beschreibung",null,null,"IfcText"," -","Freitext",{"$f":"IF(VLOOKUP(A1333,Klassifizierung!$E$4:$W$577,18,FALSE)=0,\"\",VLOOKUP(A1333,Klassifizierung!$E$4:$W$577,18,FALSE))","v":"TGA-LÜ"},"CAFM","Modell",null,null,"x"]
["434.92",null,"Funktionsart ",null,null,"IfcText"," -","passiv / aktiv mit Ventilator",{"$f":"IF(VLOOKUP(A1334,Klassifizierung!$E$4:$W$577,18,FALSE)=0,\"\",VLOOKUP(A1334,Klassifizierung!$E$4:$W$577,18,FALSE))","v":"TGA-LÜ"},"CAFM","Modell",null,null,"x"]
["434.92",null,"Anzahl USV-Module",null,null,"IfcReal"," -","Zahl",{"$f":"IF(VLOOKUP(A1335,Klassifizierung!$E$4:$W$577,18,FALSE)=0,\"\",VLOOKUP(A1335,Klassifizierung!$E$4:$W$577,18,FALSE))","v":"TGA-LÜ"},"CAFM","Modell",null,null,"x"]
["438.10",null,"Anzahl Außeneinheiten",null,null,"IfcReal"," -","Zahl",{"$f":"IF(VLOOKUP(A1336,Klassifizierung!$E$4:$W$577,18,FALSE)=0,\"\",VLOOKUP(A1336,Klassifizierung!$E$4:$W$577,18,FALSE))","v":"TGA-LÜ"},"CAFM","Modell",null,null,"x"]
["438.10",null,"Nennleistung",null,null,"IfcReal","kW","Zahl",{"$f":"IF(VLOOKUP(A1337,Klassifizierung!$E$4:$W$577,18,FALSE)=0,\"\",VLOOKUP(A1337,Klassifizierung!$E$4:$W$577,18,FALSE))","v":"TGA-LÜ"},"CAFM","Modell",null,null,"x"]
["438.10",null,"Anzahl Inneneinheiten",null,null,"IfcReal"," -","Zahl",{"$f":"IF(VLOOKUP(A1338,Klassifizierung!$E$4:$W$577,18,FALSE)=0,\"\",VLOOKUP(A1338,Klassifizierung!$E$4:$W$577,18,FALSE))","v":"TGA-LÜ"},"CAFM","Modell",null,null,"x"]
["438.10",null,"Typ Kältemittel",null,null,"IfcText"," -","R 1234yf|R 22 - aufbereitet|*R 22 (Chlordifluormethan)|R 23 (Trifluormethan) Ersatz für R 13/503|*R 123 (Dichlortrifluorethan)|*R 124 (Chlortetrafluorethan)|R 125 (Pentafluorethan)|R 134a (Tetrafluorethan) Ersatz für R 12|R 170 (Ethan)|HFKW 227 (Heptafluorpropan) Ersatz für R114|R 290 1.5 (Propan)|R 290 2.5 (Propan)|*R 401A (MP 39)|*R 401B (MP 66)|*R 402A (HP 80)|*R 403B (ISCEON MO69)|R 404A (HP 62/FX 70) Ersatz für R 22/502|R 407A|R 407C (Klea 66/AC 9000) Ersatz für R 22|R 407F|*R 408A (FX 10)|*R 409A (FX 56)|R 410A (AZ 20) Ersatz für R 22/13B1|R 413A (ISCEON MO49) Ersatz für R 12|R 417A (ISCEON MO59) Ersatz für R 22|R 422A (ISCEON MO79) Ersatz für R 22|R 422D (ISCEON MO29) Ersatz für R 22|R 437A (ISCEON MO49 PLUS)|R 507 (AZ 50) Ersatz für R 22/502|R 600a 1.5 (Isobutan)|R 600a 2.5 (Isobutan)|R 717 (Ammoniak)|R 744 (Kohlendioxid)|R 1270 (Propen)|ISCEON MO89 Ersatz für R13 B1|-nicht erkennbar-",{"$f":"IF(VLOOKUP(A1339,Klassifizierung!$E$4:$W$577,18,FALSE)=0,\"\",VLOOKUP(A1339,Klassifizierung!$E$4:$W$577,18,FALSE))","v":"TGA-LÜ"},"CAFM","Modell",null,null,"x"]
["438.10",null,"Kältemittel Menge",null,null,"IfcReal","kg","Zahl",{"$f":"IF(VLOOKUP(A1340,Klassifizierung!$E$4:$W$577,18,FALSE)=0,\"\",VLOOKUP(A1340,Klassifizierung!$E$4:$W$577,18,FALSE))","v":"TGA-LÜ"},"CAFM","Modell",null,null,"x"]
["362",null,"Beschreibung",null,null,"IfcText"," -","Freitext",{"$f":"IF(VLOOKUP(A1341,Klassifizierung!$E$4:$W$577,18,FALSE)=0,\"\",VLOOKUP(A1341,Klassifizierung!$E$4:$W$577,18,FALSE))","v":"ARC"},"CAFM","Modell",null,null,"x"]
["441.10",null,"Anzahl der Einspeisungen",null,null,"IfcReal"," -","Zahl",{"$f":"IF(VLOOKUP(A1342,Klassifizierung!$E$4:$W$577,18,FALSE)=0,\"\",VLOOKUP(A1342,Klassifizierung!$E$4:$W$577,18,FALSE))","v":"TGA-EL"},"CAFM","Modell",null,null,"x"]
["441.10",null,"Anzahl Schaltfelder",null,null,"IfcReal"," -","Zahl",{"$f":"IF(VLOOKUP(A1343,Klassifizierung!$E$4:$W$577,18,FALSE)=0,\"\",VLOOKUP(A1343,Klassifizierung!$E$4:$W$577,18,FALSE))","v":"TGA-EL"},"CAFM","Modell",null,null,"x"]
["441.10",null,"Anzahl Schaltschränke",null,null,"IfcReal"," -","Zahl",{"$f":"IF(VLOOKUP(A1344,Klassifizierung!$E$4:$W$577,18,FALSE)=0,\"\",VLOOKUP(A1344,Klassifizierung!$E$4:$W$577,18,FALSE))","v":"TGA-EL"},"CAFM","Modell",null,null,"x"]
["441.10",null,"Anzahl Wandler",null,null,"IfcReal"," -","Zahl",{"$f":"IF(VLOOKUP(A1345,Klassifizierung!$E$4:$W$577,18,FALSE)=0,\"\",VLOOKUP(A1345,Klassifizierung!$E$4:$W$577,18,FALSE))","v":"TGA-EL"},"CAFM","Modell",null,null,"x"]
["441.10",null,"Anzahl Zähler",null,null,"IfcReal"," -","Zahl",{"$f":"IF(VLOOKUP(A1346,Klassifizierung!$E$4:$W$577,18,FALSE)=0,\"\",VLOOKUP(A1346,Klassifizierung!$E$4:$W$577,18,FALSE))","v":"TGA-EL"},"CAFM","Modell",null,null,"x"]
["441.10",null,"Bauart",null,null,"IfcText"," -","Freitext",{"$f":"IF(VLOOKUP(A1347,Klassifizierung!$E$4:$W$577,18,FALSE)=0,\"\",VLOOKUP(A1347,Klassifizierung!$E$4:$W$577,18,FALSE))","v":"TGA-EL"},"CAFM","Modell",null,null,"x"]
["441.10",null,"Leistungsschalter",null,null,"IfcReal"," -","Zahl",{"$f":"IF(VLOOKUP(A1348,Klassifizierung!$E$4:$W$577,18,FALSE)=0,\"\",VLOOKUP(A1348,Klassifizierung!$E$4:$W$577,18,FALSE))","v":"TGA-EL"},"CAFM","Modell",null,null,"x"]
["441.10",null,"Nennstrom",null,null,"IfcReal"," -","Zahl",{"$f":"IF(VLOOKUP(A1349,Klassifizierung!$E$4:$W$577,18,FALSE)=0,\"\",VLOOKUP(A1349,Klassifizierung!$E$4:$W$577,18,FALSE))","v":"TGA-EL"},"CAFM","Modell",null,null,"x"]
["441.10",null,"Spannung",null,null,"IfcReal","V","Zahl",{"$f":"IF(VLOOKUP(A1350,Klassifizierung!$E$4:$W$577,18,FALSE)=0,\"\",VLOOKUP(A1350,Klassifizierung!$E$4:$W$577,18,FALSE))","v":"TGA-EL"},"CAFM","Modell",null,null,"x"]
["441.20",null,"Anzahl Transformatoren",null,null,"IfcReal"," -","Zahl",{"$f":"IF(VLOOKUP(A1351,Klassifizierung!$E$4:$W$577,18,FALSE)=0,\"\",VLOOKUP(A1351,Klassifizierung!$E$4:$W$577,18,FALSE))","v":"TGA-EL"},"CAFM","Modell",null,null,"x"]
["441.20",null,"Bauart",null,null,"IfcText"," -","Freitext",{"$f":"IF(VLOOKUP(A1352,Klassifizierung!$E$4:$W$577,18,FALSE)=0,\"\",VLOOKUP(A1352,Klassifizierung!$E$4:$W$577,18,FALSE))","v":"TGA-EL"},"CAFM","Modell",null,null,"x"]
["441.20",null,"Hersteller-Typ",null,null,"IfcText"," -","Freitext",{"$f":"IF(VLOOKUP(A1353,Klassifizierung!$E$4:$W$577,18,FALSE)=0,\"\",VLOOKUP(A1353,Klassifizierung!$E$4:$W$577,18,FALSE))","v":"TGA-EL"},"CAFM","Modell",null,null,null,"x"]
["441.20",null,"Leistung",null,null,"IfcReal","kW","Zahl",{"$f":"IF(VLOOKUP(A1354,Klassifizierung!$E$4:$W$577,18,FALSE)=0,\"\",VLOOKUP(A1354,Klassifizierung!$E$4:$W$577,18,FALSE))","v":"TGA-EL"},"CAFM","Modell",null,null,"x"]
["441.20",null,"Ölauffangwanne",null,null,"IfcBoolean"," -","ja|nein",{"$f":"IF(VLOOKUP(A1355,Klassifizierung!$E$4:$W$577,18,FALSE)=0,\"\",VLOOKUP(A1355,Klassifizierung!$E$4:$W$577,18,FALSE))","v":"TGA-EL"},"CAFM","Modell",null,null,"x"]
["441.20",null,"Ölmenge",null,null,"IfcReal","m3","Zahl",{"$f":"IF(VLOOKUP(A1356,Klassifizierung!$E$4:$W$577,18,FALSE)=0,\"\",VLOOKUP(A1356,Klassifizierung!$E$4:$W$577,18,FALSE))","v":"TGA-EL"},"CAFM","Modell",null,null,"x"]
["441.20",null,"Spannung primär",null,null,"IfcReal","V","Zahl",{"$f":"IF(VLOOKUP(A1357,Klassifizierung!$E$4:$W$577,18,FALSE)=0,\"\",VLOOKUP(A1357,Klassifizierung!$E$4:$W$577,18,FALSE))","v":"TGA-EL"},"CAFM","Modell",null,null,"x"]
["441.20",null,"Spannung sekundär",null,null,"IfcReal","V","Zahl",{"$f":"IF(VLOOKUP(A1358,Klassifizierung!$E$4:$W$577,18,FALSE)=0,\"\",VLOOKUP(A1358,Klassifizierung!$E$4:$W$577,18,FALSE))","v":"TGA-EL"},"CAFM","Modell",null,null,"x"]
["441.20",null,"Überspannungsschutzelement",null,null,"IfcReal"," -","Zahl",{"$f":"IF(VLOOKUP(A1359,Klassifizierung!$E$4:$W$577,18,FALSE)=0,\"\",VLOOKUP(A1359,Klassifizierung!$E$4:$W$577,18,FALSE))","v":"TGA-EL"},"CAFM","Modell",null,null,"x"]
["442.11",null,"Antriebsmotor Hersteller",null,null,"IfcText"," -","Freitext",{"$f":"IF(VLOOKUP(A1360,Klassifizierung!$E$4:$W$577,18,FALSE)=0,\"\",VLOOKUP(A1360,Klassifizierung!$E$4:$W$577,18,FALSE))","v":"TGA-EL"},"CAFM","Modell",null,null,null,"x"]
["442.11",null,"Bauart",null,null,"IfcText"," -","Freitext",{"$f":"IF(VLOOKUP(A1361,Klassifizierung!$E$4:$W$577,18,FALSE)=0,\"\",VLOOKUP(A1361,Klassifizierung!$E$4:$W$577,18,FALSE))","v":"TGA-EL"},"CAFM","Modell",null,null,"x"]
["442.11",null,"Elektrische Nennleistung",null,null,"IfcReal","kW","Zahl",{"$f":"IF(VLOOKUP(A1362,Klassifizierung!$E$4:$W$577,18,FALSE)=0,\"\",VLOOKUP(A1362,Klassifizierung!$E$4:$W$577,18,FALSE))","v":"TGA-EL"},"CAFM","Modell",null,null,"x"]
["442.11",null,"Nennspannung",null,null,"IfcReal","V","Zahl",{"$f":"IF(VLOOKUP(A1363,Klassifizierung!$E$4:$W$577,18,FALSE)=0,\"\",VLOOKUP(A1363,Klassifizierung!$E$4:$W$577,18,FALSE))","v":"TGA-EL"},"CAFM","Modell",null,null,"x"]
["442.11",null,"Leistung Motor",null,null,"IfcReal","kW","Zahl",{"$f":"IF(VLOOKUP(A1364,Klassifizierung!$E$4:$W$577,18,FALSE)=0,\"\",VLOOKUP(A1364,Klassifizierung!$E$4:$W$577,18,FALSE))","v":"TGA-EL"},"CAFM","Modell",null,null,"x"]
["442.11",null,"Volumen Kraftstoffbevorratung",null,null,"IfcReal","m3","Zahl",{"$f":"IF(VLOOKUP(A1365,Klassifizierung!$E$4:$W$577,18,FALSE)=0,\"\",VLOOKUP(A1365,Klassifizierung!$E$4:$W$577,18,FALSE))","v":"TGA-EL"},"CAFM","Modell",null,null,"x"]
["442.12",null,"Bauart",null,null,"IfcText"," -","Freitext",{"$f":"IF(VLOOKUP(A1366,Klassifizierung!$E$4:$W$577,18,FALSE)=0,\"\",VLOOKUP(A1366,Klassifizierung!$E$4:$W$577,18,FALSE))","v":"TGA-EL"},"CAFM","Modell",null,null,"x"]
["442.12",null,"Elektrische Nennleistung",null,null,"IfcReal","kW","Zahl",{"$f":"IF(VLOOKUP(A1367,Klassifizierung!$E$4:$W$577,18,FALSE)=0,\"\",VLOOKUP(A1367,Klassifizierung!$E$4:$W$577,18,FALSE))","v":"TGA-EL"},"CAFM","Modell",null,null,"x"]
["442.12",null,"Nennspannung",null,null,"IfcReal","V","Zahl",{"$f":"IF(VLOOKUP(A1368,Klassifizierung!$E$4:$W$577,18,FALSE)=0,\"\",VLOOKUP(A1368,Klassifizierung!$E$4:$W$577,18,FALSE))","v":"TGA-EL"},"CAFM","Modell",null,null,"x"]
["442.12",null,"Nennstrom",null,null,"IfcReal"," -","Zahl",{"$f":"IF(VLOOKUP(A1369,Klassifizierung!$E$4:$W$577,18,FALSE)=0,\"\",VLOOKUP(A1369,Klassifizierung!$E$4:$W$577,18,FALSE))","v":"TGA-EL"},"CAFM","Modell",null,null,"x"]
["442.12",null,"Nennkapazität",null,null,"IfcReal","kW","Zahl",{"$f":"IF(VLOOKUP(A1370,Klassifizierung!$E$4:$W$577,18,FALSE)=0,\"\",VLOOKUP(A1370,Klassifizierung!$E$4:$W$577,18,FALSE))","v":"TGA-EL"},"CAFM","Modell",null,null,"x"]
["442.12",null,"Überbrückungszeit",null,null,"IfcReal"," -","Zahl",{"$f":"IF(VLOOKUP(A1371,Klassifizierung!$E$4:$W$577,18,FALSE)=0,\"\",VLOOKUP(A1371,Klassifizierung!$E$4:$W$577,18,FALSE))","v":"TGA-EL"},"CAFM","Modell",null,null,"x"]
["442.12",null,"Schutzart",null,null,"IfcText"," -","Freitext",{"$f":"IF(VLOOKUP(A1372,Klassifizierung!$E$4:$W$577,18,FALSE)=0,\"\",VLOOKUP(A1372,Klassifizierung!$E$4:$W$577,18,FALSE))","v":"TGA-EL"},"CAFM","Modell",null,null,"x"]
["442.13",null,"Bauart",null,null,"IfcText"," -","Freitext",{"$f":"IF(VLOOKUP(A1373,Klassifizierung!$E$4:$W$577,18,FALSE)=0,\"\",VLOOKUP(A1373,Klassifizierung!$E$4:$W$577,18,FALSE))","v":"TGA-EL"},"CAFM","Modell",null,null,"x"]
["442.13",null,"Elektrische Nennleistung",null,null,"IfcReal","kW","Zahl",{"$f":"IF(VLOOKUP(A1374,Klassifizierung!$E$4:$W$577,18,FALSE)=0,\"\",VLOOKUP(A1374,Klassifizierung!$E$4:$W$577,18,FALSE))","v":"TGA-EL"},"CAFM","Modell",null,null,"x"]
["442.13",null,"Nennkapazität",null,null,"IfcReal","kW","Zahl",{"$f":"IF(VLOOKUP(A1375,Klassifizierung!$E$4:$W$577,18,FALSE)=0,\"\",VLOOKUP(A1375,Klassifizierung!$E$4:$W$577,18,FALSE))","v":"TGA-EL"},"CAFM","Modell",null,null,"x"]
["442.13",null,"Spannung",null,null,"IfcReal","V","Zahl",{"$f":"IF(VLOOKUP(A1376,Klassifizierung!$E$4:$W$577,18,FALSE)=0,\"\",VLOOKUP(A1376,Klassifizierung!$E$4:$W$577,18,FALSE))","v":"TGA-EL"},"CAFM","Modell",null,null,"x"]
["442.20",null,"Bauart",null,null,"IfcText"," -","Freitext",{"$f":"IF(VLOOKUP(A1377,Klassifizierung!$E$4:$W$577,18,FALSE)=0,\"\",VLOOKUP(A1377,Klassifizierung!$E$4:$W$577,18,FALSE))","v":"TGA-EL"},"CAFM","Modell",null,null,"x"]
["442.20",null,"Elektrische Nennleistung",null,null,"IfcReal","kW","Zahl",{"$f":"IF(VLOOKUP(A1378,Klassifizierung!$E$4:$W$577,18,FALSE)=0,\"\",VLOOKUP(A1378,Klassifizierung!$E$4:$W$577,18,FALSE))","v":"TGA-EL"},"CAFM","Modell",null,null,"x"]
["442.20",null,"Spannung",null,null,"IfcReal","V","Zahl",{"$f":"IF(VLOOKUP(A1379,Klassifizierung!$E$4:$W$577,18,FALSE)=0,\"\",VLOOKUP(A1379,Klassifizierung!$E$4:$W$577,18,FALSE))","v":"TGA-EL"},"CAFM","Modell",null,null,"x"]
["442.30",null,"Bauart",null,null,"IfcText"," -","Freitext",{"$f":"IF(VLOOKUP(A1380,Klassifizierung!$E$4:$W$577,18,FALSE)=0,\"\",VLOOKUP(A1380,Klassifizierung!$E$4:$W$577,18,FALSE))","v":"TGA-EL"},"CAFM","Modell",null,null,"x"]
["442.30",null,"Elektrische Nennleistung",null,null,"IfcReal","kW","Zahl",{"$f":"IF(VLOOKUP(A1381,Klassifizierung!$E$4:$W$577,18,FALSE)=0,\"\",VLOOKUP(A1381,Klassifizierung!$E$4:$W$577,18,FALSE))","v":"TGA-EL"},"CAFM","Modell",null,null,"x"]
["442.30",null,"Höhe der Narbe",null,null,"IfcReal","m3","Zahl",{"$f":"IF(VLOOKUP(A1382,Klassifizierung!$E$4:$W$577,18,FALSE)=0,\"\",VLOOKUP(A1382,Klassifizierung!$E$4:$W$577,18,FALSE))","v":"TGA-EL"},"CAFM","Modell",null,null,"x"]
["442.30",null,"Rotordurchmesser",null,null,"IfcReal","m3","Zahl",{"$f":"IF(VLOOKUP(A1383,Klassifizierung!$E$4:$W$577,18,FALSE)=0,\"\",VLOOKUP(A1383,Klassifizierung!$E$4:$W$577,18,FALSE))","v":"TGA-EL"},"CAFM","Modell",null,null,"x"]
["442.30",null,"Spannung",null,null,"IfcReal","V","Zahl",{"$f":"IF(VLOOKUP(A1384,Klassifizierung!$E$4:$W$577,18,FALSE)=0,\"\",VLOOKUP(A1384,Klassifizierung!$E$4:$W$577,18,FALSE))","v":"TGA-EL"},"CAFM","Modell",null,null,"x"]
["442.40",null,"Anzahl Module",null,null,"IfcReal"," -","Zahl",{"$f":"IF(VLOOKUP(A1385,Klassifizierung!$E$4:$W$577,18,FALSE)=0,\"\",VLOOKUP(A1385,Klassifizierung!$E$4:$W$577,18,FALSE))","v":"TGA-EL"},"CAFM","Modell",null,null,"x"]
["442.40",null,"Typ Module",null,null,"IfcText"," -","Freitext",{"$f":"IF(VLOOKUP(A1386,Klassifizierung!$E$4:$W$577,18,FALSE)=0,\"\",VLOOKUP(A1386,Klassifizierung!$E$4:$W$577,18,FALSE))","v":"TGA-EL"},"CAFM","Modell",null,null,"x"]
["442.40",null,"Anzahl Wechselrichter",null,null,"IfcReal"," -","Zahl",{"$f":"IF(VLOOKUP(A1387,Klassifizierung!$E$4:$W$577,18,FALSE)=0,\"\",VLOOKUP(A1387,Klassifizierung!$E$4:$W$577,18,FALSE))","v":"TGA-EL"},"CAFM","Modell",null,null,"x"]
["442.40",null,"Spannung",null,null,"IfcReal","V","Zahl",{"$f":"IF(VLOOKUP(A1388,Klassifizierung!$E$4:$W$577,18,FALSE)=0,\"\",VLOOKUP(A1388,Klassifizierung!$E$4:$W$577,18,FALSE))","v":"TGA-EL"},"CAFM","Modell",null,null,"x"]
["442.40",null,"Typ Anlage",null,null,"IfcText"," -","Netzeinspeisung|Eigenverbrauch",{"$f":"IF(VLOOKUP(A1389,Klassifizierung!$E$4:$W$577,18,FALSE)=0,\"\",VLOOKUP(A1389,Klassifizierung!$E$4:$W$577,18,FALSE))","v":"TGA-EL"},"CAFM","Modell",null,null,"x"]
["442.40",null,"Nennleistung",null,null,"IfcReal","kW","Zahl",{"$f":"IF(VLOOKUP(A1390,Klassifizierung!$E$4:$W$577,18,FALSE)=0,\"\",VLOOKUP(A1390,Klassifizierung!$E$4:$W$577,18,FALSE))","v":"TGA-EL"},"CAFM","Modell",null,null,"x"]
["442.50",null,"Bauart",null,null,"IfcText"," -","Freitext",{"$f":"IF(VLOOKUP(A1391,Klassifizierung!$E$4:$W$577,18,FALSE)=0,\"\",VLOOKUP(A1391,Klassifizierung!$E$4:$W$577,18,FALSE))","v":"TGA-EL"},"CAFM","Modell",null,null,"x"]
["442.50",null,"Elektrische Nennleistung",null,null,"IfcReal","kW","Zahl",{"$f":"IF(VLOOKUP(A1392,Klassifizierung!$E$4:$W$577,18,FALSE)=0,\"\",VLOOKUP(A1392,Klassifizierung!$E$4:$W$577,18,FALSE))","v":"TGA-EL"},"CAFM","Modell",null,null,"x"]
["442.50",null,"Spannung",null,null,"IfcReal","V","Zahl",{"$f":"IF(VLOOKUP(A1393,Klassifizierung!$E$4:$W$577,18,FALSE)=0,\"\",VLOOKUP(A1393,Klassifizierung!$E$4:$W$577,18,FALSE))","v":"TGA-EL"},"CAFM","Modell",null,null,"x"]
["442.60",null,"Bauart",null,null,"IfcText"," -","Freitext",{"$f":"IF(VLOOKUP(A1394,Klassifizierung!$E$4:$W$577,18,FALSE)=0,\"\",VLOOKUP(A1394,Klassifizierung!$E$4:$W$577,18,FALSE))","v":"TGA-EL"},"CAFM","Modell",null,null,"x"]
["442.60",null,"Betriebsart",null,null,"IfcText"," -","Einzelbetrieb|Netzparallelbetrieb|Notstrombetrieb",{"$f":"IF(VLOOKUP(A1395,Klassifizierung!$E$4:$W$577,18,FALSE)=0,\"\",VLOOKUP(A1395,Klassifizierung!$E$4:$W$577,18,FALSE))","v":"TGA-EL"},"CAFM","Modell",null,null,"x"]
["442.60",null,"Brennstoff",null,null,"IfcText"," -","Gas|Öl|Gas/Öl|Holz|Pellets",{"$f":"IF(VLOOKUP(A1396,Klassifizierung!$E$4:$W$577,18,FALSE)=0,\"\",VLOOKUP(A1396,Klassifizierung!$E$4:$W$577,18,FALSE))","v":"TGA-EL"},"CAFM","Modell",null,null,"x"]
["442.60",null,"Elektrische Nennleistung",null,null,"IfcReal","kW","Zahl",{"$f":"IF(VLOOKUP(A1397,Klassifizierung!$E$4:$W$577,18,FALSE)=0,\"\",VLOOKUP(A1397,Klassifizierung!$E$4:$W$577,18,FALSE))","v":"TGA-EL"},"CAFM","Modell",null,null,"x"]
["442.60",null,"Nenninhalt Brennstofftank",null,null,"IfcReal","m3","Zahl",{"$f":"IF(VLOOKUP(A1398,Klassifizierung!$E$4:$W$577,18,FALSE)=0,\"\",VLOOKUP(A1398,Klassifizierung!$E$4:$W$577,18,FALSE))","v":"TGA-EL"},"CAFM","Modell",null,null,"x"]
["442.60",null,"Spannung",null,null,"IfcReal","V","Zahl",{"$f":"IF(VLOOKUP(A1399,Klassifizierung!$E$4:$W$577,18,FALSE)=0,\"\",VLOOKUP(A1399,Klassifizierung!$E$4:$W$577,18,FALSE))","v":"TGA-EL"},"CAFM","Modell",null,null,"x"]
["442.60",null,"Thermische Nennleistung",null,null,"IfcReal","kW","Zahl",{"$f":"IF(VLOOKUP(A1400,Klassifizierung!$E$4:$W$577,18,FALSE)=0,\"\",VLOOKUP(A1400,Klassifizierung!$E$4:$W$577,18,FALSE))","v":"TGA-EL"},"CAFM","Modell",null,null,"x"]
["442.70",null,"Bauart",null,null,"IfcText"," -","Freitext",{"$f":"IF(VLOOKUP(A1401,Klassifizierung!$E$4:$W$577,18,FALSE)=0,\"\",VLOOKUP(A1401,Klassifizierung!$E$4:$W$577,18,FALSE))","v":"TGA-EL"},"CAFM","Modell",null,null,"x"]
["442.70",null,"Elektrische Nennleistung",null,null,"IfcReal","kW","Zahl",{"$f":"IF(VLOOKUP(A1402,Klassifizierung!$E$4:$W$577,18,FALSE)=0,\"\",VLOOKUP(A1402,Klassifizierung!$E$4:$W$577,18,FALSE))","v":"TGA-EL"},"CAFM","Modell",null,null,"x"]
["442.70",null,"Spannung",null,null,"IfcReal","V","Zahl",{"$f":"IF(VLOOKUP(A1403,Klassifizierung!$E$4:$W$577,18,FALSE)=0,\"\",VLOOKUP(A1403,Klassifizierung!$E$4:$W$577,18,FALSE))","v":"TGA-EL"},"CAFM","Modell",null,null,"x"]
["442.90",null,"Bauart",null,null,"IfcText"," -","Freitext",{"$f":"IF(VLOOKUP(A1404,Klassifizierung!$E$4:$W$577,18,FALSE)=0,\"\",VLOOKUP(A1404,Klassifizierung!$E$4:$W$577,18,FALSE))","v":"TGA-EL"},"CAFM","Modell",null,null,"x"]
["442.90",null,"Elektrische Nennleistung",null,null,"IfcReal","kW","Zahl",{"$f":"IF(VLOOKUP(A1405,Klassifizierung!$E$4:$W$577,18,FALSE)=0,\"\",VLOOKUP(A1405,Klassifizierung!$E$4:$W$577,18,FALSE))","v":"TGA-EL"},"CAFM","Modell",null,null,"x"]
["442.90",null,"Spannung",null,null,"IfcReal","V","Zahl",{"$f":"IF(VLOOKUP(A1406,Klassifizierung!$E$4:$W$577,18,FALSE)=0,\"\",VLOOKUP(A1406,Klassifizierung!$E$4:$W$577,18,FALSE))","v":"TGA-EL"},"CAFM","Modell",null,null,"x"]
["442.90",null,"Bauart",null,null,"IfcText"," -","Freitext",{"$f":"IF(VLOOKUP(A1407,Klassifizierung!$E$4:$W$577,18,FALSE)=0,\"\",VLOOKUP(A1407,Klassifizierung!$E$4:$W$577,18,FALSE))","v":"TGA-EL"},"CAFM","Modell",null,null,"x"]
["442.90",null,"Elektrische Nennleistung",null,null,"IfcReal","kW","Zahl",{"$f":"IF(VLOOKUP(A1408,Klassifizierung!$E$4:$W$577,18,FALSE)=0,\"\",VLOOKUP(A1408,Klassifizierung!$E$4:$W$577,18,FALSE))","v":"TGA-EL"},"CAFM","Modell",null,null,"x"]
["442.90",null,"Spannung",null,null,"IfcReal","V","Zahl",{"$f":"IF(VLOOKUP(A1409,Klassifizierung!$E$4:$W$577,18,FALSE)=0,\"\",VLOOKUP(A1409,Klassifizierung!$E$4:$W$577,18,FALSE))","v":"TGA-EL"},"CAFM","Modell",null,null,"x"]
["443.10",null,"Anzahl Felder",null,null,"IfcReal","Stück","Zahl",{"$f":"IF(VLOOKUP(A1410,Klassifizierung!$E$4:$W$577,18,FALSE)=0,\"\",VLOOKUP(A1410,Klassifizierung!$E$4:$W$577,18,FALSE))","v":"TGA-EL"},"CAFM","Modell",null,null,"x"]
["443.10",null,"Anzahl der Sicherungsabgänge",null,null,"IfcReal","Stück","Zahl",{"$f":"IF(VLOOKUP(A1411,Klassifizierung!$E$4:$W$577,18,FALSE)=0,\"\",VLOOKUP(A1411,Klassifizierung!$E$4:$W$577,18,FALSE))","v":"TGA-EL"},"CAFM","Modell",null,null,"x"]
["443.10",null,"Einspeisungen Notstrom",null,null,"IfcText"," -","Freitext",{"$f":"IF(VLOOKUP(A1412,Klassifizierung!$E$4:$W$577,18,FALSE)=0,\"\",VLOOKUP(A1412,Klassifizierung!$E$4:$W$577,18,FALSE))","v":"TGA-EL"},"CAFM","Modell",null,null,"x"]
["443.10",null,"Kuppelschalter AV/SV",null,null,"IfcText"," -","Freitext",{"$f":"IF(VLOOKUP(A1413,Klassifizierung!$E$4:$W$577,18,FALSE)=0,\"\",VLOOKUP(A1413,Klassifizierung!$E$4:$W$577,18,FALSE))","v":"TGA-EL"},"CAFM","Modell",null,null,"x"]
["443.10",null,"Leistungsschalter",null,null,"IfcText"," -","Freitext",{"$f":"IF(VLOOKUP(A1414,Klassifizierung!$E$4:$W$577,18,FALSE)=0,\"\",VLOOKUP(A1414,Klassifizierung!$E$4:$W$577,18,FALSE))","v":"TGA-EL"},"CAFM","Modell",null,null,"x"]
["443.10",null,"Stromkreise",null,null,"IfcReal"," -","Zahl",{"$f":"IF(VLOOKUP(A1415,Klassifizierung!$E$4:$W$577,18,FALSE)=0,\"\",VLOOKUP(A1415,Klassifizierung!$E$4:$W$577,18,FALSE))","v":"TGA-EL"},"CAFM","Modell",null,null,"x"]
["443.10",null,"Überspannungsschutz",null,null,"IfcText"," -","Freitext",{"$f":"IF(VLOOKUP(A1416,Klassifizierung!$E$4:$W$577,18,FALSE)=0,\"\",VLOOKUP(A1416,Klassifizierung!$E$4:$W$577,18,FALSE))","v":"TGA-EL"},"CAFM","Modell",null,null,"x"]
["443.10",null,"Anzahl Lastschalter",null,null,"IfcReal"," -","Zahl",{"$f":"IF(VLOOKUP(A1417,Klassifizierung!$E$4:$W$577,18,FALSE)=0,\"\",VLOOKUP(A1417,Klassifizierung!$E$4:$W$577,18,FALSE))","v":"TGA-EL"},"CAFM","Modell",null,null,"x"]
["443.10",null,"Nennspannung Lastschalter",null,null,"IfcReal","V","Zahl",{"$f":"IF(VLOOKUP(A1418,Klassifizierung!$E$4:$W$577,18,FALSE)=0,\"\",VLOOKUP(A1418,Klassifizierung!$E$4:$W$577,18,FALSE))","v":"TGA-EL"},"CAFM","Modell",null,null,"x"]
["443.10",null,"Nennstrom Lastschalter",null,null,"IfcReal"," -","Zahl",{"$f":"IF(VLOOKUP(A1419,Klassifizierung!$E$4:$W$577,18,FALSE)=0,\"\",VLOOKUP(A1419,Klassifizierung!$E$4:$W$577,18,FALSE))","v":"TGA-EL"},"CAFM","Modell",null,null,"x"]
["443.10",null,"Anzahl Unterverteiler",null,null,"IfcReal"," -","Zahl",{"$f":"IF(VLOOKUP(A1420,Klassifizierung!$E$4:$W$577,18,FALSE)=0,\"\",VLOOKUP(A1420,Klassifizierung!$E$4:$W$577,18,FALSE))","v":"TGA-EL"},"CAFM","Modell",null,null,"x"]
["443.10",null,"Anzahl FI-Schalter",null,null,"IfcReal"," -","Zahl",{"$f":"IF(VLOOKUP(A1421,Klassifizierung!$E$4:$W$577,18,FALSE)=0,\"\",VLOOKUP(A1421,Klassifizierung!$E$4:$W$577,18,FALSE))","v":"TGA-EL"},"CAFM","Modell",null,null,"x"]
["443.11",null,"Beschreibung",null,null,"IfcText"," -","Freitext",{"$f":"IF(VLOOKUP(A1422,Klassifizierung!$E$4:$W$577,18,FALSE)=0,\"\",VLOOKUP(A1422,Klassifizierung!$E$4:$W$577,18,FALSE))","v":"TGA-EL"},"CAFM","Modell",null,null,"x"]
["443.11",null,"Felder",null,null,"IfcReal"," -","Zahl",{"$f":"IF(VLOOKUP(A1423,Klassifizierung!$E$4:$W$577,18,FALSE)=0,\"\",VLOOKUP(A1423,Klassifizierung!$E$4:$W$577,18,FALSE))","v":"TGA-EL"},"CAFM","Modell",null,null,"x"]
["443.20",null,"Bauart",null,null,"IfcText"," -","Freitext",{"$f":"IF(VLOOKUP(A1424,Klassifizierung!$E$4:$W$577,18,FALSE)=0,\"\",VLOOKUP(A1424,Klassifizierung!$E$4:$W$577,18,FALSE))","v":"TGA-EL"},"CAFM","Modell",null,null,"x"]
["443.20",null,"Anzahl Kondensatoren",null,null,"IfcReal"," -","Zahl",{"$f":"IF(VLOOKUP(A1425,Klassifizierung!$E$4:$W$577,18,FALSE)=0,\"\",VLOOKUP(A1425,Klassifizierung!$E$4:$W$577,18,FALSE))","v":"TGA-EL"},"CAFM","Modell",null,null,"x"]
["443.20",null,"Nennblindleistung",null,null,"IfcReal","kVar","Zahl",{"$f":"IF(VLOOKUP(A1426,Klassifizierung!$E$4:$W$577,18,FALSE)=0,\"\",VLOOKUP(A1426,Klassifizierung!$E$4:$W$577,18,FALSE))","v":"TGA-EL"},"CAFM","Modell",null,null,"x"]
["443.30",null,"Absicherung",null,null,"IfcReal","A","Zahl",{"$f":"IF(VLOOKUP(A1427,Klassifizierung!$E$4:$W$577,18,FALSE)=0,\"\",VLOOKUP(A1427,Klassifizierung!$E$4:$W$577,18,FALSE))","v":"TGA-EL"},"CAFM","Modell",null,null,"x"]
["443.30",null,"Spannungsebene",null,null,"IfcReal","V","Zahl",{"$f":"IF(VLOOKUP(A1428,Klassifizierung!$E$4:$W$577,18,FALSE)=0,\"\",VLOOKUP(A1428,Klassifizierung!$E$4:$W$577,18,FALSE))","v":"TGA-EL"},"CAFM","Modell",null,null,"x"]
["444.10",null,"Anzahl Fehlerstromschutzeinrichtungen",null,null,"IfcReal"," -","Zahl",{"$f":"IF(VLOOKUP(A1429,Klassifizierung!$E$4:$W$577,18,FALSE)=0,\"\",VLOOKUP(A1429,Klassifizierung!$E$4:$W$577,18,FALSE))","v":"TGA-EL"},"CAFM","Modell",null,null,"x"]
["444.10",null,"Anzahl Stromkreise",null,null,"IfcReal"," -","Zahl",{"$f":"IF(VLOOKUP(A1430,Klassifizierung!$E$4:$W$577,18,FALSE)=0,\"\",VLOOKUP(A1430,Klassifizierung!$E$4:$W$577,18,FALSE))","v":"TGA-EL"},"CAFM","Modell",null,null,"x"]
["444.10",null,"Eingangsstrom",null,null,"IfcReal"," -","Zahl",{"$f":"IF(VLOOKUP(A1431,Klassifizierung!$E$4:$W$577,18,FALSE)=0,\"\",VLOOKUP(A1431,Klassifizierung!$E$4:$W$577,18,FALSE))","v":"TGA-EL"},"CAFM","Modell",null,null,"x"]
["444.10",null,"Anzahl Abgänge",null,null,"IfcReal","Stück","Zahl",{"$f":"IF(VLOOKUP(A1432,Klassifizierung!$E$4:$W$577,18,FALSE)=0,\"\",VLOOKUP(A1432,Klassifizierung!$E$4:$W$577,18,FALSE))","v":"TGA-EL"},"CAFM","Modell",null,null,"x"]
["444.10",null,"Anzahl Zähler",null,null,"IfcReal","Stück","Zahl",{"$f":"IF(VLOOKUP(A1433,Klassifizierung!$E$4:$W$577,18,FALSE)=0,\"\",VLOOKUP(A1433,Klassifizierung!$E$4:$W$577,18,FALSE))","v":"TGA-EL"},"CAFM","Modell",null,null,"x"]
["444.10",null,"Bussystem vorhanden",null,null,"IfcBoolean"," -","ja|nein",{"$f":"IF(VLOOKUP(A1434,Klassifizierung!$E$4:$W$577,18,FALSE)=0,\"\",VLOOKUP(A1434,Klassifizierung!$E$4:$W$577,18,FALSE))","v":"TGA-EL"},"CAFM","Modell",null,null,"x"]
["444.10",null,"Sonstige Einbauten",null,null,"IfcText"," -","Freitext",{"$f":"IF(VLOOKUP(A1435,Klassifizierung!$E$4:$W$577,18,FALSE)=0,\"\",VLOOKUP(A1435,Klassifizierung!$E$4:$W$577,18,FALSE))","v":"TGA-EL"},"CAFM","Modell",null,null,"x"]
["444.11",null,"Anzahl",null,null,"IfcReal","Stück","Zahl",{"$f":"IF(VLOOKUP(A1436,Klassifizierung!$E$4:$W$577,18,FALSE)=0,\"\",VLOOKUP(A1436,Klassifizierung!$E$4:$W$577,18,FALSE))","v":"TGA-EL"},"CAFM","Modell",null,null,"x"]
["444.11",null,"Beschreibung",null,null,"IfcText"," -","Freitext",{"$f":"IF(VLOOKUP(A1437,Klassifizierung!$E$4:$W$577,18,FALSE)=0,\"\",VLOOKUP(A1437,Klassifizierung!$E$4:$W$577,18,FALSE))","v":"TGA-EL"},"CAFM","Modell",null,null,"x"]
["444.11",null,"Felder",null,null,"IfcReal","Stück","Zahl",{"$f":"IF(VLOOKUP(A1438,Klassifizierung!$E$4:$W$577,18,FALSE)=0,\"\",VLOOKUP(A1438,Klassifizierung!$E$4:$W$577,18,FALSE))","v":"TGA-EL"},"CAFM","Modell",null,null,"x"]
["445.10",null,"Bauart",null,null,"IfcText"," -","Strahler|Downlight|Schiffsarmatur|Aufbauleuchte|Hängeleuchte|Einbauleuchte|Sonderleuchte|mobile Leuchte",{"$f":"IF(VLOOKUP(A1439,Klassifizierung!$E$4:$W$577,18,FALSE)=0,\"\",VLOOKUP(A1439,Klassifizierung!$E$4:$W$577,18,FALSE))","v":"TGA-EL"},"CAFM","Modell",null,null,"x"]
["445.10",null,"Anzahl Leuchten",null,null,"IfcReal","Stück","Zahl",{"$f":"IF(VLOOKUP(A1440,Klassifizierung!$E$4:$W$577,18,FALSE)=0,\"\",VLOOKUP(A1440,Klassifizierung!$E$4:$W$577,18,FALSE))","v":"TGA-EL"},"CAFM","Modell",null,null,"x"]
["445.10",null,"Anzahl Leuchtmittel",null,null,"IfcReal","Stück","Zahl",{"$f":"IF(VLOOKUP(A1441,Klassifizierung!$E$4:$W$577,18,FALSE)=0,\"\",VLOOKUP(A1441,Klassifizierung!$E$4:$W$577,18,FALSE))","v":"TGA-EL"},"CAFM","Modell",null,null,"x"]
["445.10",null,"Art Leuchtmittel",null,null,"IfcText"," -","Leuchtstoffröhren|Energiesparlampen|LED|Halogen|Glühlampen|Sonstiges",{"$f":"IF(VLOOKUP(A1442,Klassifizierung!$E$4:$W$577,18,FALSE)=0,\"\",VLOOKUP(A1442,Klassifizierung!$E$4:$W$577,18,FALSE))","v":"TGA-EL"},"CAFM","Modell",null,null,"x"]
["445.10",null,"Leistung Leuchtmittel",null,null,"IfcReal","W","Zahl",{"$f":"IF(VLOOKUP(A1443,Klassifizierung!$E$4:$W$577,18,FALSE)=0,\"\",VLOOKUP(A1443,Klassifizierung!$E$4:$W$577,18,FALSE))","v":"TGA-EL"},"CAFM","Modell",null,null,"x"]
["445.10",null,"Lichtfarbe",null,null,"IfcText"," -","Freitext",{"$f":"IF(VLOOKUP(A1444,Klassifizierung!$E$4:$W$577,18,FALSE)=0,\"\",VLOOKUP(A1444,Klassifizierung!$E$4:$W$577,18,FALSE))","v":"TGA-EL"},"CAFM","Modell",null,null,"x"]
["445.20",null,"Anzahl der Leuchtengruppen",null,null,"IfcReal"," -","Zahl",{"$f":"IF(VLOOKUP(A1445,Klassifizierung!$E$4:$W$577,18,FALSE)=0,\"\",VLOOKUP(A1445,Klassifizierung!$E$4:$W$577,18,FALSE))","v":"TGA-EL"},"CAFM","Modell",null,null,"x"]
["445.20",null,"Anzahl Einzelbatterieleuchten",null,null,"IfcReal"," -","Zahl",{"$f":"IF(VLOOKUP(A1446,Klassifizierung!$E$4:$W$577,18,FALSE)=0,\"\",VLOOKUP(A1446,Klassifizierung!$E$4:$W$577,18,FALSE))","v":"TGA-EL"},"CAFM","Modell",null,null,"x"]
["445.20",null,"Anzahl Leuchten",null,null,"IfcReal"," -","Zahl",{"$f":"IF(VLOOKUP(A1447,Klassifizierung!$E$4:$W$577,18,FALSE)=0,\"\",VLOOKUP(A1447,Klassifizierung!$E$4:$W$577,18,FALSE))","v":"TGA-EL"},"CAFM","Modell",null,null,"x"]
["445.20",null,"Anzahl Unterverteilungen",null,null,"IfcReal"," -","Zahl",{"$f":"IF(VLOOKUP(A1448,Klassifizierung!$E$4:$W$577,18,FALSE)=0,\"\",VLOOKUP(A1448,Klassifizierung!$E$4:$W$577,18,FALSE))","v":"TGA-EL"},"CAFM","Modell",null,null,"x"]
["445.20",null,"Leistung Leuchtmittel",null,null,"IfcReal"," -","Zahl",{"$f":"IF(VLOOKUP(A1449,Klassifizierung!$E$4:$W$577,18,FALSE)=0,\"\",VLOOKUP(A1449,Klassifizierung!$E$4:$W$577,18,FALSE))","v":"TGA-EL"},"CAFM","Modell",null,null,"x"]
["445.20",null,"Nennleistung",null,null,"IfcReal","kW","Zahl",{"$f":"IF(VLOOKUP(A1450,Klassifizierung!$E$4:$W$577,18,FALSE)=0,\"\",VLOOKUP(A1450,Klassifizierung!$E$4:$W$577,18,FALSE))","v":"TGA-EL"},"CAFM","Modell",null,null,"x"]
["445.20",null,"Notstromversorgung",null,null,"IfcBoolean"," -","ja|nein",{"$f":"IF(VLOOKUP(A1451,Klassifizierung!$E$4:$W$577,18,FALSE)=0,\"\",VLOOKUP(A1451,Klassifizierung!$E$4:$W$577,18,FALSE))","v":"TGA-EL"},"CAFM","Modell",null,null,"x"]
["445.20",null,"Schaltung",null,null,"IfcText"," -","Dauerschaltung|Bereitschaftsschaltung",{"$f":"IF(VLOOKUP(A1452,Klassifizierung!$E$4:$W$577,18,FALSE)=0,\"\",VLOOKUP(A1452,Klassifizierung!$E$4:$W$577,18,FALSE))","v":"TGA-EL"},"CAFM","Modell",null,null,"x"]
["445.20",null,"Spannung",null,null,"IfcReal","V","Zahl",{"$f":"IF(VLOOKUP(A1453,Klassifizierung!$E$4:$W$577,18,FALSE)=0,\"\",VLOOKUP(A1453,Klassifizierung!$E$4:$W$577,18,FALSE))","v":"TGA-EL"},"CAFM","Modell",null,null,"x"]
["445.20",null,"Stromkreise",null,null,"IfcReal","Stück","Zahl",{"$f":"IF(VLOOKUP(A1454,Klassifizierung!$E$4:$W$577,18,FALSE)=0,\"\",VLOOKUP(A1454,Klassifizierung!$E$4:$W$577,18,FALSE))","v":"TGA-EL"},"CAFM","Modell",null,null,"x"]
["445.20",null,"Stromversorgung",null,null,"IfcText"," -","Eigenversorgung|Zentralversorgung|Gruppenversorgung",{"$f":"IF(VLOOKUP(A1455,Klassifizierung!$E$4:$W$577,18,FALSE)=0,\"\",VLOOKUP(A1455,Klassifizierung!$E$4:$W$577,18,FALSE))","v":"TGA-EL"},"CAFM","Modell",null,null,"x"]
["445.30",null,"Bauart",null,null,"IfcText"," -","Freitext",{"$f":"IF(VLOOKUP(A1456,Klassifizierung!$E$4:$W$577,18,FALSE)=0,\"\",VLOOKUP(A1456,Klassifizierung!$E$4:$W$577,18,FALSE))","v":"TGA-EL"},"CAFM","Modell",null,null,"x"]
["445.30",null,"Leistung",null,null,"IfcReal","kW","Zahl",{"$f":"IF(VLOOKUP(A1457,Klassifizierung!$E$4:$W$577,18,FALSE)=0,\"\",VLOOKUP(A1457,Klassifizierung!$E$4:$W$577,18,FALSE))","v":"TGA-EL"},"CAFM","Modell",null,null,"x"]
["445.30",null,"Nennspannung",null,null,"IfcReal","V","Zahl",{"$f":"IF(VLOOKUP(A1458,Klassifizierung!$E$4:$W$577,18,FALSE)=0,\"\",VLOOKUP(A1458,Klassifizierung!$E$4:$W$577,18,FALSE))","v":"TGA-EL"},"CAFM","Modell",null,null,"x"]
["446",null,"Anzahl Ableitungen",null,null,"IfcReal"," -","Zahl",{"$f":"IF(VLOOKUP(A1459,Klassifizierung!$E$4:$W$577,18,FALSE)=0,\"\",VLOOKUP(A1459,Klassifizierung!$E$4:$W$577,18,FALSE))","v":"TGA-EL"},"CAFM","Modell",null,null,"x"]
["446",null,"Anzahl Trennstellen",null,null,"IfcReal"," -","Zahl",{"$f":"IF(VLOOKUP(A1460,Klassifizierung!$E$4:$W$577,18,FALSE)=0,\"\",VLOOKUP(A1460,Klassifizierung!$E$4:$W$577,18,FALSE))","v":"TGA-EL"},"CAFM","Modell",null,null,"x"]
["446",null,"Blitzschutzklasse",null,null,"IfcText"," -","1|2|3|4",{"$f":"IF(VLOOKUP(A1461,Klassifizierung!$E$4:$W$577,18,FALSE)=0,\"\",VLOOKUP(A1461,Klassifizierung!$E$4:$W$577,18,FALSE))","v":"TGA-EL"},"CAFM","Modell",null,null,"x"]
["446",null,"Fangeinrichtungen",null,null,"IfcText"," -","Freitext",{"$f":"IF(VLOOKUP(A1462,Klassifizierung!$E$4:$W$577,18,FALSE)=0,\"\",VLOOKUP(A1462,Klassifizierung!$E$4:$W$577,18,FALSE))","v":"TGA-EL"},"CAFM","Modell",null,null,"x"]
["446",null,"Überspannungsschutz",null,null,"IfcText"," -","Freitext",{"$f":"IF(VLOOKUP(A1463,Klassifizierung!$E$4:$W$577,18,FALSE)=0,\"\",VLOOKUP(A1463,Klassifizierung!$E$4:$W$577,18,FALSE))","v":"TGA-EL"},"CAFM","Modell",null,null,"x"]
["446",null,"Anzahl Fangstangen",null,null,"IfcReal"," -","Zahl",{"$f":"IF(VLOOKUP(A1464,Klassifizierung!$E$4:$W$577,18,FALSE)=0,\"\",VLOOKUP(A1464,Klassifizierung!$E$4:$W$577,18,FALSE))","v":"TGA-EL"},"CAFM","Modell",null,null,"x"]
["449",null,"Beschreibung",null,null,"IfcText"," -","Freitext",{"$f":"IF(VLOOKUP(A1465,Klassifizierung!$E$4:$W$577,18,FALSE)=0,\"\",VLOOKUP(A1465,Klassifizierung!$E$4:$W$577,18,FALSE))","v":"TGA-EL"},"CAFM","Modell",null,null,"x"]
["451.10",null,"Funkverstärker vorhanden",null,null,"IfcBoolean"," -","ja|nein",{"$f":"IF(VLOOKUP(A1466,Klassifizierung!$E$4:$W$577,18,FALSE)=0,\"\",VLOOKUP(A1466,Klassifizierung!$E$4:$W$577,18,FALSE))","v":"TGA-EL"},"CAFM","Modell",null,null,"x"]
["452.20",null,"Bauart",null,null,"IfcText"," -","Personenrufanlagen|Lichtruf- und Klingelanlagen|Türsprech- und Türöffneranlagen|Sonstiges",{"$f":"IF(VLOOKUP(A1467,Klassifizierung!$E$4:$W$577,18,FALSE)=0,\"\",VLOOKUP(A1467,Klassifizierung!$E$4:$W$577,18,FALSE))","v":"TGA-EL"},"CAFM","Modell",null,null,"x"]
["452.20",null,"Außensprechstellen",null,null,"IfcReal"," -","Zahl",{"$f":"IF(VLOOKUP(A1468,Klassifizierung!$E$4:$W$577,18,FALSE)=0,\"\",VLOOKUP(A1468,Klassifizierung!$E$4:$W$577,18,FALSE))","v":"TGA-EL"},"CAFM","Modell",null,null,"x"]
["452.20",null,"Anzahl Innensprechstellen",null,null,"IfcReal","Stück","Zahl",{"$f":"IF(VLOOKUP(A1469,Klassifizierung!$E$4:$W$577,18,FALSE)=0,\"\",VLOOKUP(A1469,Klassifizierung!$E$4:$W$577,18,FALSE))","v":"TGA-EL"},"CAFM","Modell",null,null,"x"]
["452.20",null,"Art Kameras",null,null,"IfcText"," -","Freitext",{"$f":"IF(VLOOKUP(A1470,Klassifizierung!$E$4:$W$577,18,FALSE)=0,\"\",VLOOKUP(A1470,Klassifizierung!$E$4:$W$577,18,FALSE))","v":"TGA-EL"},"CAFM","Modell",null,null,"x"]
["452.20",null,"Anzahl Kameras",null,null,"IfcReal","Stück","Zahl",{"$f":"IF(VLOOKUP(A1471,Klassifizierung!$E$4:$W$577,18,FALSE)=0,\"\",VLOOKUP(A1471,Klassifizierung!$E$4:$W$577,18,FALSE))","v":"TGA-EL"},"CAFM","Modell",null,null,"x"]
["452.20",null,"Art optische Signalgeber",null,null,"IfcText"," -","Freitext",{"$f":"IF(VLOOKUP(A1472,Klassifizierung!$E$4:$W$577,18,FALSE)=0,\"\",VLOOKUP(A1472,Klassifizierung!$E$4:$W$577,18,FALSE))","v":"TGA-EL"},"CAFM","Modell",null,null,"x"]
["452.20",null,"Anzahl opische Signalgeber",null,null,"IfcReal","Stück","Zahl",{"$f":"IF(VLOOKUP(A1473,Klassifizierung!$E$4:$W$577,18,FALSE)=0,\"\",VLOOKUP(A1473,Klassifizierung!$E$4:$W$577,18,FALSE))","v":"TGA-EL"},"CAFM","Modell",null,null,"x"]
["452.20",null,"Art akustische Signalgeber",null,null,"IfcText"," -","Freitext",{"$f":"IF(VLOOKUP(A1474,Klassifizierung!$E$4:$W$577,18,FALSE)=0,\"\",VLOOKUP(A1474,Klassifizierung!$E$4:$W$577,18,FALSE))","v":"TGA-EL"},"CAFM","Modell",null,null,"x"]
["452.20",null,"Anzahl akustische  Signalgeber",null,null,"IfcReal","Stück","Zahl",{"$f":"IF(VLOOKUP(A1475,Klassifizierung!$E$4:$W$577,18,FALSE)=0,\"\",VLOOKUP(A1475,Klassifizierung!$E$4:$W$577,18,FALSE))","v":"TGA-EL"},"CAFM","Modell",null,null,"x"]
["453.10",null,"Bauart",null,null,"IfcText"," -","Systemzentrale|Software",{"$f":"IF(VLOOKUP(A1476,Klassifizierung!$E$4:$W$577,18,FALSE)=0,\"\",VLOOKUP(A1476,Klassifizierung!$E$4:$W$577,18,FALSE))","v":"TGA-EL"},"CAFM","Modell",null,null,"x"]
["453.20",null,"Bauart",null,null,"IfcText"," -","Freitext",{"$f":"IF(VLOOKUP(A1477,Klassifizierung!$E$4:$W$577,18,FALSE)=0,\"\",VLOOKUP(A1477,Klassifizierung!$E$4:$W$577,18,FALSE))","v":"TGA-EL"},"CAFM","Modell",null,null,"x"]
["453.30",null,"Bauart",null,null,"IfcText"," -","Freitext",{"$f":"IF(VLOOKUP(A1478,Klassifizierung!$E$4:$W$577,18,FALSE)=0,\"\",VLOOKUP(A1478,Klassifizierung!$E$4:$W$577,18,FALSE))","v":"TGA-EL"},"CAFM","Modell",null,null,"x"]
["454",null,"Anzahl Endpunkte",null,null,"IfcReal","Stück","Zahl",{"$f":"IF(VLOOKUP(A1479,Klassifizierung!$E$4:$W$577,18,FALSE)=0,\"\",VLOOKUP(A1479,Klassifizierung!$E$4:$W$577,18,FALSE))","v":"TGA-EL"},"CAFM","Modell",null,null,"x"]
["454",null,"Anzahl der Sprechstellen",null,null,"IfcReal","Stück","Zahl",{"$f":"IF(VLOOKUP(A1480,Klassifizierung!$E$4:$W$577,18,FALSE)=0,\"\",VLOOKUP(A1480,Klassifizierung!$E$4:$W$577,18,FALSE))","v":"TGA-EL"},"CAFM","Modell",null,null,"x"]
["454",null,"Anzahl Lautsprecher",null,null,"IfcReal","Stück","Zahl",{"$f":"IF(VLOOKUP(A1481,Klassifizierung!$E$4:$W$577,18,FALSE)=0,\"\",VLOOKUP(A1481,Klassifizierung!$E$4:$W$577,18,FALSE))","v":"TGA-EL"},"CAFM","Modell",null,null,"x"]
["454",null,"Anzahl Zentralen",null,null,"IfcReal","Stück","Zahl",{"$f":"IF(VLOOKUP(A1482,Klassifizierung!$E$4:$W$577,18,FALSE)=0,\"\",VLOOKUP(A1482,Klassifizierung!$E$4:$W$577,18,FALSE))","v":"TGA-EL"},"CAFM","Modell",null,null,"x"]
["454",null,"Sicherheitsstufe",null,null,"IfcText"," -","Sicherheitsstufe I|Sicherheitsstufe II|Sicherheitsstufe III",{"$f":"IF(VLOOKUP(A1483,Klassifizierung!$E$4:$W$577,18,FALSE)=0,\"\",VLOOKUP(A1483,Klassifizierung!$E$4:$W$577,18,FALSE))","v":"TGA-EL"},"CAFM","Modell",null,null,"x"]
["455.11",null,"Bauart",null,null,"IfcText"," -","Satellit (S)|Kabel (C)|Terrestrisch (T)",{"$f":"IF(VLOOKUP(A1484,Klassifizierung!$E$4:$W$577,18,FALSE)=0,\"\",VLOOKUP(A1484,Klassifizierung!$E$4:$W$577,18,FALSE))","v":"TGA-EL"},"CAFM","Modell",null,null,"x"]
["455.12",null,"Bauart",null,null,"IfcText"," -","Fernseher|Receiver|Verstärker|Sonstiges",{"$f":"IF(VLOOKUP(A1485,Klassifizierung!$E$4:$W$577,18,FALSE)=0,\"\",VLOOKUP(A1485,Klassifizierung!$E$4:$W$577,18,FALSE))","v":"TGA-EL"},"CAFM","Modell",null,null,"x"]
["455.12",null,"Anzahl Endpunkte",null,null,"IfcReal"," -","Zahl",{"$f":"IF(VLOOKUP(A1486,Klassifizierung!$E$4:$W$577,18,FALSE)=0,\"\",VLOOKUP(A1486,Klassifizierung!$E$4:$W$577,18,FALSE))","v":"TGA-EL"},"CAFM","Modell",null,null,"x"]
["456.10",null,"akustische Signalgeber",null,null,"IfcText"," -","Freitext",{"$f":"IF(VLOOKUP(A1487,Klassifizierung!$E$4:$W$577,18,FALSE)=0,\"\",VLOOKUP(A1487,Klassifizierung!$E$4:$W$577,18,FALSE))","v":"TGA-EL"},"CAFM","Modell",null,null,"x"]
["456.10",null,"Anzahl Auswerteeinheiten Rauchansaugsystem",null,null,"IfcReal","Stück","Zahl",{"$f":"IF(VLOOKUP(A1488,Klassifizierung!$E$4:$W$577,18,FALSE)=0,\"\",VLOOKUP(A1488,Klassifizierung!$E$4:$W$577,18,FALSE))","v":"TGA-EL"},"CAFM","Modell",null,null,"x"]
["456.10",null,"Anzahl automatische Meldegruppen",null,null,"IfcReal","Stück","Zahl",{"$f":"IF(VLOOKUP(A1489,Klassifizierung!$E$4:$W$577,18,FALSE)=0,\"\",VLOOKUP(A1489,Klassifizierung!$E$4:$W$577,18,FALSE))","v":"TGA-EL"},"CAFM","Modell",null,null,"x"]
["456.10",null,"Anzahl Druckknopfmelder",null,null,"IfcReal","Stück","Zahl",{"$f":"IF(VLOOKUP(A1490,Klassifizierung!$E$4:$W$577,18,FALSE)=0,\"\",VLOOKUP(A1490,Klassifizierung!$E$4:$W$577,18,FALSE))","v":"TGA-EL"},"CAFM","Modell",null,null,"x"]
["456.10",null,"Anzahl Unterzentralen",null,null,"IfcReal","Stück","Zahl",{"$f":"IF(VLOOKUP(A1491,Klassifizierung!$E$4:$W$577,18,FALSE)=0,\"\",VLOOKUP(A1491,Klassifizierung!$E$4:$W$577,18,FALSE))","v":"TGA-EL"},"CAFM","Modell",null,null,"x"]
["456.10",null,"Linien",null,null,"IfcReal","Stück","Zahl",{"$f":"IF(VLOOKUP(A1492,Klassifizierung!$E$4:$W$577,18,FALSE)=0,\"\",VLOOKUP(A1492,Klassifizierung!$E$4:$W$577,18,FALSE))","v":"TGA-EL"},"CAFM","Modell",null,null,"x"]
["456.10",null,"Netztopologie",null,null,"IfcText"," -","Freitext",{"$f":"IF(VLOOKUP(A1493,Klassifizierung!$E$4:$W$577,18,FALSE)=0,\"\",VLOOKUP(A1493,Klassifizierung!$E$4:$W$577,18,FALSE))","v":"TGA-EL"},"CAFM","Modell",null,null,"x"]
["456.10",null,"optische Signalgeber",null,null,"IfcText"," -","Freitext",{"$f":"IF(VLOOKUP(A1494,Klassifizierung!$E$4:$W$577,18,FALSE)=0,\"\",VLOOKUP(A1494,Klassifizierung!$E$4:$W$577,18,FALSE))","v":"TGA-EL"},"CAFM","Modell",null,null,"x"]
["456.10",null,"Ringleitungen",null,null,"IfcReal","Stück","Zahl",{"$f":"IF(VLOOKUP(A1495,Klassifizierung!$E$4:$W$577,18,FALSE)=0,\"\",VLOOKUP(A1495,Klassifizierung!$E$4:$W$577,18,FALSE))","v":"TGA-EL"},"CAFM","Modell",null,null,"x"]
["456.10",null,"Übertragungseinrichtung",null,null,"IfcText"," -","Freitext",{"$f":"IF(VLOOKUP(A1496,Klassifizierung!$E$4:$W$577,18,FALSE)=0,\"\",VLOOKUP(A1496,Klassifizierung!$E$4:$W$577,18,FALSE))","v":"TGA-EL"},"CAFM","Modell",null,null,"x"]
["456.20",null,"Anzahl Sensoren",null,null,"IfcReal","Stück","Zahl",{"$f":"IF(VLOOKUP(A1497,Klassifizierung!$E$4:$W$577,18,FALSE)=0,\"\",VLOOKUP(A1497,Klassifizierung!$E$4:$W$577,18,FALSE))","v":"TGA-EL"},"CAFM","Modell",null,null,"x"]
["456.20",null,"Anzahl Signaleinrichtungen",null,null,"IfcReal","Stück","Zahl",{"$f":"IF(VLOOKUP(A1498,Klassifizierung!$E$4:$W$577,18,FALSE)=0,\"\",VLOOKUP(A1498,Klassifizierung!$E$4:$W$577,18,FALSE))","v":"TGA-EL"},"CAFM","Modell",null,null,"x"]
["456.30",null,"Anzahl Sensoren",null,null,"IfcReal","Stück","Zahl",{"$f":"IF(VLOOKUP(A1499,Klassifizierung!$E$4:$W$577,18,FALSE)=0,\"\",VLOOKUP(A1499,Klassifizierung!$E$4:$W$577,18,FALSE))","v":"TGA-EL"},"CAFM","Modell",null,null,"x"]
["456.30",null,"Anzahl Signaleinrichtungen",null,null,"IfcReal","Stück","Zahl",{"$f":"IF(VLOOKUP(A1500,Klassifizierung!$E$4:$W$577,18,FALSE)=0,\"\",VLOOKUP(A1500,Klassifizierung!$E$4:$W$577,18,FALSE))","v":"TGA-EL"},"CAFM","Modell",null,null,"x"]
["456.30",null,"automatische Melder",null,null,"IfcReal"," -","Zahl",{"$f":"IF(VLOOKUP(A1501,Klassifizierung!$E$4:$W$577,18,FALSE)=0,\"\",VLOOKUP(A1501,Klassifizierung!$E$4:$W$577,18,FALSE))","v":"TGA-EL"},"CAFM","Modell",null,null,"x"]
["456.30",null,"Gastyp",null,null,"IfcText"," -","Freitext",{"$f":"IF(VLOOKUP(A1502,Klassifizierung!$E$4:$W$577,18,FALSE)=0,\"\",VLOOKUP(A1502,Klassifizierung!$E$4:$W$577,18,FALSE))","v":"TGA-EL"},"CAFM","Modell",null,null,"x"]
["456.30",null,"manuelle Melder",null,null,"IfcReal","Stück","Zahl",{"$f":"IF(VLOOKUP(A1503,Klassifizierung!$E$4:$W$577,18,FALSE)=0,\"\",VLOOKUP(A1503,Klassifizierung!$E$4:$W$577,18,FALSE))","v":"TGA-EL"},"CAFM","Modell",null,null,"x"]
["456.40",null,"Anzahl Sensoren",null,null,"IfcReal","Stück","Zahl",{"$f":"IF(VLOOKUP(A1504,Klassifizierung!$E$4:$W$577,18,FALSE)=0,\"\",VLOOKUP(A1504,Klassifizierung!$E$4:$W$577,18,FALSE))","v":"TGA-EL"},"CAFM","Modell",null,null,"x"]
["456.40",null,"Anzahl Signaleinrichtungen / Sensoren",null,null,"IfcReal","Stück","Zahl",{"$f":"IF(VLOOKUP(A1505,Klassifizierung!$E$4:$W$577,18,FALSE)=0,\"\",VLOOKUP(A1505,Klassifizierung!$E$4:$W$577,18,FALSE))","v":"TGA-EL"},"CAFM","Modell",null,null,"x"]
["456.40",null,"Anzahl Meldelinien",null,null,"IfcReal","Stück","Zahl",{"$f":"IF(VLOOKUP(A1506,Klassifizierung!$E$4:$W$577,18,FALSE)=0,\"\",VLOOKUP(A1506,Klassifizierung!$E$4:$W$577,18,FALSE))","v":"TGA-EL"},"CAFM","Modell",null,null,"x"]
["456.40",null,"Anzahl Melder",null,null,"IfcReal","Stück","Zahl",{"$f":"IF(VLOOKUP(A1507,Klassifizierung!$E$4:$W$577,18,FALSE)=0,\"\",VLOOKUP(A1507,Klassifizierung!$E$4:$W$577,18,FALSE))","v":"TGA-EL"},"CAFM","Modell",null,null,"x"]
["456.50",null,"Anzahl Kameras",null,null,"IfcReal","Stück","Zahl",{"$f":"IF(VLOOKUP(A1508,Klassifizierung!$E$4:$W$577,18,FALSE)=0,\"\",VLOOKUP(A1508,Klassifizierung!$E$4:$W$577,18,FALSE))","v":"TGA-EL"},"CAFM","Modell",null,null,"x"]
["456.50",null,"Anzahl Monitore",null,null,"IfcReal","Stück","Zahl",{"$f":"IF(VLOOKUP(A1509,Klassifizierung!$E$4:$W$577,18,FALSE)=0,\"\",VLOOKUP(A1509,Klassifizierung!$E$4:$W$577,18,FALSE))","v":"TGA-EL"},"CAFM","Modell",null,null,"x"]
["456.50",null,"Anzahl Schleifen",null,null,"IfcReal","Stück","Zahl",{"$f":"IF(VLOOKUP(A1510,Klassifizierung!$E$4:$W$577,18,FALSE)=0,\"\",VLOOKUP(A1510,Klassifizierung!$E$4:$W$577,18,FALSE))","v":"TGA-EL"},"CAFM","Modell",null,null,"x"]
["456.50",null,"Anzahl Zentralen",null,null,"IfcReal","Stück","Zahl",{"$f":"IF(VLOOKUP(A1511,Klassifizierung!$E$4:$W$577,18,FALSE)=0,\"\",VLOOKUP(A1511,Klassifizierung!$E$4:$W$577,18,FALSE))","v":"TGA-EL"},"CAFM","Modell",null,null,"x"]
["456.50",null,"Anzahl Bedienstellen",null,null,null,"Stück","Zahl",{"$f":"IF(VLOOKUP(A1512,Klassifizierung!$E$4:$W$577,18,FALSE)=0,\"\",VLOOKUP(A1512,Klassifizierung!$E$4:$W$577,18,FALSE))","v":"TGA-EL"},"CAFM","Modell",null,null,"x"]
["456.60",null,"Anzahl Antennen",null,null,"IfcReal","Stück","Zahl",{"$f":"IF(VLOOKUP(A1513,Klassifizierung!$E$4:$W$577,18,FALSE)=0,\"\",VLOOKUP(A1513,Klassifizierung!$E$4:$W$577,18,FALSE))","v":""},"CAFM","Modell",null,null,"x"]
["456.60",null,"Anzahl Verstärker",null,null,"IfcReal","Stück","Zahl",{"$f":"IF(VLOOKUP(A1514,Klassifizierung!$E$4:$W$577,18,FALSE)=0,\"\",VLOOKUP(A1514,Klassifizierung!$E$4:$W$577,18,FALSE))","v":""},"CAFM","Modell",null,null,"x"]
["456.70",null,"Anzahl Melder",null,null,"IfcReal","Stück","Zahl",{"$f":"IF(VLOOKUP(A1515,Klassifizierung!$E$4:$W$577,18,FALSE)=0,\"\",VLOOKUP(A1515,Klassifizierung!$E$4:$W$577,18,FALSE))","v":"TGA-EL"},"CAFM","Modell",null,null,"x"]
["456.80",null,"Bauart",null,null,"IfcText"," -","einzeln|vernetz",{"$f":"IF(VLOOKUP(A1516,Klassifizierung!$E$4:$W$577,18,FALSE)=0,\"\",VLOOKUP(A1516,Klassifizierung!$E$4:$W$577,18,FALSE))","v":"TGA-EL"},"CAFM","Modell",null,null,"x"]
["456.80",null,"Stromversorgung",null,null,"IfcText"," -","Batterie Langzeit|Batterie Kurzzeit|Versorgung zentral",{"$f":"IF(VLOOKUP(A1517,Klassifizierung!$E$4:$W$577,18,FALSE)=0,\"\",VLOOKUP(A1517,Klassifizierung!$E$4:$W$577,18,FALSE))","v":"TGA-EL"},"CAFM","Modell",null,null,"x"]
["458",null,"Bauart",null,null,"IfcText"," -","elektronische Schließanlage|Zutrittskontrolle",{"$f":"IF(VLOOKUP(A1518,Klassifizierung!$E$4:$W$577,18,FALSE)=0,\"\",VLOOKUP(A1518,Klassifizierung!$E$4:$W$577,18,FALSE))","v":"TGA-EL"},"CAFM","Modell",null,null,"x"]
["458",null,"Anzahl Lesegeräte",null,null,"IfcReal","Stück","Zahl",{"$f":"IF(VLOOKUP(A1519,Klassifizierung!$E$4:$W$577,18,FALSE)=0,\"\",VLOOKUP(A1519,Klassifizierung!$E$4:$W$577,18,FALSE))","v":"TGA-EL"},"CAFM","Modell",null,null,"x"]
["458",null,"Anzahl Schließzylinder",null,null,"IfcReal","Stück","Zahl",{"$f":"IF(VLOOKUP(A1520,Klassifizierung!$E$4:$W$577,18,FALSE)=0,\"\",VLOOKUP(A1520,Klassifizierung!$E$4:$W$577,18,FALSE))","v":"TGA-EL"},"CAFM","Modell",null,null,"x"]
["458",null,"Anzahl Transponder",null,null,"IfcReal","Stück","Zahl",{"$f":"IF(VLOOKUP(A1521,Klassifizierung!$E$4:$W$577,18,FALSE)=0,\"\",VLOOKUP(A1521,Klassifizierung!$E$4:$W$577,18,FALSE))","v":"TGA-EL"},"CAFM","Modell",null,null,"x"]
["458",null,"Lesesystem",null,null,"IfcText"," -","RFID-Transponder|Biometrisch|Barcode|Magnetkarte|Code|Sonstiges",{"$f":"IF(VLOOKUP(A1522,Klassifizierung!$E$4:$W$577,18,FALSE)=0,\"\",VLOOKUP(A1522,Klassifizierung!$E$4:$W$577,18,FALSE))","v":"TGA-EL"},"CAFM","Modell",null,null,"x"]
["458",null,"Anzahl Sprechstellen",null,null,"IfcReal"," -","Zahl",{"$f":"IF(VLOOKUP(A1523,Klassifizierung!$E$4:$W$577,18,FALSE)=0,\"\",VLOOKUP(A1523,Klassifizierung!$E$4:$W$577,18,FALSE))","v":"TGA-EL"},"CAFM","Modell",null,null,"x"]
["459",null,"Beschreibung",null,null,"IfcText"," -","Freitext",{"$f":"IF(VLOOKUP(A1524,Klassifizierung!$E$4:$W$577,18,FALSE)=0,\"\",VLOOKUP(A1524,Klassifizierung!$E$4:$W$577,18,FALSE))","v":"TGA-EL"},"CAFM","Modell",null,null,"x"]
["461.01",null,"Art des Antriebs",null,null,"IfcText"," -","Treibscheibe|hydraulisch direkt 1 Kolben|hydraulisch indirekt 1 Kolben|hydraulisch indirekt Mehrfachteleskopkolben|hydraulisch indirekt 2 Kolben|hydraulisch indirekt 2 Mehrfachteleskopkolben|hydraulisch direkt 2 Kolben|hydraulisch direkt Mehrfachteleskopkolben|Zugkolben mit 1 Kolben|Zugkolben mit Mehrfachteleskopkolben|hydraulisch direkt 2 Mehrfachteleskopkolben|Zahnriemen|Reibrad|Spindel|Trommel|Zahnstange|Sonstiges",{"$f":"IF(VLOOKUP(A1525,Klassifizierung!$E$4:$W$577,18,FALSE)=0,\"\",VLOOKUP(A1525,Klassifizierung!$E$4:$W$577,18,FALSE))","v":"TGA-AP"},"CAFM","Modell",null,null,"x"]
["461.01",null,"Ölmenege",null,null,"IfcReal","m3","Zahl",{"$f":"IF(VLOOKUP(A1526,Klassifizierung!$E$4:$W$577,18,FALSE)=0,\"\",VLOOKUP(A1526,Klassifizierung!$E$4:$W$577,18,FALSE))","v":"TGA-AP"},"CAFM","Modell",null,null,"x"]
["461.01",null,"Anzahl Haltestellen",null,null,"IfcReal","Stück","Zahl",{"$f":"IF(VLOOKUP(A1527,Klassifizierung!$E$4:$W$577,18,FALSE)=0,\"\",VLOOKUP(A1527,Klassifizierung!$E$4:$W$577,18,FALSE))","v":"TGA-AP"},"CAFM","Modell",null,null,"x"]
["461.01",null,"Höhenunterschied",null,null,"IfcReal","cm","Zahl",{"$f":"IF(VLOOKUP(A1528,Klassifizierung!$E$4:$W$577,18,FALSE)=0,\"\",VLOOKUP(A1528,Klassifizierung!$E$4:$W$577,18,FALSE))","v":"TGA-AP"},"CAFM","Modell",null,null,"x"]
["461.01",null,"Tragkraft",null,null,"IfcReal"," -","Zahl",{"$f":"IF(VLOOKUP(A1529,Klassifizierung!$E$4:$W$577,18,FALSE)=0,\"\",VLOOKUP(A1529,Klassifizierung!$E$4:$W$577,18,FALSE))","v":"TGA-AP"},"CAFM","Modell",null,null,"x"]
["461.02",null,"Art der Kopierung",null,null,"IfcText"," -","Kopierwerk im Triebwerksraum (Foto)|Kopierung im Schacht (Foto)|Wegmessystem (Foto)|APS berührungslos digital|Magnetschalterkopierung|Schrittgeber-Kopierung|Schlitten-Kopierwerk|Induktions-Kopierung|mechanische Kopierwerk|Karussel-/ Trommel-Kopierwerk|Schachtschalter|Hartmann-Kopierwerk (Spindel)|Laserpositionierungssystem|sonstiges Kopierwerk (siehe Bilder)|Karussel-Kopierwerk",{"$f":"IF(VLOOKUP(A1530,Klassifizierung!$E$4:$W$577,18,FALSE)=0,\"\",VLOOKUP(A1530,Klassifizierung!$E$4:$W$577,18,FALSE))","v":"TGA-AP"},"CAFM","Modell",null,null,"x"]
["461.02",null,"Nennleistung",null,null,"IfcReal","kW","Zahl",{"$f":"IF(VLOOKUP(A1531,Klassifizierung!$E$4:$W$577,18,FALSE)=0,\"\",VLOOKUP(A1531,Klassifizierung!$E$4:$W$577,18,FALSE))","v":"TGA-AP"},"CAFM","Modell",null,null,"x"]
["461.02",null,"Nennspannung",null,null,"IfcReal","V","Zahl",{"$f":"IF(VLOOKUP(A1532,Klassifizierung!$E$4:$W$577,18,FALSE)=0,\"\",VLOOKUP(A1532,Klassifizierung!$E$4:$W$577,18,FALSE))","v":"TGA-AP"},"CAFM","Modell",null,null,"x"]
["461.03",null,"Art der Regelung",null,null,"IfcText"," -","Eine Geschwindigkeit|Zwei Geschwindigkeiten|geregelt|geregeltes Ventil|ungeregeltes Ventil|Sonstige",{"$f":"IF(VLOOKUP(A1533,Klassifizierung!$E$4:$W$577,18,FALSE)=0,\"\",VLOOKUP(A1533,Klassifizierung!$E$4:$W$577,18,FALSE))","v":"TGA-AP"},"CAFM","Modell",null,null,"x"]
["461.04",null,"Bauart",null,null,"IfcText"," -","Seilbremse|Rollenbremse|nicht zutreffend",{"$f":"IF(VLOOKUP(A1534,Klassifizierung!$E$4:$W$577,18,FALSE)=0,\"\",VLOOKUP(A1534,Klassifizierung!$E$4:$W$577,18,FALSE))","v":"TGA-AP"},"CAFM","Modell",null,null,"x"]
["461.04",null,"Richtung",null,null,"IfcText"," -","Abwärts|Abwärts/ Aufwärts",{"$f":"IF(VLOOKUP(A1535,Klassifizierung!$E$4:$W$577,18,FALSE)=0,\"\",VLOOKUP(A1535,Klassifizierung!$E$4:$W$577,18,FALSE))","v":"TGA-AP"},"CAFM","Modell",null,null,"x"]
["461.04",null,"Auslösung",null,null,"IfcText"," -","Fernauslösung|Mitreisend|Absinkverhinderung|nicht zutreffend",{"$f":"IF(VLOOKUP(A1536,Klassifizierung!$E$4:$W$577,18,FALSE)=0,\"\",VLOOKUP(A1536,Klassifizierung!$E$4:$W$577,18,FALSE))","v":"TGA-AP"},"CAFM","Modell",null,null,"x"]
["461.05",null,"Beleuchtung",null,null,"IfcText"," -","direkt, Glüh-/ Energiesparlampe|direkt, Leuchtstoffröhre|direkt, Halogenspots|direkt, LED-Spots|indirekt|keine Beleuchtung",{"$f":"IF(VLOOKUP(A1537,Klassifizierung!$E$4:$W$577,18,FALSE)=0,\"\",VLOOKUP(A1537,Klassifizierung!$E$4:$W$577,18,FALSE))","v":"TGA-AP"},"CAFM","Modell",null,null,"x"]
["461.05",null,"Beschreibung",null,null,"IfcText"," -","Freitext",{"$f":"IF(VLOOKUP(A1538,Klassifizierung!$E$4:$W$577,18,FALSE)=0,\"\",VLOOKUP(A1538,Klassifizierung!$E$4:$W$577,18,FALSE))","v":"TGA-AP"},"CAFM","Modell",null,null,"x"]
["461.05",null,"Nenntragfähigkeit Korb",null,null,"IfcReal"," -","Zahl",{"$f":"IF(VLOOKUP(A1539,Klassifizierung!$E$4:$W$577,18,FALSE)=0,\"\",VLOOKUP(A1539,Klassifizierung!$E$4:$W$577,18,FALSE))","v":"TGA-AP"},"CAFM","Modell",null,null,"x"]
["461.06",null,"Art der Fahrkorbtür",null,null,"IfcText"," -","Freitext",{"$f":"IF(VLOOKUP(A1540,Klassifizierung!$E$4:$W$577,18,FALSE)=0,\"\",VLOOKUP(A1540,Klassifizierung!$E$4:$W$577,18,FALSE))","v":"TGA-AP"},"CAFM","Modell",null,null,"x"]
["461.06",null,"Art des Türantriebs",null,null,"IfcText"," -","Freitext",{"$f":"IF(VLOOKUP(A1541,Klassifizierung!$E$4:$W$577,18,FALSE)=0,\"\",VLOOKUP(A1541,Klassifizierung!$E$4:$W$577,18,FALSE))","v":"TGA-AP"},"CAFM","Modell",null,null,"x"]
["461.06",null,"Anzahl",null,null,"IfcReal"," -","Zahl",{"$f":"IF(VLOOKUP(A1542,Klassifizierung!$E$4:$W$577,18,FALSE)=0,\"\",VLOOKUP(A1542,Klassifizierung!$E$4:$W$577,18,FALSE))","v":"TGA-AP"},"CAFM","Modell",null,null,"x"]
["461.07",null,"Absturzsicherung Safü",null,null,"IfcBoolean"," -","ja|nein",{"$f":"IF(VLOOKUP(A1543,Klassifizierung!$E$4:$W$577,18,FALSE)=0,\"\",VLOOKUP(A1543,Klassifizierung!$E$4:$W$577,18,FALSE))","v":"TGA-AP"},"CAFM","Modell",null,null,"x"]
["461.07",null,"Absturzsicherung UCM",null,null,"IfcBoolean"," -","ja|nein",{"$f":"IF(VLOOKUP(A1544,Klassifizierung!$E$4:$W$577,18,FALSE)=0,\"\",VLOOKUP(A1544,Klassifizierung!$E$4:$W$577,18,FALSE))","v":"TGA-AP"},"CAFM","Modell",null,null,"x"]
["461.07",null,"Art der Absturzsicherung",null,null,"IfcText"," -","Freitext",{"$f":"IF(VLOOKUP(A1545,Klassifizierung!$E$4:$W$577,18,FALSE)=0,\"\",VLOOKUP(A1545,Klassifizierung!$E$4:$W$577,18,FALSE))","v":"TGA-AP"},"CAFM","Modell",null,null,"x"]
["461.08",null,"Art der Schachttüren",null,null,"IfcText"," -","Freitext",{"$f":"IF(VLOOKUP(A1546,Klassifizierung!$E$4:$W$577,18,FALSE)=0,\"\",VLOOKUP(A1546,Klassifizierung!$E$4:$W$577,18,FALSE))","v":"TGA-AP"},"CAFM","Modell",null,null,"x"]
["461.08",null,"Typ Türverschluss",null,null,"IfcText"," -","Freitext",{"$f":"IF(VLOOKUP(A1547,Klassifizierung!$E$4:$W$577,18,FALSE)=0,\"\",VLOOKUP(A1547,Klassifizierung!$E$4:$W$577,18,FALSE))","v":"TGA-AP"},"CAFM","Modell",null,null,"x"]
["461.08",null,"Anzahl",null,null,"IfcReal"," -","Zahl",{"$f":"IF(VLOOKUP(A1548,Klassifizierung!$E$4:$W$577,18,FALSE)=0,\"\",VLOOKUP(A1548,Klassifizierung!$E$4:$W$577,18,FALSE))","v":"TGA-AP"},"CAFM","Modell",null,null,"x"]
["461.09",null,"Art des Notrufsystems",null,null,"IfcText"," -","Freitext",{"$f":"IF(VLOOKUP(A1549,Klassifizierung!$E$4:$W$577,18,FALSE)=0,\"\",VLOOKUP(A1549,Klassifizierung!$E$4:$W$577,18,FALSE))","v":"TGA-AP"},"CAFM","Modell",null,null,"x"]
["462",null,"Bauart",null,null,"IfcText"," -","Fahrtreppe|Fahrsteig",{"$f":"IF(VLOOKUP(A1550,Klassifizierung!$E$4:$W$577,18,FALSE)=0,\"\",VLOOKUP(A1550,Klassifizierung!$E$4:$W$577,18,FALSE))","v":"TGA"},"CAFM","Modell",null,null,"x"]
["462",null,"Höhe",null,null,"IfcReal","m","Zahl",{"$f":"IF(VLOOKUP(A1551,Klassifizierung!$E$4:$W$577,18,FALSE)=0,\"\",VLOOKUP(A1551,Klassifizierung!$E$4:$W$577,18,FALSE))","v":"TGA"},"CAFM","Modell",null,null,"x"]
["462",null,"Länge",null,null,"IfcReal","m","Zahl",{"$f":"IF(VLOOKUP(A1552,Klassifizierung!$E$4:$W$577,18,FALSE)=0,\"\",VLOOKUP(A1552,Klassifizierung!$E$4:$W$577,18,FALSE))","v":"TGA"},"CAFM","Modell",null,null,"x"]
["462",null,"Neigungswinkel",null,null,"IfcReal","°","Zahl",{"$f":"IF(VLOOKUP(A1553,Klassifizierung!$E$4:$W$577,18,FALSE)=0,\"\",VLOOKUP(A1553,Klassifizierung!$E$4:$W$577,18,FALSE))","v":"TGA"},"CAFM","Modell",null,null,"x"]
["462",null,"Stufen",null,null,"IfcReal"," -","Zahl",{"$f":"IF(VLOOKUP(A1554,Klassifizierung!$E$4:$W$577,18,FALSE)=0,\"\",VLOOKUP(A1554,Klassifizierung!$E$4:$W$577,18,FALSE))","v":"TGA"},"CAFM","Modell",null,null,"x"]
["463",null,"Beschreibung",null,null,"IfcText"," -","Freitext",{"$f":"IF(VLOOKUP(A1555,Klassifizierung!$E$4:$W$577,18,FALSE)=0,\"\",VLOOKUP(A1555,Klassifizierung!$E$4:$W$577,18,FALSE))","v":"TGA"},"CAFM","Modell",null,null,"x"]
["463",null,"Hubhöhe",null,null,"IfcReal","m","Zahl",{"$f":"IF(VLOOKUP(A1556,Klassifizierung!$E$4:$W$577,18,FALSE)=0,\"\",VLOOKUP(A1556,Klassifizierung!$E$4:$W$577,18,FALSE))","v":"TGA"},"CAFM","Modell",null,null,"x"]
["463",null,"Tragfähigkeit",null,null,"IfcReal","kg","Zahl",{"$f":"IF(VLOOKUP(A1557,Klassifizierung!$E$4:$W$577,18,FALSE)=0,\"\",VLOOKUP(A1557,Klassifizierung!$E$4:$W$577,18,FALSE))","v":"TGA"},"CAFM","Modell",null,null,"x"]
["463",null,"Fläche Korb",null,null,null,"m2","Zahl",{"$f":"IF(VLOOKUP(A1558,Klassifizierung!$E$4:$W$577,18,FALSE)=0,\"\",VLOOKUP(A1558,Klassifizierung!$E$4:$W$577,18,FALSE))","v":"TGA"},"CAFM","Modell",null,null,"x"]
["463",null,"Antriebsart",null,null,null," -","Elektr./Hydraulik",{"$f":"IF(VLOOKUP(A1559,Klassifizierung!$E$4:$W$577,18,FALSE)=0,\"\",VLOOKUP(A1559,Klassifizierung!$E$4:$W$577,18,FALSE))","v":"TGA"},"CAFM","Modell",null,null,"x"]
["463",null,"Anlagentyp",null,null,"IfcText"," -","Freitext",{"$f":"IF(VLOOKUP(A1560,Klassifizierung!$E$4:$W$577,18,FALSE)=0,\"\",VLOOKUP(A1560,Klassifizierung!$E$4:$W$577,18,FALSE))","v":"TGA"},"CAFM","Modell",null,null,"x"]
["463",null,"Behälter",null,null,"IfcReal"," -","Zahl",{"$f":"IF(VLOOKUP(A1561,Klassifizierung!$E$4:$W$577,18,FALSE)=0,\"\",VLOOKUP(A1561,Klassifizierung!$E$4:$W$577,18,FALSE))","v":"TGA"},"CAFM","Modell",null,null,"x"]
["463",null,"Haltestellen",null,null,"IfcReal"," -","Zahl",{"$f":"IF(VLOOKUP(A1562,Klassifizierung!$E$4:$W$577,18,FALSE)=0,\"\",VLOOKUP(A1562,Klassifizierung!$E$4:$W$577,18,FALSE))","v":"TGA"},"CAFM","Modell",null,null,"x"]
["463",null,"Nenntragfähigkeit",null,null,"IfcReal","kg","Zahl",{"$f":"IF(VLOOKUP(A1563,Klassifizierung!$E$4:$W$577,18,FALSE)=0,\"\",VLOOKUP(A1563,Klassifizierung!$E$4:$W$577,18,FALSE))","v":"TGA"},"CAFM","Modell",null,null,"x"]
["463",null,"Streckenlänge",null,null,"IfcReal","m","Zahl",{"$f":"IF(VLOOKUP(A1564,Klassifizierung!$E$4:$W$577,18,FALSE)=0,\"\",VLOOKUP(A1564,Klassifizierung!$E$4:$W$577,18,FALSE))","v":"TGA"},"CAFM","Modell",null,null,"x"]
["464",null,"Anlagentyp",null,null,"IfcText"," -","Kleingüteraufzug|Stetigförderer|Unterfluraufzug|Lagerhausaufzug|Behälteraufzug|Aktentransportanlage|Rohrpostanlage",{"$f":"IF(VLOOKUP(A1565,Klassifizierung!$E$4:$W$577,18,FALSE)=0,\"\",VLOOKUP(A1565,Klassifizierung!$E$4:$W$577,18,FALSE))","v":"TGA"},"CAFM","Modell",null,null,"x"]
["464",null,"Behälter",null,null,"IfcReal"," -","Zahl",{"$f":"IF(VLOOKUP(A1566,Klassifizierung!$E$4:$W$577,18,FALSE)=0,\"\",VLOOKUP(A1566,Klassifizierung!$E$4:$W$577,18,FALSE))","v":"TGA"},"CAFM","Modell",null,null,"x"]
["464",null,"Haltestellen",null,null,"IfcReal"," -","Zahl",{"$f":"IF(VLOOKUP(A1567,Klassifizierung!$E$4:$W$577,18,FALSE)=0,\"\",VLOOKUP(A1567,Klassifizierung!$E$4:$W$577,18,FALSE))","v":"TGA"},"CAFM","Modell",null,null,"x"]
["464",null,"Nenntragfähigkeit",null,null,"IfcReal","kg","Zahl",{"$f":"IF(VLOOKUP(A1568,Klassifizierung!$E$4:$W$577,18,FALSE)=0,\"\",VLOOKUP(A1568,Klassifizierung!$E$4:$W$577,18,FALSE))","v":"TGA"},"CAFM","Modell",null,null,"x"]
["464",null,"Streckenlänge",null,null,"IfcReal","m","Zahl",{"$f":"IF(VLOOKUP(A1569,Klassifizierung!$E$4:$W$577,18,FALSE)=0,\"\",VLOOKUP(A1569,Klassifizierung!$E$4:$W$577,18,FALSE))","v":"TGA"},"CAFM","Modell",null,null,"x"]
["465",null,"Art der Krananlage",null,null,"IfcText"," -","ortsfest|nicht ortsfest",{"$f":"IF(VLOOKUP(A1570,Klassifizierung!$E$4:$W$577,18,FALSE)=0,\"\",VLOOKUP(A1570,Klassifizierung!$E$4:$W$577,18,FALSE))","v":"TGA"},"CAFM","Modell",null,null,"x"]
["465",null,"Bauart",null,null,"IfcText"," -","Brückenkran|Schwenkkran",{"$f":"IF(VLOOKUP(A1571,Klassifizierung!$E$4:$W$577,18,FALSE)=0,\"\",VLOOKUP(A1571,Klassifizierung!$E$4:$W$577,18,FALSE))","v":"TGA"},"CAFM","Modell",null,null,"x"]
["465",null,"Nennleistung",null,null,"IfcReal","W","Zahl",{"$f":"IF(VLOOKUP(A1572,Klassifizierung!$E$4:$W$577,18,FALSE)=0,\"\",VLOOKUP(A1572,Klassifizierung!$E$4:$W$577,18,FALSE))","v":"TGA"},"CAFM","Modell",null,null,"x"]
["465",null,"Tragkraft",null,null,"IfcReal","kg","Zahl",{"$f":"IF(VLOOKUP(A1573,Klassifizierung!$E$4:$W$577,18,FALSE)=0,\"\",VLOOKUP(A1573,Klassifizierung!$E$4:$W$577,18,FALSE))","v":"TGA"},"CAFM","Modell",null,null,"x"]
["466",null,"Lifterart",null,null,"IfcText"," -","Deckenlifter|Bodenlifter|Treppenlifter|Sonstiges",{"$f":"IF(VLOOKUP(A1574,Klassifizierung!$E$4:$W$577,18,FALSE)=0,\"\",VLOOKUP(A1574,Klassifizierung!$E$4:$W$577,18,FALSE))","v":"TGA"},"CAFM","Modell",null,null,"x"]
["469.10",null,"Heberbühnenart",null,null,"IfcText"," -","Hebebühnen für Personen (mit Absturzgefahr &lt;= 3 m)|Hebebühnen für Personen (mit Absturzgefahr &gt; 3 m)|Hebenbühnen für Fahrzeuge",{"$f":"IF(VLOOKUP(A1575,Klassifizierung!$E$4:$W$577,18,FALSE)=0,\"\",VLOOKUP(A1575,Klassifizierung!$E$4:$W$577,18,FALSE))","v":"TGA"},"CAFM","Modell",null,null,"x"]
["469.10",null,"Hubhöhe",null,null,"IfcReal","m","Zahl",{"$f":"IF(VLOOKUP(A1576,Klassifizierung!$E$4:$W$577,18,FALSE)=0,\"\",VLOOKUP(A1576,Klassifizierung!$E$4:$W$577,18,FALSE))","v":"TGA"},"CAFM","Modell",null,null,"x"]
["469.10",null,"Nenndruck Öl",null,null,"IfcReal","Pa","Zahl",{"$f":"IF(VLOOKUP(A1577,Klassifizierung!$E$4:$W$577,18,FALSE)=0,\"\",VLOOKUP(A1577,Klassifizierung!$E$4:$W$577,18,FALSE))","v":"TGA"},"CAFM","Modell",null,null,"x"]
["469.10",null,"Nenninhalt Öl",null,null,"IfcReal","m3","Zahl",{"$f":"IF(VLOOKUP(A1578,Klassifizierung!$E$4:$W$577,18,FALSE)=0,\"\",VLOOKUP(A1578,Klassifizierung!$E$4:$W$577,18,FALSE))","v":"TGA"},"CAFM","Modell",null,null,"x"]
["469.10",null,"Nennleistung",null,null,"IfcReal","W","Zahl",{"$f":"IF(VLOOKUP(A1579,Klassifizierung!$E$4:$W$577,18,FALSE)=0,\"\",VLOOKUP(A1579,Klassifizierung!$E$4:$W$577,18,FALSE))","v":"TGA"},"CAFM","Modell",null,null,"x"]
["469.10",null,"Tragkraft",null,null,"IfcReal","kg","Zahl",{"$f":"IF(VLOOKUP(A1580,Klassifizierung!$E$4:$W$577,18,FALSE)=0,\"\",VLOOKUP(A1580,Klassifizierung!$E$4:$W$577,18,FALSE))","v":"TGA"},"CAFM","Modell",null,null,"x"]
["469.10",null,"Fläche",null,null,"IfcReal","m2","Zahl",{"$f":"IF(VLOOKUP(A1581,Klassifizierung!$E$4:$W$577,18,FALSE)=0,\"\",VLOOKUP(A1581,Klassifizierung!$E$4:$W$577,18,FALSE))","v":"TGA"},"CAFM","Modell",null,null,"x"]
["469.20",null,"Beschreibung",null,null,"IfcText"," -","Freitext",{"$f":"IF(VLOOKUP(A1582,Klassifizierung!$E$4:$W$577,18,FALSE)=0,\"\",VLOOKUP(A1582,Klassifizierung!$E$4:$W$577,18,FALSE))","v":"TGA"},"CAFM","Modell",null,null,"x"]
["469.20",null,"Nenndruck Öl",null,null,"IfcReal","Pa","Zahl",{"$f":"IF(VLOOKUP(A1583,Klassifizierung!$E$4:$W$577,18,FALSE)=0,\"\",VLOOKUP(A1583,Klassifizierung!$E$4:$W$577,18,FALSE))","v":"TGA"},"CAFM","Modell",null,null,"x"]
["469.20",null,"Nenninhalt Öl",null,null,"IfcReal","m3","Zahl",{"$f":"IF(VLOOKUP(A1584,Klassifizierung!$E$4:$W$577,18,FALSE)=0,\"\",VLOOKUP(A1584,Klassifizierung!$E$4:$W$577,18,FALSE))","v":"TGA"},"CAFM","Modell",null,null,"x"]
["469.20",null,"Nennleistung",null,null,"IfcReal","W","Zahl",{"$f":"IF(VLOOKUP(A1585,Klassifizierung!$E$4:$W$577,18,FALSE)=0,\"\",VLOOKUP(A1585,Klassifizierung!$E$4:$W$577,18,FALSE))","v":"TGA"},"CAFM","Modell",null,null,"x"]
["469.20",null,"Tragkraft",null,null,"IfcReal","kg","Zahl",{"$f":"IF(VLOOKUP(A1586,Klassifizierung!$E$4:$W$577,18,FALSE)=0,\"\",VLOOKUP(A1586,Klassifizierung!$E$4:$W$577,18,FALSE))","v":"TGA"},"CAFM","Modell",null,null,"x"]
["471.10",null,"Beschreibung",null,null,"IfcText"," -","Freitext",{"$f":"IF(VLOOKUP(A1587,Klassifizierung!$E$4:$W$577,18,FALSE)=0,\"\",VLOOKUP(A1587,Klassifizierung!$E$4:$W$577,18,FALSE))","v":"KPL"},"CAFM","Modell",null,null,"x"]
["471.10",null,"mobile Anlage",null,null,"IfcBoolean"," -","ja|nein",{"$f":"IF(VLOOKUP(A1588,Klassifizierung!$E$4:$W$577,18,FALSE)=0,\"\",VLOOKUP(A1588,Klassifizierung!$E$4:$W$577,18,FALSE))","v":"KPL"},"CAFM","Modell",null,null,"x"]
["471.11",null,"Betriebsdruck",null,null,"IfcReal","Pa","Zahl",{"$f":"IF(VLOOKUP(A1589,Klassifizierung!$E$4:$W$577,18,FALSE)=0,\"\",VLOOKUP(A1589,Klassifizierung!$E$4:$W$577,18,FALSE))","v":"KPL"},"CAFM","Modell",null,null,"x"]
["471.12",null,"Beschreibung",null,null,"IfcText"," -","Freitext",{"$f":"IF(VLOOKUP(A1590,Klassifizierung!$E$4:$W$577,18,FALSE)=0,\"\",VLOOKUP(A1590,Klassifizierung!$E$4:$W$577,18,FALSE))","v":"KPL"},"CAFM","Modell",null,null,"x"]
["471.12",null,"Füllgewicht",null,null,"IfcReal","kg","Zahl",{"$f":"IF(VLOOKUP(A1591,Klassifizierung!$E$4:$W$577,18,FALSE)=0,\"\",VLOOKUP(A1591,Klassifizierung!$E$4:$W$577,18,FALSE))","v":"KPL"},"CAFM","Modell",null,null,"x"]
["471.81",null,"Beschreibung",null,null,"IfcText"," -","Freitext",{"$f":"IF(VLOOKUP(A1592,Klassifizierung!$E$4:$W$577,18,FALSE)=0,\"\",VLOOKUP(A1592,Klassifizierung!$E$4:$W$577,18,FALSE))","v":"KPL"},"CAFM","Modell",null,null,"x"]
["471.82",null,"Beschreibung",null,null,"IfcText"," -","Freitext",{"$f":"IF(VLOOKUP(A1593,Klassifizierung!$E$4:$W$577,18,FALSE)=0,\"\",VLOOKUP(A1593,Klassifizierung!$E$4:$W$577,18,FALSE))","v":"KPL"},"CAFM","Modell",null,null,"x"]
["471.83",null,"Beschreibung",null,null,"IfcText"," -","Freitext",{"$f":"IF(VLOOKUP(A1594,Klassifizierung!$E$4:$W$577,18,FALSE)=0,\"\",VLOOKUP(A1594,Klassifizierung!$E$4:$W$577,18,FALSE))","v":"KPL"},"CAFM","Modell",null,null,"x"]
["471.84",null,"Beschreibung",null,null,"IfcText"," -","Freitext",{"$f":"IF(VLOOKUP(A1595,Klassifizierung!$E$4:$W$577,18,FALSE)=0,\"\",VLOOKUP(A1595,Klassifizierung!$E$4:$W$577,18,FALSE))","v":"KPL"},"CAFM","Modell",null,null,"x"]
["471.85",null,"Beschreibung",null,null,"IfcText"," -","Kaffeevollautomat|Kaffee-Pad-Maschine|Kaffee-Kapsel-Maschine|Kaffemaschine",{"$f":"IF(VLOOKUP(A1596,Klassifizierung!$E$4:$W$577,18,FALSE)=0,\"\",VLOOKUP(A1596,Klassifizierung!$E$4:$W$577,18,FALSE))","v":"KPL"},"CAFM","Modell",null,null,"x"]
["472.10",null,"Beschreibung",null,null,"IfcText"," -","Freitext",{"$f":"IF(VLOOKUP(A1597,Klassifizierung!$E$4:$W$577,18,FALSE)=0,\"\",VLOOKUP(A1597,Klassifizierung!$E$4:$W$577,18,FALSE))","v":""},"CAFM","Modell",null,null,"x"]
["472.20",null,"Beschreibung",null,null,"IfcText"," -","Freitext",{"$f":"IF(VLOOKUP(A1598,Klassifizierung!$E$4:$W$577,18,FALSE)=0,\"\",VLOOKUP(A1598,Klassifizierung!$E$4:$W$577,18,FALSE))","v":"TGA-SA"},"CAFM","Modell",null,null,"x"]
["473.11",null,"Bauart",null,null,"IfcText"," -","Freitext",{"$f":"IF(VLOOKUP(A1599,Klassifizierung!$E$4:$W$577,18,FALSE)=0,\"\",VLOOKUP(A1599,Klassifizierung!$E$4:$W$577,18,FALSE))","v":"TGA-SA"},"CAFM","Modell",null,null,"x"]
["473.11",null,"Nennleistung ",null,null,"IfcReal","W","Zahl",{"$f":"IF(VLOOKUP(A1600,Klassifizierung!$E$4:$W$577,18,FALSE)=0,\"\",VLOOKUP(A1600,Klassifizierung!$E$4:$W$577,18,FALSE))","v":"TGA-SA"},"CAFM","Modell",null,null,"x"]
["473.11",null,"Nenndruck",null,null,"IfcReal","Pa","Zahl",{"$f":"IF(VLOOKUP(A1601,Klassifizierung!$E$4:$W$577,18,FALSE)=0,\"\",VLOOKUP(A1601,Klassifizierung!$E$4:$W$577,18,FALSE))","v":"TGA-SA"},"CAFM","Modell",null,null,"x"]
["473.11",null,"Kühlung ",null,null,"IfcText"," -","Umgebungsluft, Wärmerückgewinnung",{"$f":"IF(VLOOKUP(A1602,Klassifizierung!$E$4:$W$577,18,FALSE)=0,\"\",VLOOKUP(A1602,Klassifizierung!$E$4:$W$577,18,FALSE))","v":"TGA-SA"},"CAFM","Modell",null,null,"x"]
["473.11",null,"Netzanbindung Druckluftnetz",null,null,"IfcBoolean"," -","ja|nein",{"$f":"IF(VLOOKUP(A1603,Klassifizierung!$E$4:$W$577,18,FALSE)=0,\"\",VLOOKUP(A1603,Klassifizierung!$E$4:$W$577,18,FALSE))","v":"TGA-SA"},"CAFM","Modell",null,null,"x"]
["473.12",null,"Beschreibung",null,null,"IfcText"," -","Freitext",{"$f":"IF(VLOOKUP(A1604,Klassifizierung!$E$4:$W$577,18,FALSE)=0,\"\",VLOOKUP(A1604,Klassifizierung!$E$4:$W$577,18,FALSE))","v":"TGA-SA"},"CAFM","Modell",null,null,"x"]
["473.12",null,"Nennvolumen",null,null,"IfcReal","m3","Zahl",{"$f":"IF(VLOOKUP(A1605,Klassifizierung!$E$4:$W$577,18,FALSE)=0,\"\",VLOOKUP(A1605,Klassifizierung!$E$4:$W$577,18,FALSE))","v":"TGA-SA"},"CAFM","Modell",null,null,"x"]
["473.12",null,"Nenndruck",null,null,"IfcReal","Pa","Zahl",{"$f":"IF(VLOOKUP(A1606,Klassifizierung!$E$4:$W$577,18,FALSE)=0,\"\",VLOOKUP(A1606,Klassifizierung!$E$4:$W$577,18,FALSE))","v":"TGA-SA"},"CAFM","Modell",null,null,"x"]
["473.13",null,"Bauart",null,null,"IfcText"," -","Freitext",{"$f":"IF(VLOOKUP(A1607,Klassifizierung!$E$4:$W$577,18,FALSE)=0,\"\",VLOOKUP(A1607,Klassifizierung!$E$4:$W$577,18,FALSE))","v":"TGA-SA"},"CAFM","Modell",null,null,"x"]
["473.20",null,"Beschreibung",null,null,"IfcText"," -","Freitext",{"$f":"IF(VLOOKUP(A1608,Klassifizierung!$E$4:$W$577,18,FALSE)=0,\"\",VLOOKUP(A1608,Klassifizierung!$E$4:$W$577,18,FALSE))","v":"TGA-SA"},"CAFM","Modell",null,null,"x"]
["473.20",null,"Nennleistung",null,null,"IfcReal","W","Zahl",{"$f":"IF(VLOOKUP(A1609,Klassifizierung!$E$4:$W$577,18,FALSE)=0,\"\",VLOOKUP(A1609,Klassifizierung!$E$4:$W$577,18,FALSE))","v":"TGA-SA"},"CAFM","Modell",null,null,"x"]
["473.20",null,"Nenndruck",null,null,"IfcReal","Pa","Zahl",{"$f":"IF(VLOOKUP(A1610,Klassifizierung!$E$4:$W$577,18,FALSE)=0,\"\",VLOOKUP(A1610,Klassifizierung!$E$4:$W$577,18,FALSE))","v":"TGA-SA"},"CAFM","Modell",null,null,"x"]
["473.30",null,"Beschreibung",null,null,"IfcText"," -","Freitext",{"$f":"IF(VLOOKUP(A1611,Klassifizierung!$E$4:$W$577,18,FALSE)=0,\"\",VLOOKUP(A1611,Klassifizierung!$E$4:$W$577,18,FALSE))","v":"TGA-SA"},"CAFM","Modell",null,null,"x"]
["473.30",null,"Nennleistung",null,null,"IfcReal","W","Zahl",{"$f":"IF(VLOOKUP(A1612,Klassifizierung!$E$4:$W$577,18,FALSE)=0,\"\",VLOOKUP(A1612,Klassifizierung!$E$4:$W$577,18,FALSE))","v":"TGA-SA"},"CAFM","Modell",null,null,"x"]
["473.30",null,"Nenndruck",null,null,"IfcReal","Pa","Zahl",{"$f":"IF(VLOOKUP(A1613,Klassifizierung!$E$4:$W$577,18,FALSE)=0,\"\",VLOOKUP(A1613,Klassifizierung!$E$4:$W$577,18,FALSE))","v":"TGA-SA"},"CAFM","Modell",null,null,"x"]
["475.10",null,"Anzahl Alarmventilstationen, nass",null,null,"IfcReal"," -","Zahl",{"$f":"IF(VLOOKUP(A1614,Klassifizierung!$E$4:$W$577,18,FALSE)=0,\"\",VLOOKUP(A1614,Klassifizierung!$E$4:$W$577,18,FALSE))","v":"TGA"},"CAFM","Modell",null,null,"x"]
["475.10",null,"Anzahl Alarmventilstationen, trocken",null,null,"IfcReal"," -","Zahl",{"$f":"IF(VLOOKUP(A1615,Klassifizierung!$E$4:$W$577,18,FALSE)=0,\"\",VLOOKUP(A1615,Klassifizierung!$E$4:$W$577,18,FALSE))","v":"TGA"},"CAFM","Modell",null,null,"x"]
["475.10",null,"Anzahl Sprinklerköpfe",null,null,"IfcReal"," -","Zahl",{"$f":"IF(VLOOKUP(A1616,Klassifizierung!$E$4:$W$577,18,FALSE)=0,\"\",VLOOKUP(A1616,Klassifizierung!$E$4:$W$577,18,FALSE))","v":"TGA"},"CAFM","Modell",null,null,"x"]
["475.10",null,"Bauart",null,null,"IfcText"," -","Sprinkleranlagen|Sprühwasser-Löschanlagen|Wasser-Feinsprüh-Löschanlagen Hochdruck|Wasser-Feinsprüh-Löschanlagen Niederdruck|Schaum-Löschanlagen",{"$f":"IF(VLOOKUP(A1617,Klassifizierung!$E$4:$W$577,18,FALSE)=0,\"\",VLOOKUP(A1617,Klassifizierung!$E$4:$W$577,18,FALSE))","v":"TGA"},"CAFM","Modell",null,null,"x"]
["475.10",null,"Druckluftwasserkessel",null,null,"IfcText"," -","Freitext",{"$f":"IF(VLOOKUP(A1618,Klassifizierung!$E$4:$W$577,18,FALSE)=0,\"\",VLOOKUP(A1618,Klassifizierung!$E$4:$W$577,18,FALSE))","v":"TGA"},"CAFM","Modell",null,null,"x"]
["475.10",null,"Energieversorgung Pumpe",null,null,"IfcText"," -","elektrisch|Diesel",{"$f":"IF(VLOOKUP(A1619,Klassifizierung!$E$4:$W$577,18,FALSE)=0,\"\",VLOOKUP(A1619,Klassifizierung!$E$4:$W$577,18,FALSE))","v":"TGA"},"CAFM","Modell",null,null,"x"]
["475.10",null,"Tankvolumen",null,null,"IfcReal","m3","Zahl",{"$f":"IF(VLOOKUP(A1620,Klassifizierung!$E$4:$W$577,18,FALSE)=0,\"\",VLOOKUP(A1620,Klassifizierung!$E$4:$W$577,18,FALSE))","v":"TGA"},"CAFM","Modell",null,null,"x"]
["475.20",null,"Anzahl Bereichsventile",null,null,"IfcReal"," -","Zahl",{"$f":"IF(VLOOKUP(A1621,Klassifizierung!$E$4:$W$577,18,FALSE)=0,\"\",VLOOKUP(A1621,Klassifizierung!$E$4:$W$577,18,FALSE))","v":"TGA"},"CAFM","Modell",null,null,"x"]
["475.20",null,"Löschgruppen",null,null,"IfcReal"," -","Zahl",{"$f":"IF(VLOOKUP(A1622,Klassifizierung!$E$4:$W$577,18,FALSE)=0,\"\",VLOOKUP(A1622,Klassifizierung!$E$4:$W$577,18,FALSE))","v":"TGA"},"CAFM","Modell",null,null,"x"]
["475.20",null,"Löschmittel",null,null,"IfcText"," -","CO2|Argon|Inergen|Ansul|andere Gase",{"$f":"IF(VLOOKUP(A1623,Klassifizierung!$E$4:$W$577,18,FALSE)=0,\"\",VLOOKUP(A1623,Klassifizierung!$E$4:$W$577,18,FALSE))","v":"TGA"},"CAFM","Modell",null,null,"x"]
["475.20",null,"Löschmittelmenge",null,null,"IfcReal","kg","Zahl",{"$f":"IF(VLOOKUP(A1624,Klassifizierung!$E$4:$W$577,18,FALSE)=0,\"\",VLOOKUP(A1624,Klassifizierung!$E$4:$W$577,18,FALSE))","v":"TGA"},"CAFM","Modell",null,null,"x"]
["475.20",null,"Personengefährdung",null,null,"IfcText"," -","Freitext",{"$f":"IF(VLOOKUP(A1625,Klassifizierung!$E$4:$W$577,18,FALSE)=0,\"\",VLOOKUP(A1625,Klassifizierung!$E$4:$W$577,18,FALSE))","v":"TGA"},"CAFM","Modell",null,null,"x"]
["475.30",null,"Bauart",null,null,"IfcText"," -","Funkenausscheidungslöschanlage|Funkenerkennungslöschanlage|Funkenlöschanlage|Pulverlöschanlagen|Einrichtungsschutzanlagen|Sonderlöschanlagen",{"$f":"IF(VLOOKUP(A1626,Klassifizierung!$E$4:$W$577,18,FALSE)=0,\"\",VLOOKUP(A1626,Klassifizierung!$E$4:$W$577,18,FALSE))","v":"TGA"},"CAFM","Modell",null,null,"x"]
["475.40",null,"Typ Feuerlöscher",null,null,"IfcText"," -","Schaum|Pulver|Wasser|Kohlendioxid|Halon|Sonstiges",{"$f":"IF(VLOOKUP(A1627,Klassifizierung!$E$4:$W$577,18,FALSE)=0,\"\",VLOOKUP(A1627,Klassifizierung!$E$4:$W$577,18,FALSE))","v":"TGA"},"CAFM","Modell",null,null,"x"]
["475.40",null,"Brandklasse",null,null,"IfcText"," -","A|B|C|A B|A B C|D|F",{"$f":"IF(VLOOKUP(A1628,Klassifizierung!$E$4:$W$577,18,FALSE)=0,\"\",VLOOKUP(A1628,Klassifizierung!$E$4:$W$577,18,FALSE))","v":"TGA"},"CAFM","Modell",null,null,"x"]
["475.40",null,"Löschmittel",null,null,"IfcText"," -","CO2|Argon|Inergen|Ansul|andere Gase",{"$f":"IF(VLOOKUP(A1629,Klassifizierung!$E$4:$W$577,18,FALSE)=0,\"\",VLOOKUP(A1629,Klassifizierung!$E$4:$W$577,18,FALSE))","v":"TGA"},"CAFM","Modell",null,null,"x"]
["475.40",null,"Löschmittelmenge",null,null,"IfcReal","kg","Zahl",{"$f":"IF(VLOOKUP(A1630,Klassifizierung!$E$4:$W$577,18,FALSE)=0,\"\",VLOOKUP(A1630,Klassifizierung!$E$4:$W$577,18,FALSE))","v":"TGA"},"CAFM","Modell",null,null,"x"]
["475.40",null,"Typ Auslösevorrichtung",null,null,"IfcText"," -","Gaslöscher|Aufladelöscher|Dauerdrucklöscher",{"$f":"IF(VLOOKUP(A1631,Klassifizierung!$E$4:$W$577,18,FALSE)=0,\"\",VLOOKUP(A1631,Klassifizierung!$E$4:$W$577,18,FALSE))","v":"TGA"},"CAFM","Modell",null,null,"x"]
["475.50",null,"Bauart",null,null,"IfcText"," -","Außenhydrant unterflur|Außenhydrant überflur|Wandhydrant",{"$f":"IF(VLOOKUP(A1632,Klassifizierung!$E$4:$W$577,18,FALSE)=0,\"\",VLOOKUP(A1632,Klassifizierung!$E$4:$W$577,18,FALSE))","v":"TGA"},"CAFM","Modell",null,null,"x"]
["475.50",null,"Bauart Löschwasserleitung",null,null,"IfcText"," -","trocken|nass|nass/trocken",{"$f":"IF(VLOOKUP(A1633,Klassifizierung!$E$4:$W$577,18,FALSE)=0,\"\",VLOOKUP(A1633,Klassifizierung!$E$4:$W$577,18,FALSE))","v":"TGA"},"CAFM","Modell",null,null,"x"]
["475.50",null,"Anzahl Entnahmestellen",null,null,"IfcReal"," -","Zahl",{"$f":"IF(VLOOKUP(A1634,Klassifizierung!$E$4:$W$577,18,FALSE)=0,\"\",VLOOKUP(A1634,Klassifizierung!$E$4:$W$577,18,FALSE))","v":"TGA"},"CAFM","Modell",null,null,"x"]
["475.50",null,"Leitungssystem",null,null,"IfcText"," -","trocken|nass|nass/ trocken",{"$f":"IF(VLOOKUP(A1635,Klassifizierung!$E$4:$W$577,18,FALSE)=0,\"\",VLOOKUP(A1635,Klassifizierung!$E$4:$W$577,18,FALSE))","v":"TGA"},"CAFM","Modell",null,null,"x"]
["475.50",null,"Nennweite DN",null,null,"IfcReal","DN","Zahl",{"$f":"IF(VLOOKUP(A1636,Klassifizierung!$E$4:$W$577,18,FALSE)=0,\"\",VLOOKUP(A1636,Klassifizierung!$E$4:$W$577,18,FALSE))","v":"TGA"},"CAFM","Modell",null,null,"x"]
["475.50",null,"Nenndruck",null,null,"IfcReal","Pa","Zahl",{"$f":"IF(VLOOKUP(A1637,Klassifizierung!$E$4:$W$577,18,FALSE)=0,\"\",VLOOKUP(A1637,Klassifizierung!$E$4:$W$577,18,FALSE))","v":"TGA"},"CAFM","Modell",null,null,"x"]
["475.50",null,"Wasserversorgung durch",null,null,"IfcText"," -","Trinkwassernetz|Löschwasserbehälter",{"$f":"IF(VLOOKUP(A1638,Klassifizierung!$E$4:$W$577,18,FALSE)=0,\"\",VLOOKUP(A1638,Klassifizierung!$E$4:$W$577,18,FALSE))","v":"TGA"},"CAFM","Modell",null,null,"x"]
["475.60",null,"Beschreibung",null,null,"IfcText"," -","Freitext",{"$f":"IF(VLOOKUP(A1639,Klassifizierung!$E$4:$W$577,18,FALSE)=0,\"\",VLOOKUP(A1639,Klassifizierung!$E$4:$W$577,18,FALSE))","v":"TGA"},"CAFM","Modell",null,null,"x"]
["476.10",null,"Bauart",null,null,"IfcText"," -","Freitext",{"$f":"IF(VLOOKUP(A1640,Klassifizierung!$E$4:$W$577,18,FALSE)=0,\"\",VLOOKUP(A1640,Klassifizierung!$E$4:$W$577,18,FALSE))","v":"TGA-SA"},"CAFM","Modell",null,null,"x"]
["476.10",null,"Nennvolumen",null,null,"IfcReal","m3","Zahl",{"$f":"IF(VLOOKUP(A1641,Klassifizierung!$E$4:$W$577,18,FALSE)=0,\"\",VLOOKUP(A1641,Klassifizierung!$E$4:$W$577,18,FALSE))","v":"TGA-SA"},"CAFM","Modell",null,null,"x"]
["476.10",null,"Desinfektionsmittel",null,null,"IfcText"," -","Freitext",{"$f":"IF(VLOOKUP(A1642,Klassifizierung!$E$4:$W$577,18,FALSE)=0,\"\",VLOOKUP(A1642,Klassifizierung!$E$4:$W$577,18,FALSE))","v":"TGA-SA"},"CAFM","Modell",null,null,"x"]
["476.20",null,"Bauart",null,null,"IfcText"," -","Freitext",{"$f":"IF(VLOOKUP(A1643,Klassifizierung!$E$4:$W$577,18,FALSE)=0,\"\",VLOOKUP(A1643,Klassifizierung!$E$4:$W$577,18,FALSE))","v":"TGA-SA"},"CAFM","Modell",null,null,"x"]
["476.20",null,"Nennvolumen",null,null,"IfcReal","m3","Zahl",{"$f":"IF(VLOOKUP(A1644,Klassifizierung!$E$4:$W$577,18,FALSE)=0,\"\",VLOOKUP(A1644,Klassifizierung!$E$4:$W$577,18,FALSE))","v":"TGA-SA"},"CAFM","Modell",null,null,"x"]
["476.31",null,"Bauart",null,null,"IfcText"," -","Freitext",{"$f":"IF(VLOOKUP(A1645,Klassifizierung!$E$4:$W$577,18,FALSE)=0,\"\",VLOOKUP(A1645,Klassifizierung!$E$4:$W$577,18,FALSE))","v":"TGA-SA"},"CAFM","Modell",null,null,"x"]
["476.31",null,"Nennvolumen",null,null,"IfcReal","m3","Zahl",{"$f":"IF(VLOOKUP(A1646,Klassifizierung!$E$4:$W$577,18,FALSE)=0,\"\",VLOOKUP(A1646,Klassifizierung!$E$4:$W$577,18,FALSE))","v":"TGA-SA"},"CAFM","Modell",null,null,"x"]
["476.32",null,"Bauart",null,null,"IfcText"," -","Freitext",{"$f":"IF(VLOOKUP(A1647,Klassifizierung!$E$4:$W$577,18,FALSE)=0,\"\",VLOOKUP(A1647,Klassifizierung!$E$4:$W$577,18,FALSE))","v":"TGA-SA"},"CAFM","Modell",null,null,"x"]
["476.32",null,"Nennvolumen",null,null,"IfcReal","m3","Zahl",{"$f":"IF(VLOOKUP(A1648,Klassifizierung!$E$4:$W$577,18,FALSE)=0,\"\",VLOOKUP(A1648,Klassifizierung!$E$4:$W$577,18,FALSE))","v":"TGA-SA"},"CAFM","Modell",null,null,"x"]
["476.40",null,"Bauart",null,null,"IfcText"," -","Freitext",{"$f":"IF(VLOOKUP(A1649,Klassifizierung!$E$4:$W$577,18,FALSE)=0,\"\",VLOOKUP(A1649,Klassifizierung!$E$4:$W$577,18,FALSE))","v":"TGA-SA"},"CAFM","Modell",null,null,"x"]
["476.40",null,"Filtertyp",null,null,"IfcText"," -","Freitext",{"$f":"IF(VLOOKUP(A1650,Klassifizierung!$E$4:$W$577,18,FALSE)=0,\"\",VLOOKUP(A1650,Klassifizierung!$E$4:$W$577,18,FALSE))","v":"TGA-SA"},"CAFM","Modell",null,null,"x"]
["476.50",null,"Bauart",null,null,"IfcText"," -","Freitext",{"$f":"IF(VLOOKUP(A1651,Klassifizierung!$E$4:$W$577,18,FALSE)=0,\"\",VLOOKUP(A1651,Klassifizierung!$E$4:$W$577,18,FALSE))","v":"TGA-SA"},"CAFM","Modell",null,null,"x"]
["476.50",null,"Nennvolumen",null,null,"IfcReal","m3","Zahl",{"$f":"IF(VLOOKUP(A1652,Klassifizierung!$E$4:$W$577,18,FALSE)=0,\"\",VLOOKUP(A1652,Klassifizierung!$E$4:$W$577,18,FALSE))","v":"TGA-SA"},"CAFM","Modell",null,null,"x"]
["476.50",null,"Nennleistung",null,null,"IfcReal","W","Zahl",{"$f":"IF(VLOOKUP(A1653,Klassifizierung!$E$4:$W$577,18,FALSE)=0,\"\",VLOOKUP(A1653,Klassifizierung!$E$4:$W$577,18,FALSE))","v":"TGA-SA"},"CAFM","Modell",null,null,"x"]
["476.50",null,"Nennspannung",null,null,"IfcReal","V","Zahl",{"$f":"IF(VLOOKUP(A1654,Klassifizierung!$E$4:$W$577,18,FALSE)=0,\"\",VLOOKUP(A1654,Klassifizierung!$E$4:$W$577,18,FALSE))","v":"TGA-SA"},"CAFM","Modell",null,null,"x"]
["477",null,"Bauart",null,null,"IfcText"," -","Freitext",{"$f":"IF(VLOOKUP(A1655,Klassifizierung!$E$4:$W$577,18,FALSE)=0,\"\",VLOOKUP(A1655,Klassifizierung!$E$4:$W$577,18,FALSE))","v":"TGA-LÜ"},"CAFM","Modell",null,null,"x"]
["477",null,"Nennleistung",null,null,"IfcReal","W","Zahl",{"$f":"IF(VLOOKUP(A1656,Klassifizierung!$E$4:$W$577,18,FALSE)=0,\"\",VLOOKUP(A1656,Klassifizierung!$E$4:$W$577,18,FALSE))","v":"TGA-LÜ"},"CAFM","Modell",null,null,"x"]
["478",null,"Bauart",null,null,"IfcText"," -","Ballenpresse|Flüssigabfallsammler|Sonstiges",{"$f":"IF(VLOOKUP(A1657,Klassifizierung!$E$4:$W$577,18,FALSE)=0,\"\",VLOOKUP(A1657,Klassifizierung!$E$4:$W$577,18,FALSE))","v":"TGA"},"CAFM","Modell",null,null,"x"]
["478",null,"Entsorgungsgüter",null,null,"IfcText"," -","Freitext",{"$f":"IF(VLOOKUP(A1658,Klassifizierung!$E$4:$W$577,18,FALSE)=0,\"\",VLOOKUP(A1658,Klassifizierung!$E$4:$W$577,18,FALSE))","v":"TGA"},"CAFM","Modell",null,null,"x"]
["478",null,"Nennvolumen",null,null,"IfcReal","m3","Zahl",{"$f":"IF(VLOOKUP(A1659,Klassifizierung!$E$4:$W$577,18,FALSE)=0,\"\",VLOOKUP(A1659,Klassifizierung!$E$4:$W$577,18,FALSE))","v":"TGA"},"CAFM","Modell",null,null,"x"]
["478",null,"Nennleistung",null,null,"IfcReal","W","Zahl",{"$f":"IF(VLOOKUP(A1660,Klassifizierung!$E$4:$W$577,18,FALSE)=0,\"\",VLOOKUP(A1660,Klassifizierung!$E$4:$W$577,18,FALSE))","v":"TGA"},"CAFM","Modell",null,null,"x"]
["479",null,"Bauart",null,null,"IfcText"," -","Freitext",{"$f":"IF(VLOOKUP(A1661,Klassifizierung!$E$4:$W$577,18,FALSE)=0,\"\",VLOOKUP(A1661,Klassifizierung!$E$4:$W$577,18,FALSE))","v":"TGA"},"CAFM","Modell",null,null,"x"]
["481.10",null,"Anzahl Felder",null,null,"IfcReal"," -","Zahl",{"$f":"IF(VLOOKUP(A1662,Klassifizierung!$E$4:$W$577,18,FALSE)=0,\"\",VLOOKUP(A1662,Klassifizierung!$E$4:$W$577,18,FALSE))","v":"TGA-EL"},"CAFM","Modell",null,null,"x"]
["481.10",null,"Bauart Aktor",null,null,"IfcText"," -","Ventilantrieb|Klappenantrieb|Linearantrieb|Motor",{"$f":"IF(VLOOKUP(A1663,Klassifizierung!$E$4:$W$577,18,FALSE)=0,\"\",VLOOKUP(A1663,Klassifizierung!$E$4:$W$577,18,FALSE))","v":"TGA-EL"},"CAFM","Modell",null,null,"x"]
["481.10",null,"Bauart Sensor",null,null,"IfcText"," -","Temperatursensor|Drucksensor|Luftgeschwindigkeit|Bewegung|Licht|Gas / katalytisch|Beschleunigung",{"$f":"IF(VLOOKUP(A1664,Klassifizierung!$E$4:$W$577,18,FALSE)=0,\"\",VLOOKUP(A1664,Klassifizierung!$E$4:$W$577,18,FALSE))","v":"TGA-EL"},"CAFM","Modell",null,null,"x"]
["481.10",null,"Typ Feldgerät",null,null,"IfcText"," -","Sensor|Aktor",{"$f":"IF(VLOOKUP(A1665,Klassifizierung!$E$4:$W$577,18,FALSE)=0,\"\",VLOOKUP(A1665,Klassifizierung!$E$4:$W$577,18,FALSE))","v":"TGA-EL"},"CAFM","Modell",null,null,"x"]
["481.10",null,"Anzahl physikalische Datenpunkte",null,null,"IfcReal"," -","Zahl",{"$f":"IF(VLOOKUP(A1666,Klassifizierung!$E$4:$W$577,18,FALSE)=0,\"\",VLOOKUP(A1666,Klassifizierung!$E$4:$W$577,18,FALSE))","v":"TGA-EL"},"CAFM","Modell",null,null,"x"]
["481.10",null,"Anzahl Steuermodule",null,null,"IfcReal"," -","Zahl",{"$f":"IF(VLOOKUP(A1667,Klassifizierung!$E$4:$W$577,18,FALSE)=0,\"\",VLOOKUP(A1667,Klassifizierung!$E$4:$W$577,18,FALSE))","v":"TGA-EL"},"CAFM","Modell",null,null,"x"]
["481.10",null,"Anzahl Stromkreise",null,null,"IfcReal"," -","Zahl",{"$f":"IF(VLOOKUP(A1668,Klassifizierung!$E$4:$W$577,18,FALSE)=0,\"\",VLOOKUP(A1668,Klassifizierung!$E$4:$W$577,18,FALSE))","v":"TGA-EL"},"CAFM","Modell",null,null,"x"]
["481.10",null,"Anzahl Überspannungsschutz",null,null,"IfcReal"," -","Zahl",{"$f":"IF(VLOOKUP(A1669,Klassifizierung!$E$4:$W$577,18,FALSE)=0,\"\",VLOOKUP(A1669,Klassifizierung!$E$4:$W$577,18,FALSE))","v":"TGA-EL"},"CAFM","Modell",null,null,"x"]
["481.10",null,"Anzahl FI",null,null,"IfcReal"," -","Zahl",{"$f":"IF(VLOOKUP(A1670,Klassifizierung!$E$4:$W$577,18,FALSE)=0,\"\",VLOOKUP(A1670,Klassifizierung!$E$4:$W$577,18,FALSE))","v":"TGA-EL"},"CAFM","Modell",null,null,"x"]
["481.20",null,"Kommunikation über Bus",null,null,"IfcText"," -","Freitext",{"$f":"IF(VLOOKUP(A1671,Klassifizierung!$E$4:$W$577,18,FALSE)=0,\"\",VLOOKUP(A1671,Klassifizierung!$E$4:$W$577,18,FALSE))","v":"TGA-EL"},"CAFM","Modell",null,null,"x"]
["482",null,"Anzahl Felder",null,null,"IfcReal"," -","Zahl",{"$f":"IF(VLOOKUP(A1672,Klassifizierung!$E$4:$W$577,18,FALSE)=0,\"\",VLOOKUP(A1672,Klassifizierung!$E$4:$W$577,18,FALSE))","v":"TGA-EL"},"CAFM","Modell",null,null,"x"]
["482",null,"Bauart",null,null,"IfcText"," -","Standschrank|Wandschrank",{"$f":"IF(VLOOKUP(A1673,Klassifizierung!$E$4:$W$577,18,FALSE)=0,\"\",VLOOKUP(A1673,Klassifizierung!$E$4:$W$577,18,FALSE))","v":"TGA-EL"},"CAFM","Modell",null,null,"x"]
["482",null,"Schaltschrank mit Leistungsteilen",null,null,"IfcText"," -","Freitext",{"$f":"IF(VLOOKUP(A1674,Klassifizierung!$E$4:$W$577,18,FALSE)=0,\"\",VLOOKUP(A1674,Klassifizierung!$E$4:$W$577,18,FALSE))","v":"TGA-EL"},"CAFM","Modell",null,null,"x"]
["483.10",null,"Anzahl Datenpunkte",null,null,"IfcReal"," -","Zahl",{"$f":"IF(VLOOKUP(A1675,Klassifizierung!$E$4:$W$577,18,FALSE)=0,\"\",VLOOKUP(A1675,Klassifizierung!$E$4:$W$577,18,FALSE))","v":"TGA-EL"},"CAFM","Modell",null,null,"x"]
["483.10",null,"Kommunikation über Bus",null,null,"IfcText"," -","Freitext",{"$f":"IF(VLOOKUP(A1676,Klassifizierung!$E$4:$W$577,18,FALSE)=0,\"\",VLOOKUP(A1676,Klassifizierung!$E$4:$W$577,18,FALSE))","v":"TGA-EL"},"CAFM","Modell",null,null,"x"]
["483.10",null,"Anzahl Rechner",null,null,"IfcReal"," -","Zahl",{"$f":"IF(VLOOKUP(A1677,Klassifizierung!$E$4:$W$577,18,FALSE)=0,\"\",VLOOKUP(A1677,Klassifizierung!$E$4:$W$577,18,FALSE))","v":"TGA-EL"},"CAFM","Modell",null,null,"x"]
["483.20",null,"Bauart",null,null,"IfcText"," -","Freitext",{"$f":"IF(VLOOKUP(A1678,Klassifizierung!$E$4:$W$577,18,FALSE)=0,\"\",VLOOKUP(A1678,Klassifizierung!$E$4:$W$577,18,FALSE))","v":"TGA-EL"},"CAFM","Modell",null,null,"x"]
["483.20",null,"Anzahl Unterstationen",null,null,"IfcReal"," -","Zahl",{"$f":"IF(VLOOKUP(A1679,Klassifizierung!$E$4:$W$577,18,FALSE)=0,\"\",VLOOKUP(A1679,Klassifizierung!$E$4:$W$577,18,FALSE))","v":"TGA-EL"},"CAFM","Modell",null,null,"x"]
["483.20",null,"Anzahl Ein-/Ausgänge",null,null,"IfcReal"," -","Zahl",{"$f":"IF(VLOOKUP(A1680,Klassifizierung!$E$4:$W$577,18,FALSE)=0,\"\",VLOOKUP(A1680,Klassifizierung!$E$4:$W$577,18,FALSE))","v":"TGA-EL"},"CAFM","Modell",null,null,"x"]
["483.21",null,"Bauart Sonst. Eingabegeräte",null,null,"IfcText"," -","Mikrofon|Headset|Camcorder",{"$f":"IF(VLOOKUP(A1681,Klassifizierung!$E$4:$W$577,18,FALSE)=0,\"\",VLOOKUP(A1681,Klassifizierung!$E$4:$W$577,18,FALSE))","v":"TGA-EL"},"CAFM","Modell",null,null,"x"]
["483.21",null,"Bauart Text-Grafikeingabe",null,null,"IfcText"," -","Tastatur|Grafiktablett",{"$f":"IF(VLOOKUP(A1682,Klassifizierung!$E$4:$W$577,18,FALSE)=0,\"\",VLOOKUP(A1682,Klassifizierung!$E$4:$W$577,18,FALSE))","v":"TGA-EL"},"CAFM","Modell",null,null,"x"]
["483.21",null,"Bauart Zeichen- u. Bildeingabe",null,null,"IfcText"," -","Scanner|Schriftleser|Digitalkamera",{"$f":"IF(VLOOKUP(A1683,Klassifizierung!$E$4:$W$577,18,FALSE)=0,\"\",VLOOKUP(A1683,Klassifizierung!$E$4:$W$577,18,FALSE))","v":"TGA-EL"},"CAFM","Modell",null,null,"x"]
["483.21",null,"Bauart Zeigegerät",null,null,"IfcText"," -","Maus|Trackball|Touchpad|Joystick|Lichtgriffel|Datenhandschuh",{"$f":"IF(VLOOKUP(A1684,Klassifizierung!$E$4:$W$577,18,FALSE)=0,\"\",VLOOKUP(A1684,Klassifizierung!$E$4:$W$577,18,FALSE))","v":"TGA-EL"},"CAFM","Modell",null,null,"x"]
["483.22",null,"Bauart aktustische Ausgabe",null,null,"IfcText"," -","Lautsprecher|Heatset",{"$f":"IF(VLOOKUP(A1685,Klassifizierung!$E$4:$W$577,18,FALSE)=0,\"\",VLOOKUP(A1685,Klassifizierung!$E$4:$W$577,18,FALSE))","v":"TGA-EL"},"CAFM","Modell",null,null,"x"]
["483.22",null,"Bauart Druckausgabe",null,null,"IfcText"," -","Drucker|Typenraddrucker|Nadeldrucker|Tintenstrahldrucker|Thermodrucker|Laserdrucker|Plotter",{"$f":"IF(VLOOKUP(A1686,Klassifizierung!$E$4:$W$577,18,FALSE)=0,\"\",VLOOKUP(A1686,Klassifizierung!$E$4:$W$577,18,FALSE))","v":"TGA-EL"},"CAFM","Modell",null,null,"x"]
["483.22",null,"Bauart Optische Ausgabe",null,null,"IfcText"," -","Monitor|Anzeige|Projektor / Beamer",{"$f":"IF(VLOOKUP(A1687,Klassifizierung!$E$4:$W$577,18,FALSE)=0,\"\",VLOOKUP(A1687,Klassifizierung!$E$4:$W$577,18,FALSE))","v":"TGA-EL"},"CAFM","Modell",null,null,"x"]
["483.23",null,"Bauart Halbleiter-Speicher",null,null,"IfcText"," -","Fash-Karten|Chipkarten",{"$f":"IF(VLOOKUP(A1688,Klassifizierung!$E$4:$W$577,18,FALSE)=0,\"\",VLOOKUP(A1688,Klassifizierung!$E$4:$W$577,18,FALSE))","v":"TGA-EL"},"CAFM","Modell",null,null,"x"]
["483.23",null,"Bauart Magnet Speicher",null,null,"IfcText"," -","Disketten-Laufwerk|Festplatten-Laufwerk|Magnetbandgeräte",{"$f":"IF(VLOOKUP(A1689,Klassifizierung!$E$4:$W$577,18,FALSE)=0,\"\",VLOOKUP(A1689,Klassifizierung!$E$4:$W$577,18,FALSE))","v":"TGA-EL"},"CAFM","Modell",null,null,"x"]
["483.23",null,"Bauart MO-Laufwerk",null,null,"IfcText"," -","Freitext",{"$f":"IF(VLOOKUP(A1690,Klassifizierung!$E$4:$W$577,18,FALSE)=0,\"\",VLOOKUP(A1690,Klassifizierung!$E$4:$W$577,18,FALSE))","v":"TGA-EL"},"CAFM","Modell",null,null,"x"]
["483.23",null,"Bauart Optische Speicher",null,null,"IfcText"," -","Disketten|CD-Laufwerke|DVD-Laufwerke|HD-DVD- Laufwerke|Blu-Ray- Laufwerke|UDO-Laufwerke|Jukeboxen",{"$f":"IF(VLOOKUP(A1691,Klassifizierung!$E$4:$W$577,18,FALSE)=0,\"\",VLOOKUP(A1691,Klassifizierung!$E$4:$W$577,18,FALSE))","v":"TGA-EL"},"CAFM","Modell",null,null,"x"]
["483.30",null,"Bauart",null,null,"IfcText"," -","Freitext",{"$f":"IF(VLOOKUP(A1692,Klassifizierung!$E$4:$W$577,18,FALSE)=0,\"\",VLOOKUP(A1692,Klassifizierung!$E$4:$W$577,18,FALSE))","v":"TGA-EL"},"CAFM","Modell",null,null,"x"]
["483.40",null,"Beschreibung",null,null,"IfcText"," -","Freitext",{"$f":"IF(VLOOKUP(A1693,Klassifizierung!$E$4:$W$577,18,FALSE)=0,\"\",VLOOKUP(A1693,Klassifizierung!$E$4:$W$577,18,FALSE))","v":"TGA-EL"},"CAFM","Modell",null,null,"x"]
["484",null,"Funktionsbereich",null,null,"IfcText"," -","Konstantlichtregelung|Tageslichtschaltung|Automatiklicht|Sonnenautomatik|Lamellennachführung|Verschattungskorrektur|Dämmerungsschaltung|Witterungsschutz|Energieniveauswahl|Fensterüberwachung|Sollwertermittlung|Temperaturregelung|Ventilatorsteuerung|Luftqualitätsregelung|Nachtkühlung|Thermoautomatik",{"$f":"IF(VLOOKUP(A1694,Klassifizierung!$E$4:$W$577,18,FALSE)=0,\"\",VLOOKUP(A1694,Klassifizierung!$E$4:$W$577,18,FALSE))","v":"TGA-EL"},"CAFM","Modell",null,null,"x"]
["485",null,"Beschreibung",null,null,"IfcText"," -","Freitext",{"$f":"IF(VLOOKUP(A1695,Klassifizierung!$E$4:$W$577,18,FALSE)=0,\"\",VLOOKUP(A1695,Klassifizierung!$E$4:$W$577,18,FALSE))","v":"TGA-EL"},"CAFM","Modell",null,null,"x"]
["489",null,"Beschreibung",null,null,"IfcText"," -","Freitext",{"$f":"IF(VLOOKUP(A1696,Klassifizierung!$E$4:$W$577,18,FALSE)=0,\"\",VLOOKUP(A1696,Klassifizierung!$E$4:$W$577,18,FALSE))","v":"TGA-EL"},"CAFM","Modell",null,null,"x"]
["519",null,"Beschreibung",null,null,"IfcText"," -","Freitext",{"$f":"IF(VLOOKUP(A1697,Klassifizierung!$E$4:$W$577,18,FALSE)=0,\"\",VLOOKUP(A1697,Klassifizierung!$E$4:$W$577,18,FALSE))","v":""},"CAFM","Modell",null,null,"x"]
["519",null,"Fläche",null,null,"IfcReal","m2","Zahl",{"$f":"IF(VLOOKUP(A1698,Klassifizierung!$E$4:$W$577,18,FALSE)=0,\"\",VLOOKUP(A1698,Klassifizierung!$E$4:$W$577,18,FALSE))","v":""},"CAFM","Modell",null,null,"x"]
["519",null,"Material",null,null,"IfcText"," -","Freitext",{"$f":"IF(VLOOKUP(A1699,Klassifizierung!$E$4:$W$577,18,FALSE)=0,\"\",VLOOKUP(A1699,Klassifizierung!$E$4:$W$577,18,FALSE))","v":""},"CAFM","Modell",null,null,"x"]
["521",null,"Beschreibung",null,null,"IfcText"," -","Freitext",{"$f":"IF(VLOOKUP(A1700,Klassifizierung!$E$4:$W$577,18,FALSE)=0,\"\",VLOOKUP(A1700,Klassifizierung!$E$4:$W$577,18,FALSE))","v":"LPL"},"CAFM","Modell",null,null,"x"]
["521",null,"Fläche",null,null,"IfcReal","m2","Zahl",{"$f":"IF(VLOOKUP(A1701,Klassifizierung!$E$4:$W$577,18,FALSE)=0,\"\",VLOOKUP(A1701,Klassifizierung!$E$4:$W$577,18,FALSE))","v":"LPL"},"CAFM","Modell",null,null,"x"]
["521",null,"Material",null,null,"IfcText"," -","Freitext",{"$f":"IF(VLOOKUP(A1702,Klassifizierung!$E$4:$W$577,18,FALSE)=0,\"\",VLOOKUP(A1702,Klassifizierung!$E$4:$W$577,18,FALSE))","v":"LPL"},"CAFM","Modell",null,null,"x"]
["522",null,"Beschreibung",null,null,"IfcText"," -","Freitext",{"$f":"IF(VLOOKUP(A1703,Klassifizierung!$E$4:$W$577,18,FALSE)=0,\"\",VLOOKUP(A1703,Klassifizierung!$E$4:$W$577,18,FALSE))","v":"LPL"},"CAFM","Modell",null,null,"x"]
["522",null,"Fläche",null,null,"IfcReal","m2","Zahl",{"$f":"IF(VLOOKUP(A1704,Klassifizierung!$E$4:$W$577,18,FALSE)=0,\"\",VLOOKUP(A1704,Klassifizierung!$E$4:$W$577,18,FALSE))","v":"LPL"},"CAFM","Modell",null,null,"x"]
["522",null,"Material",null,null,"IfcText"," -","Freitext",{"$f":"IF(VLOOKUP(A1705,Klassifizierung!$E$4:$W$577,18,FALSE)=0,\"\",VLOOKUP(A1705,Klassifizierung!$E$4:$W$577,18,FALSE))","v":"LPL"},"CAFM","Modell",null,null,"x"]
["523",null,"Beschreibung",null,null,"IfcText"," -","Freitext",{"$f":"IF(VLOOKUP(A1706,Klassifizierung!$E$4:$W$577,18,FALSE)=0,\"\",VLOOKUP(A1706,Klassifizierung!$E$4:$W$577,18,FALSE))","v":"LPL"},"CAFM","Modell",null,null,"x"]
["523",null,"Fläche",null,null,"IfcReal","m2","Zahl",{"$f":"IF(VLOOKUP(A1707,Klassifizierung!$E$4:$W$577,18,FALSE)=0,\"\",VLOOKUP(A1707,Klassifizierung!$E$4:$W$577,18,FALSE))","v":"LPL"},"CAFM","Modell",null,null,"x"]
["523",null,"Material",null,null,"IfcText"," -","Freitext",{"$f":"IF(VLOOKUP(A1708,Klassifizierung!$E$4:$W$577,18,FALSE)=0,\"\",VLOOKUP(A1708,Klassifizierung!$E$4:$W$577,18,FALSE))","v":"LPL"},"CAFM","Modell",null,null,"x"]
["524",null,"Beschreibung",null,null,"IfcText"," -","Freitext",{"$f":"IF(VLOOKUP(A1709,Klassifizierung!$E$4:$W$577,18,FALSE)=0,\"\",VLOOKUP(A1709,Klassifizierung!$E$4:$W$577,18,FALSE))","v":"LPL"},"CAFM","Modell",null,null,"x"]
["524",null,"Fläche",null,null,"IfcReal","m2","Zahl",{"$f":"IF(VLOOKUP(A1710,Klassifizierung!$E$4:$W$577,18,FALSE)=0,\"\",VLOOKUP(A1710,Klassifizierung!$E$4:$W$577,18,FALSE))","v":"LPL"},"CAFM","Modell",null,null,"x"]
["524",null,"Material",null,null,"IfcText"," -","Freitext",{"$f":"IF(VLOOKUP(A1711,Klassifizierung!$E$4:$W$577,18,FALSE)=0,\"\",VLOOKUP(A1711,Klassifizierung!$E$4:$W$577,18,FALSE))","v":"LPL"},"CAFM","Modell",null,null,"x"]
["525",null,"Beschreibung",null,null,"IfcText"," -","Freitext",{"$f":"IF(VLOOKUP(A1712,Klassifizierung!$E$4:$W$577,18,FALSE)=0,\"\",VLOOKUP(A1712,Klassifizierung!$E$4:$W$577,18,FALSE))","v":"LPL"},"CAFM","Modell",null,null,"x"]
["525",null,"Fläche",null,null,"IfcReal","m2","Zahl",{"$f":"IF(VLOOKUP(A1713,Klassifizierung!$E$4:$W$577,18,FALSE)=0,\"\",VLOOKUP(A1713,Klassifizierung!$E$4:$W$577,18,FALSE))","v":"LPL"},"CAFM","Modell",null,null,"x"]
["525",null,"Material",null,null,"IfcText"," -","Freitext",{"$f":"IF(VLOOKUP(A1714,Klassifizierung!$E$4:$W$577,18,FALSE)=0,\"\",VLOOKUP(A1714,Klassifizierung!$E$4:$W$577,18,FALSE))","v":"LPL"},"CAFM","Modell",null,null,"x"]
["537.11",null,"Beschreibung",null,null,"IfcText"," -","Freitext",{"$f":"IF(VLOOKUP(A1715,Klassifizierung!$E$4:$W$577,18,FALSE)=0,\"\",VLOOKUP(A1715,Klassifizierung!$E$4:$W$577,18,FALSE))","v":""},"CAFM","Modell",null,null,"x"]
["537.11",null,"Länge",null,null,"IfcReal","m","Zahl",{"$f":"IF(VLOOKUP(A1716,Klassifizierung!$E$4:$W$577,18,FALSE)=0,\"\",VLOOKUP(A1716,Klassifizierung!$E$4:$W$577,18,FALSE))","v":""},"CAFM","Modell",null,null,"x"]
["537.12",null,"Beschreibung",null,null,"IfcText"," -","Freitext",{"$f":"IF(VLOOKUP(A1717,Klassifizierung!$E$4:$W$577,18,FALSE)=0,\"\",VLOOKUP(A1717,Klassifizierung!$E$4:$W$577,18,FALSE))","v":""},"CAFM","Modell",null,null,"x"]
["537.12",null,"Länge",null,null,"IfcReal","m","Zahl",{"$f":"IF(VLOOKUP(A1718,Klassifizierung!$E$4:$W$577,18,FALSE)=0,\"\",VLOOKUP(A1718,Klassifizierung!$E$4:$W$577,18,FALSE))","v":""},"CAFM","Modell",null,null,"x"]
["537.13",null,"Beschreibung",null,null,"IfcText"," -","Freitext",{"$f":"IF(VLOOKUP(A1719,Klassifizierung!$E$4:$W$577,18,FALSE)=0,\"\",VLOOKUP(A1719,Klassifizierung!$E$4:$W$577,18,FALSE))","v":""},"CAFM","Modell",null,null,"x"]
["537.13",null,"Länge",null,null,"IfcReal","m","Zahl",{"$f":"IF(VLOOKUP(A1720,Klassifizierung!$E$4:$W$577,18,FALSE)=0,\"\",VLOOKUP(A1720,Klassifizierung!$E$4:$W$577,18,FALSE))","v":""},"CAFM","Modell",null,null,"x"]
["537.20",null,"Beschreibung",null,null,"IfcText"," -","Freitext",{"$f":"IF(VLOOKUP(A1721,Klassifizierung!$E$4:$W$577,18,FALSE)=0,\"\",VLOOKUP(A1721,Klassifizierung!$E$4:$W$577,18,FALSE))","v":""},"CAFM","Modell",null,null,"x"]
["537.20",null,"Höhe",null,null,"IfcReal","m","Zahl",{"$f":"IF(VLOOKUP(A1722,Klassifizierung!$E$4:$W$577,18,FALSE)=0,\"\",VLOOKUP(A1722,Klassifizierung!$E$4:$W$577,18,FALSE))","v":""},"CAFM","Modell",null,null,"x"]
["538.41",null,"Beschreibung",null,null,"IfcText"," -","Freitext",{"$f":"IF(VLOOKUP(A1723,Klassifizierung!$E$4:$W$577,18,FALSE)=0,\"\",VLOOKUP(A1723,Klassifizierung!$E$4:$W$577,18,FALSE))","v":""},"CAFM","Modell",null,null,"x"]
["538.41",null,"Höhe",null,null,"IfcReal","m","Zahl",{"$f":"IF(VLOOKUP(A1724,Klassifizierung!$E$4:$W$577,18,FALSE)=0,\"\",VLOOKUP(A1724,Klassifizierung!$E$4:$W$577,18,FALSE))","v":""},"CAFM","Modell",null,null,"x"]
["538.41",null,"Nennvolumen",null,null,"IfcReal","m3","Zahl",{"$f":"IF(VLOOKUP(A1725,Klassifizierung!$E$4:$W$577,18,FALSE)=0,\"\",VLOOKUP(A1725,Klassifizierung!$E$4:$W$577,18,FALSE))","v":""},"CAFM","Modell",null,null,"x"]
["541.10",null,"Beschreibung",null,null,"IfcText"," -","Freitext",{"$f":"IF(VLOOKUP(A1726,Klassifizierung!$E$4:$W$577,18,FALSE)=0,\"\",VLOOKUP(A1726,Klassifizierung!$E$4:$W$577,18,FALSE))","v":""},"CAFM","Modell",null,null,"x"]
["541.10",null,"Nenndurchfluss",null,null,"IfcReal","m3/h","Zahl",{"$f":"IF(VLOOKUP(A1727,Klassifizierung!$E$4:$W$577,18,FALSE)=0,\"\",VLOOKUP(A1727,Klassifizierung!$E$4:$W$577,18,FALSE))","v":""},"CAFM","Modell",null,null,"x"]
["541.10",null,"Nenninhalt",null,null,"IfcReal"," -","Zahl",{"$f":"IF(VLOOKUP(A1728,Klassifizierung!$E$4:$W$577,18,FALSE)=0,\"\",VLOOKUP(A1728,Klassifizierung!$E$4:$W$577,18,FALSE))","v":""},"CAFM","Modell",null,null,"x"]
["541.20",null,"Beschreibung",null,null,"IfcText"," -","Freitext",{"$f":"IF(VLOOKUP(A1729,Klassifizierung!$E$4:$W$577,18,FALSE)=0,\"\",VLOOKUP(A1729,Klassifizierung!$E$4:$W$577,18,FALSE))","v":""},"CAFM","Modell",null,null,"x"]
["541.20",null,"Nenndurchfluss",null,null,"IfcReal","m3/h","Zahl",{"$f":"IF(VLOOKUP(A1730,Klassifizierung!$E$4:$W$577,18,FALSE)=0,\"\",VLOOKUP(A1730,Klassifizierung!$E$4:$W$577,18,FALSE))","v":""},"CAFM","Modell",null,null,"x"]
["541.20",null,"Nenninhalt",null,null,"IfcReal","m3","Zahl",{"$f":"IF(VLOOKUP(A1731,Klassifizierung!$E$4:$W$577,18,FALSE)=0,\"\",VLOOKUP(A1731,Klassifizierung!$E$4:$W$577,18,FALSE))","v":""},"CAFM","Modell",null,null,"x"]
["541.61",null,"Beschreibung",null,null,"IfcText"," -","Freitext",{"$f":"IF(VLOOKUP(A1732,Klassifizierung!$E$4:$W$577,18,FALSE)=0,\"\",VLOOKUP(A1732,Klassifizierung!$E$4:$W$577,18,FALSE))","v":""},"CAFM","Modell",null,null,"x"]
["541.61",null,"Nenndurchfluss",null,null,"IfcReal","m3/h","Zahl",{"$f":"IF(VLOOKUP(A1733,Klassifizierung!$E$4:$W$577,18,FALSE)=0,\"\",VLOOKUP(A1733,Klassifizierung!$E$4:$W$577,18,FALSE))","v":""},"CAFM","Modell",null,null,"x"]
["541.61",null,"Nenngröße",null,null,"IfcReal"," -","Zahl",{"$f":"IF(VLOOKUP(A1734,Klassifizierung!$E$4:$W$577,18,FALSE)=0,\"\",VLOOKUP(A1734,Klassifizierung!$E$4:$W$577,18,FALSE))","v":""},"CAFM","Modell",null,null,"x"]
["541.62",null,"Beschreibung",null,null,"IfcText"," -","Freitext",{"$f":"IF(VLOOKUP(A1735,Klassifizierung!$E$4:$W$577,18,FALSE)=0,\"\",VLOOKUP(A1735,Klassifizierung!$E$4:$W$577,18,FALSE))","v":""},"CAFM","Modell",null,null,"x"]
["541.62",null,"Nenndurchfluss",null,null,"IfcReal","m3/h","Zahl",{"$f":"IF(VLOOKUP(A1736,Klassifizierung!$E$4:$W$577,18,FALSE)=0,\"\",VLOOKUP(A1736,Klassifizierung!$E$4:$W$577,18,FALSE))","v":""},"CAFM","Modell",null,null,"x"]
["541.62",null,"Nenngröße",null,null,"IfcReal"," -","Zahl",{"$f":"IF(VLOOKUP(A1737,Klassifizierung!$E$4:$W$577,18,FALSE)=0,\"\",VLOOKUP(A1737,Klassifizierung!$E$4:$W$577,18,FALSE))","v":""},"CAFM","Modell",null,null,"x"]
["541.63",null,"Beschreibung",null,null,"IfcText"," -","Freitext",{"$f":"IF(VLOOKUP(A1738,Klassifizierung!$E$4:$W$577,18,FALSE)=0,\"\",VLOOKUP(A1738,Klassifizierung!$E$4:$W$577,18,FALSE))","v":""},"CAFM","Modell",null,null,"x"]
["541.63",null,"Nenndurchfluss",null,null,"IfcReal","m3/h","Zahl",{"$f":"IF(VLOOKUP(A1739,Klassifizierung!$E$4:$W$577,18,FALSE)=0,\"\",VLOOKUP(A1739,Klassifizierung!$E$4:$W$577,18,FALSE))","v":""},"CAFM","Modell",null,null,"x"]
["541.63",null,"Nenngröße",null,null,"IfcReal"," -","Zahl",{"$f":"IF(VLOOKUP(A1740,Klassifizierung!$E$4:$W$577,18,FALSE)=0,\"\",VLOOKUP(A1740,Klassifizierung!$E$4:$W$577,18,FALSE))","v":""},"CAFM","Modell",null,null,"x"]
["541.64",null,"Beschreibung",null,null,"IfcText"," -","Freitext",{"$f":"IF(VLOOKUP(A1741,Klassifizierung!$E$4:$W$577,18,FALSE)=0,\"\",VLOOKUP(A1741,Klassifizierung!$E$4:$W$577,18,FALSE))","v":""},"CAFM","Modell",null,null,"x"]
["541.64",null,"Nenndurchfluss",null,null,"IfcReal","m3/h","Zahl",{"$f":"IF(VLOOKUP(A1742,Klassifizierung!$E$4:$W$577,18,FALSE)=0,\"\",VLOOKUP(A1742,Klassifizierung!$E$4:$W$577,18,FALSE))","v":""},"CAFM","Modell",null,null,"x"]
["541.64",null,"Nenngröße",null,null,"IfcReal"," -","Zahl",{"$f":"IF(VLOOKUP(A1743,Klassifizierung!$E$4:$W$577,18,FALSE)=0,\"\",VLOOKUP(A1743,Klassifizierung!$E$4:$W$577,18,FALSE))","v":""},"CAFM","Modell",null,null,"x"]
["542",null,"Beschreibung",null,null,"IfcText"," -","Freitext",{"$f":"IF(VLOOKUP(A1744,Klassifizierung!$E$4:$W$577,18,FALSE)=0,\"\",VLOOKUP(A1744,Klassifizierung!$E$4:$W$577,18,FALSE))","v":""},"CAFM","Modell",null,null,"x"]
["542",null,"Förderhöhe",null,null,"IfcReal","m","Zahl",{"$f":"IF(VLOOKUP(A1745,Klassifizierung!$E$4:$W$577,18,FALSE)=0,\"\",VLOOKUP(A1745,Klassifizierung!$E$4:$W$577,18,FALSE))","v":""},"CAFM","Modell",null,null,"x"]
["542",null,"Fördermenge",null,null,"IfcReal","m3/h","Zahl",{"$f":"IF(VLOOKUP(A1746,Klassifizierung!$E$4:$W$577,18,FALSE)=0,\"\",VLOOKUP(A1746,Klassifizierung!$E$4:$W$577,18,FALSE))","v":""},"CAFM","Modell",null,null,"x"]
["542",null,"Nenndruck",null,null,"IfcReal","Pa","Zahl",{"$f":"IF(VLOOKUP(A1747,Klassifizierung!$E$4:$W$577,18,FALSE)=0,\"\",VLOOKUP(A1747,Klassifizierung!$E$4:$W$577,18,FALSE))","v":""},"CAFM","Modell",null,null,"x"]
["542",null,"Nenninhalt",null,null,"IfcReal","m3","Zahl",{"$f":"IF(VLOOKUP(A1748,Klassifizierung!$E$4:$W$577,18,FALSE)=0,\"\",VLOOKUP(A1748,Klassifizierung!$E$4:$W$577,18,FALSE))","v":""},"CAFM","Modell",null,null,"x"]
["542",null,"Nennleistung",null,null,"IfcReal","W","Zahl",{"$f":"IF(VLOOKUP(A1749,Klassifizierung!$E$4:$W$577,18,FALSE)=0,\"\",VLOOKUP(A1749,Klassifizierung!$E$4:$W$577,18,FALSE))","v":""},"CAFM","Modell",null,null,"x"]
["543.21",null,"Beschreibung",null,null,"IfcText"," -","Freitext",{"$f":"IF(VLOOKUP(A1750,Klassifizierung!$E$4:$W$577,18,FALSE)=0,\"\",VLOOKUP(A1750,Klassifizierung!$E$4:$W$577,18,FALSE))","v":""},"CAFM","Modell",null,null,"x"]
["543.21",null,"Brennstoffart",null,null,"IfcText"," -","Freitext",{"$f":"IF(VLOOKUP(A1751,Klassifizierung!$E$4:$W$577,18,FALSE)=0,\"\",VLOOKUP(A1751,Klassifizierung!$E$4:$W$577,18,FALSE))","v":""},"CAFM","Modell",null,null,"x"]
["543.21",null,"Nennvolumen",null,null,"IfcReal","m3","Zahl",{"$f":"IF(VLOOKUP(A1752,Klassifizierung!$E$4:$W$577,18,FALSE)=0,\"\",VLOOKUP(A1752,Klassifizierung!$E$4:$W$577,18,FALSE))","v":""},"CAFM","Modell",null,null,"x"]
["543.21",null,"Nenndruck",null,null,"IfcReal","Pa","Zahl",{"$f":"IF(VLOOKUP(A1753,Klassifizierung!$E$4:$W$577,18,FALSE)=0,\"\",VLOOKUP(A1753,Klassifizierung!$E$4:$W$577,18,FALSE))","v":""},"CAFM","Modell",null,null,"x"]
["544",null,"Beschreibung",null,null,"IfcText"," -","Freitext",{"$f":"IF(VLOOKUP(A1754,Klassifizierung!$E$4:$W$577,18,FALSE)=0,\"\",VLOOKUP(A1754,Klassifizierung!$E$4:$W$577,18,FALSE))","v":""},"CAFM","Modell",null,null,"x"]
["544",null,"Energieträger",null,null,"IfcText"," -","Freitext",{"$f":"IF(VLOOKUP(A1755,Klassifizierung!$E$4:$W$577,18,FALSE)=0,\"\",VLOOKUP(A1755,Klassifizierung!$E$4:$W$577,18,FALSE))","v":""},"CAFM","Modell",null,null,"x"]
["544",null,"Fläche",null,null,"IfcReal","m2","Zahl",{"$f":"IF(VLOOKUP(A1756,Klassifizierung!$E$4:$W$577,18,FALSE)=0,\"\",VLOOKUP(A1756,Klassifizierung!$E$4:$W$577,18,FALSE))","v":""},"CAFM","Modell",null,null,"x"]
["544",null,"Heizkreise",null,null,"IfcReal"," -","Zahl",{"$f":"IF(VLOOKUP(A1757,Klassifizierung!$E$4:$W$577,18,FALSE)=0,\"\",VLOOKUP(A1757,Klassifizierung!$E$4:$W$577,18,FALSE))","v":""},"CAFM","Modell",null,null,"x"]
["544",null,"Nennleistung",null,null,"IfcReal","W","Zahl",{"$f":"IF(VLOOKUP(A1758,Klassifizierung!$E$4:$W$577,18,FALSE)=0,\"\",VLOOKUP(A1758,Klassifizierung!$E$4:$W$577,18,FALSE))","v":""},"CAFM","Modell",null,null,"x"]
["545",null,"Beschreibung",null,null,"IfcText"," -","Freitext",{"$f":"IF(VLOOKUP(A1759,Klassifizierung!$E$4:$W$577,18,FALSE)=0,\"\",VLOOKUP(A1759,Klassifizierung!$E$4:$W$577,18,FALSE))","v":""},"CAFM","Modell",null,null,"x"]
["545",null,"Nennleistung",null,null,"IfcReal","W","Zahl",{"$f":"IF(VLOOKUP(A1760,Klassifizierung!$E$4:$W$577,18,FALSE)=0,\"\",VLOOKUP(A1760,Klassifizierung!$E$4:$W$577,18,FALSE))","v":""},"CAFM","Modell",null,null,"x"]
["545",null,"Volumenstrom",null,null,"IfcReal","m3/h","Zahl",{"$f":"IF(VLOOKUP(A1761,Klassifizierung!$E$4:$W$577,18,FALSE)=0,\"\",VLOOKUP(A1761,Klassifizierung!$E$4:$W$577,18,FALSE))","v":""},"CAFM","Modell",null,null,"x"]
["546.50",null,"Beschreibung",null,null,"IfcText"," -","Freitext",{"$f":"IF(VLOOKUP(A1762,Klassifizierung!$E$4:$W$577,18,FALSE)=0,\"\",VLOOKUP(A1762,Klassifizierung!$E$4:$W$577,18,FALSE))","v":""},"CAFM","Modell",null,null,"x"]
["546.50",null,"Höhe",null,null,"IfcReal","m","Zahl",{"$f":"IF(VLOOKUP(A1763,Klassifizierung!$E$4:$W$577,18,FALSE)=0,\"\",VLOOKUP(A1763,Klassifizierung!$E$4:$W$577,18,FALSE))","v":""},"CAFM","Modell",null,null,"x"]
["546.50",null,"Leuchtmittel Bestückung",null,null,"IfcReal"," -","Zahl",{"$f":"IF(VLOOKUP(A1764,Klassifizierung!$E$4:$W$577,18,FALSE)=0,\"\",VLOOKUP(A1764,Klassifizierung!$E$4:$W$577,18,FALSE))","v":""},"CAFM","Modell",null,null,"x"]
["546.50",null,"Nennleistung",null,null,"IfcReal","W","Zahl",{"$f":"IF(VLOOKUP(A1765,Klassifizierung!$E$4:$W$577,18,FALSE)=0,\"\",VLOOKUP(A1765,Klassifizierung!$E$4:$W$577,18,FALSE))","v":""},"CAFM","Modell",null,null,"x"]
["547.11",null,"Beschreibung",null,null,"IfcText"," -","Freitext",{"$f":"IF(VLOOKUP(A1766,Klassifizierung!$E$4:$W$577,18,FALSE)=0,\"\",VLOOKUP(A1766,Klassifizierung!$E$4:$W$577,18,FALSE))","v":""},"CAFM","Modell",null,null,"x"]
["547.11",null,"Höhe",null,null,"IfcReal","m","Zahl",{"$f":"IF(VLOOKUP(A1767,Klassifizierung!$E$4:$W$577,18,FALSE)=0,\"\",VLOOKUP(A1767,Klassifizierung!$E$4:$W$577,18,FALSE))","v":""},"CAFM","Modell",null,null,"x"]
["547.12",null,"Beschreibung",null,null,"IfcText"," -","Freitext",{"$f":"IF(VLOOKUP(A1768,Klassifizierung!$E$4:$W$577,18,FALSE)=0,\"\",VLOOKUP(A1768,Klassifizierung!$E$4:$W$577,18,FALSE))","v":""},"CAFM","Modell",null,null,"x"]
["547.12",null,"Höhe",null,null,"IfcReal","m","Zahl",{"$f":"IF(VLOOKUP(A1769,Klassifizierung!$E$4:$W$577,18,FALSE)=0,\"\",VLOOKUP(A1769,Klassifizierung!$E$4:$W$577,18,FALSE))","v":""},"CAFM","Modell",null,null,"x"]
["547.20",null,"Anzahl aktive Leittafeln",null,null,"IfcReal"," -","Zahl",{"$f":"IF(VLOOKUP(A1770,Klassifizierung!$E$4:$W$577,18,FALSE)=0,\"\",VLOOKUP(A1770,Klassifizierung!$E$4:$W$577,18,FALSE))","v":""},"CAFM","Modell",null,null,"x"]
["547.20",null,"Anzahl Lichtsignale",null,null,"IfcReal"," -","Zahl",{"$f":"IF(VLOOKUP(A1771,Klassifizierung!$E$4:$W$577,18,FALSE)=0,\"\",VLOOKUP(A1771,Klassifizierung!$E$4:$W$577,18,FALSE))","v":""},"CAFM","Modell",null,null,"x"]
["547.20",null,"Anzahl passive Leittafeln",null,null,"IfcReal"," -","Zahl",{"$f":"IF(VLOOKUP(A1772,Klassifizierung!$E$4:$W$577,18,FALSE)=0,\"\",VLOOKUP(A1772,Klassifizierung!$E$4:$W$577,18,FALSE))","v":""},"CAFM","Modell",null,null,"x"]
["547.20",null,"Anzahl Sprechstellen",null,null,"IfcReal"," -","Zahl",{"$f":"IF(VLOOKUP(A1773,Klassifizierung!$E$4:$W$577,18,FALSE)=0,\"\",VLOOKUP(A1773,Klassifizierung!$E$4:$W$577,18,FALSE))","v":""},"CAFM","Modell",null,null,"x"]
["547.20",null,"Beschreibung",null,null,"IfcText"," -","Freitext",{"$f":"IF(VLOOKUP(A1774,Klassifizierung!$E$4:$W$577,18,FALSE)=0,\"\",VLOOKUP(A1774,Klassifizierung!$E$4:$W$577,18,FALSE))","v":""},"CAFM","Modell",null,null,"x"]
["548.10",null,"Beschreibung",null,null,"IfcText"," -","Freitext",{"$f":"IF(VLOOKUP(A1775,Klassifizierung!$E$4:$W$577,18,FALSE)=0,\"\",VLOOKUP(A1775,Klassifizierung!$E$4:$W$577,18,FALSE))","v":""},"CAFM","Modell",null,null,"x"]
["548.10",null,"Medium",null,null,"IfcText"," -","Freitext",{"$f":"IF(VLOOKUP(A1776,Klassifizierung!$E$4:$W$577,18,FALSE)=0,\"\",VLOOKUP(A1776,Klassifizierung!$E$4:$W$577,18,FALSE))","v":""},"CAFM","Modell",null,null,"x"]
["548.10",null,"Nenndruck",null,null,"IfcReal","Pa","Zahl",{"$f":"IF(VLOOKUP(A1777,Klassifizierung!$E$4:$W$577,18,FALSE)=0,\"\",VLOOKUP(A1777,Klassifizierung!$E$4:$W$577,18,FALSE))","v":""},"CAFM","Modell",null,null,"x"]
["548.10",null,"Nenninhalt",null,null,"IfcReal","m3","Zahl",{"$f":"IF(VLOOKUP(A1778,Klassifizierung!$E$4:$W$577,18,FALSE)=0,\"\",VLOOKUP(A1778,Klassifizierung!$E$4:$W$577,18,FALSE))","v":""},"CAFM","Modell",null,null,"x"]
["548.21",null,"Beschreibung",null,null,"IfcText"," -","Freitext",{"$f":"IF(VLOOKUP(A1779,Klassifizierung!$E$4:$W$577,18,FALSE)=0,\"\",VLOOKUP(A1779,Klassifizierung!$E$4:$W$577,18,FALSE))","v":""},"CAFM","Modell",null,null,"x"]
["548.21",null,"Brennstoffart",null,null,"IfcText"," -","Freitext",{"$f":"IF(VLOOKUP(A1780,Klassifizierung!$E$4:$W$577,18,FALSE)=0,\"\",VLOOKUP(A1780,Klassifizierung!$E$4:$W$577,18,FALSE))","v":""},"CAFM","Modell",null,null,"x"]
["548.21",null,"Nennvolumen",null,null,"IfcReal","m3","Zahl",{"$f":"IF(VLOOKUP(A1781,Klassifizierung!$E$4:$W$577,18,FALSE)=0,\"\",VLOOKUP(A1781,Klassifizierung!$E$4:$W$577,18,FALSE))","v":""},"CAFM","Modell",null,null,"x"]
["548.21",null,"Nenndruck",null,null,"IfcReal","Pa","Zahl",{"$f":"IF(VLOOKUP(A1782,Klassifizierung!$E$4:$W$577,18,FALSE)=0,\"\",VLOOKUP(A1782,Klassifizierung!$E$4:$W$577,18,FALSE))","v":""},"CAFM","Modell",null,null,"x"]
["548.22",null,"Beschreibung",null,null,"IfcText"," -","Freitext",{"$f":"IF(VLOOKUP(A1783,Klassifizierung!$E$4:$W$577,18,FALSE)=0,\"\",VLOOKUP(A1783,Klassifizierung!$E$4:$W$577,18,FALSE))","v":""},"CAFM","Modell",null,null,"x"]
["548.22",null,"Brennstoffart",null,null,"IfcText"," -","Freitext",{"$f":"IF(VLOOKUP(A1784,Klassifizierung!$E$4:$W$577,18,FALSE)=0,\"\",VLOOKUP(A1784,Klassifizierung!$E$4:$W$577,18,FALSE))","v":""},"CAFM","Modell",null,null,"x"]
["548.22",null,"Nennvolumen",null,null,"IfcReal","m3","Zahl",{"$f":"IF(VLOOKUP(A1785,Klassifizierung!$E$4:$W$577,18,FALSE)=0,\"\",VLOOKUP(A1785,Klassifizierung!$E$4:$W$577,18,FALSE))","v":""},"CAFM","Modell",null,null,"x"]
["548.22",null,"Nenndruck",null,null,"IfcReal","Pa","Zahl",{"$f":"IF(VLOOKUP(A1786,Klassifizierung!$E$4:$W$577,18,FALSE)=0,\"\",VLOOKUP(A1786,Klassifizierung!$E$4:$W$577,18,FALSE))","v":""},"CAFM","Modell",null,null,"x"]
["548.30",null,"Beschreibung",null,null,"IfcText"," -","Freitext",{"$f":"IF(VLOOKUP(A1787,Klassifizierung!$E$4:$W$577,18,FALSE)=0,\"\",VLOOKUP(A1787,Klassifizierung!$E$4:$W$577,18,FALSE))","v":""},"CAFM","Modell",null,null,"x"]
["548.30",null,"Brennstoffart",null,null,"IfcText"," -","Freitext",{"$f":"IF(VLOOKUP(A1788,Klassifizierung!$E$4:$W$577,18,FALSE)=0,\"\",VLOOKUP(A1788,Klassifizierung!$E$4:$W$577,18,FALSE))","v":""},"CAFM","Modell",null,null,"x"]
["548.30",null,"Nennvolumen",null,null,"IfcReal","m3","Zahl",{"$f":"IF(VLOOKUP(A1789,Klassifizierung!$E$4:$W$577,18,FALSE)=0,\"\",VLOOKUP(A1789,Klassifizierung!$E$4:$W$577,18,FALSE))","v":""},"CAFM","Modell",null,null,"x"]
["548.30",null,"Nenndruck",null,null,"IfcReal","Pa","Zahl",{"$f":"IF(VLOOKUP(A1790,Klassifizierung!$E$4:$W$577,18,FALSE)=0,\"\",VLOOKUP(A1790,Klassifizierung!$E$4:$W$577,18,FALSE))","v":""},"CAFM","Modell",null,null,"x"]
["548.40",null,"Beschreibung",null,null,"IfcText"," -","Freitext",{"$f":"IF(VLOOKUP(A1791,Klassifizierung!$E$4:$W$577,18,FALSE)=0,\"\",VLOOKUP(A1791,Klassifizierung!$E$4:$W$577,18,FALSE))","v":""},"CAFM","Modell",null,null,"x"]
["548.40",null,"Brennstoffart",null,null,"IfcText"," -","Freitext",{"$f":"IF(VLOOKUP(A1792,Klassifizierung!$E$4:$W$577,18,FALSE)=0,\"\",VLOOKUP(A1792,Klassifizierung!$E$4:$W$577,18,FALSE))","v":""},"CAFM","Modell",null,null,"x"]
["548.40",null,"Nennvolumen",null,null,"IfcReal","m3","Zahl",{"$f":"IF(VLOOKUP(A1793,Klassifizierung!$E$4:$W$577,18,FALSE)=0,\"\",VLOOKUP(A1793,Klassifizierung!$E$4:$W$577,18,FALSE))","v":""},"CAFM","Modell",null,null,"x"]
["548.40",null,"Nenndruck",null,null,"IfcReal","Pa","Zahl",{"$f":"IF(VLOOKUP(A1794,Klassifizierung!$E$4:$W$577,18,FALSE)=0,\"\",VLOOKUP(A1794,Klassifizierung!$E$4:$W$577,18,FALSE))","v":""},"CAFM","Modell",null,null,"x"]
["551.20",null,"Fahrradständertyp",null,null,"IfcText"," -","Freitext",{"$f":"IF(VLOOKUP(A1795,Klassifizierung!$E$4:$W$577,18,FALSE)=0,\"\",VLOOKUP(A1795,Klassifizierung!$E$4:$W$577,18,FALSE))","v":"LPL"},"CAFM","Modell",null,null,"x"]
["551.20",null,"Anzahl Stellplätze",null,null,"IfcReal"," -","Zahl",{"$f":"IF(VLOOKUP(A1796,Klassifizierung!$E$4:$W$577,18,FALSE)=0,\"\",VLOOKUP(A1796,Klassifizierung!$E$4:$W$577,18,FALSE))","v":"LPL"},"CAFM","Modell",null,null,"x"]
["551.20",null,"Material",null,null,"IfcText"," -","Freitext",{"$f":"IF(VLOOKUP(A1797,Klassifizierung!$E$4:$W$577,18,FALSE)=0,\"\",VLOOKUP(A1797,Klassifizierung!$E$4:$W$577,18,FALSE))","v":"LPL"},"CAFM","Modell",null,null,"x"]
["574.10",null,"Material",null,null,"IfcText"," -","Freitext",{"$f":"IF(VLOOKUP(A1798,Klassifizierung!$E$4:$W$577,18,FALSE)=0,\"\",VLOOKUP(A1798,Klassifizierung!$E$4:$W$577,18,FALSE))","v":"LPL"},"CAFM","Modell",null,null,"x"]
["574.10",null,"Höhe",null,null,"IfcReal","m","Zahl",{"$f":"IF(VLOOKUP(A1799,Klassifizierung!$E$4:$W$577,18,FALSE)=0,\"\",VLOOKUP(A1799,Klassifizierung!$E$4:$W$577,18,FALSE))","v":"LPL"},"CAFM","Modell",null,null,"x"]
["574.20",null,"Material",null,null,"IfcText"," -","Freitext",{"$f":"IF(VLOOKUP(A1800,Klassifizierung!$E$4:$W$577,18,FALSE)=0,\"\",VLOOKUP(A1800,Klassifizierung!$E$4:$W$577,18,FALSE))","v":"LPL"},"CAFM","Modell",null,null,"x"]
["574.20",null,"Höhe",null,null,"IfcReal","m","Zahl",{"$f":"IF(VLOOKUP(A1801,Klassifizierung!$E$4:$W$577,18,FALSE)=0,\"\",VLOOKUP(A1801,Klassifizierung!$E$4:$W$577,18,FALSE))","v":"LPL"},"CAFM","Modell",null,null,"x"]
["575",null,"Art der Pflanzen",null,null,"IfcText"," -","Freitext",{"$f":"IF(VLOOKUP(A1802,Klassifizierung!$E$4:$W$577,18,FALSE)=0,\"\",VLOOKUP(A1802,Klassifizierung!$E$4:$W$577,18,FALSE))","v":"LPL"},"CAFM","Modell",null,null,"x"]
["575",null,"Beschreibung",null,null,"IfcText"," -","Freitext",{"$f":"IF(VLOOKUP(A1803,Klassifizierung!$E$4:$W$577,18,FALSE)=0,\"\",VLOOKUP(A1803,Klassifizierung!$E$4:$W$577,18,FALSE))","v":"LPL"},"CAFM","Modell",null,null,"x"]
["575",null,"Fläche",null,null,"IfcReal","m2","Zahl",{"$f":"IF(VLOOKUP(A1804,Klassifizierung!$E$4:$W$577,18,FALSE)=0,\"\",VLOOKUP(A1804,Klassifizierung!$E$4:$W$577,18,FALSE))","v":"LPL"},"CAFM","Modell",null,null,"x"]
["576",null,"Art der Pflanzen",null,null,"IfcText"," -","Freitext",{"$f":"IF(VLOOKUP(A1805,Klassifizierung!$E$4:$W$577,18,FALSE)=0,\"\",VLOOKUP(A1805,Klassifizierung!$E$4:$W$577,18,FALSE))","v":"LPL"},"CAFM","Modell",null,null,"x"]
["576",null,"Beschreibung",null,null,"IfcText"," -","Freitext",{"$f":"IF(VLOOKUP(A1806,Klassifizierung!$E$4:$W$577,18,FALSE)=0,\"\",VLOOKUP(A1806,Klassifizierung!$E$4:$W$577,18,FALSE))","v":"LPL"},"CAFM","Modell",null,null,"x"]
["576",null,"Fläche",null,null,"IfcReal","m2","Zahl",{"$f":"IF(VLOOKUP(A1807,Klassifizierung!$E$4:$W$577,18,FALSE)=0,\"\",VLOOKUP(A1807,Klassifizierung!$E$4:$W$577,18,FALSE))","v":"LPL"},"CAFM","Modell",null,null,"x"]